{"text_format":"3","workbook":"xlsx","n_sheets":10,"sheets":["Resumen","Meta 01","Meta 02","Meta 3A","Meta 3B","Meta 4A","Meta 4B","Meta 05","Meta 06","Metas"],"not_rendered":{"external_links":2},"read":"whole","date_system":"1900"}

{"sheet":"Resumen","index":0,"n_rows":25,"n_cols":10,"rows_kept":25,"merged":[[7,1,10,1],[7,2,7,9],[9,2,10,2],[9,3,10,3],[9,4,10,4],[9,5,10,5],[9,6,10,6],[9,7,10,7],[9,8,10,8],[9,9,10,9]]}
["MINISTERIO DE SALUD"]
["SERVICIO DE SALUD COQUIMBO"]
["DEPARTAMENTO  DE GESTIÓN, PLANIFICACIÓN Y CONTROL"]
["SUBDEPTO. DE ESTADÍSTICAS Y GESTIÓN DE LA INFORMACIÓN "]
["AÑO 2022"]
[]
[]
[null,"COMUNA","RESUMEN DE CUMPLIMIENTO DE METAS SANITARIAS 2022"]
[null,null,"META 1","META 2","META 3A","META 3B","META 4A","META 4B","META 5","META 6"]
[null,null,"Recuperación del desarrollo psicomotor","Detección precoz del cáncer de cuello uterino","Control odontológico en población infantil","Niños y niñas de 6 años libres de caries","Cobertura efectiva de diabetes tipo 2 en personas de 15 y más años","Evaluación anual de los pies en personas con diabetes bajo control de 15 años y más","Cobertura efectiva de hipertensión arterial en personas de 15 años y más","Lactancia materna exclusiva en menores de 6 meses de vida"]
[]
[null,"LA SERENA",{"$f":"'Meta 01'!$C$26","v":{"v":0.9157509157509158,"d":"91.58%"}},{"$f":"'Meta 02'!$C$26","v":{"v":1.712346618571533,"d":"171.23%"}},{"$f":"'Meta 3A'!$C$26","v":{"v":0.6551640061385771,"d":"65.52%"}},{"$f":"'Meta 3B'!$C$26","v":{"v":1.4380741210009502,"d":"143.81%"}},{"$f":"'Meta 4A'!$C$26","v":{"v":1.116951800440506,"d":"111.70%"}},{"$f":"'Meta 4B'!$C$26","v":{"v":0.432552057137109,"d":"43.26%"}},{"$f":"'Meta 05'!$C$26","v":{"v":0.940753641654923,"d":"94.08%"}},{"$f":"'Meta 06'!$C$26","v":{"v":1.0161964472309302,"d":"101.62%"}}]
[null,"COQUIMBO",{"$f":"'Meta 01'!$C$39","v":{"v":0.9899569583931134,"d":"99.00%"}},{"$f":"'Meta 02'!$C$39","v":{"v":1.821240526922643,"d":"182.12%"}},{"$f":"'Meta 3A'!$C$39","v":{"v":0.7461483509188956,"d":"74.61%"}},{"$f":"'Meta 3B'!$C$39","v":{"v":0.9727626459143969,"d":"97.28%"}},{"$f":"'Meta 4A'!$C$39","v":{"v":1.463833892731448,"d":"146.38%"}},{"$f":"'Meta 4B'!$C$39","v":{"v":0.8491326497710711,"d":"84.91%"}},{"$f":"'Meta 05'!$C$39","v":{"v":0.9967044110190976,"d":"99.67%"}},{"$f":"'Meta 06'!$C$39","v":{"v":0.8882575757575758,"d":"88.83%"}}]
[null,"LA HIGUERA",{"$f":"'Meta 01'!$C$44","v":{"v":1.1111111111111112,"d":"111.11%"}},{"$f":"'Meta 02'!$C$44","v":{"v":2.051282051282051,"d":"205.13%"}},{"$f":"'Meta 3A'!$C$44","v":{"v":0.4777494853807173,"d":"47.77%"}},{"$f":"'Meta 3B'!$C$44","v":{"v":0.7357859531772575,"d":"73.58%"}},{"$f":"'Meta 4A'!$C$44","v":{"v":1.1327069120864977,"d":"113.27%"}},{"$f":"'Meta 4B'!$C$44","v":{"v":0.9523809523809523,"d":"95.24%"}},{"$f":"'Meta 05'!$C$44","v":{"v":1.149425287356322,"d":"114.94%"}},{"$f":"'Meta 06'!$C$44","v":{"v":0.7142857142857143,"d":"71.43%"}}]
[null,"PAIHUANO",{"$f":"'Meta 01'!$C$49","v":{"v":1.1111111111111112,"d":"111.11%"}},{"$f":"'Meta 02'!$C$49","v":{"v":1.5516259207176915,"d":"155.16%"}},{"$f":"'Meta 3A'!$C$49","v":{"v":1.4680929153878477,"d":"146.81%"}},{"$f":"'Meta 3B'!$C$49","v":{"v":4.761904761904762,"d":"476.19%"}},{"$f":"'Meta 4A'!$C$49","v":{"v":1.3777161349976885,"d":"137.77%"}},{"$f":"'Meta 4B'!$C$49","v":{"v":1.2666666666666668,"d":"126.67%"}},{"$f":"'Meta 05'!$C$49","v":{"v":1.2224108658743633,"d":"122.24%"}},{"$f":"'Meta 06'!$C$49","v":{"v":0.9649122807017545,"d":"96.49%"}}]
[null,"VICUÑA",{"$f":"'Meta 01'!$C$60","v":{"v":2.2222222222222223,"d":"222.22%"}},{"$f":"'Meta 02'!$C$60","v":{"v":1.5827643682463244,"d":"158.28%"}},{"$f":"'Meta 3A'!$C$60","v":{"v":0.6248824575589607,"d":"62.49%"}},{"$f":"'Meta 3B'!$C$60","v":{"v":0.7912087912087912,"d":"79.12%"}},{"$f":"'Meta 4A'!$C$60","v":{"v":1.2404467960023515,"d":"124.04%"}},{"$f":"'Meta 4B'!$C$60","v":{"v":0.8905534748231377,"d":"89.06%"}},{"$f":"'Meta 05'!$C$60","v":{"v":0.8918965816415063,"d":"89.19%"}},{"$f":"'Meta 06'!$C$60","v":{"v":1.4189189189189189,"d":"141.89%"}}]
[null,"ILLAPEL",{"$f":"'Meta 01'!$C$75","v":{"v":1.8181818181818183,"d":"181.82%"}},{"$f":"'Meta 02'!$C$75","v":{"v":1.8528896672504378,"d":"185.29%"}},{"$f":"'Meta 3A'!$C$75","v":{"v":0.6082018661010313,"d":"60.82%"}},{"$f":"'Meta 3B'!$C$75","v":{"v":1.1878712097530477,"d":"118.79%"}},{"$f":"'Meta 4A'!$C$75","v":{"v":1.2510485320551228,"d":"125.10%"}},{"$f":"'Meta 4B'!$C$75","v":{"v":1.0122119023047815,"d":"101.22%"}},{"$f":"'Meta 05'!$C$75","v":{"v":1.2428634167764603,"d":"124.29%"}},{"$f":"'Meta 06'!$C$75","v":{"v":1.0648148148148149,"d":"106.48%"}}]
[null,"CANELA",{"$f":"'Meta 01'!$C$86","v":{"v":0.703125,"d":"70.31%"}},{"$f":"'Meta 02'!$C$86","v":{"v":1.9624092551463521,"d":"196.24%"}},{"$f":"'Meta 3A'!$C$86","v":{"v":0.803511165234036,"d":"80.35%"}},{"$f":"'Meta 3B'!$C$86","v":{"v":0.5434782608695652,"d":"54.35%"}},{"$f":"'Meta 4A'!$C$86","v":{"v":1.1428360085805163,"d":"114.28%"}},{"$f":"'Meta 4B'!$C$86","v":{"v":1.3095238095238095,"d":"130.95%"}},{"$f":"'Meta 05'!$C$86","v":{"v":0.9582937151593117,"d":"95.83%"}},{"$f":"'Meta 06'!$C$86","v":{"v":0.5392156862745099,"d":"53.92%"}}]
[null,"LOS VILOS",{"$f":"'Meta 01'!$C$92","v":{"v":0.5555555555555556,"d":"55.56%"}},{"$f":"'Meta 02'!$C$92","v":{"v":1.8566091668098887,"d":"185.66%"}},{"$f":"'Meta 3A'!$C$92","v":{"v":0.9935979513444302,"d":"99.36%"}},{"$f":"'Meta 3B'!$C$92","v":{"v":0.5973715651135006,"d":"59.74%"}},{"$f":"'Meta 4A'!$C$92","v":{"v":1.4838300570703866,"d":"148.38%"}},{"$f":"'Meta 4B'!$C$92","v":{"v":1.1150512214342,"d":"111.51%"}},{"$f":"'Meta 05'!$C$92","v":{"v":1.628637566137566,"d":"162.86%"}},{"$f":"'Meta 06'!$C$92","v":{"v":0.6862745098039216,"d":"68.63%"}}]
[null,"SALAMANCA",{"$f":"'Meta 01'!$C$103","v":{"v":6.818181818181818,"d":"681.82%"}},{"$f":"'Meta 02'!$C$103","v":{"v":1.393020982712984,"d":"139.30%"}},{"$f":"'Meta 3A'!$C$103","v":{"v":0.7977344342068525,"d":"79.77%"}},{"$f":"'Meta 3B'!$C$103","v":{"v":0.4784688995215311,"d":"47.85%"}},{"$f":"'Meta 4A'!$C$103","v":{"v":1.063716057301689,"d":"106.37%"}},{"$f":"'Meta 4B'!$C$103","v":{"v":1.1941056910569106,"d":"119.41%"}},{"$f":"'Meta 05'!$C$103","v":{"v":0.9618366198477141,"d":"96.18%"}},{"$f":"'Meta 06'!$C$103","v":{"v":1,"d":"100.00%"}}]
[null,"OVALLE",{"$f":"'Meta 01'!$C$122","v":{"v":0.8495752123938031,"d":"84.96%"}},{"$f":"'Meta 02'!$C$122","v":{"v":1.6682839327421384,"d":"166.83%"}},{"$f":"'Meta 3A'!$C$122","v":{"v":0.7233651566883413,"d":"72.34%"}},{"$f":"'Meta 3B'!$C$122","v":{"v":1.0458567980691875,"d":"104.59%"}},{"$f":"'Meta 4A'!$C$122","v":{"v":1.1250978345943126,"d":"112.51%"}},{"$f":"'Meta 4B'!$C$122","v":{"v":0.9358700806069228,"d":"93.59%"}},{"$f":"'Meta 05'!$C$122","v":{"v":0.9697063185166228,"d":"96.97%"}},{"$f":"'Meta 06'!$C$122","v":{"v":1.0451197053407,"d":"104.51%"}}]
[null,"COMBARBALÁ",{"$f":"'Meta 01'!$C$135","v":{"v":1.4457831325301205,"d":"144.58%"}},{"$f":"'Meta 02'!$C$135","v":{"v":1.5440369131025828,"d":"154.40%"}},{"$f":"'Meta 3A'!$C$135","v":{"v":0.26642446260974867,"d":"26.64%"}},{"$f":"'Meta 3B'!$C$135","v":{"v":0.27453671928620454,"d":"27.45%"}},{"$f":"'Meta 4A'!$C$135","v":{"v":1.0146561443066515,"d":"101.47%"}},{"$f":"'Meta 4B'!$C$135","v":{"v":1.08767576509512,"d":"108.77%"}},{"$f":"'Meta 05'!$C$135","v":{"v":1.0067750677506775,"d":"100.68%"}},{"$f":"'Meta 06'!$C$135","v":{"v":1.0256410256410258,"d":"102.56%"}}]
[null,"MONTE PATRIA",{"$f":"'Meta 01'!$C$149","v":{"v":1.8581081081081081,"d":"185.81%"}},{"$f":"'Meta 02'!$C$149","v":{"v":1.6731934556949883,"d":"167.32%"}},{"$f":"'Meta 3A'!$C$149","v":{"v":0.569212386242227,"d":"56.92%"}},{"$f":"'Meta 3B'!$C$149","v":{"v":0.7585470085470084,"d":"75.85%"}},{"$f":"'Meta 4A'!$C$149","v":{"v":1.0307796259290674,"d":"103.08%"}},{"$f":"'Meta 4B'!$C$149","v":{"v":1.0263007432818754,"d":"102.63%"}},{"$f":"'Meta 05'!$C$149","v":{"v":1.124638973244551,"d":"112.46%"}},{"$f":"'Meta 06'!$C$149","v":{"v":1.032719836400818,"d":"103.27%"}}]
[null,"PUNITAQUI",{"$f":"'Meta 01'!$C$154","v":{"v":0.37037037037037035,"d":"37.04%"}},{"$f":"'Meta 02'!$C$154","v":{"v":1.353908188585608,"d":"135.39%"}},{"$f":"'Meta 3A'!$C$154","v":{"v":0.4780124969186414,"d":"47.80%"}},{"$f":"'Meta 3B'!$C$154","v":{"v":0.701058201058201,"d":"70.11%"}},{"$f":"'Meta 4A'!$C$154","v":{"v":1.2268518518518519,"d":"122.69%"}},{"$f":"'Meta 4B'!$C$154","v":{"v":1.4253897550111359,"d":"142.54%"}},{"$f":"'Meta 05'!$C$154","v":{"v":0.9068627450980392,"d":"90.69%"}},{"$f":"'Meta 06'!$C$154","v":{"v":1.1111111111111112,"d":"111.11%"}}]
[null,"RIO HURTADO",{"$f":"'Meta 01'!$C$162","v":{"v":0,"d":"0.00%"}},{"$f":"'Meta 02'!$C$162","v":{"v":1.4253215098193974,"d":"142.53%"}},{"$f":"'Meta 3A'!$C$162","v":{"v":0.3316181732928605,"d":"33.16%"}},{"$f":"'Meta 3B'!$C$162","v":{"v":0.18181818181818182,"d":"18.18%"}},{"$f":"'Meta 4A'!$C$162","v":{"v":1.4370096094507625,"d":"143.70%"}},{"$f":"'Meta 4B'!$C$162","v":{"v":1.3944723618090453,"d":"139.45%"}},{"$f":"'Meta 05'!$C$162","v":{"v":1.1270323051222324,"d":"112.70%"}},{"$f":"'Meta 06'!$C$162","v":{"v":1,"d":"100.00%"}}]

{"sheet":"Meta 01","index":1,"n_rows":162,"n_cols":30,"rows_kept":162,"merged":[[0,0,9,0],[0,1,9,1],[0,2,10,2],[0,3,9,3],[0,4,0,29],[1,4,8,16],[1,17,8,29],[9,4,9,16],[9,17,9,29],[25,0,25,1],[38,0,38,1],[43,0,43,1],[48,0,48,1],[59,0,59,1],[74,0,74,1],[85,0,85,1],[91,0,91,1],[102,0,102,1],[121,0,121,1],[134,0,134,1],[148,0,148,1],[153,0,153,1],[161,0,161,1]]}
["COMUNA","ESTABLECIMIENTO","CUMPLIMIENTO","Indicador","META 1: RECUPERACIÓN DEL DESARROLLO PSICOMOTOR"]
[{"$nulls":4},"NUMERADOR",{"$nulls":12},"DENOMINADOR"]
{"$rows_empty":7}
[{"$nulls":4},"Nº de Niños y Niñas de 12-23 meses diagnosticados en control de salud de los 18 meses con riesgo del desarrollo psicomotor recuperados ",{"$nulls":12},"Nº de Niños y Niñas de 12-23 meses diagnosticados en control de salud de los 18 meses con riesgo del desarrollo psicomotor en su primera evaluación"]
[{"$nulls":3},"Resultado","OCTUBRE","NOVBRE","DICBRE","ENERO","FEBRERO","MARZO","ABRIL","MAYO","JUNIO","JULIO","AGOSTO","SEPBRE","TOTAL","OCTUBRE","NOVBRE","DICBRE","ENERO","FEBRERO","MARZO","ABRIL","MAYO","JUNIO","JULIO","AGOSTO","SEPBRE","TOTAL"]
["04101-LA SERENA","105300-CES. CARDENAL CARO",null,null,{"$f":"IFERROR(VLOOKUP($B12,'[1]Num 1 2021'!$G$3:$T$95,11,FALSE),0)","v":2},{"$f":"IFERROR(VLOOKUP($B12,'[1]Num 1 2021'!$G$3:$T$95,12,FALSE),0)","v":0},{"$f":"IFERROR(VLOOKUP($B12,'[1]Num 1 2021'!$G$3:$T$95,13,FALSE),0)","v":0},{"$f":"IFERROR(VLOOKUP($B12,'[1]Num 1'!$G$3:$O$88,2,FALSE),0)","v":0},{"$f":"IFERROR(VLOOKUP($B12,'[1]Num 1'!$G$3:$O$88,3,FALSE),0)","v":0},{"$f":"IFERROR(VLOOKUP($B12,'[1]Num 1'!$G$3:$O$88,4,FALSE),0)","v":1},{"$f":"IFERROR(VLOOKUP($B12,'[1]Num 1'!$G$3:$O$88,5,FALSE),0)","v":0},{"$f":"IFERROR(VLOOKUP($B12,'[1]Num 1'!$G$3:$O$88,6,FALSE),0)","v":1},{"$f":"IFERROR(VLOOKUP($B12,'[1]Num 1'!$G$3:$O$88,7,FALSE),0)","v":0},{"$f":"IFERROR(VLOOKUP($B12,'[1]Num 1'!$G$3:$O$88,8,FALSE),0)","v":0},null,null,{"$f":"SUM(E12:P12)","v":4},{"$f":"IFERROR(VLOOKUP($B12,'[1]Den 1 2021'!$G$3:$T$104,11,FALSE),0)","v":1},{"$f":"IFERROR(VLOOKUP($B12,'[1]Den 1 2021'!$G$3:$T$104,12,FALSE),0)","v":0},{"$f":"IFERROR(VLOOKUP($B12,'[1]Den 1 2021'!$G$3:$T$104,13,FALSE),0)","v":0},{"$f":"IFERROR(VLOOKUP($B12,'[1]Den 1'!$G$3:$O$93,2,FALSE),0)","v":1},{"$f":"IFERROR(VLOOKUP($B12,'[1]Den 1'!$G$3:$O$93,3,FALSE),0)","v":0},{"$f":"IFERROR(VLOOKUP($B12,'[1]Den 1'!$G$3:$O$93,4,FALSE),0)","v":3},{"$f":"IFERROR(VLOOKUP($B12,'[1]Den 1'!$G$3:$O$93,5,FALSE),0)","v":1},{"$f":"IFERROR(VLOOKUP($B12,'[1]Den 1'!$G$3:$O$93,6,FALSE),0)","v":1},{"$f":"IFERROR(VLOOKUP($B12,'[1]Den 1'!$G$3:$O$93,7,FALSE),0)","v":2},{"$f":"IFERROR(VLOOKUP($B12,'[1]Den 1'!$G$3:$O$93,8,FALSE),0)","v":1},null,null,{"$f":"SUM(R12:AC12)","v":10}]
["04101-LA SERENA","105301-CES. LAS COMPAÑIAS",null,null,{"$f":"IFERROR(VLOOKUP($B13,'[1]Num 1 2021'!$G$3:$T$95,11,FALSE),0)","v":1},{"$f":"IFERROR(VLOOKUP($B13,'[1]Num 1 2021'!$G$3:$T$95,12,FALSE),0)","v":2},{"$f":"IFERROR(VLOOKUP($B13,'[1]Num 1 2021'!$G$3:$T$95,13,FALSE),0)","v":1},{"$f":"IFERROR(VLOOKUP($B13,'[1]Num 1'!$G$3:$O$88,2,FALSE),0)","v":2},{"$f":"IFERROR(VLOOKUP($B13,'[1]Num 1'!$G$3:$O$88,3,FALSE),0)","v":0},{"$f":"IFERROR(VLOOKUP($B13,'[1]Num 1'!$G$3:$O$88,4,FALSE),0)","v":0},{"$f":"IFERROR(VLOOKUP($B13,'[1]Num 1'!$G$3:$O$88,5,FALSE),0)","v":1},{"$f":"IFERROR(VLOOKUP($B13,'[1]Num 1'!$G$3:$O$88,6,FALSE),0)","v":0},{"$f":"IFERROR(VLOOKUP($B13,'[1]Num 1'!$G$3:$O$88,7,FALSE),0)","v":1},{"$f":"IFERROR(VLOOKUP($B13,'[1]Num 1'!$G$3:$O$88,8,FALSE),0)","v":3},null,null,{"$f":"SUM(E13:P13)","v":11},{"$f":"IFERROR(VLOOKUP($B13,'[1]Den 1 2021'!$G$3:$T$104,11,FALSE),0)","v":2},{"$f":"IFERROR(VLOOKUP($B13,'[1]Den 1 2021'!$G$3:$T$104,12,FALSE),0)","v":1},{"$f":"IFERROR(VLOOKUP($B13,'[1]Den 1 2021'!$G$3:$T$104,13,FALSE),0)","v":0},{"$f":"IFERROR(VLOOKUP($B13,'[1]Den 1'!$G$3:$O$93,2,FALSE),0)","v":1},{"$f":"IFERROR(VLOOKUP($B13,'[1]Den 1'!$G$3:$O$93,3,FALSE),0)","v":0},{"$f":"IFERROR(VLOOKUP($B13,'[1]Den 1'!$G$3:$O$93,4,FALSE),0)","v":2},{"$f":"IFERROR(VLOOKUP($B13,'[1]Den 1'!$G$3:$O$93,5,FALSE),0)","v":2},{"$f":"IFERROR(VLOOKUP($B13,'[1]Den 1'!$G$3:$O$93,6,FALSE),0)","v":6},{"$f":"IFERROR(VLOOKUP($B13,'[1]Den 1'!$G$3:$O$93,7,FALSE),0)","v":0},{"$f":"IFERROR(VLOOKUP($B13,'[1]Den 1'!$G$3:$O$93,8,FALSE),0)","v":4},null,null,{"$f":"SUM(R13:AC13)","v":18}]
["04101-LA SERENA","105302-CES. PEDRO AGUIRRE C.",null,null,{"$f":"IFERROR(VLOOKUP($B14,'[1]Num 1 2021'!$G$3:$T$95,11,FALSE),0)","v":0},{"$f":"IFERROR(VLOOKUP($B14,'[1]Num 1 2021'!$G$3:$T$95,12,FALSE),0)","v":2},{"$f":"IFERROR(VLOOKUP($B14,'[1]Num 1 2021'!$G$3:$T$95,13,FALSE),0)","v":0},{"$f":"IFERROR(VLOOKUP($B14,'[1]Num 1'!$G$3:$O$88,2,FALSE),0)","v":0},{"$f":"IFERROR(VLOOKUP($B14,'[1]Num 1'!$G$3:$O$88,3,FALSE),0)","v":0},{"$f":"IFERROR(VLOOKUP($B14,'[1]Num 1'!$G$3:$O$88,4,FALSE),0)","v":0},{"$f":"IFERROR(VLOOKUP($B14,'[1]Num 1'!$G$3:$O$88,5,FALSE),0)","v":0},{"$f":"IFERROR(VLOOKUP($B14,'[1]Num 1'!$G$3:$O$88,6,FALSE),0)","v":0},{"$f":"IFERROR(VLOOKUP($B14,'[1]Num 1'!$G$3:$O$88,7,FALSE),0)","v":1},{"$f":"IFERROR(VLOOKUP($B14,'[1]Num 1'!$G$3:$O$88,8,FALSE),0)","v":0},null,null,{"$f":"SUM(E14:P14)","v":3},{"$f":"IFERROR(VLOOKUP($B14,'[1]Den 1 2021'!$G$3:$T$104,11,FALSE),0)","v":0},{"$f":"IFERROR(VLOOKUP($B14,'[1]Den 1 2021'!$G$3:$T$104,12,FALSE),0)","v":1},{"$f":"IFERROR(VLOOKUP($B14,'[1]Den 1 2021'!$G$3:$T$104,13,FALSE),0)","v":0},{"$f":"IFERROR(VLOOKUP($B14,'[1]Den 1'!$G$3:$O$93,2,FALSE),0)","v":0},{"$f":"IFERROR(VLOOKUP($B14,'[1]Den 1'!$G$3:$O$93,3,FALSE),0)","v":0},{"$f":"IFERROR(VLOOKUP($B14,'[1]Den 1'!$G$3:$O$93,4,FALSE),0)","v":3},{"$f":"IFERROR(VLOOKUP($B14,'[1]Den 1'!$G$3:$O$93,5,FALSE),0)","v":1},{"$f":"IFERROR(VLOOKUP($B14,'[1]Den 1'!$G$3:$O$93,6,FALSE),0)","v":1},{"$f":"IFERROR(VLOOKUP($B14,'[1]Den 1'!$G$3:$O$93,7,FALSE),0)","v":1},{"$f":"IFERROR(VLOOKUP($B14,'[1]Den 1'!$G$3:$O$93,8,FALSE),0)","v":7},null,null,14]
["04101-LA SERENA","105313-CES. SCHAFFHAUSER",null,null,{"$f":"IFERROR(VLOOKUP($B15,'[1]Num 1 2021'!$G$3:$T$95,11,FALSE),0)","v":0},{"$f":"IFERROR(VLOOKUP($B15,'[1]Num 1 2021'!$G$3:$T$95,12,FALSE),0)","v":0},{"$f":"IFERROR(VLOOKUP($B15,'[1]Num 1 2021'!$G$3:$T$95,13,FALSE),0)","v":0},{"$f":"IFERROR(VLOOKUP($B15,'[1]Num 1'!$G$3:$O$88,2,FALSE),0)","v":0},{"$f":"IFERROR(VLOOKUP($B15,'[1]Num 1'!$G$3:$O$88,3,FALSE),0)","v":0},{"$f":"IFERROR(VLOOKUP($B15,'[1]Num 1'!$G$3:$O$88,4,FALSE),0)","v":0},{"$f":"IFERROR(VLOOKUP($B15,'[1]Num 1'!$G$3:$O$88,5,FALSE),0)","v":0},{"$f":"IFERROR(VLOOKUP($B15,'[1]Num 1'!$G$3:$O$88,6,FALSE),0)","v":0},{"$f":"IFERROR(VLOOKUP($B15,'[1]Num 1'!$G$3:$O$88,7,FALSE),0)","v":0},{"$f":"IFERROR(VLOOKUP($B15,'[1]Num 1'!$G$3:$O$88,8,FALSE),0)","v":0},null,null,{"$f":"SUM(E15:P15)","v":0},{"$f":"IFERROR(VLOOKUP($B15,'[1]Den 1 2021'!$G$3:$T$104,11,FALSE),0)","v":0},{"$f":"IFERROR(VLOOKUP($B15,'[1]Den 1 2021'!$G$3:$T$104,12,FALSE),0)","v":0},{"$f":"IFERROR(VLOOKUP($B15,'[1]Den 1 2021'!$G$3:$T$104,13,FALSE),0)","v":1},{"$f":"IFERROR(VLOOKUP($B15,'[1]Den 1'!$G$3:$O$93,2,FALSE),0)","v":0},{"$f":"IFERROR(VLOOKUP($B15,'[1]Den 1'!$G$3:$O$93,3,FALSE),0)","v":1},{"$f":"IFERROR(VLOOKUP($B15,'[1]Den 1'!$G$3:$O$93,4,FALSE),0)","v":0},{"$f":"IFERROR(VLOOKUP($B15,'[1]Den 1'!$G$3:$O$93,5,FALSE),0)","v":0},{"$f":"IFERROR(VLOOKUP($B15,'[1]Den 1'!$G$3:$O$93,6,FALSE),0)","v":1},{"$f":"IFERROR(VLOOKUP($B15,'[1]Den 1'!$G$3:$O$93,7,FALSE),0)","v":1},{"$f":"IFERROR(VLOOKUP($B15,'[1]Den 1'!$G$3:$O$93,8,FALSE),0)","v":0},null,null,4]
["04101-LA SERENA","105319-CES. CARDENAL R.S.H.",null,null,{"$f":"IFERROR(VLOOKUP($B16,'[1]Num 1 2021'!$G$3:$T$95,11,FALSE),0)","v":0},{"$f":"IFERROR(VLOOKUP($B16,'[1]Num 1 2021'!$G$3:$T$95,12,FALSE),0)","v":11},{"$f":"IFERROR(VLOOKUP($B16,'[1]Num 1 2021'!$G$3:$T$95,13,FALSE),0)","v":0},{"$f":"IFERROR(VLOOKUP($B16,'[1]Num 1'!$G$3:$O$88,2,FALSE),0)","v":0},{"$f":"IFERROR(VLOOKUP($B16,'[1]Num 1'!$G$3:$O$88,3,FALSE),0)","v":0},{"$f":"IFERROR(VLOOKUP($B16,'[1]Num 1'!$G$3:$O$88,4,FALSE),0)","v":0},{"$f":"IFERROR(VLOOKUP($B16,'[1]Num 1'!$G$3:$O$88,5,FALSE),0)","v":0},{"$f":"IFERROR(VLOOKUP($B16,'[1]Num 1'!$G$3:$O$88,6,FALSE),0)","v":1},{"$f":"IFERROR(VLOOKUP($B16,'[1]Num 1'!$G$3:$O$88,7,FALSE),0)","v":2},{"$f":"IFERROR(VLOOKUP($B16,'[1]Num 1'!$G$3:$O$88,8,FALSE),0)","v":2},null,null,16,{"$f":"IFERROR(VLOOKUP($B16,'[1]Den 1 2021'!$G$3:$T$104,11,FALSE),0)","v":0},{"$f":"IFERROR(VLOOKUP($B16,'[1]Den 1 2021'!$G$3:$T$104,12,FALSE),0)","v":0},{"$f":"IFERROR(VLOOKUP($B16,'[1]Den 1 2021'!$G$3:$T$104,13,FALSE),0)","v":3},{"$f":"IFERROR(VLOOKUP($B16,'[1]Den 1'!$G$3:$O$93,2,FALSE),0)","v":1},{"$f":"IFERROR(VLOOKUP($B16,'[1]Den 1'!$G$3:$O$93,3,FALSE),0)","v":3},{"$f":"IFERROR(VLOOKUP($B16,'[1]Den 1'!$G$3:$O$93,4,FALSE),0)","v":3},{"$f":"IFERROR(VLOOKUP($B16,'[1]Den 1'!$G$3:$O$93,5,FALSE),0)","v":1},{"$f":"IFERROR(VLOOKUP($B16,'[1]Den 1'!$G$3:$O$93,6,FALSE),0)","v":1},{"$f":"IFERROR(VLOOKUP($B16,'[1]Den 1'!$G$3:$O$93,7,FALSE),0)","v":3},{"$f":"IFERROR(VLOOKUP($B16,'[1]Den 1'!$G$3:$O$93,8,FALSE),0)","v":2},null,null,17]
["04101-LA SERENA","105325-CESFAM JUAN PABLO II",null,null,{"$f":"IFERROR(VLOOKUP($B17,'[1]Num 1 2021'!$G$3:$T$95,11,FALSE),0)","v":0},{"$f":"IFERROR(VLOOKUP($B17,'[1]Num 1 2021'!$G$3:$T$95,12,FALSE),0)","v":2},{"$f":"IFERROR(VLOOKUP($B17,'[1]Num 1 2021'!$G$3:$T$95,13,FALSE),0)","v":4},{"$f":"IFERROR(VLOOKUP($B17,'[1]Num 1'!$G$3:$O$88,2,FALSE),0)","v":0},{"$f":"IFERROR(VLOOKUP($B17,'[1]Num 1'!$G$3:$O$88,3,FALSE),0)","v":1},{"$f":"IFERROR(VLOOKUP($B17,'[1]Num 1'!$G$3:$O$88,4,FALSE),0)","v":0},{"$f":"IFERROR(VLOOKUP($B17,'[1]Num 1'!$G$3:$O$88,5,FALSE),0)","v":0},{"$f":"IFERROR(VLOOKUP($B17,'[1]Num 1'!$G$3:$O$88,6,FALSE),0)","v":6},{"$f":"IFERROR(VLOOKUP($B17,'[1]Num 1'!$G$3:$O$88,7,FALSE),0)","v":0},{"$f":"IFERROR(VLOOKUP($B17,'[1]Num 1'!$G$3:$O$88,8,FALSE),0)","v":0},null,null,13,{"$f":"IFERROR(VLOOKUP($B17,'[1]Den 1 2021'!$G$3:$T$104,11,FALSE),0)","v":2},{"$f":"IFERROR(VLOOKUP($B17,'[1]Den 1 2021'!$G$3:$T$104,12,FALSE),0)","v":0},{"$f":"IFERROR(VLOOKUP($B17,'[1]Den 1 2021'!$G$3:$T$104,13,FALSE),0)","v":3},{"$f":"IFERROR(VLOOKUP($B17,'[1]Den 1'!$G$3:$O$93,2,FALSE),0)","v":2},{"$f":"IFERROR(VLOOKUP($B17,'[1]Den 1'!$G$3:$O$93,3,FALSE),0)","v":6},{"$f":"IFERROR(VLOOKUP($B17,'[1]Den 1'!$G$3:$O$93,4,FALSE),0)","v":3},{"$f":"IFERROR(VLOOKUP($B17,'[1]Den 1'!$G$3:$O$93,5,FALSE),0)","v":2},{"$f":"IFERROR(VLOOKUP($B17,'[1]Den 1'!$G$3:$O$93,6,FALSE),0)","v":2},{"$f":"IFERROR(VLOOKUP($B17,'[1]Den 1'!$G$3:$O$93,7,FALSE),0)","v":4},{"$f":"IFERROR(VLOOKUP($B17,'[1]Den 1'!$G$3:$O$93,8,FALSE),0)","v":0},null,null,24]
["04101-LA SERENA","105400-P.S.R. ALGARROBITO            ",null,null,{"$f":"IFERROR(VLOOKUP($B18,'[1]Num 1 2021'!$G$3:$T$95,11,FALSE),0)","v":0},{"$f":"IFERROR(VLOOKUP($B18,'[1]Num 1 2021'!$G$3:$T$95,12,FALSE),0)","v":0},{"$f":"IFERROR(VLOOKUP($B18,'[1]Num 1 2021'!$G$3:$T$95,13,FALSE),0)","v":0},{"$f":"IFERROR(VLOOKUP($B18,'[1]Num 1'!$G$3:$O$88,2,FALSE),0)","v":0},{"$f":"IFERROR(VLOOKUP($B18,'[1]Num 1'!$G$3:$O$88,3,FALSE),0)","v":0},{"$f":"IFERROR(VLOOKUP($B18,'[1]Num 1'!$G$3:$O$88,4,FALSE),0)","v":0},{"$f":"IFERROR(VLOOKUP($B18,'[1]Num 1'!$G$3:$O$88,5,FALSE),0)","v":0},{"$f":"IFERROR(VLOOKUP($B18,'[1]Num 1'!$G$3:$O$88,6,FALSE),0)","v":0},{"$f":"IFERROR(VLOOKUP($B18,'[1]Num 1'!$G$3:$O$88,7,FALSE),0)","v":0},{"$f":"IFERROR(VLOOKUP($B18,'[1]Num 1'!$G$3:$O$88,8,FALSE),0)","v":0},null,null,0,{"$f":"IFERROR(VLOOKUP($B18,'[1]Den 1 2021'!$G$3:$T$104,11,FALSE),0)","v":0},{"$f":"IFERROR(VLOOKUP($B18,'[1]Den 1 2021'!$G$3:$T$104,12,FALSE),0)","v":0},{"$f":"IFERROR(VLOOKUP($B18,'[1]Den 1 2021'!$G$3:$T$104,13,FALSE),0)","v":0},{"$f":"IFERROR(VLOOKUP($B18,'[1]Den 1'!$G$3:$O$93,2,FALSE),0)","v":0},{"$f":"IFERROR(VLOOKUP($B18,'[1]Den 1'!$G$3:$O$93,3,FALSE),0)","v":0},{"$f":"IFERROR(VLOOKUP($B18,'[1]Den 1'!$G$3:$O$93,4,FALSE),0)","v":0},{"$f":"IFERROR(VLOOKUP($B18,'[1]Den 1'!$G$3:$O$93,5,FALSE),0)","v":0},{"$f":"IFERROR(VLOOKUP($B18,'[1]Den 1'!$G$3:$O$93,6,FALSE),0)","v":0},{"$f":"IFERROR(VLOOKUP($B18,'[1]Den 1'!$G$3:$O$93,7,FALSE),0)","v":0},{"$f":"IFERROR(VLOOKUP($B18,'[1]Den 1'!$G$3:$O$93,8,FALSE),0)","v":0},null,null,0]
["04101-LA SERENA","105401-P.S.R. LAS ROJAS",null,null,{"$f":"IFERROR(VLOOKUP($B19,'[1]Num 1 2021'!$G$3:$T$95,11,FALSE),0)","v":0},{"$f":"IFERROR(VLOOKUP($B19,'[1]Num 1 2021'!$G$3:$T$95,12,FALSE),0)","v":0},{"$f":"IFERROR(VLOOKUP($B19,'[1]Num 1 2021'!$G$3:$T$95,13,FALSE),0)","v":0},{"$f":"IFERROR(VLOOKUP($B19,'[1]Num 1'!$G$3:$O$88,2,FALSE),0)","v":0},{"$f":"IFERROR(VLOOKUP($B19,'[1]Num 1'!$G$3:$O$88,3,FALSE),0)","v":0},{"$f":"IFERROR(VLOOKUP($B19,'[1]Num 1'!$G$3:$O$88,4,FALSE),0)","v":0},{"$f":"IFERROR(VLOOKUP($B19,'[1]Num 1'!$G$3:$O$88,5,FALSE),0)","v":0},{"$f":"IFERROR(VLOOKUP($B19,'[1]Num 1'!$G$3:$O$88,6,FALSE),0)","v":0},{"$f":"IFERROR(VLOOKUP($B19,'[1]Num 1'!$G$3:$O$88,7,FALSE),0)","v":1},{"$f":"IFERROR(VLOOKUP($B19,'[1]Num 1'!$G$3:$O$88,8,FALSE),0)","v":0},null,null,1,{"$f":"IFERROR(VLOOKUP($B19,'[1]Den 1 2021'!$G$3:$T$104,11,FALSE),0)","v":0},{"$f":"IFERROR(VLOOKUP($B19,'[1]Den 1 2021'!$G$3:$T$104,12,FALSE),0)","v":0},{"$f":"IFERROR(VLOOKUP($B19,'[1]Den 1 2021'!$G$3:$T$104,13,FALSE),0)","v":0},{"$f":"IFERROR(VLOOKUP($B19,'[1]Den 1'!$G$3:$O$93,2,FALSE),0)","v":1},{"$f":"IFERROR(VLOOKUP($B19,'[1]Den 1'!$G$3:$O$93,3,FALSE),0)","v":0},{"$f":"IFERROR(VLOOKUP($B19,'[1]Den 1'!$G$3:$O$93,4,FALSE),0)","v":0},{"$f":"IFERROR(VLOOKUP($B19,'[1]Den 1'!$G$3:$O$93,5,FALSE),0)","v":0},{"$f":"IFERROR(VLOOKUP($B19,'[1]Den 1'!$G$3:$O$93,6,FALSE),0)","v":0},{"$f":"IFERROR(VLOOKUP($B19,'[1]Den 1'!$G$3:$O$93,7,FALSE),0)","v":0},{"$f":"IFERROR(VLOOKUP($B19,'[1]Den 1'!$G$3:$O$93,8,FALSE),0)","v":0},null,null,1]
["04101-LA SERENA","105402-P.S.R. EL ROMERO",null,null,{"$f":"IFERROR(VLOOKUP($B20,'[1]Num 1 2021'!$G$3:$T$95,11,FALSE),0)","v":0},{"$f":"IFERROR(VLOOKUP($B20,'[1]Num 1 2021'!$G$3:$T$95,12,FALSE),0)","v":0},{"$f":"IFERROR(VLOOKUP($B20,'[1]Num 1 2021'!$G$3:$T$95,13,FALSE),0)","v":0},{"$f":"IFERROR(VLOOKUP($B20,'[1]Num 1'!$G$3:$O$88,2,FALSE),0)","v":0},{"$f":"IFERROR(VLOOKUP($B20,'[1]Num 1'!$G$3:$O$88,3,FALSE),0)","v":0},{"$f":"IFERROR(VLOOKUP($B20,'[1]Num 1'!$G$3:$O$88,4,FALSE),0)","v":0},{"$f":"IFERROR(VLOOKUP($B20,'[1]Num 1'!$G$3:$O$88,5,FALSE),0)","v":0},{"$f":"IFERROR(VLOOKUP($B20,'[1]Num 1'!$G$3:$O$88,6,FALSE),0)","v":0},{"$f":"IFERROR(VLOOKUP($B20,'[1]Num 1'!$G$3:$O$88,7,FALSE),0)","v":0},{"$f":"IFERROR(VLOOKUP($B20,'[1]Num 1'!$G$3:$O$88,8,FALSE),0)","v":0},null,null,0,{"$f":"IFERROR(VLOOKUP($B20,'[1]Den 1 2021'!$G$3:$T$104,11,FALSE),0)","v":0},{"$f":"IFERROR(VLOOKUP($B20,'[1]Den 1 2021'!$G$3:$T$104,12,FALSE),0)","v":0},{"$f":"IFERROR(VLOOKUP($B20,'[1]Den 1 2021'!$G$3:$T$104,13,FALSE),0)","v":0},{"$f":"IFERROR(VLOOKUP($B20,'[1]Den 1'!$G$3:$O$93,2,FALSE),0)","v":0},{"$f":"IFERROR(VLOOKUP($B20,'[1]Den 1'!$G$3:$O$93,3,FALSE),0)","v":0},{"$f":"IFERROR(VLOOKUP($B20,'[1]Den 1'!$G$3:$O$93,4,FALSE),0)","v":0},{"$f":"IFERROR(VLOOKUP($B20,'[1]Den 1'!$G$3:$O$93,5,FALSE),0)","v":0},{"$f":"IFERROR(VLOOKUP($B20,'[1]Den 1'!$G$3:$O$93,6,FALSE),0)","v":0},{"$f":"IFERROR(VLOOKUP($B20,'[1]Den 1'!$G$3:$O$93,7,FALSE),0)","v":0},{"$f":"IFERROR(VLOOKUP($B20,'[1]Den 1'!$G$3:$O$93,8,FALSE),0)","v":0},null,null,0]
["04101-LA SERENA","105499-P.S.R. LAMBERT",null,null,{"$f":"IFERROR(VLOOKUP($B21,'[1]Num 1 2021'!$G$3:$T$95,11,FALSE),0)","v":0},{"$f":"IFERROR(VLOOKUP($B21,'[1]Num 1 2021'!$G$3:$T$95,12,FALSE),0)","v":0},{"$f":"IFERROR(VLOOKUP($B21,'[1]Num 1 2021'!$G$3:$T$95,13,FALSE),0)","v":0},{"$f":"IFERROR(VLOOKUP($B21,'[1]Num 1'!$G$3:$O$88,2,FALSE),0)","v":0},{"$f":"IFERROR(VLOOKUP($B21,'[1]Num 1'!$G$3:$O$88,3,FALSE),0)","v":0},{"$f":"IFERROR(VLOOKUP($B21,'[1]Num 1'!$G$3:$O$88,4,FALSE),0)","v":0},{"$f":"IFERROR(VLOOKUP($B21,'[1]Num 1'!$G$3:$O$88,5,FALSE),0)","v":0},{"$f":"IFERROR(VLOOKUP($B21,'[1]Num 1'!$G$3:$O$88,6,FALSE),0)","v":0},{"$f":"IFERROR(VLOOKUP($B21,'[1]Num 1'!$G$3:$O$88,7,FALSE),0)","v":0},{"$f":"IFERROR(VLOOKUP($B21,'[1]Num 1'!$G$3:$O$88,8,FALSE),0)","v":0},null,null,0,{"$f":"IFERROR(VLOOKUP($B21,'[1]Den 1 2021'!$G$3:$T$104,11,FALSE),0)","v":0},{"$f":"IFERROR(VLOOKUP($B21,'[1]Den 1 2021'!$G$3:$T$104,12,FALSE),0)","v":0},{"$f":"IFERROR(VLOOKUP($B21,'[1]Den 1 2021'!$G$3:$T$104,13,FALSE),0)","v":0},{"$f":"IFERROR(VLOOKUP($B21,'[1]Den 1'!$G$3:$O$93,2,FALSE),0)","v":0},{"$f":"IFERROR(VLOOKUP($B21,'[1]Den 1'!$G$3:$O$93,3,FALSE),0)","v":0},{"$f":"IFERROR(VLOOKUP($B21,'[1]Den 1'!$G$3:$O$93,4,FALSE),0)","v":0},{"$f":"IFERROR(VLOOKUP($B21,'[1]Den 1'!$G$3:$O$93,5,FALSE),0)","v":0},{"$f":"IFERROR(VLOOKUP($B21,'[1]Den 1'!$G$3:$O$93,6,FALSE),0)","v":0},{"$f":"IFERROR(VLOOKUP($B21,'[1]Den 1'!$G$3:$O$93,7,FALSE),0)","v":0},{"$f":"IFERROR(VLOOKUP($B21,'[1]Den 1'!$G$3:$O$93,8,FALSE),0)","v":0},null,null,0]
["04101-LA SERENA","105700-CECOF VILLA EL INDIO",null,null,{"$f":"IFERROR(VLOOKUP($B22,'[1]Num 1 2021'!$G$3:$T$95,11,FALSE),0)","v":0},{"$f":"IFERROR(VLOOKUP($B22,'[1]Num 1 2021'!$G$3:$T$95,12,FALSE),0)","v":0},{"$f":"IFERROR(VLOOKUP($B22,'[1]Num 1 2021'!$G$3:$T$95,13,FALSE),0)","v":0},{"$f":"IFERROR(VLOOKUP($B22,'[1]Num 1'!$G$3:$O$88,2,FALSE),0)","v":0},{"$f":"IFERROR(VLOOKUP($B22,'[1]Num 1'!$G$3:$O$88,3,FALSE),0)","v":1},{"$f":"IFERROR(VLOOKUP($B22,'[1]Num 1'!$G$3:$O$88,4,FALSE),0)","v":0},{"$f":"IFERROR(VLOOKUP($B22,'[1]Num 1'!$G$3:$O$88,5,FALSE),0)","v":0},{"$f":"IFERROR(VLOOKUP($B22,'[1]Num 1'!$G$3:$O$88,6,FALSE),0)","v":1},{"$f":"IFERROR(VLOOKUP($B22,'[1]Num 1'!$G$3:$O$88,7,FALSE),0)","v":0},{"$f":"IFERROR(VLOOKUP($B22,'[1]Num 1'!$G$3:$O$88,8,FALSE),0)","v":0},null,null,2,{"$f":"IFERROR(VLOOKUP($B22,'[1]Den 1 2021'!$G$3:$T$104,11,FALSE),0)","v":0},{"$f":"IFERROR(VLOOKUP($B22,'[1]Den 1 2021'!$G$3:$T$104,12,FALSE),0)","v":0},{"$f":"IFERROR(VLOOKUP($B22,'[1]Den 1 2021'!$G$3:$T$104,13,FALSE),0)","v":0},{"$f":"IFERROR(VLOOKUP($B22,'[1]Den 1'!$G$3:$O$93,2,FALSE),0)","v":0},{"$f":"IFERROR(VLOOKUP($B22,'[1]Den 1'!$G$3:$O$93,3,FALSE),0)","v":0},{"$f":"IFERROR(VLOOKUP($B22,'[1]Den 1'!$G$3:$O$93,4,FALSE),0)","v":1},{"$f":"IFERROR(VLOOKUP($B22,'[1]Den 1'!$G$3:$O$93,5,FALSE),0)","v":0},{"$f":"IFERROR(VLOOKUP($B22,'[1]Den 1'!$G$3:$O$93,6,FALSE),0)","v":0},{"$f":"IFERROR(VLOOKUP($B22,'[1]Den 1'!$G$3:$O$93,7,FALSE),0)","v":0},{"$f":"IFERROR(VLOOKUP($B22,'[1]Den 1'!$G$3:$O$93,8,FALSE),0)","v":0},null,null,1]
["04101-LA SERENA","105701-CECOF VILLA ALEMANIA",null,null,{"$f":"IFERROR(VLOOKUP($B23,'[1]Num 1 2021'!$G$3:$T$95,11,FALSE),0)","v":0},{"$f":"IFERROR(VLOOKUP($B23,'[1]Num 1 2021'!$G$3:$T$95,12,FALSE),0)","v":0},{"$f":"IFERROR(VLOOKUP($B23,'[1]Num 1 2021'!$G$3:$T$95,13,FALSE),0)","v":0},{"$f":"IFERROR(VLOOKUP($B23,'[1]Num 1'!$G$3:$O$88,2,FALSE),0)","v":0},{"$f":"IFERROR(VLOOKUP($B23,'[1]Num 1'!$G$3:$O$88,3,FALSE),0)","v":0},{"$f":"IFERROR(VLOOKUP($B23,'[1]Num 1'!$G$3:$O$88,4,FALSE),0)","v":0},{"$f":"IFERROR(VLOOKUP($B23,'[1]Num 1'!$G$3:$O$88,5,FALSE),0)","v":0},{"$f":"IFERROR(VLOOKUP($B23,'[1]Num 1'!$G$3:$O$88,6,FALSE),0)","v":0},{"$f":"IFERROR(VLOOKUP($B23,'[1]Num 1'!$G$3:$O$88,7,FALSE),0)","v":0},{"$f":"IFERROR(VLOOKUP($B23,'[1]Num 1'!$G$3:$O$88,8,FALSE),0)","v":0},null,null,0,{"$f":"IFERROR(VLOOKUP($B23,'[1]Den 1 2021'!$G$3:$T$104,11,FALSE),0)","v":0},{"$f":"IFERROR(VLOOKUP($B23,'[1]Den 1 2021'!$G$3:$T$104,12,FALSE),0)","v":0},{"$f":"IFERROR(VLOOKUP($B23,'[1]Den 1 2021'!$G$3:$T$104,13,FALSE),0)","v":0},{"$f":"IFERROR(VLOOKUP($B23,'[1]Den 1'!$G$3:$O$93,2,FALSE),0)","v":0},{"$f":"IFERROR(VLOOKUP($B23,'[1]Den 1'!$G$3:$O$93,3,FALSE),0)","v":0},{"$f":"IFERROR(VLOOKUP($B23,'[1]Den 1'!$G$3:$O$93,4,FALSE),0)","v":0},{"$f":"IFERROR(VLOOKUP($B23,'[1]Den 1'!$G$3:$O$93,5,FALSE),0)","v":0},{"$f":"IFERROR(VLOOKUP($B23,'[1]Den 1'!$G$3:$O$93,6,FALSE),0)","v":0},{"$f":"IFERROR(VLOOKUP($B23,'[1]Den 1'!$G$3:$O$93,7,FALSE),0)","v":0},{"$f":"IFERROR(VLOOKUP($B23,'[1]Den 1'!$G$3:$O$93,8,FALSE),0)","v":0},null,null,0]
["04101-LA SERENA","105702-CECOF VILLA LAMBERT",null,null,{"$f":"IFERROR(VLOOKUP($B24,'[1]Num 1 2021'!$G$3:$T$95,11,FALSE),0)","v":0},{"$f":"IFERROR(VLOOKUP($B24,'[1]Num 1 2021'!$G$3:$T$95,12,FALSE),0)","v":0},{"$f":"IFERROR(VLOOKUP($B24,'[1]Num 1 2021'!$G$3:$T$95,13,FALSE),0)","v":0},{"$f":"IFERROR(VLOOKUP($B24,'[1]Num 1'!$G$3:$O$88,2,FALSE),0)","v":0},{"$f":"IFERROR(VLOOKUP($B24,'[1]Num 1'!$G$3:$O$88,3,FALSE),0)","v":0},{"$f":"IFERROR(VLOOKUP($B24,'[1]Num 1'!$G$3:$O$88,4,FALSE),0)","v":0},{"$f":"IFERROR(VLOOKUP($B24,'[1]Num 1'!$G$3:$O$88,5,FALSE),0)","v":0},{"$f":"IFERROR(VLOOKUP($B24,'[1]Num 1'!$G$3:$O$88,6,FALSE),0)","v":0},{"$f":"IFERROR(VLOOKUP($B24,'[1]Num 1'!$G$3:$O$88,7,FALSE),0)","v":0},{"$f":"IFERROR(VLOOKUP($B24,'[1]Num 1'!$G$3:$O$88,8,FALSE),0)","v":0},null,null,0,{"$f":"IFERROR(VLOOKUP($B24,'[1]Den 1 2021'!$G$3:$T$104,11,FALSE),0)","v":0},{"$f":"IFERROR(VLOOKUP($B24,'[1]Den 1 2021'!$G$3:$T$104,12,FALSE),0)","v":0},{"$f":"IFERROR(VLOOKUP($B24,'[1]Den 1 2021'!$G$3:$T$104,13,FALSE),0)","v":0},{"$f":"IFERROR(VLOOKUP($B24,'[1]Den 1'!$G$3:$O$93,2,FALSE),0)","v":0},{"$f":"IFERROR(VLOOKUP($B24,'[1]Den 1'!$G$3:$O$93,3,FALSE),0)","v":0},{"$f":"IFERROR(VLOOKUP($B24,'[1]Den 1'!$G$3:$O$93,4,FALSE),0)","v":0},{"$f":"IFERROR(VLOOKUP($B24,'[1]Den 1'!$G$3:$O$93,5,FALSE),0)","v":0},{"$f":"IFERROR(VLOOKUP($B24,'[1]Den 1'!$G$3:$O$93,6,FALSE),0)","v":0},{"$f":"IFERROR(VLOOKUP($B24,'[1]Den 1'!$G$3:$O$93,7,FALSE),0)","v":0},{"$f":"IFERROR(VLOOKUP($B24,'[1]Den 1'!$G$3:$O$93,8,FALSE),0)","v":0},null,null,0]
["04101-LA SERENA","200402-CECOF ARCOS DE PINAMAR",null,null,{"$f":"IFERROR(VLOOKUP($B25,'[1]Num 1 2021'!$G$3:$T$95,11,FALSE),0)","v":0},{"$f":"IFERROR(VLOOKUP($B25,'[1]Num 1 2021'!$G$3:$T$95,12,FALSE),0)","v":0},{"$f":"IFERROR(VLOOKUP($B25,'[1]Num 1 2021'!$G$3:$T$95,13,FALSE),0)","v":0},{"$f":"IFERROR(VLOOKUP($B25,'[1]Num 1'!$G$3:$O$88,2,FALSE),0)","v":0},{"$f":"IFERROR(VLOOKUP($B25,'[1]Num 1'!$G$3:$O$88,3,FALSE),0)","v":0},{"$f":"IFERROR(VLOOKUP($B25,'[1]Num 1'!$G$3:$O$88,4,FALSE),0)","v":0},{"$f":"IFERROR(VLOOKUP($B25,'[1]Num 1'!$G$3:$O$88,5,FALSE),0)","v":0},{"$f":"IFERROR(VLOOKUP($B25,'[1]Num 1'!$G$3:$O$88,6,FALSE),0)","v":0},{"$f":"IFERROR(VLOOKUP($B25,'[1]Num 1'!$G$3:$O$88,7,FALSE),0)","v":0},{"$f":"IFERROR(VLOOKUP($B25,'[1]Num 1'!$G$3:$O$88,8,FALSE),0)","v":0},null,null,0,{"$f":"IFERROR(VLOOKUP($B25,'[1]Den 1 2021'!$G$3:$T$104,11,FALSE),0)","v":0},{"$f":"IFERROR(VLOOKUP($B25,'[1]Den 1 2021'!$G$3:$T$104,12,FALSE),0)","v":0},{"$f":"IFERROR(VLOOKUP($B25,'[1]Den 1 2021'!$G$3:$T$104,13,FALSE),0)","v":0},{"$f":"IFERROR(VLOOKUP($B25,'[1]Den 1'!$G$3:$O$93,2,FALSE),0)","v":0},{"$f":"IFERROR(VLOOKUP($B25,'[1]Den 1'!$G$3:$O$93,3,FALSE),0)","v":0},{"$f":"IFERROR(VLOOKUP($B25,'[1]Den 1'!$G$3:$O$93,4,FALSE),0)","v":2},{"$f":"IFERROR(VLOOKUP($B25,'[1]Den 1'!$G$3:$O$93,5,FALSE),0)","v":0},{"$f":"IFERROR(VLOOKUP($B25,'[1]Den 1'!$G$3:$O$93,6,FALSE),0)","v":0},{"$f":"IFERROR(VLOOKUP($B25,'[1]Den 1'!$G$3:$O$93,7,FALSE),0)","v":0},{"$f":"IFERROR(VLOOKUP($B25,'[1]Den 1'!$G$3:$O$93,8,FALSE),0)","v":0},null,null,2]
["TOTAL LA SERENA",null,{"$f":"D26/Metas!G5","v":0.9157509157509158},{"$f":"Q26/AD26","v":{"v":0.5494505494505495,"d":"54.95%"}},{"$f":"SUM(E12:E25)","v":3},{"$f":"SUM(F12:F25)","v":17},5,2,2,1,1,9,5,5,0,{"$f":"SUM(P12:P25)","v":0},{"$f":"SUM(Q12:Q25)","v":50},{"$f":"SUM(R12:R25)","v":5},{"$f":"SUM(S12:S25)","v":2},7,6,10,17,7,12,11,14,0,{"$f":"SUM(AC12:AC25)","v":0},{"$f":"SUM(AD12:AD25)","v":91}]
["04102-COQUIMBO","105303-CES. SAN JUAN",null,null,{"$f":"IFERROR(VLOOKUP($B27,'[1]Num 1 2021'!$G$3:$T$95,11,FALSE),0)","v":5},{"$f":"IFERROR(VLOOKUP($B27,'[1]Num 1 2021'!$G$3:$T$95,12,FALSE),0)","v":1},{"$f":"IFERROR(VLOOKUP($B27,'[1]Num 1 2021'!$G$3:$T$95,13,FALSE),0)","v":0},{"$f":"IFERROR(VLOOKUP($B27,'[1]Num 1'!$G$3:$O$88,2,FALSE),0)","v":1},{"$f":"IFERROR(VLOOKUP($B27,'[1]Num 1'!$G$3:$O$88,3,FALSE),0)","v":0},{"$f":"IFERROR(VLOOKUP($B27,'[1]Num 1'!$G$3:$O$88,4,FALSE),0)","v":2},{"$f":"IFERROR(VLOOKUP($B27,'[1]Num 1'!$G$3:$O$88,5,FALSE),0)","v":2},{"$f":"IFERROR(VLOOKUP($B27,'[1]Num 1'!$G$3:$O$88,6,FALSE),0)","v":2},{"$f":"IFERROR(VLOOKUP($B27,'[1]Num 1'!$G$3:$O$88,7,FALSE),0)","v":2},{"$f":"IFERROR(VLOOKUP($B27,'[1]Num 1'!$G$3:$O$88,8,FALSE),0)","v":4},null,null,{"$f":"SUM(E27:P27)","v":19},{"$f":"IFERROR(VLOOKUP($B27,'[1]Den 1 2021'!$G$3:$T$104,11,FALSE),0)","v":5},{"$f":"IFERROR(VLOOKUP($B27,'[1]Den 1 2021'!$G$3:$T$104,12,FALSE),0)","v":1},{"$f":"IFERROR(VLOOKUP($B27,'[1]Den 1 2021'!$G$3:$T$104,13,FALSE),0)","v":1},{"$f":"IFERROR(VLOOKUP($B27,'[1]Den 1'!$G$3:$O$93,2,FALSE),0)","v":1},{"$f":"IFERROR(VLOOKUP($B27,'[1]Den 1'!$G$3:$O$93,3,FALSE),0)","v":4},{"$f":"IFERROR(VLOOKUP($B27,'[1]Den 1'!$G$3:$O$93,4,FALSE),0)","v":3},{"$f":"IFERROR(VLOOKUP($B27,'[1]Den 1'!$G$3:$O$93,5,FALSE),0)","v":5},{"$f":"IFERROR(VLOOKUP($B27,'[1]Den 1'!$G$3:$O$93,6,FALSE),0)","v":1},{"$f":"IFERROR(VLOOKUP($B27,'[1]Den 1'!$G$3:$O$93,7,FALSE),0)","v":4},{"$f":"IFERROR(VLOOKUP($B27,'[1]Den 1'!$G$3:$O$93,8,FALSE),0)","v":3},null,null,28]
["04102-COQUIMBO","105304-CES. SANTA CECILIA",null,null,{"$f":"IFERROR(VLOOKUP($B28,'[1]Num 1 2021'!$G$3:$T$95,11,FALSE),0)","v":5},{"$f":"IFERROR(VLOOKUP($B28,'[1]Num 1 2021'!$G$3:$T$95,12,FALSE),0)","v":0},{"$f":"IFERROR(VLOOKUP($B28,'[1]Num 1 2021'!$G$3:$T$95,13,FALSE),0)","v":3},{"$f":"IFERROR(VLOOKUP($B28,'[1]Num 1'!$G$3:$O$88,2,FALSE),0)","v":0},{"$f":"IFERROR(VLOOKUP($B28,'[1]Num 1'!$G$3:$O$88,3,FALSE),0)","v":1},{"$f":"IFERROR(VLOOKUP($B28,'[1]Num 1'!$G$3:$O$88,4,FALSE),0)","v":1},{"$f":"IFERROR(VLOOKUP($B28,'[1]Num 1'!$G$3:$O$88,5,FALSE),0)","v":2},{"$f":"IFERROR(VLOOKUP($B28,'[1]Num 1'!$G$3:$O$88,6,FALSE),0)","v":1},{"$f":"IFERROR(VLOOKUP($B28,'[1]Num 1'!$G$3:$O$88,7,FALSE),0)","v":0},{"$f":"IFERROR(VLOOKUP($B28,'[1]Num 1'!$G$3:$O$88,8,FALSE),0)","v":4},null,null,17,{"$f":"IFERROR(VLOOKUP($B28,'[1]Den 1 2021'!$G$3:$T$104,11,FALSE),0)","v":1},{"$f":"IFERROR(VLOOKUP($B28,'[1]Den 1 2021'!$G$3:$T$104,12,FALSE),0)","v":2},{"$f":"IFERROR(VLOOKUP($B28,'[1]Den 1 2021'!$G$3:$T$104,13,FALSE),0)","v":0},{"$f":"IFERROR(VLOOKUP($B28,'[1]Den 1'!$G$3:$O$93,2,FALSE),0)","v":2},{"$f":"IFERROR(VLOOKUP($B28,'[1]Den 1'!$G$3:$O$93,3,FALSE),0)","v":2},{"$f":"IFERROR(VLOOKUP($B28,'[1]Den 1'!$G$3:$O$93,4,FALSE),0)","v":4},{"$f":"IFERROR(VLOOKUP($B28,'[1]Den 1'!$G$3:$O$93,5,FALSE),0)","v":1},{"$f":"IFERROR(VLOOKUP($B28,'[1]Den 1'!$G$3:$O$93,6,FALSE),0)","v":2},{"$f":"IFERROR(VLOOKUP($B28,'[1]Den 1'!$G$3:$O$93,7,FALSE),0)","v":1},{"$f":"IFERROR(VLOOKUP($B28,'[1]Den 1'!$G$3:$O$93,8,FALSE),0)","v":4},null,null,19]
["04102-COQUIMBO","105305-CES. TIERRAS BLANCAS",null,null,{"$f":"IFERROR(VLOOKUP($B29,'[1]Num 1 2021'!$G$3:$T$95,11,FALSE),0)","v":2},{"$f":"IFERROR(VLOOKUP($B29,'[1]Num 1 2021'!$G$3:$T$95,12,FALSE),0)","v":2},{"$f":"IFERROR(VLOOKUP($B29,'[1]Num 1 2021'!$G$3:$T$95,13,FALSE),0)","v":5},{"$f":"IFERROR(VLOOKUP($B29,'[1]Num 1'!$G$3:$O$88,2,FALSE),0)","v":2},{"$f":"IFERROR(VLOOKUP($B29,'[1]Num 1'!$G$3:$O$88,3,FALSE),0)","v":4},{"$f":"IFERROR(VLOOKUP($B29,'[1]Num 1'!$G$3:$O$88,4,FALSE),0)","v":6},{"$f":"IFERROR(VLOOKUP($B29,'[1]Num 1'!$G$3:$O$88,5,FALSE),0)","v":3},{"$f":"IFERROR(VLOOKUP($B29,'[1]Num 1'!$G$3:$O$88,6,FALSE),0)","v":5},{"$f":"IFERROR(VLOOKUP($B29,'[1]Num 1'!$G$3:$O$88,7,FALSE),0)","v":3},{"$f":"IFERROR(VLOOKUP($B29,'[1]Num 1'!$G$3:$O$88,8,FALSE),0)","v":5},null,null,37,{"$f":"IFERROR(VLOOKUP($B29,'[1]Den 1 2021'!$G$3:$T$104,11,FALSE),0)","v":4},{"$f":"IFERROR(VLOOKUP($B29,'[1]Den 1 2021'!$G$3:$T$104,12,FALSE),0)","v":7},{"$f":"IFERROR(VLOOKUP($B29,'[1]Den 1 2021'!$G$3:$T$104,13,FALSE),0)","v":2},{"$f":"IFERROR(VLOOKUP($B29,'[1]Den 1'!$G$3:$O$93,2,FALSE),0)","v":3},{"$f":"IFERROR(VLOOKUP($B29,'[1]Den 1'!$G$3:$O$93,3,FALSE),0)","v":4},{"$f":"IFERROR(VLOOKUP($B29,'[1]Den 1'!$G$3:$O$93,4,FALSE),0)","v":7},{"$f":"IFERROR(VLOOKUP($B29,'[1]Den 1'!$G$3:$O$93,5,FALSE),0)","v":3},{"$f":"IFERROR(VLOOKUP($B29,'[1]Den 1'!$G$3:$O$93,6,FALSE),0)","v":3},{"$f":"IFERROR(VLOOKUP($B29,'[1]Den 1'!$G$3:$O$93,7,FALSE),0)","v":3},{"$f":"IFERROR(VLOOKUP($B29,'[1]Den 1'!$G$3:$O$93,8,FALSE),0)","v":5},null,null,41]
["04102-COQUIMBO","105321-CES. RURAL  TONGOY",null,null,{"$f":"IFERROR(VLOOKUP($B30,'[1]Num 1 2021'!$G$3:$T$95,11,FALSE),0)","v":0},{"$f":"IFERROR(VLOOKUP($B30,'[1]Num 1 2021'!$G$3:$T$95,12,FALSE),0)","v":2},{"$f":"IFERROR(VLOOKUP($B30,'[1]Num 1 2021'!$G$3:$T$95,13,FALSE),0)","v":1},{"$f":"IFERROR(VLOOKUP($B30,'[1]Num 1'!$G$3:$O$88,2,FALSE),0)","v":0},{"$f":"IFERROR(VLOOKUP($B30,'[1]Num 1'!$G$3:$O$88,3,FALSE),0)","v":1},{"$f":"IFERROR(VLOOKUP($B30,'[1]Num 1'!$G$3:$O$88,4,FALSE),0)","v":1},{"$f":"IFERROR(VLOOKUP($B30,'[1]Num 1'!$G$3:$O$88,5,FALSE),0)","v":0},{"$f":"IFERROR(VLOOKUP($B30,'[1]Num 1'!$G$3:$O$88,6,FALSE),0)","v":0},{"$f":"IFERROR(VLOOKUP($B30,'[1]Num 1'!$G$3:$O$88,7,FALSE),0)","v":0},{"$f":"IFERROR(VLOOKUP($B30,'[1]Num 1'!$G$3:$O$88,8,FALSE),0)","v":0},null,null,5,{"$f":"IFERROR(VLOOKUP($B30,'[1]Den 1 2021'!$G$3:$T$104,11,FALSE),0)","v":0},{"$f":"IFERROR(VLOOKUP($B30,'[1]Den 1 2021'!$G$3:$T$104,12,FALSE),0)","v":2},{"$f":"IFERROR(VLOOKUP($B30,'[1]Den 1 2021'!$G$3:$T$104,13,FALSE),0)","v":0},{"$f":"IFERROR(VLOOKUP($B30,'[1]Den 1'!$G$3:$O$93,2,FALSE),0)","v":0},{"$f":"IFERROR(VLOOKUP($B30,'[1]Den 1'!$G$3:$O$93,3,FALSE),0)","v":0},{"$f":"IFERROR(VLOOKUP($B30,'[1]Den 1'!$G$3:$O$93,4,FALSE),0)","v":0},{"$f":"IFERROR(VLOOKUP($B30,'[1]Den 1'!$G$3:$O$93,5,FALSE),0)","v":0},{"$f":"IFERROR(VLOOKUP($B30,'[1]Den 1'!$G$3:$O$93,6,FALSE),0)","v":2},{"$f":"IFERROR(VLOOKUP($B30,'[1]Den 1'!$G$3:$O$93,7,FALSE),0)","v":1},{"$f":"IFERROR(VLOOKUP($B30,'[1]Den 1'!$G$3:$O$93,8,FALSE),0)","v":1},null,null,6]
["04102-COQUIMBO","105323-CES. DR. SERGIO AGUILAR",null,null,{"$f":"IFERROR(VLOOKUP($B31,'[1]Num 1 2021'!$G$3:$T$95,11,FALSE),0)","v":0},{"$f":"IFERROR(VLOOKUP($B31,'[1]Num 1 2021'!$G$3:$T$95,12,FALSE),0)","v":3},{"$f":"IFERROR(VLOOKUP($B31,'[1]Num 1 2021'!$G$3:$T$95,13,FALSE),0)","v":0},{"$f":"IFERROR(VLOOKUP($B31,'[1]Num 1'!$G$3:$O$88,2,FALSE),0)","v":1},{"$f":"IFERROR(VLOOKUP($B31,'[1]Num 1'!$G$3:$O$88,3,FALSE),0)","v":2},{"$f":"IFERROR(VLOOKUP($B31,'[1]Num 1'!$G$3:$O$88,4,FALSE),0)","v":2},{"$f":"IFERROR(VLOOKUP($B31,'[1]Num 1'!$G$3:$O$88,5,FALSE),0)","v":3},{"$f":"IFERROR(VLOOKUP($B31,'[1]Num 1'!$G$3:$O$88,6,FALSE),0)","v":2},{"$f":"IFERROR(VLOOKUP($B31,'[1]Num 1'!$G$3:$O$88,7,FALSE),0)","v":3},{"$f":"IFERROR(VLOOKUP($B31,'[1]Num 1'!$G$3:$O$88,8,FALSE),0)","v":1},null,null,17,{"$f":"IFERROR(VLOOKUP($B31,'[1]Den 1 2021'!$G$3:$T$104,11,FALSE),0)","v":5},{"$f":"IFERROR(VLOOKUP($B31,'[1]Den 1 2021'!$G$3:$T$104,12,FALSE),0)","v":4},{"$f":"IFERROR(VLOOKUP($B31,'[1]Den 1 2021'!$G$3:$T$104,13,FALSE),0)","v":1},{"$f":"IFERROR(VLOOKUP($B31,'[1]Den 1'!$G$3:$O$93,2,FALSE),0)","v":3},{"$f":"IFERROR(VLOOKUP($B31,'[1]Den 1'!$G$3:$O$93,3,FALSE),0)","v":6},{"$f":"IFERROR(VLOOKUP($B31,'[1]Den 1'!$G$3:$O$93,4,FALSE),0)","v":4},{"$f":"IFERROR(VLOOKUP($B31,'[1]Den 1'!$G$3:$O$93,5,FALSE),0)","v":1},{"$f":"IFERROR(VLOOKUP($B31,'[1]Den 1'!$G$3:$O$93,6,FALSE),0)","v":3},{"$f":"IFERROR(VLOOKUP($B31,'[1]Den 1'!$G$3:$O$93,7,FALSE),0)","v":0},{"$f":"IFERROR(VLOOKUP($B31,'[1]Den 1'!$G$3:$O$93,8,FALSE),0)","v":2},null,null,29]
["04102-COQUIMBO","105404-P.S.R. EL TANGUE                         ",null,null,{"$f":"IFERROR(VLOOKUP($B32,'[1]Num 1 2021'!$G$3:$T$95,11,FALSE),0)","v":0},{"$f":"IFERROR(VLOOKUP($B32,'[1]Num 1 2021'!$G$3:$T$95,12,FALSE),0)","v":0},{"$f":"IFERROR(VLOOKUP($B32,'[1]Num 1 2021'!$G$3:$T$95,13,FALSE),0)","v":0},{"$f":"IFERROR(VLOOKUP($B32,'[1]Num 1'!$G$3:$O$88,2,FALSE),0)","v":0},{"$f":"IFERROR(VLOOKUP($B32,'[1]Num 1'!$G$3:$O$88,3,FALSE),0)","v":0},{"$f":"IFERROR(VLOOKUP($B32,'[1]Num 1'!$G$3:$O$88,4,FALSE),0)","v":0},{"$f":"IFERROR(VLOOKUP($B32,'[1]Num 1'!$G$3:$O$88,5,FALSE),0)","v":0},{"$f":"IFERROR(VLOOKUP($B32,'[1]Num 1'!$G$3:$O$88,6,FALSE),0)","v":0},{"$f":"IFERROR(VLOOKUP($B32,'[1]Num 1'!$G$3:$O$88,7,FALSE),0)","v":0},{"$f":"IFERROR(VLOOKUP($B32,'[1]Num 1'!$G$3:$O$88,8,FALSE),0)","v":0},null,null,0,{"$f":"IFERROR(VLOOKUP($B32,'[1]Den 1 2021'!$G$3:$T$104,11,FALSE),0)","v":0},{"$f":"IFERROR(VLOOKUP($B32,'[1]Den 1 2021'!$G$3:$T$104,12,FALSE),0)","v":0},{"$f":"IFERROR(VLOOKUP($B32,'[1]Den 1 2021'!$G$3:$T$104,13,FALSE),0)","v":0},{"$f":"IFERROR(VLOOKUP($B32,'[1]Den 1'!$G$3:$O$93,2,FALSE),0)","v":0},{"$f":"IFERROR(VLOOKUP($B32,'[1]Den 1'!$G$3:$O$93,3,FALSE),0)","v":0},{"$f":"IFERROR(VLOOKUP($B32,'[1]Den 1'!$G$3:$O$93,4,FALSE),0)","v":0},{"$f":"IFERROR(VLOOKUP($B32,'[1]Den 1'!$G$3:$O$93,5,FALSE),0)","v":0},{"$f":"IFERROR(VLOOKUP($B32,'[1]Den 1'!$G$3:$O$93,6,FALSE),0)","v":0},{"$f":"IFERROR(VLOOKUP($B32,'[1]Den 1'!$G$3:$O$93,7,FALSE),0)","v":0},{"$f":"IFERROR(VLOOKUP($B32,'[1]Den 1'!$G$3:$O$93,8,FALSE),0)","v":0},null,null,0]
["04102-COQUIMBO","105405-P.S.R. GUANAQUEROS",null,null,{"$f":"IFERROR(VLOOKUP($B33,'[1]Num 1 2021'!$G$3:$T$95,11,FALSE),0)","v":0},{"$f":"IFERROR(VLOOKUP($B33,'[1]Num 1 2021'!$G$3:$T$95,12,FALSE),0)","v":2},{"$f":"IFERROR(VLOOKUP($B33,'[1]Num 1 2021'!$G$3:$T$95,13,FALSE),0)","v":0},{"$f":"IFERROR(VLOOKUP($B33,'[1]Num 1'!$G$3:$O$88,2,FALSE),0)","v":0},{"$f":"IFERROR(VLOOKUP($B33,'[1]Num 1'!$G$3:$O$88,3,FALSE),0)","v":0},{"$f":"IFERROR(VLOOKUP($B33,'[1]Num 1'!$G$3:$O$88,4,FALSE),0)","v":0},{"$f":"IFERROR(VLOOKUP($B33,'[1]Num 1'!$G$3:$O$88,5,FALSE),0)","v":0},{"$f":"IFERROR(VLOOKUP($B33,'[1]Num 1'!$G$3:$O$88,6,FALSE),0)","v":0},{"$f":"IFERROR(VLOOKUP($B33,'[1]Num 1'!$G$3:$O$88,7,FALSE),0)","v":1},{"$f":"IFERROR(VLOOKUP($B33,'[1]Num 1'!$G$3:$O$88,8,FALSE),0)","v":0},null,null,3,{"$f":"IFERROR(VLOOKUP($B33,'[1]Den 1 2021'!$G$3:$T$104,11,FALSE),0)","v":0},{"$f":"IFERROR(VLOOKUP($B33,'[1]Den 1 2021'!$G$3:$T$104,12,FALSE),0)","v":0},{"$f":"IFERROR(VLOOKUP($B33,'[1]Den 1 2021'!$G$3:$T$104,13,FALSE),0)","v":0},{"$f":"IFERROR(VLOOKUP($B33,'[1]Den 1'!$G$3:$O$93,2,FALSE),0)","v":0},{"$f":"IFERROR(VLOOKUP($B33,'[1]Den 1'!$G$3:$O$93,3,FALSE),0)","v":0},{"$f":"IFERROR(VLOOKUP($B33,'[1]Den 1'!$G$3:$O$93,4,FALSE),0)","v":0},{"$f":"IFERROR(VLOOKUP($B33,'[1]Den 1'!$G$3:$O$93,5,FALSE),0)","v":1},{"$f":"IFERROR(VLOOKUP($B33,'[1]Den 1'!$G$3:$O$93,6,FALSE),0)","v":0},{"$f":"IFERROR(VLOOKUP($B33,'[1]Den 1'!$G$3:$O$93,7,FALSE),0)","v":0},{"$f":"IFERROR(VLOOKUP($B33,'[1]Den 1'!$G$3:$O$93,8,FALSE),0)","v":0},null,null,1]
["04102-COQUIMBO","105407-P.S.R. TAMBILLOS",null,null,{"$f":"IFERROR(VLOOKUP($B34,'[1]Num 1 2021'!$G$3:$T$95,11,FALSE),0)","v":0},{"$f":"IFERROR(VLOOKUP($B34,'[1]Num 1 2021'!$G$3:$T$95,12,FALSE),0)","v":0},{"$f":"IFERROR(VLOOKUP($B34,'[1]Num 1 2021'!$G$3:$T$95,13,FALSE),0)","v":0},{"$f":"IFERROR(VLOOKUP($B34,'[1]Num 1'!$G$3:$O$88,2,FALSE),0)","v":0},{"$f":"IFERROR(VLOOKUP($B34,'[1]Num 1'!$G$3:$O$88,3,FALSE),0)","v":0},{"$f":"IFERROR(VLOOKUP($B34,'[1]Num 1'!$G$3:$O$88,4,FALSE),0)","v":0},{"$f":"IFERROR(VLOOKUP($B34,'[1]Num 1'!$G$3:$O$88,5,FALSE),0)","v":0},{"$f":"IFERROR(VLOOKUP($B34,'[1]Num 1'!$G$3:$O$88,6,FALSE),0)","v":0},{"$f":"IFERROR(VLOOKUP($B34,'[1]Num 1'!$G$3:$O$88,7,FALSE),0)","v":0},{"$f":"IFERROR(VLOOKUP($B34,'[1]Num 1'!$G$3:$O$88,8,FALSE),0)","v":0},null,null,0,{"$f":"IFERROR(VLOOKUP($B34,'[1]Den 1 2021'!$G$3:$T$104,11,FALSE),0)","v":0},{"$f":"IFERROR(VLOOKUP($B34,'[1]Den 1 2021'!$G$3:$T$104,12,FALSE),0)","v":0},{"$f":"IFERROR(VLOOKUP($B34,'[1]Den 1 2021'!$G$3:$T$104,13,FALSE),0)","v":0},{"$f":"IFERROR(VLOOKUP($B34,'[1]Den 1'!$G$3:$O$93,2,FALSE),0)","v":0},{"$f":"IFERROR(VLOOKUP($B34,'[1]Den 1'!$G$3:$O$93,3,FALSE),0)","v":0},{"$f":"IFERROR(VLOOKUP($B34,'[1]Den 1'!$G$3:$O$93,4,FALSE),0)","v":0},{"$f":"IFERROR(VLOOKUP($B34,'[1]Den 1'!$G$3:$O$93,5,FALSE),0)","v":0},{"$f":"IFERROR(VLOOKUP($B34,'[1]Den 1'!$G$3:$O$93,6,FALSE),0)","v":0},{"$f":"IFERROR(VLOOKUP($B34,'[1]Den 1'!$G$3:$O$93,7,FALSE),0)","v":0},{"$f":"IFERROR(VLOOKUP($B34,'[1]Den 1'!$G$3:$O$93,8,FALSE),0)","v":0},null,null,0]
["04102-COQUIMBO","200273-CECOF PUNTA MIRA",null,null,{"$f":"IFERROR(VLOOKUP($B35,'[1]Num 1 2021'!$G$3:$T$95,11,FALSE),0)","v":0},{"$f":"IFERROR(VLOOKUP($B35,'[1]Num 1 2021'!$G$3:$T$95,12,FALSE),0)","v":0},{"$f":"IFERROR(VLOOKUP($B35,'[1]Num 1 2021'!$G$3:$T$95,13,FALSE),0)","v":0},{"$f":"IFERROR(VLOOKUP($B35,'[1]Num 1'!$G$3:$O$88,2,FALSE),0)","v":0},{"$f":"IFERROR(VLOOKUP($B35,'[1]Num 1'!$G$3:$O$88,3,FALSE),0)","v":0},{"$f":"IFERROR(VLOOKUP($B35,'[1]Num 1'!$G$3:$O$88,4,FALSE),0)","v":0},{"$f":"IFERROR(VLOOKUP($B35,'[1]Num 1'!$G$3:$O$88,5,FALSE),0)","v":0},{"$f":"IFERROR(VLOOKUP($B35,'[1]Num 1'!$G$3:$O$88,6,FALSE),0)","v":0},{"$f":"IFERROR(VLOOKUP($B35,'[1]Num 1'!$G$3:$O$88,7,FALSE),0)","v":0},{"$f":"IFERROR(VLOOKUP($B35,'[1]Num 1'!$G$3:$O$88,8,FALSE),0)","v":0},null,null,{"$f":"SUM(E35:P35)","v":0},{"$f":"IFERROR(VLOOKUP($B35,'[1]Den 1 2021'!$G$3:$T$104,11,FALSE),0)","v":0},{"$f":"IFERROR(VLOOKUP($B35,'[1]Den 1 2021'!$G$3:$T$104,12,FALSE),0)","v":0},{"$f":"IFERROR(VLOOKUP($B35,'[1]Den 1 2021'!$G$3:$T$104,13,FALSE),0)","v":1},{"$f":"IFERROR(VLOOKUP($B35,'[1]Den 1'!$G$3:$O$93,2,FALSE),0)","v":0},{"$f":"IFERROR(VLOOKUP($B35,'[1]Den 1'!$G$3:$O$93,3,FALSE),0)","v":0},{"$f":"IFERROR(VLOOKUP($B35,'[1]Den 1'!$G$3:$O$93,4,FALSE),0)","v":0},{"$f":"IFERROR(VLOOKUP($B35,'[1]Den 1'!$G$3:$O$93,5,FALSE),0)","v":0},{"$f":"IFERROR(VLOOKUP($B35,'[1]Den 1'!$G$3:$O$93,6,FALSE),0)","v":0},{"$f":"IFERROR(VLOOKUP($B35,'[1]Den 1'!$G$3:$O$93,7,FALSE),0)","v":5},{"$f":"IFERROR(VLOOKUP($B35,'[1]Den 1'!$G$3:$O$93,8,FALSE),0)","v":0},null,null,6]
["04102-COQUIMBO","200494-CESFAM EL SAUCE",null,null,{"$f":"IFERROR(VLOOKUP($B36,'[1]Num 1 2021'!$G$3:$T$95,11,FALSE),0)","v":0},{"$f":"IFERROR(VLOOKUP($B36,'[1]Num 1 2021'!$G$3:$T$95,12,FALSE),0)","v":2},{"$f":"IFERROR(VLOOKUP($B36,'[1]Num 1 2021'!$G$3:$T$95,13,FALSE),0)","v":0},{"$f":"IFERROR(VLOOKUP($B36,'[1]Num 1'!$G$3:$O$88,2,FALSE),0)","v":2},{"$f":"IFERROR(VLOOKUP($B36,'[1]Num 1'!$G$3:$O$88,3,FALSE),0)","v":1},{"$f":"IFERROR(VLOOKUP($B36,'[1]Num 1'!$G$3:$O$88,4,FALSE),0)","v":1},{"$f":"IFERROR(VLOOKUP($B36,'[1]Num 1'!$G$3:$O$88,5,FALSE),0)","v":0},{"$f":"IFERROR(VLOOKUP($B36,'[1]Num 1'!$G$3:$O$88,6,FALSE),0)","v":2},{"$f":"IFERROR(VLOOKUP($B36,'[1]Num 1'!$G$3:$O$88,7,FALSE),0)","v":0},{"$f":"IFERROR(VLOOKUP($B36,'[1]Num 1'!$G$3:$O$88,8,FALSE),0)","v":0},null,null,8,{"$f":"IFERROR(VLOOKUP($B36,'[1]Den 1 2021'!$G$3:$T$104,11,FALSE),0)","v":1},{"$f":"IFERROR(VLOOKUP($B36,'[1]Den 1 2021'!$G$3:$T$104,12,FALSE),0)","v":1},{"$f":"IFERROR(VLOOKUP($B36,'[1]Den 1 2021'!$G$3:$T$104,13,FALSE),0)","v":1},{"$f":"IFERROR(VLOOKUP($B36,'[1]Den 1'!$G$3:$O$93,2,FALSE),0)","v":0},{"$f":"IFERROR(VLOOKUP($B36,'[1]Den 1'!$G$3:$O$93,3,FALSE),0)","v":0},{"$f":"IFERROR(VLOOKUP($B36,'[1]Den 1'!$G$3:$O$93,4,FALSE),0)","v":2},{"$f":"IFERROR(VLOOKUP($B36,'[1]Den 1'!$G$3:$O$93,5,FALSE),0)","v":3},{"$f":"IFERROR(VLOOKUP($B36,'[1]Den 1'!$G$3:$O$93,6,FALSE),0)","v":4},{"$f":"IFERROR(VLOOKUP($B36,'[1]Den 1'!$G$3:$O$93,7,FALSE),0)","v":1},{"$f":"IFERROR(VLOOKUP($B36,'[1]Den 1'!$G$3:$O$93,8,FALSE),0)","v":4},null,null,{"$f":"SUM(R36:AC36)","v":17}]
["04102-COQUIMBO","200499-CESFAM PAN DE AZÚCAR",null,null,{"$f":"IFERROR(VLOOKUP($B37,'[1]Num 1 2021'!$G$3:$T$95,11,FALSE),0)","v":3},{"$f":"IFERROR(VLOOKUP($B37,'[1]Num 1 2021'!$G$3:$T$95,12,FALSE),0)","v":3},{"$f":"IFERROR(VLOOKUP($B37,'[1]Num 1 2021'!$G$3:$T$95,13,FALSE),0)","v":4},{"$f":"IFERROR(VLOOKUP($B37,'[1]Num 1'!$G$3:$O$88,2,FALSE),0)","v":1},{"$f":"IFERROR(VLOOKUP($B37,'[1]Num 1'!$G$3:$O$88,3,FALSE),0)","v":1},{"$f":"IFERROR(VLOOKUP($B37,'[1]Num 1'!$G$3:$O$88,4,FALSE),0)","v":0},{"$f":"IFERROR(VLOOKUP($B37,'[1]Num 1'!$G$3:$O$88,5,FALSE),0)","v":2},{"$f":"IFERROR(VLOOKUP($B37,'[1]Num 1'!$G$3:$O$88,6,FALSE),0)","v":0},{"$f":"IFERROR(VLOOKUP($B37,'[1]Num 1'!$G$3:$O$88,7,FALSE),0)","v":0},{"$f":"IFERROR(VLOOKUP($B37,'[1]Num 1'!$G$3:$O$88,8,FALSE),0)","v":0},null,null,14,{"$f":"IFERROR(VLOOKUP($B37,'[1]Den 1 2021'!$G$3:$T$104,11,FALSE),0)","v":2},{"$f":"IFERROR(VLOOKUP($B37,'[1]Den 1 2021'!$G$3:$T$104,12,FALSE),0)","v":1},{"$f":"IFERROR(VLOOKUP($B37,'[1]Den 1 2021'!$G$3:$T$104,13,FALSE),0)","v":0},{"$f":"IFERROR(VLOOKUP($B37,'[1]Den 1'!$G$3:$O$93,2,FALSE),0)","v":1},{"$f":"IFERROR(VLOOKUP($B37,'[1]Den 1'!$G$3:$O$93,3,FALSE),0)","v":0},{"$f":"IFERROR(VLOOKUP($B37,'[1]Den 1'!$G$3:$O$93,4,FALSE),0)","v":1},{"$f":"IFERROR(VLOOKUP($B37,'[1]Den 1'!$G$3:$O$93,5,FALSE),0)","v":1},{"$f":"IFERROR(VLOOKUP($B37,'[1]Den 1'!$G$3:$O$93,6,FALSE),0)","v":2},{"$f":"IFERROR(VLOOKUP($B37,'[1]Den 1'!$G$3:$O$93,7,FALSE),0)","v":3},{"$f":"IFERROR(VLOOKUP($B37,'[1]Den 1'!$G$3:$O$93,8,FALSE),0)","v":2},null,null,{"$f":"SUM(R37:AC37)","v":13}]
["04102-COQUIMBO","200607-CESFAM LILA CORTES",null,null,{"$f":"IFERROR(VLOOKUP($B38,'[1]Num 1 2021'!$G$3:$T$95,11,FALSE),0)","v":3},{"$f":"IFERROR(VLOOKUP($B38,'[1]Num 1 2021'!$G$3:$T$95,12,FALSE),0)","v":4},{"$f":"IFERROR(VLOOKUP($B38,'[1]Num 1 2021'!$G$3:$T$95,13,FALSE),0)","v":0},{"$f":"IFERROR(VLOOKUP($B38,'[1]Num 1'!$G$3:$O$88,2,FALSE),0)","v":0},{"$f":"IFERROR(VLOOKUP($B38,'[1]Num 1'!$G$3:$O$88,3,FALSE),0)","v":2},{"$f":"IFERROR(VLOOKUP($B38,'[1]Num 1'!$G$3:$O$88,4,FALSE),0)","v":2},{"$f":"IFERROR(VLOOKUP($B38,'[1]Num 1'!$G$3:$O$88,5,FALSE),0)","v":1},{"$f":"IFERROR(VLOOKUP($B38,'[1]Num 1'!$G$3:$O$88,6,FALSE),0)","v":5},{"$f":"IFERROR(VLOOKUP($B38,'[1]Num 1'!$G$3:$O$88,7,FALSE),0)","v":0},{"$f":"IFERROR(VLOOKUP($B38,'[1]Num 1'!$G$3:$O$88,8,FALSE),0)","v":1},null,null,18,{"$f":"IFERROR(VLOOKUP($B38,'[1]Den 1 2021'!$G$3:$T$104,11,FALSE),0)","v":0},{"$f":"IFERROR(VLOOKUP($B38,'[1]Den 1 2021'!$G$3:$T$104,12,FALSE),0)","v":1},{"$f":"IFERROR(VLOOKUP($B38,'[1]Den 1 2021'!$G$3:$T$104,13,FALSE),0)","v":4},{"$f":"IFERROR(VLOOKUP($B38,'[1]Den 1'!$G$3:$O$93,2,FALSE),0)","v":1},{"$f":"IFERROR(VLOOKUP($B38,'[1]Den 1'!$G$3:$O$93,3,FALSE),0)","v":1},{"$f":"IFERROR(VLOOKUP($B38,'[1]Den 1'!$G$3:$O$93,4,FALSE),0)","v":1},{"$f":"IFERROR(VLOOKUP($B38,'[1]Den 1'!$G$3:$O$93,5,FALSE),0)","v":1},{"$f":"IFERROR(VLOOKUP($B38,'[1]Den 1'!$G$3:$O$93,6,FALSE),0)","v":0},{"$f":"IFERROR(VLOOKUP($B38,'[1]Den 1'!$G$3:$O$93,7,FALSE),0)","v":0},{"$f":"IFERROR(VLOOKUP($B38,'[1]Den 1'!$G$3:$O$93,8,FALSE),0)","v":1},null,null,{"$f":"SUM(R38:AC38)","v":10}]
["TOTAL COQUIMBO",null,{"$f":"D39/Metas!G6","v":0.9899569583931134},{"$f":"Q39/AD39","v":{"v":0.8117647058823529,"d":"81.18%"}},{"$f":"SUM(E27:E38)","v":18},{"$f":"SUM(F27:F38)","v":19},{"$f":"SUM(G27:G38)","v":13},7,12,15,13,17,9,15,0,0,138,18,19,10,11,17,22,16,17,18,22,0,0,170]
["04104-LA HIGUERA","105314-CES. LA HIGUERA",null,null,{"$f":"IFERROR(VLOOKUP($B40,'[1]Num 1 2021'!$G$3:$T$95,11,FALSE),0)","v":0},{"$f":"IFERROR(VLOOKUP($B40,'[1]Num 1 2021'!$G$3:$T$95,12,FALSE),0)","v":0},{"$f":"IFERROR(VLOOKUP($B40,'[1]Num 1 2021'!$G$3:$T$95,13,FALSE),0)","v":1},{"$f":"IFERROR(VLOOKUP($B40,'[1]Num 1'!$G$3:$O$88,2,FALSE),0)","v":0},{"$f":"IFERROR(VLOOKUP($B40,'[1]Num 1'!$G$3:$O$88,3,FALSE),0)","v":0},{"$f":"IFERROR(VLOOKUP($B40,'[1]Num 1'!$G$3:$O$88,4,FALSE),0)","v":0},{"$f":"IFERROR(VLOOKUP($B40,'[1]Num 1'!$G$3:$O$88,5,FALSE),0)","v":0},{"$f":"IFERROR(VLOOKUP($B40,'[1]Num 1'!$G$3:$O$88,6,FALSE),0)","v":0},{"$f":"IFERROR(VLOOKUP($B40,'[1]Num 1'!$G$3:$O$88,7,FALSE),0)","v":0},{"$f":"IFERROR(VLOOKUP($B40,'[1]Num 1'!$G$3:$O$88,8,FALSE),0)","v":0},null,null,{"$f":"SUM(E40:P40)","v":1},{"$f":"IFERROR(VLOOKUP($B40,'[1]Den 1 2021'!$G$3:$T$104,11,FALSE),0)","v":0},{"$f":"IFERROR(VLOOKUP($B40,'[1]Den 1 2021'!$G$3:$T$104,12,FALSE),0)","v":0},{"$f":"IFERROR(VLOOKUP($B40,'[1]Den 1 2021'!$G$3:$T$104,13,FALSE),0)","v":0},{"$f":"IFERROR(VLOOKUP($B40,'[1]Den 1'!$G$3:$O$93,2,FALSE),0)","v":0},{"$f":"IFERROR(VLOOKUP($B40,'[1]Den 1'!$G$3:$O$93,3,FALSE),0)","v":0},{"$f":"IFERROR(VLOOKUP($B40,'[1]Den 1'!$G$3:$O$93,4,FALSE),0)","v":0},{"$f":"IFERROR(VLOOKUP($B40,'[1]Den 1'!$G$3:$O$93,5,FALSE),0)","v":0},{"$f":"IFERROR(VLOOKUP($B40,'[1]Den 1'!$G$3:$O$93,6,FALSE),0)","v":0},{"$f":"IFERROR(VLOOKUP($B40,'[1]Den 1'!$G$3:$O$93,7,FALSE),0)","v":0},{"$f":"IFERROR(VLOOKUP($B40,'[1]Den 1'!$G$3:$O$93,8,FALSE),0)","v":0},null,null,0]
["04104-LA HIGUERA","105500-P.S.R. CALETA HORNOS        ",null,null,{"$f":"IFERROR(VLOOKUP($B41,'[1]Num 1 2021'!$G$3:$T$95,11,FALSE),0)","v":0},{"$f":"IFERROR(VLOOKUP($B41,'[1]Num 1 2021'!$G$3:$T$95,12,FALSE),0)","v":0},{"$f":"IFERROR(VLOOKUP($B41,'[1]Num 1 2021'!$G$3:$T$95,13,FALSE),0)","v":1},{"$f":"IFERROR(VLOOKUP($B41,'[1]Num 1'!$G$3:$O$88,2,FALSE),0)","v":0},{"$f":"IFERROR(VLOOKUP($B41,'[1]Num 1'!$G$3:$O$88,3,FALSE),0)","v":0},{"$f":"IFERROR(VLOOKUP($B41,'[1]Num 1'!$G$3:$O$88,4,FALSE),0)","v":0},{"$f":"IFERROR(VLOOKUP($B41,'[1]Num 1'!$G$3:$O$88,5,FALSE),0)","v":0},{"$f":"IFERROR(VLOOKUP($B41,'[1]Num 1'!$G$3:$O$88,6,FALSE),0)","v":0},{"$f":"IFERROR(VLOOKUP($B41,'[1]Num 1'!$G$3:$O$88,7,FALSE),0)","v":1},{"$f":"IFERROR(VLOOKUP($B41,'[1]Num 1'!$G$3:$O$88,8,FALSE),0)","v":0},null,null,{"$f":"SUM(E41:P41)","v":2},{"$f":"IFERROR(VLOOKUP($B41,'[1]Den 1 2021'!$G$3:$T$104,11,FALSE),0)","v":1},{"$f":"IFERROR(VLOOKUP($B41,'[1]Den 1 2021'!$G$3:$T$104,12,FALSE),0)","v":0},{"$f":"IFERROR(VLOOKUP($B41,'[1]Den 1 2021'!$G$3:$T$104,13,FALSE),0)","v":0},{"$f":"IFERROR(VLOOKUP($B41,'[1]Den 1'!$G$3:$O$93,2,FALSE),0)","v":0},{"$f":"IFERROR(VLOOKUP($B41,'[1]Den 1'!$G$3:$O$93,3,FALSE),0)","v":1},{"$f":"IFERROR(VLOOKUP($B41,'[1]Den 1'!$G$3:$O$93,4,FALSE),0)","v":0},{"$f":"IFERROR(VLOOKUP($B41,'[1]Den 1'!$G$3:$O$93,5,FALSE),0)","v":1},{"$f":"IFERROR(VLOOKUP($B41,'[1]Den 1'!$G$3:$O$93,6,FALSE),0)","v":0},{"$f":"IFERROR(VLOOKUP($B41,'[1]Den 1'!$G$3:$O$93,7,FALSE),0)","v":0},{"$f":"IFERROR(VLOOKUP($B41,'[1]Den 1'!$G$3:$O$93,8,FALSE),0)","v":0},null,null,3]
["04104-LA HIGUERA","105505-P.S.R. LOS CHOROS",null,null,{"$f":"IFERROR(VLOOKUP($B42,'[1]Num 1 2021'!$G$3:$T$95,11,FALSE),0)","v":0},{"$f":"IFERROR(VLOOKUP($B42,'[1]Num 1 2021'!$G$3:$T$95,12,FALSE),0)","v":0},{"$f":"IFERROR(VLOOKUP($B42,'[1]Num 1 2021'!$G$3:$T$95,13,FALSE),0)","v":0},{"$f":"IFERROR(VLOOKUP($B42,'[1]Num 1'!$G$3:$O$88,2,FALSE),0)","v":0},{"$f":"IFERROR(VLOOKUP($B42,'[1]Num 1'!$G$3:$O$88,3,FALSE),0)","v":0},{"$f":"IFERROR(VLOOKUP($B42,'[1]Num 1'!$G$3:$O$88,4,FALSE),0)","v":0},{"$f":"IFERROR(VLOOKUP($B42,'[1]Num 1'!$G$3:$O$88,5,FALSE),0)","v":0},{"$f":"IFERROR(VLOOKUP($B42,'[1]Num 1'!$G$3:$O$88,6,FALSE),0)","v":0},{"$f":"IFERROR(VLOOKUP($B42,'[1]Num 1'!$G$3:$O$88,7,FALSE),0)","v":0},{"$f":"IFERROR(VLOOKUP($B42,'[1]Num 1'!$G$3:$O$88,8,FALSE),0)","v":0},null,null,{"$f":"SUM(E42:P42)","v":0},{"$f":"IFERROR(VLOOKUP($B42,'[1]Den 1 2021'!$G$3:$T$104,11,FALSE),0)","v":0},{"$f":"IFERROR(VLOOKUP($B42,'[1]Den 1 2021'!$G$3:$T$104,12,FALSE),0)","v":0},{"$f":"IFERROR(VLOOKUP($B42,'[1]Den 1 2021'!$G$3:$T$104,13,FALSE),0)","v":0},{"$f":"IFERROR(VLOOKUP($B42,'[1]Den 1'!$G$3:$O$93,2,FALSE),0)","v":0},{"$f":"IFERROR(VLOOKUP($B42,'[1]Den 1'!$G$3:$O$93,3,FALSE),0)","v":0},{"$f":"IFERROR(VLOOKUP($B42,'[1]Den 1'!$G$3:$O$93,4,FALSE),0)","v":0},{"$f":"IFERROR(VLOOKUP($B42,'[1]Den 1'!$G$3:$O$93,5,FALSE),0)","v":0},{"$f":"IFERROR(VLOOKUP($B42,'[1]Den 1'!$G$3:$O$93,6,FALSE),0)","v":0},{"$f":"IFERROR(VLOOKUP($B42,'[1]Den 1'!$G$3:$O$93,7,FALSE),0)","v":0},{"$f":"IFERROR(VLOOKUP($B42,'[1]Den 1'!$G$3:$O$93,8,FALSE),0)","v":0},null,null,0]
["04104-LA HIGUERA","105506-P.S.R. EL TRAPICHE",null,null,{"$f":"IFERROR(VLOOKUP($B43,'[1]Num 1 2021'!$G$3:$T$95,11,FALSE),0)","v":0},{"$f":"IFERROR(VLOOKUP($B43,'[1]Num 1 2021'!$G$3:$T$95,12,FALSE),0)","v":0},{"$f":"IFERROR(VLOOKUP($B43,'[1]Num 1 2021'!$G$3:$T$95,13,FALSE),0)","v":0},{"$f":"IFERROR(VLOOKUP($B43,'[1]Num 1'!$G$3:$O$88,2,FALSE),0)","v":0},{"$f":"IFERROR(VLOOKUP($B43,'[1]Num 1'!$G$3:$O$88,3,FALSE),0)","v":0},{"$f":"IFERROR(VLOOKUP($B43,'[1]Num 1'!$G$3:$O$88,4,FALSE),0)","v":0},{"$f":"IFERROR(VLOOKUP($B43,'[1]Num 1'!$G$3:$O$88,5,FALSE),0)","v":0},{"$f":"IFERROR(VLOOKUP($B43,'[1]Num 1'!$G$3:$O$88,6,FALSE),0)","v":0},{"$f":"IFERROR(VLOOKUP($B43,'[1]Num 1'!$G$3:$O$88,7,FALSE),0)","v":1},{"$f":"IFERROR(VLOOKUP($B43,'[1]Num 1'!$G$3:$O$88,8,FALSE),0)","v":0},null,null,{"$f":"SUM(E43:P43)","v":1},{"$f":"IFERROR(VLOOKUP($B43,'[1]Den 1 2021'!$G$3:$T$104,11,FALSE),0)","v":0},{"$f":"IFERROR(VLOOKUP($B43,'[1]Den 1 2021'!$G$3:$T$104,12,FALSE),0)","v":0},{"$f":"IFERROR(VLOOKUP($B43,'[1]Den 1 2021'!$G$3:$T$104,13,FALSE),0)","v":0},{"$f":"IFERROR(VLOOKUP($B43,'[1]Den 1'!$G$3:$O$93,2,FALSE),0)","v":0},{"$f":"IFERROR(VLOOKUP($B43,'[1]Den 1'!$G$3:$O$93,3,FALSE),0)","v":1},{"$f":"IFERROR(VLOOKUP($B43,'[1]Den 1'!$G$3:$O$93,4,FALSE),0)","v":0},{"$f":"IFERROR(VLOOKUP($B43,'[1]Den 1'!$G$3:$O$93,5,FALSE),0)","v":0},{"$f":"IFERROR(VLOOKUP($B43,'[1]Den 1'!$G$3:$O$93,6,FALSE),0)","v":0},{"$f":"IFERROR(VLOOKUP($B43,'[1]Den 1'!$G$3:$O$93,7,FALSE),0)","v":0},{"$f":"IFERROR(VLOOKUP($B43,'[1]Den 1'!$G$3:$O$93,8,FALSE),0)","v":0},null,null,1]
["TOTAL LA HIGUERA",null,{"$f":"D44/Metas!G7","v":{"v":1.1111111111111112,"d":"111.11%"}},{"$f":"Q44/AD44","v":{"v":1,"d":"100.00%"}},{"$f":"SUM(E40:E43)","v":0},{"$f":"SUM(F40:F43)","v":0},{"$f":"SUM(G40:G43)","v":2},{"$f":"SUM(H40:H43)","v":0},{"$f":"SUM(I40:I43)","v":0},0,0,0,2,0,0,0,4,1,0,0,0,2,0,1,0,0,0,{"$f":"SUM(AB40:AB43)","v":0},{"$f":"SUM(AC40:AC43)","v":0},{"$f":"SUM(AD40:AD43)","v":4}]
["04105-PAIHUANO","105306-CES. PAIHUANO",null,null,{"$f":"IFERROR(VLOOKUP($B45,'[1]Num 1 2021'!$G$3:$T$95,11,FALSE),0)","v":0},{"$f":"IFERROR(VLOOKUP($B45,'[1]Num 1 2021'!$G$3:$T$95,12,FALSE),0)","v":0},{"$f":"IFERROR(VLOOKUP($B45,'[1]Num 1 2021'!$G$3:$T$95,13,FALSE),0)","v":0},{"$f":"IFERROR(VLOOKUP($B45,'[1]Num 1'!$G$3:$O$88,2,FALSE),0)","v":0},{"$f":"IFERROR(VLOOKUP($B45,'[1]Num 1'!$G$3:$O$88,3,FALSE),0)","v":0},{"$f":"IFERROR(VLOOKUP($B45,'[1]Num 1'!$G$3:$O$88,4,FALSE),0)","v":0},{"$f":"IFERROR(VLOOKUP($B45,'[1]Num 1'!$G$3:$O$88,5,FALSE),0)","v":0},{"$f":"IFERROR(VLOOKUP($B45,'[1]Num 1'!$G$3:$O$88,6,FALSE),0)","v":0},{"$f":"IFERROR(VLOOKUP($B45,'[1]Num 1'!$G$3:$O$88,7,FALSE),0)","v":0},{"$f":"IFERROR(VLOOKUP($B45,'[1]Num 1'!$G$3:$O$88,8,FALSE),0)","v":0},null,null,{"$f":"SUM(E45:P45)","v":0},{"$f":"IFERROR(VLOOKUP($B45,'[1]Den 1 2021'!$G$3:$T$104,11,FALSE),0)","v":0},{"$f":"IFERROR(VLOOKUP($B45,'[1]Den 1 2021'!$G$3:$T$104,12,FALSE),0)","v":0},{"$f":"IFERROR(VLOOKUP($B45,'[1]Den 1 2021'!$G$3:$T$104,13,FALSE),0)","v":0},{"$f":"IFERROR(VLOOKUP($B45,'[1]Den 1'!$G$3:$O$93,2,FALSE),0)","v":0},{"$f":"IFERROR(VLOOKUP($B45,'[1]Den 1'!$G$3:$O$93,3,FALSE),0)","v":0},{"$f":"IFERROR(VLOOKUP($B45,'[1]Den 1'!$G$3:$O$93,4,FALSE),0)","v":0},{"$f":"IFERROR(VLOOKUP($B45,'[1]Den 1'!$G$3:$O$93,5,FALSE),0)","v":0},{"$f":"IFERROR(VLOOKUP($B45,'[1]Den 1'!$G$3:$O$93,6,FALSE),0)","v":0},{"$f":"IFERROR(VLOOKUP($B45,'[1]Den 1'!$G$3:$O$93,7,FALSE),0)","v":0},{"$f":"IFERROR(VLOOKUP($B45,'[1]Den 1'!$G$3:$O$93,8,FALSE),0)","v":0},null,null,{"$f":"SUM(R45:AC45)","v":0}]
["04105-PAIHUANO","105475-P.S.R. HORCON",null,null,{"$f":"IFERROR(VLOOKUP($B46,'[1]Num 1 2021'!$G$3:$T$95,11,FALSE),0)","v":0},{"$f":"IFERROR(VLOOKUP($B46,'[1]Num 1 2021'!$G$3:$T$95,12,FALSE),0)","v":0},{"$f":"IFERROR(VLOOKUP($B46,'[1]Num 1 2021'!$G$3:$T$95,13,FALSE),0)","v":1},{"$f":"IFERROR(VLOOKUP($B46,'[1]Num 1'!$G$3:$O$88,2,FALSE),0)","v":0},{"$f":"IFERROR(VLOOKUP($B46,'[1]Num 1'!$G$3:$O$88,3,FALSE),0)","v":0},{"$f":"IFERROR(VLOOKUP($B46,'[1]Num 1'!$G$3:$O$88,4,FALSE),0)","v":0},{"$f":"IFERROR(VLOOKUP($B46,'[1]Num 1'!$G$3:$O$88,5,FALSE),0)","v":0},{"$f":"IFERROR(VLOOKUP($B46,'[1]Num 1'!$G$3:$O$88,6,FALSE),0)","v":0},{"$f":"IFERROR(VLOOKUP($B46,'[1]Num 1'!$G$3:$O$88,7,FALSE),0)","v":0},{"$f":"IFERROR(VLOOKUP($B46,'[1]Num 1'!$G$3:$O$88,8,FALSE),0)","v":0},null,null,{"$f":"SUM(E46:P46)","v":1},{"$f":"IFERROR(VLOOKUP($B46,'[1]Den 1 2021'!$G$3:$T$104,11,FALSE),0)","v":1},{"$f":"IFERROR(VLOOKUP($B46,'[1]Den 1 2021'!$G$3:$T$104,12,FALSE),0)","v":0},{"$f":"IFERROR(VLOOKUP($B46,'[1]Den 1 2021'!$G$3:$T$104,13,FALSE),0)","v":0},{"$f":"IFERROR(VLOOKUP($B46,'[1]Den 1'!$G$3:$O$93,2,FALSE),0)","v":0},{"$f":"IFERROR(VLOOKUP($B46,'[1]Den 1'!$G$3:$O$93,3,FALSE),0)","v":0},{"$f":"IFERROR(VLOOKUP($B46,'[1]Den 1'!$G$3:$O$93,4,FALSE),0)","v":0},{"$f":"IFERROR(VLOOKUP($B46,'[1]Den 1'!$G$3:$O$93,5,FALSE),0)","v":0},{"$f":"IFERROR(VLOOKUP($B46,'[1]Den 1'!$G$3:$O$93,6,FALSE),0)","v":0},{"$f":"IFERROR(VLOOKUP($B46,'[1]Den 1'!$G$3:$O$93,7,FALSE),0)","v":0},{"$f":"IFERROR(VLOOKUP($B46,'[1]Den 1'!$G$3:$O$93,8,FALSE),0)","v":0},null,null,{"$f":"SUM(R46:AC46)","v":1}]
["04105-PAIHUANO","105476-P.S.R. MONTE GRANDE",null,null,{"$f":"IFERROR(VLOOKUP($B47,'[1]Num 1 2021'!$G$3:$T$95,11,FALSE),0)","v":0},{"$f":"IFERROR(VLOOKUP($B47,'[1]Num 1 2021'!$G$3:$T$95,12,FALSE),0)","v":0},{"$f":"IFERROR(VLOOKUP($B47,'[1]Num 1 2021'!$G$3:$T$95,13,FALSE),0)","v":0},{"$f":"IFERROR(VLOOKUP($B47,'[1]Num 1'!$G$3:$O$88,2,FALSE),0)","v":0},{"$f":"IFERROR(VLOOKUP($B47,'[1]Num 1'!$G$3:$O$88,3,FALSE),0)","v":0},{"$f":"IFERROR(VLOOKUP($B47,'[1]Num 1'!$G$3:$O$88,4,FALSE),0)","v":0},{"$f":"IFERROR(VLOOKUP($B47,'[1]Num 1'!$G$3:$O$88,5,FALSE),0)","v":0},{"$f":"IFERROR(VLOOKUP($B47,'[1]Num 1'!$G$3:$O$88,6,FALSE),0)","v":0},{"$f":"IFERROR(VLOOKUP($B47,'[1]Num 1'!$G$3:$O$88,7,FALSE),0)","v":0},{"$f":"IFERROR(VLOOKUP($B47,'[1]Num 1'!$G$3:$O$88,8,FALSE),0)","v":0},null,null,{"$f":"SUM(E47:P47)","v":0},{"$f":"IFERROR(VLOOKUP($B47,'[1]Den 1 2021'!$G$3:$T$104,11,FALSE),0)","v":0},{"$f":"IFERROR(VLOOKUP($B47,'[1]Den 1 2021'!$G$3:$T$104,12,FALSE),0)","v":0},{"$f":"IFERROR(VLOOKUP($B47,'[1]Den 1 2021'!$G$3:$T$104,13,FALSE),0)","v":0},{"$f":"IFERROR(VLOOKUP($B47,'[1]Den 1'!$G$3:$O$93,2,FALSE),0)","v":0},{"$f":"IFERROR(VLOOKUP($B47,'[1]Den 1'!$G$3:$O$93,3,FALSE),0)","v":0},{"$f":"IFERROR(VLOOKUP($B47,'[1]Den 1'!$G$3:$O$93,4,FALSE),0)","v":0},{"$f":"IFERROR(VLOOKUP($B47,'[1]Den 1'!$G$3:$O$93,5,FALSE),0)","v":0},{"$f":"IFERROR(VLOOKUP($B47,'[1]Den 1'!$G$3:$O$93,6,FALSE),0)","v":0},{"$f":"IFERROR(VLOOKUP($B47,'[1]Den 1'!$G$3:$O$93,7,FALSE),0)","v":0},{"$f":"IFERROR(VLOOKUP($B47,'[1]Den 1'!$G$3:$O$93,8,FALSE),0)","v":0},null,null,{"$f":"SUM(R47:AC47)","v":0}]
["04105-PAIHUANO","105477-P.S.R. PISCO ELQUI",null,null,{"$f":"IFERROR(VLOOKUP($B48,'[1]Num 1 2021'!$G$3:$T$95,11,FALSE),0)","v":0},{"$f":"IFERROR(VLOOKUP($B48,'[1]Num 1 2021'!$G$3:$T$95,12,FALSE),0)","v":0},{"$f":"IFERROR(VLOOKUP($B48,'[1]Num 1 2021'!$G$3:$T$95,13,FALSE),0)","v":0},{"$f":"IFERROR(VLOOKUP($B48,'[1]Num 1'!$G$3:$O$88,2,FALSE),0)","v":0},{"$f":"IFERROR(VLOOKUP($B48,'[1]Num 1'!$G$3:$O$88,3,FALSE),0)","v":0},{"$f":"IFERROR(VLOOKUP($B48,'[1]Num 1'!$G$3:$O$88,4,FALSE),0)","v":0},{"$f":"IFERROR(VLOOKUP($B48,'[1]Num 1'!$G$3:$O$88,5,FALSE),0)","v":0},{"$f":"IFERROR(VLOOKUP($B48,'[1]Num 1'!$G$3:$O$88,6,FALSE),0)","v":0},{"$f":"IFERROR(VLOOKUP($B48,'[1]Num 1'!$G$3:$O$88,7,FALSE),0)","v":0},{"$f":"IFERROR(VLOOKUP($B48,'[1]Num 1'!$G$3:$O$88,8,FALSE),0)","v":0},null,null,{"$f":"SUM(E48:P48)","v":0},{"$f":"IFERROR(VLOOKUP($B48,'[1]Den 1 2021'!$G$3:$T$104,11,FALSE),0)","v":0},{"$f":"IFERROR(VLOOKUP($B48,'[1]Den 1 2021'!$G$3:$T$104,12,FALSE),0)","v":0},{"$f":"IFERROR(VLOOKUP($B48,'[1]Den 1 2021'!$G$3:$T$104,13,FALSE),0)","v":0},{"$f":"IFERROR(VLOOKUP($B48,'[1]Den 1'!$G$3:$O$93,2,FALSE),0)","v":0},{"$f":"IFERROR(VLOOKUP($B48,'[1]Den 1'!$G$3:$O$93,3,FALSE),0)","v":0},{"$f":"IFERROR(VLOOKUP($B48,'[1]Den 1'!$G$3:$O$93,4,FALSE),0)","v":0},{"$f":"IFERROR(VLOOKUP($B48,'[1]Den 1'!$G$3:$O$93,5,FALSE),0)","v":0},{"$f":"IFERROR(VLOOKUP($B48,'[1]Den 1'!$G$3:$O$93,6,FALSE),0)","v":0},{"$f":"IFERROR(VLOOKUP($B48,'[1]Den 1'!$G$3:$O$93,7,FALSE),0)","v":0},{"$f":"IFERROR(VLOOKUP($B48,'[1]Den 1'!$G$3:$O$93,8,FALSE),0)","v":0},null,null,{"$f":"SUM(R48:AC48)","v":0}]
["TOTAL PAIHUANO",null,{"$f":"D49/Metas!G8","v":{"v":1.1111111111111112,"d":"111.11%"}},{"$f":"Q49/AD49","v":{"v":1,"d":"100.00%"}},{"$f":"SUM(E45:E48)","v":0},{"$f":"SUM(F45:F48)","v":0},{"$f":"SUM(G45:G48)","v":1},{"$f":"SUM(H45:H48)","v":0},{"$f":"SUM(I45:I48)","v":0},0,0,0,0,0,0,{"$f":"SUM(P45:P48)","v":0},1,1,0,0,0,0,0,0,0,0,0,{"$f":"SUM(AB45:AB48)","v":0},{"$f":"SUM(AC45:AC48)","v":0},{"$f":"SUM(AD45:AD48)","v":1}]
["04106-VICUÑA","105467-P.S.R. DIAGUITAS",null,null,{"$f":"IFERROR(VLOOKUP($B50,'[1]Num 1 2021'!$G$3:$T$95,11,FALSE),0)","v":0},{"$f":"IFERROR(VLOOKUP($B50,'[1]Num 1 2021'!$G$3:$T$95,12,FALSE),0)","v":0},{"$f":"IFERROR(VLOOKUP($B50,'[1]Num 1 2021'!$G$3:$T$95,13,FALSE),0)","v":0},{"$f":"IFERROR(VLOOKUP($B50,'[1]Num 1'!$G$3:$O$88,2,FALSE),0)","v":0},{"$f":"IFERROR(VLOOKUP($B50,'[1]Num 1'!$G$3:$O$88,3,FALSE),0)","v":0},{"$f":"IFERROR(VLOOKUP($B50,'[1]Num 1'!$G$3:$O$88,4,FALSE),0)","v":0},{"$f":"IFERROR(VLOOKUP($B50,'[1]Num 1'!$G$3:$O$88,5,FALSE),0)","v":0},{"$f":"IFERROR(VLOOKUP($B50,'[1]Num 1'!$G$3:$O$88,6,FALSE),0)","v":0},{"$f":"IFERROR(VLOOKUP($B50,'[1]Num 1'!$G$3:$O$88,7,FALSE),0)","v":0},{"$f":"IFERROR(VLOOKUP($B50,'[1]Num 1'!$G$3:$O$88,8,FALSE),0)","v":0},null,null,{"$f":"SUM(E50:P50)","v":0},{"$f":"IFERROR(VLOOKUP($B50,'[1]Den 1 2021'!$G$3:$T$104,11,FALSE),0)","v":0},{"$f":"IFERROR(VLOOKUP($B50,'[1]Den 1 2021'!$G$3:$T$104,12,FALSE),0)","v":0},{"$f":"IFERROR(VLOOKUP($B50,'[1]Den 1 2021'!$G$3:$T$104,13,FALSE),0)","v":0},{"$f":"IFERROR(VLOOKUP($B50,'[1]Den 1'!$G$3:$O$93,2,FALSE),0)","v":0},{"$f":"IFERROR(VLOOKUP($B50,'[1]Den 1'!$G$3:$O$93,3,FALSE),0)","v":0},{"$f":"IFERROR(VLOOKUP($B50,'[1]Den 1'!$G$3:$O$93,4,FALSE),0)","v":0},{"$f":"IFERROR(VLOOKUP($B50,'[1]Den 1'!$G$3:$O$93,5,FALSE),0)","v":0},{"$f":"IFERROR(VLOOKUP($B50,'[1]Den 1'!$G$3:$O$93,6,FALSE),0)","v":0},{"$f":"IFERROR(VLOOKUP($B50,'[1]Den 1'!$G$3:$O$93,7,FALSE),0)","v":0},{"$f":"IFERROR(VLOOKUP($B50,'[1]Den 1'!$G$3:$O$93,8,FALSE),0)","v":0},null,null,0]
["04106-VICUÑA","105468-P.S.R. EL MOLLE",null,null,{"$f":"IFERROR(VLOOKUP($B51,'[1]Num 1 2021'!$G$3:$T$95,11,FALSE),0)","v":0},{"$f":"IFERROR(VLOOKUP($B51,'[1]Num 1 2021'!$G$3:$T$95,12,FALSE),0)","v":0},{"$f":"IFERROR(VLOOKUP($B51,'[1]Num 1 2021'!$G$3:$T$95,13,FALSE),0)","v":0},{"$f":"IFERROR(VLOOKUP($B51,'[1]Num 1'!$G$3:$O$88,2,FALSE),0)","v":0},{"$f":"IFERROR(VLOOKUP($B51,'[1]Num 1'!$G$3:$O$88,3,FALSE),0)","v":0},{"$f":"IFERROR(VLOOKUP($B51,'[1]Num 1'!$G$3:$O$88,4,FALSE),0)","v":0},{"$f":"IFERROR(VLOOKUP($B51,'[1]Num 1'!$G$3:$O$88,5,FALSE),0)","v":0},{"$f":"IFERROR(VLOOKUP($B51,'[1]Num 1'!$G$3:$O$88,6,FALSE),0)","v":0},{"$f":"IFERROR(VLOOKUP($B51,'[1]Num 1'!$G$3:$O$88,7,FALSE),0)","v":0},{"$f":"IFERROR(VLOOKUP($B51,'[1]Num 1'!$G$3:$O$88,8,FALSE),0)","v":0},null,null,{"$f":"SUM(E51:P51)","v":0},{"$f":"IFERROR(VLOOKUP($B51,'[1]Den 1 2021'!$G$3:$T$104,11,FALSE),0)","v":0},{"$f":"IFERROR(VLOOKUP($B51,'[1]Den 1 2021'!$G$3:$T$104,12,FALSE),0)","v":0},{"$f":"IFERROR(VLOOKUP($B51,'[1]Den 1 2021'!$G$3:$T$104,13,FALSE),0)","v":0},{"$f":"IFERROR(VLOOKUP($B51,'[1]Den 1'!$G$3:$O$93,2,FALSE),0)","v":0},{"$f":"IFERROR(VLOOKUP($B51,'[1]Den 1'!$G$3:$O$93,3,FALSE),0)","v":0},{"$f":"IFERROR(VLOOKUP($B51,'[1]Den 1'!$G$3:$O$93,4,FALSE),0)","v":0},{"$f":"IFERROR(VLOOKUP($B51,'[1]Den 1'!$G$3:$O$93,5,FALSE),0)","v":0},{"$f":"IFERROR(VLOOKUP($B51,'[1]Den 1'!$G$3:$O$93,6,FALSE),0)","v":0},{"$f":"IFERROR(VLOOKUP($B51,'[1]Den 1'!$G$3:$O$93,7,FALSE),0)","v":0},{"$f":"IFERROR(VLOOKUP($B51,'[1]Den 1'!$G$3:$O$93,8,FALSE),0)","v":0},null,null,0]
["04106-VICUÑA","105469-P.S.R. EL TAMBO",null,null,{"$f":"IFERROR(VLOOKUP($B52,'[1]Num 1 2021'!$G$3:$T$95,11,FALSE),0)","v":0},{"$f":"IFERROR(VLOOKUP($B52,'[1]Num 1 2021'!$G$3:$T$95,12,FALSE),0)","v":0},{"$f":"IFERROR(VLOOKUP($B52,'[1]Num 1 2021'!$G$3:$T$95,13,FALSE),0)","v":0},{"$f":"IFERROR(VLOOKUP($B52,'[1]Num 1'!$G$3:$O$88,2,FALSE),0)","v":0},{"$f":"IFERROR(VLOOKUP($B52,'[1]Num 1'!$G$3:$O$88,3,FALSE),0)","v":0},{"$f":"IFERROR(VLOOKUP($B52,'[1]Num 1'!$G$3:$O$88,4,FALSE),0)","v":0},{"$f":"IFERROR(VLOOKUP($B52,'[1]Num 1'!$G$3:$O$88,5,FALSE),0)","v":0},{"$f":"IFERROR(VLOOKUP($B52,'[1]Num 1'!$G$3:$O$88,6,FALSE),0)","v":0},{"$f":"IFERROR(VLOOKUP($B52,'[1]Num 1'!$G$3:$O$88,7,FALSE),0)","v":0},{"$f":"IFERROR(VLOOKUP($B52,'[1]Num 1'!$G$3:$O$88,8,FALSE),0)","v":0},null,null,0,{"$f":"IFERROR(VLOOKUP($B52,'[1]Den 1 2021'!$G$3:$T$104,11,FALSE),0)","v":0},{"$f":"IFERROR(VLOOKUP($B52,'[1]Den 1 2021'!$G$3:$T$104,12,FALSE),0)","v":0},{"$f":"IFERROR(VLOOKUP($B52,'[1]Den 1 2021'!$G$3:$T$104,13,FALSE),0)","v":0},{"$f":"IFERROR(VLOOKUP($B52,'[1]Den 1'!$G$3:$O$93,2,FALSE),0)","v":0},{"$f":"IFERROR(VLOOKUP($B52,'[1]Den 1'!$G$3:$O$93,3,FALSE),0)","v":0},{"$f":"IFERROR(VLOOKUP($B52,'[1]Den 1'!$G$3:$O$93,4,FALSE),0)","v":0},{"$f":"IFERROR(VLOOKUP($B52,'[1]Den 1'!$G$3:$O$93,5,FALSE),0)","v":0},{"$f":"IFERROR(VLOOKUP($B52,'[1]Den 1'!$G$3:$O$93,6,FALSE),0)","v":0},{"$f":"IFERROR(VLOOKUP($B52,'[1]Den 1'!$G$3:$O$93,7,FALSE),0)","v":0},{"$f":"IFERROR(VLOOKUP($B52,'[1]Den 1'!$G$3:$O$93,8,FALSE),0)","v":0},null,null,0]
["04106-VICUÑA","105470-P.S.R. HUANTA",null,null,{"$f":"IFERROR(VLOOKUP($B53,'[1]Num 1 2021'!$G$3:$T$95,11,FALSE),0)","v":0},{"$f":"IFERROR(VLOOKUP($B53,'[1]Num 1 2021'!$G$3:$T$95,12,FALSE),0)","v":0},{"$f":"IFERROR(VLOOKUP($B53,'[1]Num 1 2021'!$G$3:$T$95,13,FALSE),0)","v":0},{"$f":"IFERROR(VLOOKUP($B53,'[1]Num 1'!$G$3:$O$88,2,FALSE),0)","v":0},{"$f":"IFERROR(VLOOKUP($B53,'[1]Num 1'!$G$3:$O$88,3,FALSE),0)","v":0},{"$f":"IFERROR(VLOOKUP($B53,'[1]Num 1'!$G$3:$O$88,4,FALSE),0)","v":0},{"$f":"IFERROR(VLOOKUP($B53,'[1]Num 1'!$G$3:$O$88,5,FALSE),0)","v":0},{"$f":"IFERROR(VLOOKUP($B53,'[1]Num 1'!$G$3:$O$88,6,FALSE),0)","v":0},{"$f":"IFERROR(VLOOKUP($B53,'[1]Num 1'!$G$3:$O$88,7,FALSE),0)","v":0},{"$f":"IFERROR(VLOOKUP($B53,'[1]Num 1'!$G$3:$O$88,8,FALSE),0)","v":0},null,null,0,{"$f":"IFERROR(VLOOKUP($B53,'[1]Den 1 2021'!$G$3:$T$104,11,FALSE),0)","v":0},{"$f":"IFERROR(VLOOKUP($B53,'[1]Den 1 2021'!$G$3:$T$104,12,FALSE),0)","v":0},{"$f":"IFERROR(VLOOKUP($B53,'[1]Den 1 2021'!$G$3:$T$104,13,FALSE),0)","v":0},{"$f":"IFERROR(VLOOKUP($B53,'[1]Den 1'!$G$3:$O$93,2,FALSE),0)","v":0},{"$f":"IFERROR(VLOOKUP($B53,'[1]Den 1'!$G$3:$O$93,3,FALSE),0)","v":0},{"$f":"IFERROR(VLOOKUP($B53,'[1]Den 1'!$G$3:$O$93,4,FALSE),0)","v":0},{"$f":"IFERROR(VLOOKUP($B53,'[1]Den 1'!$G$3:$O$93,5,FALSE),0)","v":0},{"$f":"IFERROR(VLOOKUP($B53,'[1]Den 1'!$G$3:$O$93,6,FALSE),0)","v":0},{"$f":"IFERROR(VLOOKUP($B53,'[1]Den 1'!$G$3:$O$93,7,FALSE),0)","v":0},{"$f":"IFERROR(VLOOKUP($B53,'[1]Den 1'!$G$3:$O$93,8,FALSE),0)","v":0},null,null,0]
["04106-VICUÑA","105471-P.S.R. PERALILLO",null,null,{"$f":"IFERROR(VLOOKUP($B54,'[1]Num 1 2021'!$G$3:$T$95,11,FALSE),0)","v":0},{"$f":"IFERROR(VLOOKUP($B54,'[1]Num 1 2021'!$G$3:$T$95,12,FALSE),0)","v":0},{"$f":"IFERROR(VLOOKUP($B54,'[1]Num 1 2021'!$G$3:$T$95,13,FALSE),0)","v":0},{"$f":"IFERROR(VLOOKUP($B54,'[1]Num 1'!$G$3:$O$88,2,FALSE),0)","v":0},{"$f":"IFERROR(VLOOKUP($B54,'[1]Num 1'!$G$3:$O$88,3,FALSE),0)","v":0},{"$f":"IFERROR(VLOOKUP($B54,'[1]Num 1'!$G$3:$O$88,4,FALSE),0)","v":0},{"$f":"IFERROR(VLOOKUP($B54,'[1]Num 1'!$G$3:$O$88,5,FALSE),0)","v":0},{"$f":"IFERROR(VLOOKUP($B54,'[1]Num 1'!$G$3:$O$88,6,FALSE),0)","v":0},{"$f":"IFERROR(VLOOKUP($B54,'[1]Num 1'!$G$3:$O$88,7,FALSE),0)","v":0},{"$f":"IFERROR(VLOOKUP($B54,'[1]Num 1'!$G$3:$O$88,8,FALSE),0)","v":0},null,null,0,{"$f":"IFERROR(VLOOKUP($B54,'[1]Den 1 2021'!$G$3:$T$104,11,FALSE),0)","v":0},{"$f":"IFERROR(VLOOKUP($B54,'[1]Den 1 2021'!$G$3:$T$104,12,FALSE),0)","v":0},{"$f":"IFERROR(VLOOKUP($B54,'[1]Den 1 2021'!$G$3:$T$104,13,FALSE),0)","v":0},{"$f":"IFERROR(VLOOKUP($B54,'[1]Den 1'!$G$3:$O$93,2,FALSE),0)","v":0},{"$f":"IFERROR(VLOOKUP($B54,'[1]Den 1'!$G$3:$O$93,3,FALSE),0)","v":0},{"$f":"IFERROR(VLOOKUP($B54,'[1]Den 1'!$G$3:$O$93,4,FALSE),0)","v":0},{"$f":"IFERROR(VLOOKUP($B54,'[1]Den 1'!$G$3:$O$93,5,FALSE),0)","v":0},{"$f":"IFERROR(VLOOKUP($B54,'[1]Den 1'!$G$3:$O$93,6,FALSE),0)","v":0},{"$f":"IFERROR(VLOOKUP($B54,'[1]Den 1'!$G$3:$O$93,7,FALSE),0)","v":0},{"$f":"IFERROR(VLOOKUP($B54,'[1]Den 1'!$G$3:$O$93,8,FALSE),0)","v":0},null,null,0]
["04106-VICUÑA","105472-P.S.R. RIVADAVIA",null,null,{"$f":"IFERROR(VLOOKUP($B55,'[1]Num 1 2021'!$G$3:$T$95,11,FALSE),0)","v":0},{"$f":"IFERROR(VLOOKUP($B55,'[1]Num 1 2021'!$G$3:$T$95,12,FALSE),0)","v":0},{"$f":"IFERROR(VLOOKUP($B55,'[1]Num 1 2021'!$G$3:$T$95,13,FALSE),0)","v":0},{"$f":"IFERROR(VLOOKUP($B55,'[1]Num 1'!$G$3:$O$88,2,FALSE),0)","v":0},{"$f":"IFERROR(VLOOKUP($B55,'[1]Num 1'!$G$3:$O$88,3,FALSE),0)","v":0},{"$f":"IFERROR(VLOOKUP($B55,'[1]Num 1'!$G$3:$O$88,4,FALSE),0)","v":0},{"$f":"IFERROR(VLOOKUP($B55,'[1]Num 1'!$G$3:$O$88,5,FALSE),0)","v":0},{"$f":"IFERROR(VLOOKUP($B55,'[1]Num 1'!$G$3:$O$88,6,FALSE),0)","v":0},{"$f":"IFERROR(VLOOKUP($B55,'[1]Num 1'!$G$3:$O$88,7,FALSE),0)","v":0},{"$f":"IFERROR(VLOOKUP($B55,'[1]Num 1'!$G$3:$O$88,8,FALSE),0)","v":0},null,null,0,{"$f":"IFERROR(VLOOKUP($B55,'[1]Den 1 2021'!$G$3:$T$104,11,FALSE),0)","v":0},{"$f":"IFERROR(VLOOKUP($B55,'[1]Den 1 2021'!$G$3:$T$104,12,FALSE),0)","v":0},{"$f":"IFERROR(VLOOKUP($B55,'[1]Den 1 2021'!$G$3:$T$104,13,FALSE),0)","v":0},{"$f":"IFERROR(VLOOKUP($B55,'[1]Den 1'!$G$3:$O$93,2,FALSE),0)","v":0},{"$f":"IFERROR(VLOOKUP($B55,'[1]Den 1'!$G$3:$O$93,3,FALSE),0)","v":0},{"$f":"IFERROR(VLOOKUP($B55,'[1]Den 1'!$G$3:$O$93,4,FALSE),0)","v":0},{"$f":"IFERROR(VLOOKUP($B55,'[1]Den 1'!$G$3:$O$93,5,FALSE),0)","v":0},{"$f":"IFERROR(VLOOKUP($B55,'[1]Den 1'!$G$3:$O$93,6,FALSE),0)","v":0},{"$f":"IFERROR(VLOOKUP($B55,'[1]Den 1'!$G$3:$O$93,7,FALSE),0)","v":0},{"$f":"IFERROR(VLOOKUP($B55,'[1]Den 1'!$G$3:$O$93,8,FALSE),0)","v":0},null,null,0]
["04106-VICUÑA","105473-P.S.R. TALCUNA",null,null,{"$f":"IFERROR(VLOOKUP($B56,'[1]Num 1 2021'!$G$3:$T$95,11,FALSE),0)","v":1},{"$f":"IFERROR(VLOOKUP($B56,'[1]Num 1 2021'!$G$3:$T$95,12,FALSE),0)","v":0},{"$f":"IFERROR(VLOOKUP($B56,'[1]Num 1 2021'!$G$3:$T$95,13,FALSE),0)","v":0},{"$f":"IFERROR(VLOOKUP($B56,'[1]Num 1'!$G$3:$O$88,2,FALSE),0)","v":0},{"$f":"IFERROR(VLOOKUP($B56,'[1]Num 1'!$G$3:$O$88,3,FALSE),0)","v":0},{"$f":"IFERROR(VLOOKUP($B56,'[1]Num 1'!$G$3:$O$88,4,FALSE),0)","v":0},{"$f":"IFERROR(VLOOKUP($B56,'[1]Num 1'!$G$3:$O$88,5,FALSE),0)","v":0},{"$f":"IFERROR(VLOOKUP($B56,'[1]Num 1'!$G$3:$O$88,6,FALSE),0)","v":1},{"$f":"IFERROR(VLOOKUP($B56,'[1]Num 1'!$G$3:$O$88,7,FALSE),0)","v":0},{"$f":"IFERROR(VLOOKUP($B56,'[1]Num 1'!$G$3:$O$88,8,FALSE),0)","v":0},null,null,2,{"$f":"IFERROR(VLOOKUP($B56,'[1]Den 1 2021'!$G$3:$T$104,11,FALSE),0)","v":0},{"$f":"IFERROR(VLOOKUP($B56,'[1]Den 1 2021'!$G$3:$T$104,12,FALSE),0)","v":0},{"$f":"IFERROR(VLOOKUP($B56,'[1]Den 1 2021'!$G$3:$T$104,13,FALSE),0)","v":0},{"$f":"IFERROR(VLOOKUP($B56,'[1]Den 1'!$G$3:$O$93,2,FALSE),0)","v":0},{"$f":"IFERROR(VLOOKUP($B56,'[1]Den 1'!$G$3:$O$93,3,FALSE),0)","v":1},{"$f":"IFERROR(VLOOKUP($B56,'[1]Den 1'!$G$3:$O$93,4,FALSE),0)","v":0},{"$f":"IFERROR(VLOOKUP($B56,'[1]Den 1'!$G$3:$O$93,5,FALSE),0)","v":0},{"$f":"IFERROR(VLOOKUP($B56,'[1]Den 1'!$G$3:$O$93,6,FALSE),0)","v":0},{"$f":"IFERROR(VLOOKUP($B56,'[1]Den 1'!$G$3:$O$93,7,FALSE),0)","v":0},{"$f":"IFERROR(VLOOKUP($B56,'[1]Den 1'!$G$3:$O$93,8,FALSE),0)","v":0},null,null,1]
["04106-VICUÑA","105474-P.S.R. CHAPILCA",null,null,{"$f":"IFERROR(VLOOKUP($B57,'[1]Num 1 2021'!$G$3:$T$95,11,FALSE),0)","v":0},{"$f":"IFERROR(VLOOKUP($B57,'[1]Num 1 2021'!$G$3:$T$95,12,FALSE),0)","v":0},{"$f":"IFERROR(VLOOKUP($B57,'[1]Num 1 2021'!$G$3:$T$95,13,FALSE),0)","v":0},{"$f":"IFERROR(VLOOKUP($B57,'[1]Num 1'!$G$3:$O$88,2,FALSE),0)","v":0},{"$f":"IFERROR(VLOOKUP($B57,'[1]Num 1'!$G$3:$O$88,3,FALSE),0)","v":0},{"$f":"IFERROR(VLOOKUP($B57,'[1]Num 1'!$G$3:$O$88,4,FALSE),0)","v":0},{"$f":"IFERROR(VLOOKUP($B57,'[1]Num 1'!$G$3:$O$88,5,FALSE),0)","v":0},{"$f":"IFERROR(VLOOKUP($B57,'[1]Num 1'!$G$3:$O$88,6,FALSE),0)","v":0},{"$f":"IFERROR(VLOOKUP($B57,'[1]Num 1'!$G$3:$O$88,7,FALSE),0)","v":0},{"$f":"IFERROR(VLOOKUP($B57,'[1]Num 1'!$G$3:$O$88,8,FALSE),0)","v":0},null,null,0,{"$f":"IFERROR(VLOOKUP($B57,'[1]Den 1 2021'!$G$3:$T$104,11,FALSE),0)","v":0},{"$f":"IFERROR(VLOOKUP($B57,'[1]Den 1 2021'!$G$3:$T$104,12,FALSE),0)","v":0},{"$f":"IFERROR(VLOOKUP($B57,'[1]Den 1 2021'!$G$3:$T$104,13,FALSE),0)","v":0},{"$f":"IFERROR(VLOOKUP($B57,'[1]Den 1'!$G$3:$O$93,2,FALSE),0)","v":0},{"$f":"IFERROR(VLOOKUP($B57,'[1]Den 1'!$G$3:$O$93,3,FALSE),0)","v":0},{"$f":"IFERROR(VLOOKUP($B57,'[1]Den 1'!$G$3:$O$93,4,FALSE),0)","v":0},{"$f":"IFERROR(VLOOKUP($B57,'[1]Den 1'!$G$3:$O$93,5,FALSE),0)","v":0},{"$f":"IFERROR(VLOOKUP($B57,'[1]Den 1'!$G$3:$O$93,6,FALSE),0)","v":0},{"$f":"IFERROR(VLOOKUP($B57,'[1]Den 1'!$G$3:$O$93,7,FALSE),0)","v":0},{"$f":"IFERROR(VLOOKUP($B57,'[1]Den 1'!$G$3:$O$93,8,FALSE),0)","v":0},null,null,0]
["04106-VICUÑA","105509-P.S.R. GUALLIGUAICA",null,null,{"$f":"IFERROR(VLOOKUP($B58,'[1]Num 1 2021'!$G$3:$T$95,11,FALSE),0)","v":0},{"$f":"IFERROR(VLOOKUP($B58,'[1]Num 1 2021'!$G$3:$T$95,12,FALSE),0)","v":1},{"$f":"IFERROR(VLOOKUP($B58,'[1]Num 1 2021'!$G$3:$T$95,13,FALSE),0)","v":0},{"$f":"IFERROR(VLOOKUP($B58,'[1]Num 1'!$G$3:$O$88,2,FALSE),0)","v":0},{"$f":"IFERROR(VLOOKUP($B58,'[1]Num 1'!$G$3:$O$88,3,FALSE),0)","v":0},{"$f":"IFERROR(VLOOKUP($B58,'[1]Num 1'!$G$3:$O$88,4,FALSE),0)","v":0},{"$f":"IFERROR(VLOOKUP($B58,'[1]Num 1'!$G$3:$O$88,5,FALSE),0)","v":0},{"$f":"IFERROR(VLOOKUP($B58,'[1]Num 1'!$G$3:$O$88,6,FALSE),0)","v":0},{"$f":"IFERROR(VLOOKUP($B58,'[1]Num 1'!$G$3:$O$88,7,FALSE),0)","v":0},{"$f":"IFERROR(VLOOKUP($B58,'[1]Num 1'!$G$3:$O$88,8,FALSE),0)","v":0},null,null,1,{"$f":"IFERROR(VLOOKUP($B58,'[1]Den 1 2021'!$G$3:$T$104,11,FALSE),0)","v":0},{"$f":"IFERROR(VLOOKUP($B58,'[1]Den 1 2021'!$G$3:$T$104,12,FALSE),0)","v":0},{"$f":"IFERROR(VLOOKUP($B58,'[1]Den 1 2021'!$G$3:$T$104,13,FALSE),0)","v":0},{"$f":"IFERROR(VLOOKUP($B58,'[1]Den 1'!$G$3:$O$93,2,FALSE),0)","v":0},{"$f":"IFERROR(VLOOKUP($B58,'[1]Den 1'!$G$3:$O$93,3,FALSE),0)","v":0},{"$f":"IFERROR(VLOOKUP($B58,'[1]Den 1'!$G$3:$O$93,4,FALSE),0)","v":0},{"$f":"IFERROR(VLOOKUP($B58,'[1]Den 1'!$G$3:$O$93,5,FALSE),0)","v":0},{"$f":"IFERROR(VLOOKUP($B58,'[1]Den 1'!$G$3:$O$93,6,FALSE),0)","v":0},{"$f":"IFERROR(VLOOKUP($B58,'[1]Den 1'!$G$3:$O$93,7,FALSE),0)","v":0},{"$f":"IFERROR(VLOOKUP($B58,'[1]Den 1'!$G$3:$O$93,8,FALSE),0)","v":0},null,null,0]
["04106-VICUÑA","200538-CESFAM SAN ISIDRO CALINGASTA",null,null,{"$f":"IFERROR(VLOOKUP($B59,'[1]Num 1 2021'!$G$3:$T$95,11,FALSE),0)","v":1},{"$f":"IFERROR(VLOOKUP($B59,'[1]Num 1 2021'!$G$3:$T$95,12,FALSE),0)","v":0},{"$f":"IFERROR(VLOOKUP($B59,'[1]Num 1 2021'!$G$3:$T$95,13,FALSE),0)","v":0},{"$f":"IFERROR(VLOOKUP($B59,'[1]Num 1'!$G$3:$O$88,2,FALSE),0)","v":0},{"$f":"IFERROR(VLOOKUP($B59,'[1]Num 1'!$G$3:$O$88,3,FALSE),0)","v":0},{"$f":"IFERROR(VLOOKUP($B59,'[1]Num 1'!$G$3:$O$88,4,FALSE),0)","v":0},{"$f":"IFERROR(VLOOKUP($B59,'[1]Num 1'!$G$3:$O$88,5,FALSE),0)","v":0},{"$f":"IFERROR(VLOOKUP($B59,'[1]Num 1'!$G$3:$O$88,6,FALSE),0)","v":2},{"$f":"IFERROR(VLOOKUP($B59,'[1]Num 1'!$G$3:$O$88,7,FALSE),0)","v":0},{"$f":"IFERROR(VLOOKUP($B59,'[1]Num 1'!$G$3:$O$88,8,FALSE),0)","v":0},null,null,{"$f":"SUM(E59:P59)","v":3},{"$f":"IFERROR(VLOOKUP($B59,'[1]Den 1 2021'!$G$3:$T$104,11,FALSE),0)","v":0},{"$f":"IFERROR(VLOOKUP($B59,'[1]Den 1 2021'!$G$3:$T$104,12,FALSE),0)","v":0},{"$f":"IFERROR(VLOOKUP($B59,'[1]Den 1 2021'!$G$3:$T$104,13,FALSE),0)","v":0},{"$f":"IFERROR(VLOOKUP($B59,'[1]Den 1'!$G$3:$O$93,2,FALSE),0)","v":0},{"$f":"IFERROR(VLOOKUP($B59,'[1]Den 1'!$G$3:$O$93,3,FALSE),0)","v":2},{"$f":"IFERROR(VLOOKUP($B59,'[1]Den 1'!$G$3:$O$93,4,FALSE),0)","v":0},{"$f":"IFERROR(VLOOKUP($B59,'[1]Den 1'!$G$3:$O$93,5,FALSE),0)","v":0},{"$f":"IFERROR(VLOOKUP($B59,'[1]Den 1'!$G$3:$O$93,6,FALSE),0)","v":0},{"$f":"IFERROR(VLOOKUP($B59,'[1]Den 1'!$G$3:$O$93,7,FALSE),0)","v":0},{"$f":"IFERROR(VLOOKUP($B59,'[1]Den 1'!$G$3:$O$93,8,FALSE),0)","v":0},null,null,{"$f":"SUM(R59:AC59)","v":2}]
["TOTAL VICUÑA",null,{"$f":"D60/Metas!G9","v":{"v":2.2222222222222223,"d":"222.22%"}},{"$f":"Q60/AD60","v":{"v":2,"d":"200.00%"}},{"$f":"SUM(E50:E59)","v":2},1,0,0,0,0,0,3,0,0,0,0,6,0,0,0,0,3,0,0,0,0,0,0,0,3]
["04201-ILLAPEL","105326-CESFAM SAN RAFAEL",null,null,{"$f":"IFERROR(VLOOKUP($B61,'[1]Num 1 2021'!$G$3:$T$95,11,FALSE),0)","v":1},{"$f":"IFERROR(VLOOKUP($B61,'[1]Num 1 2021'!$G$3:$T$95,12,FALSE),0)","v":2},{"$f":"IFERROR(VLOOKUP($B61,'[1]Num 1 2021'!$G$3:$T$95,13,FALSE),0)","v":0},{"$f":"IFERROR(VLOOKUP($B61,'[1]Num 1'!$G$3:$O$88,2,FALSE),0)","v":0},{"$f":"IFERROR(VLOOKUP($B61,'[1]Num 1'!$G$3:$O$88,3,FALSE),0)","v":0},{"$f":"IFERROR(VLOOKUP($B61,'[1]Num 1'!$G$3:$O$88,4,FALSE),0)","v":0},{"$f":"IFERROR(VLOOKUP($B61,'[1]Num 1'!$G$3:$O$88,5,FALSE),0)","v":1},{"$f":"IFERROR(VLOOKUP($B61,'[1]Num 1'!$G$3:$O$88,6,FALSE),0)","v":0},{"$f":"IFERROR(VLOOKUP($B61,'[1]Num 1'!$G$3:$O$88,7,FALSE),0)","v":0},{"$f":"IFERROR(VLOOKUP($B61,'[1]Num 1'!$G$3:$O$88,8,FALSE),0)","v":0},null,null,{"$f":"SUM(E61:P61)","v":4},{"$f":"IFERROR(VLOOKUP($B61,'[1]Den 1 2021'!$G$3:$T$104,11,FALSE),0)","v":0},{"$f":"IFERROR(VLOOKUP($B61,'[1]Den 1 2021'!$G$3:$T$104,12,FALSE),0)","v":0},{"$f":"IFERROR(VLOOKUP($B61,'[1]Den 1 2021'!$G$3:$T$104,13,FALSE),0)","v":0},{"$f":"IFERROR(VLOOKUP($B61,'[1]Den 1'!$G$3:$O$93,2,FALSE),0)","v":1},{"$f":"IFERROR(VLOOKUP($B61,'[1]Den 1'!$G$3:$O$93,3,FALSE),0)","v":0},{"$f":"IFERROR(VLOOKUP($B61,'[1]Den 1'!$G$3:$O$93,4,FALSE),0)","v":0},{"$f":"IFERROR(VLOOKUP($B61,'[1]Den 1'!$G$3:$O$93,5,FALSE),0)","v":0},{"$f":"IFERROR(VLOOKUP($B61,'[1]Den 1'!$G$3:$O$93,6,FALSE),0)","v":0},{"$f":"IFERROR(VLOOKUP($B61,'[1]Den 1'!$G$3:$O$93,7,FALSE),0)","v":0},{"$f":"IFERROR(VLOOKUP($B61,'[1]Den 1'!$G$3:$O$93,8,FALSE),0)","v":0},null,null,1]
["04201-ILLAPEL","105443-P.S.R. CARCAMO                   ",null,null,{"$f":"IFERROR(VLOOKUP($B62,'[1]Num 1 2021'!$G$3:$T$95,11,FALSE),0)","v":0},{"$f":"IFERROR(VLOOKUP($B62,'[1]Num 1 2021'!$G$3:$T$95,12,FALSE),0)","v":0},{"$f":"IFERROR(VLOOKUP($B62,'[1]Num 1 2021'!$G$3:$T$95,13,FALSE),0)","v":0},{"$f":"IFERROR(VLOOKUP($B62,'[1]Num 1'!$G$3:$O$88,2,FALSE),0)","v":0},{"$f":"IFERROR(VLOOKUP($B62,'[1]Num 1'!$G$3:$O$88,3,FALSE),0)","v":0},{"$f":"IFERROR(VLOOKUP($B62,'[1]Num 1'!$G$3:$O$88,4,FALSE),0)","v":0},{"$f":"IFERROR(VLOOKUP($B62,'[1]Num 1'!$G$3:$O$88,5,FALSE),0)","v":0},{"$f":"IFERROR(VLOOKUP($B62,'[1]Num 1'!$G$3:$O$88,6,FALSE),0)","v":0},{"$f":"IFERROR(VLOOKUP($B62,'[1]Num 1'!$G$3:$O$88,7,FALSE),0)","v":0},{"$f":"IFERROR(VLOOKUP($B62,'[1]Num 1'!$G$3:$O$88,8,FALSE),0)","v":0},null,null,0,{"$f":"IFERROR(VLOOKUP($B62,'[1]Den 1 2021'!$G$3:$T$104,11,FALSE),0)","v":0},{"$f":"IFERROR(VLOOKUP($B62,'[1]Den 1 2021'!$G$3:$T$104,12,FALSE),0)","v":0},{"$f":"IFERROR(VLOOKUP($B62,'[1]Den 1 2021'!$G$3:$T$104,13,FALSE),0)","v":0},{"$f":"IFERROR(VLOOKUP($B62,'[1]Den 1'!$G$3:$O$93,2,FALSE),0)","v":0},{"$f":"IFERROR(VLOOKUP($B62,'[1]Den 1'!$G$3:$O$93,3,FALSE),0)","v":0},{"$f":"IFERROR(VLOOKUP($B62,'[1]Den 1'!$G$3:$O$93,4,FALSE),0)","v":0},{"$f":"IFERROR(VLOOKUP($B62,'[1]Den 1'!$G$3:$O$93,5,FALSE),0)","v":0},{"$f":"IFERROR(VLOOKUP($B62,'[1]Den 1'!$G$3:$O$93,6,FALSE),0)","v":0},{"$f":"IFERROR(VLOOKUP($B62,'[1]Den 1'!$G$3:$O$93,7,FALSE),0)","v":0},{"$f":"IFERROR(VLOOKUP($B62,'[1]Den 1'!$G$3:$O$93,8,FALSE),0)","v":0},null,null,0]
["04201-ILLAPEL","105444-P.S.R. HUINTIL",null,null,{"$f":"IFERROR(VLOOKUP($B63,'[1]Num 1 2021'!$G$3:$T$95,11,FALSE),0)","v":0},{"$f":"IFERROR(VLOOKUP($B63,'[1]Num 1 2021'!$G$3:$T$95,12,FALSE),0)","v":0},{"$f":"IFERROR(VLOOKUP($B63,'[1]Num 1 2021'!$G$3:$T$95,13,FALSE),0)","v":0},{"$f":"IFERROR(VLOOKUP($B63,'[1]Num 1'!$G$3:$O$88,2,FALSE),0)","v":0},{"$f":"IFERROR(VLOOKUP($B63,'[1]Num 1'!$G$3:$O$88,3,FALSE),0)","v":0},{"$f":"IFERROR(VLOOKUP($B63,'[1]Num 1'!$G$3:$O$88,4,FALSE),0)","v":0},{"$f":"IFERROR(VLOOKUP($B63,'[1]Num 1'!$G$3:$O$88,5,FALSE),0)","v":0},{"$f":"IFERROR(VLOOKUP($B63,'[1]Num 1'!$G$3:$O$88,6,FALSE),0)","v":0},{"$f":"IFERROR(VLOOKUP($B63,'[1]Num 1'!$G$3:$O$88,7,FALSE),0)","v":0},{"$f":"IFERROR(VLOOKUP($B63,'[1]Num 1'!$G$3:$O$88,8,FALSE),0)","v":0},null,null,0,{"$f":"IFERROR(VLOOKUP($B63,'[1]Den 1 2021'!$G$3:$T$104,11,FALSE),0)","v":0},{"$f":"IFERROR(VLOOKUP($B63,'[1]Den 1 2021'!$G$3:$T$104,12,FALSE),0)","v":0},{"$f":"IFERROR(VLOOKUP($B63,'[1]Den 1 2021'!$G$3:$T$104,13,FALSE),0)","v":0},{"$f":"IFERROR(VLOOKUP($B63,'[1]Den 1'!$G$3:$O$93,2,FALSE),0)","v":0},{"$f":"IFERROR(VLOOKUP($B63,'[1]Den 1'!$G$3:$O$93,3,FALSE),0)","v":0},{"$f":"IFERROR(VLOOKUP($B63,'[1]Den 1'!$G$3:$O$93,4,FALSE),0)","v":0},{"$f":"IFERROR(VLOOKUP($B63,'[1]Den 1'!$G$3:$O$93,5,FALSE),0)","v":0},{"$f":"IFERROR(VLOOKUP($B63,'[1]Den 1'!$G$3:$O$93,6,FALSE),0)","v":0},{"$f":"IFERROR(VLOOKUP($B63,'[1]Den 1'!$G$3:$O$93,7,FALSE),0)","v":0},{"$f":"IFERROR(VLOOKUP($B63,'[1]Den 1'!$G$3:$O$93,8,FALSE),0)","v":0},null,null,0]
["04201-ILLAPEL","105445-P.S.R. LIMAHUIDA",null,null,{"$f":"IFERROR(VLOOKUP($B64,'[1]Num 1 2021'!$G$3:$T$95,11,FALSE),0)","v":0},{"$f":"IFERROR(VLOOKUP($B64,'[1]Num 1 2021'!$G$3:$T$95,12,FALSE),0)","v":0},{"$f":"IFERROR(VLOOKUP($B64,'[1]Num 1 2021'!$G$3:$T$95,13,FALSE),0)","v":0},{"$f":"IFERROR(VLOOKUP($B64,'[1]Num 1'!$G$3:$O$88,2,FALSE),0)","v":0},{"$f":"IFERROR(VLOOKUP($B64,'[1]Num 1'!$G$3:$O$88,3,FALSE),0)","v":0},{"$f":"IFERROR(VLOOKUP($B64,'[1]Num 1'!$G$3:$O$88,4,FALSE),0)","v":0},{"$f":"IFERROR(VLOOKUP($B64,'[1]Num 1'!$G$3:$O$88,5,FALSE),0)","v":0},{"$f":"IFERROR(VLOOKUP($B64,'[1]Num 1'!$G$3:$O$88,6,FALSE),0)","v":0},{"$f":"IFERROR(VLOOKUP($B64,'[1]Num 1'!$G$3:$O$88,7,FALSE),0)","v":0},{"$f":"IFERROR(VLOOKUP($B64,'[1]Num 1'!$G$3:$O$88,8,FALSE),0)","v":0},null,null,0,{"$f":"IFERROR(VLOOKUP($B64,'[1]Den 1 2021'!$G$3:$T$104,11,FALSE),0)","v":0},{"$f":"IFERROR(VLOOKUP($B64,'[1]Den 1 2021'!$G$3:$T$104,12,FALSE),0)","v":0},{"$f":"IFERROR(VLOOKUP($B64,'[1]Den 1 2021'!$G$3:$T$104,13,FALSE),0)","v":0},{"$f":"IFERROR(VLOOKUP($B64,'[1]Den 1'!$G$3:$O$93,2,FALSE),0)","v":0},{"$f":"IFERROR(VLOOKUP($B64,'[1]Den 1'!$G$3:$O$93,3,FALSE),0)","v":0},{"$f":"IFERROR(VLOOKUP($B64,'[1]Den 1'!$G$3:$O$93,4,FALSE),0)","v":0},{"$f":"IFERROR(VLOOKUP($B64,'[1]Den 1'!$G$3:$O$93,5,FALSE),0)","v":0},{"$f":"IFERROR(VLOOKUP($B64,'[1]Den 1'!$G$3:$O$93,6,FALSE),0)","v":0},{"$f":"IFERROR(VLOOKUP($B64,'[1]Den 1'!$G$3:$O$93,7,FALSE),0)","v":0},{"$f":"IFERROR(VLOOKUP($B64,'[1]Den 1'!$G$3:$O$93,8,FALSE),0)","v":0},null,null,0]
["04201-ILLAPEL","105446-P.S.R. MATANCILLA",null,null,{"$f":"IFERROR(VLOOKUP($B65,'[1]Num 1 2021'!$G$3:$T$95,11,FALSE),0)","v":0},{"$f":"IFERROR(VLOOKUP($B65,'[1]Num 1 2021'!$G$3:$T$95,12,FALSE),0)","v":0},{"$f":"IFERROR(VLOOKUP($B65,'[1]Num 1 2021'!$G$3:$T$95,13,FALSE),0)","v":0},{"$f":"IFERROR(VLOOKUP($B65,'[1]Num 1'!$G$3:$O$88,2,FALSE),0)","v":0},{"$f":"IFERROR(VLOOKUP($B65,'[1]Num 1'!$G$3:$O$88,3,FALSE),0)","v":0},{"$f":"IFERROR(VLOOKUP($B65,'[1]Num 1'!$G$3:$O$88,4,FALSE),0)","v":0},{"$f":"IFERROR(VLOOKUP($B65,'[1]Num 1'!$G$3:$O$88,5,FALSE),0)","v":0},{"$f":"IFERROR(VLOOKUP($B65,'[1]Num 1'!$G$3:$O$88,6,FALSE),0)","v":0},{"$f":"IFERROR(VLOOKUP($B65,'[1]Num 1'!$G$3:$O$88,7,FALSE),0)","v":0},{"$f":"IFERROR(VLOOKUP($B65,'[1]Num 1'!$G$3:$O$88,8,FALSE),0)","v":0},null,null,0,{"$f":"IFERROR(VLOOKUP($B65,'[1]Den 1 2021'!$G$3:$T$104,11,FALSE),0)","v":0},{"$f":"IFERROR(VLOOKUP($B65,'[1]Den 1 2021'!$G$3:$T$104,12,FALSE),0)","v":0},{"$f":"IFERROR(VLOOKUP($B65,'[1]Den 1 2021'!$G$3:$T$104,13,FALSE),0)","v":0},{"$f":"IFERROR(VLOOKUP($B65,'[1]Den 1'!$G$3:$O$93,2,FALSE),0)","v":0},{"$f":"IFERROR(VLOOKUP($B65,'[1]Den 1'!$G$3:$O$93,3,FALSE),0)","v":0},{"$f":"IFERROR(VLOOKUP($B65,'[1]Den 1'!$G$3:$O$93,4,FALSE),0)","v":0},{"$f":"IFERROR(VLOOKUP($B65,'[1]Den 1'!$G$3:$O$93,5,FALSE),0)","v":0},{"$f":"IFERROR(VLOOKUP($B65,'[1]Den 1'!$G$3:$O$93,6,FALSE),0)","v":0},{"$f":"IFERROR(VLOOKUP($B65,'[1]Den 1'!$G$3:$O$93,7,FALSE),0)","v":0},{"$f":"IFERROR(VLOOKUP($B65,'[1]Den 1'!$G$3:$O$93,8,FALSE),0)","v":0},null,null,0]
["04201-ILLAPEL","105447-P.S.R. PERALILLO",null,null,{"$f":"IFERROR(VLOOKUP($B66,'[1]Num 1 2021'!$G$3:$T$95,11,FALSE),0)","v":0},{"$f":"IFERROR(VLOOKUP($B66,'[1]Num 1 2021'!$G$3:$T$95,12,FALSE),0)","v":0},{"$f":"IFERROR(VLOOKUP($B66,'[1]Num 1 2021'!$G$3:$T$95,13,FALSE),0)","v":0},{"$f":"IFERROR(VLOOKUP($B66,'[1]Num 1'!$G$3:$O$88,2,FALSE),0)","v":0},{"$f":"IFERROR(VLOOKUP($B66,'[1]Num 1'!$G$3:$O$88,3,FALSE),0)","v":0},{"$f":"IFERROR(VLOOKUP($B66,'[1]Num 1'!$G$3:$O$88,4,FALSE),0)","v":0},{"$f":"IFERROR(VLOOKUP($B66,'[1]Num 1'!$G$3:$O$88,5,FALSE),0)","v":0},{"$f":"IFERROR(VLOOKUP($B66,'[1]Num 1'!$G$3:$O$88,6,FALSE),0)","v":0},{"$f":"IFERROR(VLOOKUP($B66,'[1]Num 1'!$G$3:$O$88,7,FALSE),0)","v":0},{"$f":"IFERROR(VLOOKUP($B66,'[1]Num 1'!$G$3:$O$88,8,FALSE),0)","v":0},null,null,0,{"$f":"IFERROR(VLOOKUP($B66,'[1]Den 1 2021'!$G$3:$T$104,11,FALSE),0)","v":0},{"$f":"IFERROR(VLOOKUP($B66,'[1]Den 1 2021'!$G$3:$T$104,12,FALSE),0)","v":0},{"$f":"IFERROR(VLOOKUP($B66,'[1]Den 1 2021'!$G$3:$T$104,13,FALSE),0)","v":0},{"$f":"IFERROR(VLOOKUP($B66,'[1]Den 1'!$G$3:$O$93,2,FALSE),0)","v":0},{"$f":"IFERROR(VLOOKUP($B66,'[1]Den 1'!$G$3:$O$93,3,FALSE),0)","v":0},{"$f":"IFERROR(VLOOKUP($B66,'[1]Den 1'!$G$3:$O$93,4,FALSE),0)","v":0},{"$f":"IFERROR(VLOOKUP($B66,'[1]Den 1'!$G$3:$O$93,5,FALSE),0)","v":0},{"$f":"IFERROR(VLOOKUP($B66,'[1]Den 1'!$G$3:$O$93,6,FALSE),0)","v":0},{"$f":"IFERROR(VLOOKUP($B66,'[1]Den 1'!$G$3:$O$93,7,FALSE),0)","v":0},{"$f":"IFERROR(VLOOKUP($B66,'[1]Den 1'!$G$3:$O$93,8,FALSE),0)","v":0},null,null,0]
["04201-ILLAPEL","105448-P.S.R. SANTA VIRGINIA",null,null,{"$f":"IFERROR(VLOOKUP($B67,'[1]Num 1 2021'!$G$3:$T$95,11,FALSE),0)","v":0},{"$f":"IFERROR(VLOOKUP($B67,'[1]Num 1 2021'!$G$3:$T$95,12,FALSE),0)","v":0},{"$f":"IFERROR(VLOOKUP($B67,'[1]Num 1 2021'!$G$3:$T$95,13,FALSE),0)","v":0},{"$f":"IFERROR(VLOOKUP($B67,'[1]Num 1'!$G$3:$O$88,2,FALSE),0)","v":0},{"$f":"IFERROR(VLOOKUP($B67,'[1]Num 1'!$G$3:$O$88,3,FALSE),0)","v":0},{"$f":"IFERROR(VLOOKUP($B67,'[1]Num 1'!$G$3:$O$88,4,FALSE),0)","v":0},{"$f":"IFERROR(VLOOKUP($B67,'[1]Num 1'!$G$3:$O$88,5,FALSE),0)","v":0},{"$f":"IFERROR(VLOOKUP($B67,'[1]Num 1'!$G$3:$O$88,6,FALSE),0)","v":0},{"$f":"IFERROR(VLOOKUP($B67,'[1]Num 1'!$G$3:$O$88,7,FALSE),0)","v":0},{"$f":"IFERROR(VLOOKUP($B67,'[1]Num 1'!$G$3:$O$88,8,FALSE),0)","v":0},null,null,0,{"$f":"IFERROR(VLOOKUP($B67,'[1]Den 1 2021'!$G$3:$T$104,11,FALSE),0)","v":0},{"$f":"IFERROR(VLOOKUP($B67,'[1]Den 1 2021'!$G$3:$T$104,12,FALSE),0)","v":0},{"$f":"IFERROR(VLOOKUP($B67,'[1]Den 1 2021'!$G$3:$T$104,13,FALSE),0)","v":0},{"$f":"IFERROR(VLOOKUP($B67,'[1]Den 1'!$G$3:$O$93,2,FALSE),0)","v":0},{"$f":"IFERROR(VLOOKUP($B67,'[1]Den 1'!$G$3:$O$93,3,FALSE),0)","v":0},{"$f":"IFERROR(VLOOKUP($B67,'[1]Den 1'!$G$3:$O$93,4,FALSE),0)","v":0},{"$f":"IFERROR(VLOOKUP($B67,'[1]Den 1'!$G$3:$O$93,5,FALSE),0)","v":0},{"$f":"IFERROR(VLOOKUP($B67,'[1]Den 1'!$G$3:$O$93,6,FALSE),0)","v":0},{"$f":"IFERROR(VLOOKUP($B67,'[1]Den 1'!$G$3:$O$93,7,FALSE),0)","v":0},{"$f":"IFERROR(VLOOKUP($B67,'[1]Den 1'!$G$3:$O$93,8,FALSE),0)","v":0},null,null,0]
["04201-ILLAPEL","105449-P.S.R. TUNGA NORTE",null,null,{"$f":"IFERROR(VLOOKUP($B68,'[1]Num 1 2021'!$G$3:$T$95,11,FALSE),0)","v":0},{"$f":"IFERROR(VLOOKUP($B68,'[1]Num 1 2021'!$G$3:$T$95,12,FALSE),0)","v":0},{"$f":"IFERROR(VLOOKUP($B68,'[1]Num 1 2021'!$G$3:$T$95,13,FALSE),0)","v":0},{"$f":"IFERROR(VLOOKUP($B68,'[1]Num 1'!$G$3:$O$88,2,FALSE),0)","v":0},{"$f":"IFERROR(VLOOKUP($B68,'[1]Num 1'!$G$3:$O$88,3,FALSE),0)","v":0},{"$f":"IFERROR(VLOOKUP($B68,'[1]Num 1'!$G$3:$O$88,4,FALSE),0)","v":0},{"$f":"IFERROR(VLOOKUP($B68,'[1]Num 1'!$G$3:$O$88,5,FALSE),0)","v":0},{"$f":"IFERROR(VLOOKUP($B68,'[1]Num 1'!$G$3:$O$88,6,FALSE),0)","v":0},{"$f":"IFERROR(VLOOKUP($B68,'[1]Num 1'!$G$3:$O$88,7,FALSE),0)","v":0},{"$f":"IFERROR(VLOOKUP($B68,'[1]Num 1'!$G$3:$O$88,8,FALSE),0)","v":0},null,null,0,{"$f":"IFERROR(VLOOKUP($B68,'[1]Den 1 2021'!$G$3:$T$104,11,FALSE),0)","v":0},{"$f":"IFERROR(VLOOKUP($B68,'[1]Den 1 2021'!$G$3:$T$104,12,FALSE),0)","v":0},{"$f":"IFERROR(VLOOKUP($B68,'[1]Den 1 2021'!$G$3:$T$104,13,FALSE),0)","v":0},{"$f":"IFERROR(VLOOKUP($B68,'[1]Den 1'!$G$3:$O$93,2,FALSE),0)","v":0},{"$f":"IFERROR(VLOOKUP($B68,'[1]Den 1'!$G$3:$O$93,3,FALSE),0)","v":0},{"$f":"IFERROR(VLOOKUP($B68,'[1]Den 1'!$G$3:$O$93,4,FALSE),0)","v":0},{"$f":"IFERROR(VLOOKUP($B68,'[1]Den 1'!$G$3:$O$93,5,FALSE),0)","v":0},{"$f":"IFERROR(VLOOKUP($B68,'[1]Den 1'!$G$3:$O$93,6,FALSE),0)","v":0},{"$f":"IFERROR(VLOOKUP($B68,'[1]Den 1'!$G$3:$O$93,7,FALSE),0)","v":0},{"$f":"IFERROR(VLOOKUP($B68,'[1]Den 1'!$G$3:$O$93,8,FALSE),0)","v":0},null,null,0]
["04201-ILLAPEL","105485-P.S.R. PLAN DE HORNOS",null,null,{"$f":"IFERROR(VLOOKUP($B69,'[1]Num 1 2021'!$G$3:$T$95,11,FALSE),0)","v":0},{"$f":"IFERROR(VLOOKUP($B69,'[1]Num 1 2021'!$G$3:$T$95,12,FALSE),0)","v":0},{"$f":"IFERROR(VLOOKUP($B69,'[1]Num 1 2021'!$G$3:$T$95,13,FALSE),0)","v":0},{"$f":"IFERROR(VLOOKUP($B69,'[1]Num 1'!$G$3:$O$88,2,FALSE),0)","v":0},{"$f":"IFERROR(VLOOKUP($B69,'[1]Num 1'!$G$3:$O$88,3,FALSE),0)","v":0},{"$f":"IFERROR(VLOOKUP($B69,'[1]Num 1'!$G$3:$O$88,4,FALSE),0)","v":0},{"$f":"IFERROR(VLOOKUP($B69,'[1]Num 1'!$G$3:$O$88,5,FALSE),0)","v":0},{"$f":"IFERROR(VLOOKUP($B69,'[1]Num 1'!$G$3:$O$88,6,FALSE),0)","v":0},{"$f":"IFERROR(VLOOKUP($B69,'[1]Num 1'!$G$3:$O$88,7,FALSE),0)","v":0},{"$f":"IFERROR(VLOOKUP($B69,'[1]Num 1'!$G$3:$O$88,8,FALSE),0)","v":0},null,null,0,{"$f":"IFERROR(VLOOKUP($B69,'[1]Den 1 2021'!$G$3:$T$104,11,FALSE),0)","v":0},{"$f":"IFERROR(VLOOKUP($B69,'[1]Den 1 2021'!$G$3:$T$104,12,FALSE),0)","v":0},{"$f":"IFERROR(VLOOKUP($B69,'[1]Den 1 2021'!$G$3:$T$104,13,FALSE),0)","v":0},{"$f":"IFERROR(VLOOKUP($B69,'[1]Den 1'!$G$3:$O$93,2,FALSE),0)","v":0},{"$f":"IFERROR(VLOOKUP($B69,'[1]Den 1'!$G$3:$O$93,3,FALSE),0)","v":0},{"$f":"IFERROR(VLOOKUP($B69,'[1]Den 1'!$G$3:$O$93,4,FALSE),0)","v":0},{"$f":"IFERROR(VLOOKUP($B69,'[1]Den 1'!$G$3:$O$93,5,FALSE),0)","v":0},{"$f":"IFERROR(VLOOKUP($B69,'[1]Den 1'!$G$3:$O$93,6,FALSE),0)","v":0},{"$f":"IFERROR(VLOOKUP($B69,'[1]Den 1'!$G$3:$O$93,7,FALSE),0)","v":0},{"$f":"IFERROR(VLOOKUP($B69,'[1]Den 1'!$G$3:$O$93,8,FALSE),0)","v":0},null,null,0]
["04201-ILLAPEL","105486-P.S.R. TUNGA SUR",null,null,{"$f":"IFERROR(VLOOKUP($B70,'[1]Num 1 2021'!$G$3:$T$95,11,FALSE),0)","v":0},{"$f":"IFERROR(VLOOKUP($B70,'[1]Num 1 2021'!$G$3:$T$95,12,FALSE),0)","v":0},{"$f":"IFERROR(VLOOKUP($B70,'[1]Num 1 2021'!$G$3:$T$95,13,FALSE),0)","v":0},{"$f":"IFERROR(VLOOKUP($B70,'[1]Num 1'!$G$3:$O$88,2,FALSE),0)","v":0},{"$f":"IFERROR(VLOOKUP($B70,'[1]Num 1'!$G$3:$O$88,3,FALSE),0)","v":0},{"$f":"IFERROR(VLOOKUP($B70,'[1]Num 1'!$G$3:$O$88,4,FALSE),0)","v":0},{"$f":"IFERROR(VLOOKUP($B70,'[1]Num 1'!$G$3:$O$88,5,FALSE),0)","v":0},{"$f":"IFERROR(VLOOKUP($B70,'[1]Num 1'!$G$3:$O$88,6,FALSE),0)","v":0},{"$f":"IFERROR(VLOOKUP($B70,'[1]Num 1'!$G$3:$O$88,7,FALSE),0)","v":0},{"$f":"IFERROR(VLOOKUP($B70,'[1]Num 1'!$G$3:$O$88,8,FALSE),0)","v":0},null,null,0,{"$f":"IFERROR(VLOOKUP($B70,'[1]Den 1 2021'!$G$3:$T$104,11,FALSE),0)","v":0},{"$f":"IFERROR(VLOOKUP($B70,'[1]Den 1 2021'!$G$3:$T$104,12,FALSE),0)","v":0},{"$f":"IFERROR(VLOOKUP($B70,'[1]Den 1 2021'!$G$3:$T$104,13,FALSE),0)","v":0},{"$f":"IFERROR(VLOOKUP($B70,'[1]Den 1'!$G$3:$O$93,2,FALSE),0)","v":0},{"$f":"IFERROR(VLOOKUP($B70,'[1]Den 1'!$G$3:$O$93,3,FALSE),0)","v":0},{"$f":"IFERROR(VLOOKUP($B70,'[1]Den 1'!$G$3:$O$93,4,FALSE),0)","v":0},{"$f":"IFERROR(VLOOKUP($B70,'[1]Den 1'!$G$3:$O$93,5,FALSE),0)","v":0},{"$f":"IFERROR(VLOOKUP($B70,'[1]Den 1'!$G$3:$O$93,6,FALSE),0)","v":0},{"$f":"IFERROR(VLOOKUP($B70,'[1]Den 1'!$G$3:$O$93,7,FALSE),0)","v":0},{"$f":"IFERROR(VLOOKUP($B70,'[1]Den 1'!$G$3:$O$93,8,FALSE),0)","v":0},null,null,0]
["04201-ILLAPEL","105487-P.S.R. CAÑAS UNO",null,null,{"$f":"IFERROR(VLOOKUP($B71,'[1]Num 1 2021'!$G$3:$T$95,11,FALSE),0)","v":0},{"$f":"IFERROR(VLOOKUP($B71,'[1]Num 1 2021'!$G$3:$T$95,12,FALSE),0)","v":0},{"$f":"IFERROR(VLOOKUP($B71,'[1]Num 1 2021'!$G$3:$T$95,13,FALSE),0)","v":0},{"$f":"IFERROR(VLOOKUP($B71,'[1]Num 1'!$G$3:$O$88,2,FALSE),0)","v":0},{"$f":"IFERROR(VLOOKUP($B71,'[1]Num 1'!$G$3:$O$88,3,FALSE),0)","v":0},{"$f":"IFERROR(VLOOKUP($B71,'[1]Num 1'!$G$3:$O$88,4,FALSE),0)","v":0},{"$f":"IFERROR(VLOOKUP($B71,'[1]Num 1'!$G$3:$O$88,5,FALSE),0)","v":1},{"$f":"IFERROR(VLOOKUP($B71,'[1]Num 1'!$G$3:$O$88,6,FALSE),0)","v":0},{"$f":"IFERROR(VLOOKUP($B71,'[1]Num 1'!$G$3:$O$88,7,FALSE),0)","v":0},{"$f":"IFERROR(VLOOKUP($B71,'[1]Num 1'!$G$3:$O$88,8,FALSE),0)","v":0},null,null,{"$f":"SUM(E71:P71)","v":1},{"$f":"IFERROR(VLOOKUP($B71,'[1]Den 1 2021'!$G$3:$T$104,11,FALSE),0)","v":0},{"$f":"IFERROR(VLOOKUP($B71,'[1]Den 1 2021'!$G$3:$T$104,12,FALSE),0)","v":0},{"$f":"IFERROR(VLOOKUP($B71,'[1]Den 1 2021'!$G$3:$T$104,13,FALSE),0)","v":0},{"$f":"IFERROR(VLOOKUP($B71,'[1]Den 1'!$G$3:$O$93,2,FALSE),0)","v":0},{"$f":"IFERROR(VLOOKUP($B71,'[1]Den 1'!$G$3:$O$93,3,FALSE),0)","v":1},{"$f":"IFERROR(VLOOKUP($B71,'[1]Den 1'!$G$3:$O$93,4,FALSE),0)","v":0},{"$f":"IFERROR(VLOOKUP($B71,'[1]Den 1'!$G$3:$O$93,5,FALSE),0)","v":0},{"$f":"IFERROR(VLOOKUP($B71,'[1]Den 1'!$G$3:$O$93,6,FALSE),0)","v":0},{"$f":"IFERROR(VLOOKUP($B71,'[1]Den 1'!$G$3:$O$93,7,FALSE),0)","v":0},{"$f":"IFERROR(VLOOKUP($B71,'[1]Den 1'!$G$3:$O$93,8,FALSE),0)","v":0},null,null,1]
["04201-ILLAPEL","105496-P.S.R. PINTACURA SUR",null,null,{"$f":"IFERROR(VLOOKUP($B72,'[1]Num 1 2021'!$G$3:$T$95,11,FALSE),0)","v":0},{"$f":"IFERROR(VLOOKUP($B72,'[1]Num 1 2021'!$G$3:$T$95,12,FALSE),0)","v":0},{"$f":"IFERROR(VLOOKUP($B72,'[1]Num 1 2021'!$G$3:$T$95,13,FALSE),0)","v":0},{"$f":"IFERROR(VLOOKUP($B72,'[1]Num 1'!$G$3:$O$88,2,FALSE),0)","v":0},{"$f":"IFERROR(VLOOKUP($B72,'[1]Num 1'!$G$3:$O$88,3,FALSE),0)","v":0},{"$f":"IFERROR(VLOOKUP($B72,'[1]Num 1'!$G$3:$O$88,4,FALSE),0)","v":0},{"$f":"IFERROR(VLOOKUP($B72,'[1]Num 1'!$G$3:$O$88,5,FALSE),0)","v":0},{"$f":"IFERROR(VLOOKUP($B72,'[1]Num 1'!$G$3:$O$88,6,FALSE),0)","v":0},{"$f":"IFERROR(VLOOKUP($B72,'[1]Num 1'!$G$3:$O$88,7,FALSE),0)","v":0},{"$f":"IFERROR(VLOOKUP($B72,'[1]Num 1'!$G$3:$O$88,8,FALSE),0)","v":0},null,null,{"$f":"SUM(E72:P72)","v":0},{"$f":"IFERROR(VLOOKUP($B72,'[1]Den 1 2021'!$G$3:$T$104,11,FALSE),0)","v":0},{"$f":"IFERROR(VLOOKUP($B72,'[1]Den 1 2021'!$G$3:$T$104,12,FALSE),0)","v":0},{"$f":"IFERROR(VLOOKUP($B72,'[1]Den 1 2021'!$G$3:$T$104,13,FALSE),0)","v":0},{"$f":"IFERROR(VLOOKUP($B72,'[1]Den 1'!$G$3:$O$93,2,FALSE),0)","v":0},{"$f":"IFERROR(VLOOKUP($B72,'[1]Den 1'!$G$3:$O$93,3,FALSE),0)","v":0},{"$f":"IFERROR(VLOOKUP($B72,'[1]Den 1'!$G$3:$O$93,4,FALSE),0)","v":0},{"$f":"IFERROR(VLOOKUP($B72,'[1]Den 1'!$G$3:$O$93,5,FALSE),0)","v":0},{"$f":"IFERROR(VLOOKUP($B72,'[1]Den 1'!$G$3:$O$93,6,FALSE),0)","v":0},{"$f":"IFERROR(VLOOKUP($B72,'[1]Den 1'!$G$3:$O$93,7,FALSE),0)","v":0},{"$f":"IFERROR(VLOOKUP($B72,'[1]Den 1'!$G$3:$O$93,8,FALSE),0)","v":0},null,null,0]
["04201-ILLAPEL","105504-P.S.R. SOCAVON",null,null,{"$f":"IFERROR(VLOOKUP($B73,'[1]Num 1 2021'!$G$3:$T$95,11,FALSE),0)","v":0},{"$f":"IFERROR(VLOOKUP($B73,'[1]Num 1 2021'!$G$3:$T$95,12,FALSE),0)","v":0},{"$f":"IFERROR(VLOOKUP($B73,'[1]Num 1 2021'!$G$3:$T$95,13,FALSE),0)","v":0},{"$f":"IFERROR(VLOOKUP($B73,'[1]Num 1'!$G$3:$O$88,2,FALSE),0)","v":0},{"$f":"IFERROR(VLOOKUP($B73,'[1]Num 1'!$G$3:$O$88,3,FALSE),0)","v":0},{"$f":"IFERROR(VLOOKUP($B73,'[1]Num 1'!$G$3:$O$88,4,FALSE),0)","v":0},{"$f":"IFERROR(VLOOKUP($B73,'[1]Num 1'!$G$3:$O$88,5,FALSE),0)","v":0},{"$f":"IFERROR(VLOOKUP($B73,'[1]Num 1'!$G$3:$O$88,6,FALSE),0)","v":0},{"$f":"IFERROR(VLOOKUP($B73,'[1]Num 1'!$G$3:$O$88,7,FALSE),0)","v":0},{"$f":"IFERROR(VLOOKUP($B73,'[1]Num 1'!$G$3:$O$88,8,FALSE),0)","v":0},null,null,0,{"$f":"IFERROR(VLOOKUP($B73,'[1]Den 1 2021'!$G$3:$T$104,11,FALSE),0)","v":0},{"$f":"IFERROR(VLOOKUP($B73,'[1]Den 1 2021'!$G$3:$T$104,12,FALSE),0)","v":0},{"$f":"IFERROR(VLOOKUP($B73,'[1]Den 1 2021'!$G$3:$T$104,13,FALSE),0)","v":0},{"$f":"IFERROR(VLOOKUP($B73,'[1]Den 1'!$G$3:$O$93,2,FALSE),0)","v":0},{"$f":"IFERROR(VLOOKUP($B73,'[1]Den 1'!$G$3:$O$93,3,FALSE),0)","v":0},{"$f":"IFERROR(VLOOKUP($B73,'[1]Den 1'!$G$3:$O$93,4,FALSE),0)","v":0},{"$f":"IFERROR(VLOOKUP($B73,'[1]Den 1'!$G$3:$O$93,5,FALSE),0)","v":0},{"$f":"IFERROR(VLOOKUP($B73,'[1]Den 1'!$G$3:$O$93,6,FALSE),0)","v":0},{"$f":"IFERROR(VLOOKUP($B73,'[1]Den 1'!$G$3:$O$93,7,FALSE),0)","v":0},{"$f":"IFERROR(VLOOKUP($B73,'[1]Den 1'!$G$3:$O$93,8,FALSE),0)","v":0},null,null,0]
["04201-ILLAPEL","200366-CESFAM URBANO II",null,null,{"$f":"IFERROR(VLOOKUP($B74,'[1]Num 1 2021'!$G$3:$T$95,11,FALSE),0)","v":2},{"$f":"IFERROR(VLOOKUP($B74,'[1]Num 1 2021'!$G$3:$T$95,12,FALSE),0)","v":0},{"$f":"IFERROR(VLOOKUP($B74,'[1]Num 1 2021'!$G$3:$T$95,13,FALSE),0)","v":2},{"$f":"IFERROR(VLOOKUP($B74,'[1]Num 1'!$G$3:$O$88,2,FALSE),0)","v":0},{"$f":"IFERROR(VLOOKUP($B74,'[1]Num 1'!$G$3:$O$88,3,FALSE),0)","v":0},{"$f":"IFERROR(VLOOKUP($B74,'[1]Num 1'!$G$3:$O$88,4,FALSE),0)","v":0},{"$f":"IFERROR(VLOOKUP($B74,'[1]Num 1'!$G$3:$O$88,5,FALSE),0)","v":1},{"$f":"IFERROR(VLOOKUP($B74,'[1]Num 1'!$G$3:$O$88,6,FALSE),0)","v":0},{"$f":"IFERROR(VLOOKUP($B74,'[1]Num 1'!$G$3:$O$88,7,FALSE),0)","v":8},{"$f":"IFERROR(VLOOKUP($B74,'[1]Num 1'!$G$3:$O$88,8,FALSE),0)","v":0},null,null,13,{"$f":"IFERROR(VLOOKUP($B74,'[1]Den 1 2021'!$G$3:$T$104,11,FALSE),0)","v":0},{"$f":"IFERROR(VLOOKUP($B74,'[1]Den 1 2021'!$G$3:$T$104,12,FALSE),0)","v":0},{"$f":"IFERROR(VLOOKUP($B74,'[1]Den 1 2021'!$G$3:$T$104,13,FALSE),0)","v":0},{"$f":"IFERROR(VLOOKUP($B74,'[1]Den 1'!$G$3:$O$93,2,FALSE),0)","v":2},{"$f":"IFERROR(VLOOKUP($B74,'[1]Den 1'!$G$3:$O$93,3,FALSE),0)","v":2},{"$f":"IFERROR(VLOOKUP($B74,'[1]Den 1'!$G$3:$O$93,4,FALSE),0)","v":4},{"$f":"IFERROR(VLOOKUP($B74,'[1]Den 1'!$G$3:$O$93,5,FALSE),0)","v":0},{"$f":"IFERROR(VLOOKUP($B74,'[1]Den 1'!$G$3:$O$93,6,FALSE),0)","v":0},{"$f":"IFERROR(VLOOKUP($B74,'[1]Den 1'!$G$3:$O$93,7,FALSE),0)","v":0},{"$f":"IFERROR(VLOOKUP($B74,'[1]Den 1'!$G$3:$O$93,8,FALSE),0)","v":1},null,null,9]
["TOTAL ILLAPEL",null,{"$f":"D75/Metas!G10","v":{"v":1.8181818181818183,"d":"181.82%"}},{"$f":"Q75/AD75","v":{"v":1.6363636363636365,"d":"163.64%"}},{"$f":"SUM(E61:E74)","v":3},{"$f":"SUM(F61:F74)","v":2},2,0,0,0,3,0,8,0,0,0,{"$f":"SUM(Q61:Q74)","v":18},{"$f":"SUM(R61:R74)","v":0},{"$f":"SUM(S61:S74)","v":0},0,3,3,4,0,0,0,1,0,0,11]
["04202-CANELA","105309-CES. RURAL CANELA",null,null,{"$f":"IFERROR(VLOOKUP($B76,'[1]Num 1 2021'!$G$3:$T$95,11,FALSE),0)","v":0},{"$f":"IFERROR(VLOOKUP($B76,'[1]Num 1 2021'!$G$3:$T$95,12,FALSE),0)","v":0},{"$f":"IFERROR(VLOOKUP($B76,'[1]Num 1 2021'!$G$3:$T$95,13,FALSE),0)","v":3},{"$f":"IFERROR(VLOOKUP($B76,'[1]Num 1'!$G$3:$O$88,2,FALSE),0)","v":1},{"$f":"IFERROR(VLOOKUP($B76,'[1]Num 1'!$G$3:$O$88,3,FALSE),0)","v":0},{"$f":"IFERROR(VLOOKUP($B76,'[1]Num 1'!$G$3:$O$88,4,FALSE),0)","v":0},{"$f":"IFERROR(VLOOKUP($B76,'[1]Num 1'!$G$3:$O$88,5,FALSE),0)","v":1},{"$f":"IFERROR(VLOOKUP($B76,'[1]Num 1'!$G$3:$O$88,6,FALSE),0)","v":1},{"$f":"IFERROR(VLOOKUP($B76,'[1]Num 1'!$G$3:$O$88,7,FALSE),0)","v":3},{"$f":"IFERROR(VLOOKUP($B76,'[1]Num 1'!$G$3:$O$88,8,FALSE),0)","v":0},null,null,{"$f":"SUM(E76:P76)","v":9},{"$f":"IFERROR(VLOOKUP($B76,'[1]Den 1 2021'!$G$3:$T$104,11,FALSE),0)","v":2},{"$f":"IFERROR(VLOOKUP($B76,'[1]Den 1 2021'!$G$3:$T$104,12,FALSE),0)","v":1},{"$f":"IFERROR(VLOOKUP($B76,'[1]Den 1 2021'!$G$3:$T$104,13,FALSE),0)","v":2},{"$f":"IFERROR(VLOOKUP($B76,'[1]Den 1'!$G$3:$O$93,2,FALSE),0)","v":0},{"$f":"IFERROR(VLOOKUP($B76,'[1]Den 1'!$G$3:$O$93,3,FALSE),0)","v":1},{"$f":"IFERROR(VLOOKUP($B76,'[1]Den 1'!$G$3:$O$93,4,FALSE),0)","v":2},{"$f":"IFERROR(VLOOKUP($B76,'[1]Den 1'!$G$3:$O$93,5,FALSE),0)","v":2},{"$f":"IFERROR(VLOOKUP($B76,'[1]Den 1'!$G$3:$O$93,6,FALSE),0)","v":2},{"$f":"IFERROR(VLOOKUP($B76,'[1]Den 1'!$G$3:$O$93,7,FALSE),0)","v":2},{"$f":"IFERROR(VLOOKUP($B76,'[1]Den 1'!$G$3:$O$93,8,FALSE),0)","v":1},null,null,15]
["04202-CANELA","105450-P.S.R. MINCHA NORTE            ",null,null,{"$f":"IFERROR(VLOOKUP($B77,'[1]Num 1 2021'!$G$3:$T$95,11,FALSE),0)","v":0},{"$f":"IFERROR(VLOOKUP($B77,'[1]Num 1 2021'!$G$3:$T$95,12,FALSE),0)","v":0},{"$f":"IFERROR(VLOOKUP($B77,'[1]Num 1 2021'!$G$3:$T$95,13,FALSE),0)","v":0},{"$f":"IFERROR(VLOOKUP($B77,'[1]Num 1'!$G$3:$O$88,2,FALSE),0)","v":0},{"$f":"IFERROR(VLOOKUP($B77,'[1]Num 1'!$G$3:$O$88,3,FALSE),0)","v":0},{"$f":"IFERROR(VLOOKUP($B77,'[1]Num 1'!$G$3:$O$88,4,FALSE),0)","v":0},{"$f":"IFERROR(VLOOKUP($B77,'[1]Num 1'!$G$3:$O$88,5,FALSE),0)","v":0},{"$f":"IFERROR(VLOOKUP($B77,'[1]Num 1'!$G$3:$O$88,6,FALSE),0)","v":0},{"$f":"IFERROR(VLOOKUP($B77,'[1]Num 1'!$G$3:$O$88,7,FALSE),0)","v":0},{"$f":"IFERROR(VLOOKUP($B77,'[1]Num 1'!$G$3:$O$88,8,FALSE),0)","v":0},null,null,0,{"$f":"IFERROR(VLOOKUP($B77,'[1]Den 1 2021'!$G$3:$T$104,11,FALSE),0)","v":0},{"$f":"IFERROR(VLOOKUP($B77,'[1]Den 1 2021'!$G$3:$T$104,12,FALSE),0)","v":0},{"$f":"IFERROR(VLOOKUP($B77,'[1]Den 1 2021'!$G$3:$T$104,13,FALSE),0)","v":1},{"$f":"IFERROR(VLOOKUP($B77,'[1]Den 1'!$G$3:$O$93,2,FALSE),0)","v":0},{"$f":"IFERROR(VLOOKUP($B77,'[1]Den 1'!$G$3:$O$93,3,FALSE),0)","v":0},{"$f":"IFERROR(VLOOKUP($B77,'[1]Den 1'!$G$3:$O$93,4,FALSE),0)","v":0},{"$f":"IFERROR(VLOOKUP($B77,'[1]Den 1'!$G$3:$O$93,5,FALSE),0)","v":0},{"$f":"IFERROR(VLOOKUP($B77,'[1]Den 1'!$G$3:$O$93,6,FALSE),0)","v":0},{"$f":"IFERROR(VLOOKUP($B77,'[1]Den 1'!$G$3:$O$93,7,FALSE),0)","v":0},{"$f":"IFERROR(VLOOKUP($B77,'[1]Den 1'!$G$3:$O$93,8,FALSE),0)","v":0},null,null,1]
["04202-CANELA","105451-P.S.R. AGUA FRIA",null,null,{"$f":"IFERROR(VLOOKUP($B78,'[1]Num 1 2021'!$G$3:$T$95,11,FALSE),0)","v":0},{"$f":"IFERROR(VLOOKUP($B78,'[1]Num 1 2021'!$G$3:$T$95,12,FALSE),0)","v":0},{"$f":"IFERROR(VLOOKUP($B78,'[1]Num 1 2021'!$G$3:$T$95,13,FALSE),0)","v":0},{"$f":"IFERROR(VLOOKUP($B78,'[1]Num 1'!$G$3:$O$88,2,FALSE),0)","v":0},{"$f":"IFERROR(VLOOKUP($B78,'[1]Num 1'!$G$3:$O$88,3,FALSE),0)","v":0},{"$f":"IFERROR(VLOOKUP($B78,'[1]Num 1'!$G$3:$O$88,4,FALSE),0)","v":0},{"$f":"IFERROR(VLOOKUP($B78,'[1]Num 1'!$G$3:$O$88,5,FALSE),0)","v":0},{"$f":"IFERROR(VLOOKUP($B78,'[1]Num 1'!$G$3:$O$88,6,FALSE),0)","v":0},{"$f":"IFERROR(VLOOKUP($B78,'[1]Num 1'!$G$3:$O$88,7,FALSE),0)","v":0},{"$f":"IFERROR(VLOOKUP($B78,'[1]Num 1'!$G$3:$O$88,8,FALSE),0)","v":0},null,null,0,{"$f":"IFERROR(VLOOKUP($B78,'[1]Den 1 2021'!$G$3:$T$104,11,FALSE),0)","v":0},{"$f":"IFERROR(VLOOKUP($B78,'[1]Den 1 2021'!$G$3:$T$104,12,FALSE),0)","v":0},{"$f":"IFERROR(VLOOKUP($B78,'[1]Den 1 2021'!$G$3:$T$104,13,FALSE),0)","v":0},{"$f":"IFERROR(VLOOKUP($B78,'[1]Den 1'!$G$3:$O$93,2,FALSE),0)","v":0},{"$f":"IFERROR(VLOOKUP($B78,'[1]Den 1'!$G$3:$O$93,3,FALSE),0)","v":0},{"$f":"IFERROR(VLOOKUP($B78,'[1]Den 1'!$G$3:$O$93,4,FALSE),0)","v":0},{"$f":"IFERROR(VLOOKUP($B78,'[1]Den 1'!$G$3:$O$93,5,FALSE),0)","v":0},{"$f":"IFERROR(VLOOKUP($B78,'[1]Den 1'!$G$3:$O$93,6,FALSE),0)","v":0},{"$f":"IFERROR(VLOOKUP($B78,'[1]Den 1'!$G$3:$O$93,7,FALSE),0)","v":0},{"$f":"IFERROR(VLOOKUP($B78,'[1]Den 1'!$G$3:$O$93,8,FALSE),0)","v":0},null,null,0]
["04202-CANELA","105482-P.S.R. CANELA ALTA",null,null,{"$f":"IFERROR(VLOOKUP($B79,'[1]Num 1 2021'!$G$3:$T$95,11,FALSE),0)","v":0},{"$f":"IFERROR(VLOOKUP($B79,'[1]Num 1 2021'!$G$3:$T$95,12,FALSE),0)","v":0},{"$f":"IFERROR(VLOOKUP($B79,'[1]Num 1 2021'!$G$3:$T$95,13,FALSE),0)","v":0},{"$f":"IFERROR(VLOOKUP($B79,'[1]Num 1'!$G$3:$O$88,2,FALSE),0)","v":0},{"$f":"IFERROR(VLOOKUP($B79,'[1]Num 1'!$G$3:$O$88,3,FALSE),0)","v":0},{"$f":"IFERROR(VLOOKUP($B79,'[1]Num 1'!$G$3:$O$88,4,FALSE),0)","v":0},{"$f":"IFERROR(VLOOKUP($B79,'[1]Num 1'!$G$3:$O$88,5,FALSE),0)","v":0},{"$f":"IFERROR(VLOOKUP($B79,'[1]Num 1'!$G$3:$O$88,6,FALSE),0)","v":0},{"$f":"IFERROR(VLOOKUP($B79,'[1]Num 1'!$G$3:$O$88,7,FALSE),0)","v":0},{"$f":"IFERROR(VLOOKUP($B79,'[1]Num 1'!$G$3:$O$88,8,FALSE),0)","v":0},null,null,0,{"$f":"IFERROR(VLOOKUP($B79,'[1]Den 1 2021'!$G$3:$T$104,11,FALSE),0)","v":0},{"$f":"IFERROR(VLOOKUP($B79,'[1]Den 1 2021'!$G$3:$T$104,12,FALSE),0)","v":0},{"$f":"IFERROR(VLOOKUP($B79,'[1]Den 1 2021'!$G$3:$T$104,13,FALSE),0)","v":0},{"$f":"IFERROR(VLOOKUP($B79,'[1]Den 1'!$G$3:$O$93,2,FALSE),0)","v":0},{"$f":"IFERROR(VLOOKUP($B79,'[1]Den 1'!$G$3:$O$93,3,FALSE),0)","v":0},{"$f":"IFERROR(VLOOKUP($B79,'[1]Den 1'!$G$3:$O$93,4,FALSE),0)","v":0},{"$f":"IFERROR(VLOOKUP($B79,'[1]Den 1'!$G$3:$O$93,5,FALSE),0)","v":0},{"$f":"IFERROR(VLOOKUP($B79,'[1]Den 1'!$G$3:$O$93,6,FALSE),0)","v":0},{"$f":"IFERROR(VLOOKUP($B79,'[1]Den 1'!$G$3:$O$93,7,FALSE),0)","v":0},{"$f":"IFERROR(VLOOKUP($B79,'[1]Den 1'!$G$3:$O$93,8,FALSE),0)","v":0},null,null,0]
["04202-CANELA","105483-P.S.R. LOS RULOS",null,null,{"$f":"IFERROR(VLOOKUP($B80,'[1]Num 1 2021'!$G$3:$T$95,11,FALSE),0)","v":0},{"$f":"IFERROR(VLOOKUP($B80,'[1]Num 1 2021'!$G$3:$T$95,12,FALSE),0)","v":0},{"$f":"IFERROR(VLOOKUP($B80,'[1]Num 1 2021'!$G$3:$T$95,13,FALSE),0)","v":0},{"$f":"IFERROR(VLOOKUP($B80,'[1]Num 1'!$G$3:$O$88,2,FALSE),0)","v":0},{"$f":"IFERROR(VLOOKUP($B80,'[1]Num 1'!$G$3:$O$88,3,FALSE),0)","v":0},{"$f":"IFERROR(VLOOKUP($B80,'[1]Num 1'!$G$3:$O$88,4,FALSE),0)","v":0},{"$f":"IFERROR(VLOOKUP($B80,'[1]Num 1'!$G$3:$O$88,5,FALSE),0)","v":0},{"$f":"IFERROR(VLOOKUP($B80,'[1]Num 1'!$G$3:$O$88,6,FALSE),0)","v":0},{"$f":"IFERROR(VLOOKUP($B80,'[1]Num 1'!$G$3:$O$88,7,FALSE),0)","v":0},{"$f":"IFERROR(VLOOKUP($B80,'[1]Num 1'!$G$3:$O$88,8,FALSE),0)","v":0},null,null,0,{"$f":"IFERROR(VLOOKUP($B80,'[1]Den 1 2021'!$G$3:$T$104,11,FALSE),0)","v":0},{"$f":"IFERROR(VLOOKUP($B80,'[1]Den 1 2021'!$G$3:$T$104,12,FALSE),0)","v":0},{"$f":"IFERROR(VLOOKUP($B80,'[1]Den 1 2021'!$G$3:$T$104,13,FALSE),0)","v":0},{"$f":"IFERROR(VLOOKUP($B80,'[1]Den 1'!$G$3:$O$93,2,FALSE),0)","v":0},{"$f":"IFERROR(VLOOKUP($B80,'[1]Den 1'!$G$3:$O$93,3,FALSE),0)","v":0},{"$f":"IFERROR(VLOOKUP($B80,'[1]Den 1'!$G$3:$O$93,4,FALSE),0)","v":0},{"$f":"IFERROR(VLOOKUP($B80,'[1]Den 1'!$G$3:$O$93,5,FALSE),0)","v":0},{"$f":"IFERROR(VLOOKUP($B80,'[1]Den 1'!$G$3:$O$93,6,FALSE),0)","v":0},{"$f":"IFERROR(VLOOKUP($B80,'[1]Den 1'!$G$3:$O$93,7,FALSE),0)","v":0},{"$f":"IFERROR(VLOOKUP($B80,'[1]Den 1'!$G$3:$O$93,8,FALSE),0)","v":0},null,null,0]
["04202-CANELA","105484-P.S.R. HUENTELAUQUEN",null,null,{"$f":"IFERROR(VLOOKUP($B81,'[1]Num 1 2021'!$G$3:$T$95,11,FALSE),0)","v":0},{"$f":"IFERROR(VLOOKUP($B81,'[1]Num 1 2021'!$G$3:$T$95,12,FALSE),0)","v":0},{"$f":"IFERROR(VLOOKUP($B81,'[1]Num 1 2021'!$G$3:$T$95,13,FALSE),0)","v":0},{"$f":"IFERROR(VLOOKUP($B81,'[1]Num 1'!$G$3:$O$88,2,FALSE),0)","v":0},{"$f":"IFERROR(VLOOKUP($B81,'[1]Num 1'!$G$3:$O$88,3,FALSE),0)","v":0},{"$f":"IFERROR(VLOOKUP($B81,'[1]Num 1'!$G$3:$O$88,4,FALSE),0)","v":0},{"$f":"IFERROR(VLOOKUP($B81,'[1]Num 1'!$G$3:$O$88,5,FALSE),0)","v":0},{"$f":"IFERROR(VLOOKUP($B81,'[1]Num 1'!$G$3:$O$88,6,FALSE),0)","v":0},{"$f":"IFERROR(VLOOKUP($B81,'[1]Num 1'!$G$3:$O$88,7,FALSE),0)","v":0},{"$f":"IFERROR(VLOOKUP($B81,'[1]Num 1'!$G$3:$O$88,8,FALSE),0)","v":0},null,null,0,{"$f":"IFERROR(VLOOKUP($B81,'[1]Den 1 2021'!$G$3:$T$104,11,FALSE),0)","v":0},{"$f":"IFERROR(VLOOKUP($B81,'[1]Den 1 2021'!$G$3:$T$104,12,FALSE),0)","v":0},{"$f":"IFERROR(VLOOKUP($B81,'[1]Den 1 2021'!$G$3:$T$104,13,FALSE),0)","v":0},{"$f":"IFERROR(VLOOKUP($B81,'[1]Den 1'!$G$3:$O$93,2,FALSE),0)","v":0},{"$f":"IFERROR(VLOOKUP($B81,'[1]Den 1'!$G$3:$O$93,3,FALSE),0)","v":0},{"$f":"IFERROR(VLOOKUP($B81,'[1]Den 1'!$G$3:$O$93,4,FALSE),0)","v":0},{"$f":"IFERROR(VLOOKUP($B81,'[1]Den 1'!$G$3:$O$93,5,FALSE),0)","v":0},{"$f":"IFERROR(VLOOKUP($B81,'[1]Den 1'!$G$3:$O$93,6,FALSE),0)","v":0},{"$f":"IFERROR(VLOOKUP($B81,'[1]Den 1'!$G$3:$O$93,7,FALSE),0)","v":0},{"$f":"IFERROR(VLOOKUP($B81,'[1]Den 1'!$G$3:$O$93,8,FALSE),0)","v":0},null,null,0]
["04202-CANELA","105488-P.S.R. ESPIRITU SANTO",null,null,{"$f":"IFERROR(VLOOKUP($B82,'[1]Num 1 2021'!$G$3:$T$95,11,FALSE),0)","v":0},{"$f":"IFERROR(VLOOKUP($B82,'[1]Num 1 2021'!$G$3:$T$95,12,FALSE),0)","v":0},{"$f":"IFERROR(VLOOKUP($B82,'[1]Num 1 2021'!$G$3:$T$95,13,FALSE),0)","v":0},{"$f":"IFERROR(VLOOKUP($B82,'[1]Num 1'!$G$3:$O$88,2,FALSE),0)","v":0},{"$f":"IFERROR(VLOOKUP($B82,'[1]Num 1'!$G$3:$O$88,3,FALSE),0)","v":0},{"$f":"IFERROR(VLOOKUP($B82,'[1]Num 1'!$G$3:$O$88,4,FALSE),0)","v":0},{"$f":"IFERROR(VLOOKUP($B82,'[1]Num 1'!$G$3:$O$88,5,FALSE),0)","v":0},{"$f":"IFERROR(VLOOKUP($B82,'[1]Num 1'!$G$3:$O$88,6,FALSE),0)","v":0},{"$f":"IFERROR(VLOOKUP($B82,'[1]Num 1'!$G$3:$O$88,7,FALSE),0)","v":0},{"$f":"IFERROR(VLOOKUP($B82,'[1]Num 1'!$G$3:$O$88,8,FALSE),0)","v":0},null,null,0,{"$f":"IFERROR(VLOOKUP($B82,'[1]Den 1 2021'!$G$3:$T$104,11,FALSE),0)","v":0},{"$f":"IFERROR(VLOOKUP($B82,'[1]Den 1 2021'!$G$3:$T$104,12,FALSE),0)","v":0},{"$f":"IFERROR(VLOOKUP($B82,'[1]Den 1 2021'!$G$3:$T$104,13,FALSE),0)","v":0},{"$f":"IFERROR(VLOOKUP($B82,'[1]Den 1'!$G$3:$O$93,2,FALSE),0)","v":0},{"$f":"IFERROR(VLOOKUP($B82,'[1]Den 1'!$G$3:$O$93,3,FALSE),0)","v":0},{"$f":"IFERROR(VLOOKUP($B82,'[1]Den 1'!$G$3:$O$93,4,FALSE),0)","v":0},{"$f":"IFERROR(VLOOKUP($B82,'[1]Den 1'!$G$3:$O$93,5,FALSE),0)","v":0},{"$f":"IFERROR(VLOOKUP($B82,'[1]Den 1'!$G$3:$O$93,6,FALSE),0)","v":0},{"$f":"IFERROR(VLOOKUP($B82,'[1]Den 1'!$G$3:$O$93,7,FALSE),0)","v":0},{"$f":"IFERROR(VLOOKUP($B82,'[1]Den 1'!$G$3:$O$93,8,FALSE),0)","v":0},null,null,0]
["04202-CANELA","105493-P.S.R. MINCHA SUR",null,null,{"$f":"IFERROR(VLOOKUP($B83,'[1]Num 1 2021'!$G$3:$T$95,11,FALSE),0)","v":0},{"$f":"IFERROR(VLOOKUP($B83,'[1]Num 1 2021'!$G$3:$T$95,12,FALSE),0)","v":0},{"$f":"IFERROR(VLOOKUP($B83,'[1]Num 1 2021'!$G$3:$T$95,13,FALSE),0)","v":0},{"$f":"IFERROR(VLOOKUP($B83,'[1]Num 1'!$G$3:$O$88,2,FALSE),0)","v":0},{"$f":"IFERROR(VLOOKUP($B83,'[1]Num 1'!$G$3:$O$88,3,FALSE),0)","v":0},{"$f":"IFERROR(VLOOKUP($B83,'[1]Num 1'!$G$3:$O$88,4,FALSE),0)","v":0},{"$f":"IFERROR(VLOOKUP($B83,'[1]Num 1'!$G$3:$O$88,5,FALSE),0)","v":0},{"$f":"IFERROR(VLOOKUP($B83,'[1]Num 1'!$G$3:$O$88,6,FALSE),0)","v":0},{"$f":"IFERROR(VLOOKUP($B83,'[1]Num 1'!$G$3:$O$88,7,FALSE),0)","v":0},{"$f":"IFERROR(VLOOKUP($B83,'[1]Num 1'!$G$3:$O$88,8,FALSE),0)","v":0},null,null,0,{"$f":"IFERROR(VLOOKUP($B83,'[1]Den 1 2021'!$G$3:$T$104,11,FALSE),0)","v":0},{"$f":"IFERROR(VLOOKUP($B83,'[1]Den 1 2021'!$G$3:$T$104,12,FALSE),0)","v":0},{"$f":"IFERROR(VLOOKUP($B83,'[1]Den 1 2021'!$G$3:$T$104,13,FALSE),0)","v":0},{"$f":"IFERROR(VLOOKUP($B83,'[1]Den 1'!$G$3:$O$93,2,FALSE),0)","v":0},{"$f":"IFERROR(VLOOKUP($B83,'[1]Den 1'!$G$3:$O$93,3,FALSE),0)","v":0},{"$f":"IFERROR(VLOOKUP($B83,'[1]Den 1'!$G$3:$O$93,4,FALSE),0)","v":0},{"$f":"IFERROR(VLOOKUP($B83,'[1]Den 1'!$G$3:$O$93,5,FALSE),0)","v":0},{"$f":"IFERROR(VLOOKUP($B83,'[1]Den 1'!$G$3:$O$93,6,FALSE),0)","v":0},{"$f":"IFERROR(VLOOKUP($B83,'[1]Den 1'!$G$3:$O$93,7,FALSE),0)","v":0},{"$f":"IFERROR(VLOOKUP($B83,'[1]Den 1'!$G$3:$O$93,8,FALSE),0)","v":0},null,null,0]
["04202-CANELA","105497-P.S.R. JABONERIA",null,null,{"$f":"IFERROR(VLOOKUP($B84,'[1]Num 1 2021'!$G$3:$T$95,11,FALSE),0)","v":0},{"$f":"IFERROR(VLOOKUP($B84,'[1]Num 1 2021'!$G$3:$T$95,12,FALSE),0)","v":0},{"$f":"IFERROR(VLOOKUP($B84,'[1]Num 1 2021'!$G$3:$T$95,13,FALSE),0)","v":0},{"$f":"IFERROR(VLOOKUP($B84,'[1]Num 1'!$G$3:$O$88,2,FALSE),0)","v":0},{"$f":"IFERROR(VLOOKUP($B84,'[1]Num 1'!$G$3:$O$88,3,FALSE),0)","v":0},{"$f":"IFERROR(VLOOKUP($B84,'[1]Num 1'!$G$3:$O$88,4,FALSE),0)","v":0},{"$f":"IFERROR(VLOOKUP($B84,'[1]Num 1'!$G$3:$O$88,5,FALSE),0)","v":0},{"$f":"IFERROR(VLOOKUP($B84,'[1]Num 1'!$G$3:$O$88,6,FALSE),0)","v":0},{"$f":"IFERROR(VLOOKUP($B84,'[1]Num 1'!$G$3:$O$88,7,FALSE),0)","v":0},{"$f":"IFERROR(VLOOKUP($B84,'[1]Num 1'!$G$3:$O$88,8,FALSE),0)","v":0},null,null,{"$f":"SUM(E84:P84)","v":0},{"$f":"IFERROR(VLOOKUP($B84,'[1]Den 1 2021'!$G$3:$T$104,11,FALSE),0)","v":0},{"$f":"IFERROR(VLOOKUP($B84,'[1]Den 1 2021'!$G$3:$T$104,12,FALSE),0)","v":0},{"$f":"IFERROR(VLOOKUP($B84,'[1]Den 1 2021'!$G$3:$T$104,13,FALSE),0)","v":0},{"$f":"IFERROR(VLOOKUP($B84,'[1]Den 1'!$G$3:$O$93,2,FALSE),0)","v":0},{"$f":"IFERROR(VLOOKUP($B84,'[1]Den 1'!$G$3:$O$93,3,FALSE),0)","v":0},{"$f":"IFERROR(VLOOKUP($B84,'[1]Den 1'!$G$3:$O$93,4,FALSE),0)","v":0},{"$f":"IFERROR(VLOOKUP($B84,'[1]Den 1'!$G$3:$O$93,5,FALSE),0)","v":0},{"$f":"IFERROR(VLOOKUP($B84,'[1]Den 1'!$G$3:$O$93,6,FALSE),0)","v":0},{"$f":"IFERROR(VLOOKUP($B84,'[1]Den 1'!$G$3:$O$93,7,FALSE),0)","v":0},{"$f":"IFERROR(VLOOKUP($B84,'[1]Den 1'!$G$3:$O$93,8,FALSE),0)","v":0},null,null,0]
["04202-CANELA","105498-P.S.R. QUEBRADA DE LINARES",null,null,{"$f":"IFERROR(VLOOKUP($B85,'[1]Num 1 2021'!$G$3:$T$95,11,FALSE),0)","v":0},{"$f":"IFERROR(VLOOKUP($B85,'[1]Num 1 2021'!$G$3:$T$95,12,FALSE),0)","v":0},{"$f":"IFERROR(VLOOKUP($B85,'[1]Num 1 2021'!$G$3:$T$95,13,FALSE),0)","v":0},{"$f":"IFERROR(VLOOKUP($B85,'[1]Num 1'!$G$3:$O$88,2,FALSE),0)","v":0},{"$f":"IFERROR(VLOOKUP($B85,'[1]Num 1'!$G$3:$O$88,3,FALSE),0)","v":0},{"$f":"IFERROR(VLOOKUP($B85,'[1]Num 1'!$G$3:$O$88,4,FALSE),0)","v":0},{"$f":"IFERROR(VLOOKUP($B85,'[1]Num 1'!$G$3:$O$88,5,FALSE),0)","v":0},{"$f":"IFERROR(VLOOKUP($B85,'[1]Num 1'!$G$3:$O$88,6,FALSE),0)","v":0},{"$f":"IFERROR(VLOOKUP($B85,'[1]Num 1'!$G$3:$O$88,7,FALSE),0)","v":0},{"$f":"IFERROR(VLOOKUP($B85,'[1]Num 1'!$G$3:$O$88,8,FALSE),0)","v":0},null,null,0,{"$f":"IFERROR(VLOOKUP($B85,'[1]Den 1 2021'!$G$3:$T$104,11,FALSE),0)","v":0},{"$f":"IFERROR(VLOOKUP($B85,'[1]Den 1 2021'!$G$3:$T$104,12,FALSE),0)","v":0},{"$f":"IFERROR(VLOOKUP($B85,'[1]Den 1 2021'!$G$3:$T$104,13,FALSE),0)","v":0},{"$f":"IFERROR(VLOOKUP($B85,'[1]Den 1'!$G$3:$O$93,2,FALSE),0)","v":0},{"$f":"IFERROR(VLOOKUP($B85,'[1]Den 1'!$G$3:$O$93,3,FALSE),0)","v":0},{"$f":"IFERROR(VLOOKUP($B85,'[1]Den 1'!$G$3:$O$93,4,FALSE),0)","v":0},{"$f":"IFERROR(VLOOKUP($B85,'[1]Den 1'!$G$3:$O$93,5,FALSE),0)","v":0},{"$f":"IFERROR(VLOOKUP($B85,'[1]Den 1'!$G$3:$O$93,6,FALSE),0)","v":0},{"$f":"IFERROR(VLOOKUP($B85,'[1]Den 1'!$G$3:$O$93,7,FALSE),0)","v":0},{"$f":"IFERROR(VLOOKUP($B85,'[1]Den 1'!$G$3:$O$93,8,FALSE),0)","v":0},null,null,0]
["TOTAL CANELA",null,{"$f":"D86/Metas!G11","v":{"v":0.703125,"d":"70.31%"}},{"$f":"Q86/AD86","v":{"v":0.5625,"d":"56.25%"}},{"$f":"SUM(E76:E85)","v":0},{"$f":"SUM(F76:F85)","v":0},{"$f":"SUM(G76:G85)","v":3},{"$f":"SUM(H76:H85)","v":1},{"$f":"SUM(I76:I85)","v":0},0,1,1,3,0,0,{"$f":"SUM(P76:P85)","v":0},{"$f":"SUM(Q76:Q85)","v":9},2,1,3,0,1,2,2,2,2,1,{"$f":"SUM(AB76:AB85)","v":0},{"$f":"SUM(AC76:AC85)","v":0},16]
["04203-LOS VILOS","105478-P.S.R. CAIMANES                   ",null,null,{"$f":"IFERROR(VLOOKUP($B87,'[1]Num 1 2021'!$G$3:$T$95,11,FALSE),0)","v":0},{"$f":"IFERROR(VLOOKUP($B87,'[1]Num 1 2021'!$G$3:$T$95,12,FALSE),0)","v":0},{"$f":"IFERROR(VLOOKUP($B87,'[1]Num 1 2021'!$G$3:$T$95,13,FALSE),0)","v":0},{"$f":"IFERROR(VLOOKUP($B87,'[1]Num 1'!$G$3:$O$88,2,FALSE),0)","v":0},{"$f":"IFERROR(VLOOKUP($B87,'[1]Num 1'!$G$3:$O$88,3,FALSE),0)","v":0},{"$f":"IFERROR(VLOOKUP($B87,'[1]Num 1'!$G$3:$O$88,4,FALSE),0)","v":0},{"$f":"IFERROR(VLOOKUP($B87,'[1]Num 1'!$G$3:$O$88,5,FALSE),0)","v":0},{"$f":"IFERROR(VLOOKUP($B87,'[1]Num 1'!$G$3:$O$88,6,FALSE),0)","v":0},{"$f":"IFERROR(VLOOKUP($B87,'[1]Num 1'!$G$3:$O$88,7,FALSE),0)","v":0},{"$f":"IFERROR(VLOOKUP($B87,'[1]Num 1'!$G$3:$O$88,8,FALSE),0)","v":0},null,null,{"$f":"SUM(E87:P87)","v":0},{"$f":"IFERROR(VLOOKUP($B87,'[1]Den 1 2021'!$G$3:$T$104,11,FALSE),0)","v":0},{"$f":"IFERROR(VLOOKUP($B87,'[1]Den 1 2021'!$G$3:$T$104,12,FALSE),0)","v":0},{"$f":"IFERROR(VLOOKUP($B87,'[1]Den 1 2021'!$G$3:$T$104,13,FALSE),0)","v":0},{"$f":"IFERROR(VLOOKUP($B87,'[1]Den 1'!$G$3:$O$93,2,FALSE),0)","v":0},{"$f":"IFERROR(VLOOKUP($B87,'[1]Den 1'!$G$3:$O$93,3,FALSE),0)","v":0},{"$f":"IFERROR(VLOOKUP($B87,'[1]Den 1'!$G$3:$O$93,4,FALSE),0)","v":0},{"$f":"IFERROR(VLOOKUP($B87,'[1]Den 1'!$G$3:$O$93,5,FALSE),0)","v":0},{"$f":"IFERROR(VLOOKUP($B87,'[1]Den 1'!$G$3:$O$93,6,FALSE),0)","v":0},{"$f":"IFERROR(VLOOKUP($B87,'[1]Den 1'!$G$3:$O$93,7,FALSE),0)","v":1},{"$f":"IFERROR(VLOOKUP($B87,'[1]Den 1'!$G$3:$O$93,8,FALSE),0)","v":0},null,null,1]
["04203-LOS VILOS","105479-P.S.R. GUANGUALI",null,null,{"$f":"IFERROR(VLOOKUP($B88,'[1]Num 1 2021'!$G$3:$T$95,11,FALSE),0)","v":0},{"$f":"IFERROR(VLOOKUP($B88,'[1]Num 1 2021'!$G$3:$T$95,12,FALSE),0)","v":0},{"$f":"IFERROR(VLOOKUP($B88,'[1]Num 1 2021'!$G$3:$T$95,13,FALSE),0)","v":0},{"$f":"IFERROR(VLOOKUP($B88,'[1]Num 1'!$G$3:$O$88,2,FALSE),0)","v":0},{"$f":"IFERROR(VLOOKUP($B88,'[1]Num 1'!$G$3:$O$88,3,FALSE),0)","v":0},{"$f":"IFERROR(VLOOKUP($B88,'[1]Num 1'!$G$3:$O$88,4,FALSE),0)","v":0},{"$f":"IFERROR(VLOOKUP($B88,'[1]Num 1'!$G$3:$O$88,5,FALSE),0)","v":0},{"$f":"IFERROR(VLOOKUP($B88,'[1]Num 1'!$G$3:$O$88,6,FALSE),0)","v":0},{"$f":"IFERROR(VLOOKUP($B88,'[1]Num 1'!$G$3:$O$88,7,FALSE),0)","v":0},{"$f":"IFERROR(VLOOKUP($B88,'[1]Num 1'!$G$3:$O$88,8,FALSE),0)","v":0},null,null,{"$f":"SUM(E88:P88)","v":0},{"$f":"IFERROR(VLOOKUP($B88,'[1]Den 1 2021'!$G$3:$T$104,11,FALSE),0)","v":0},{"$f":"IFERROR(VLOOKUP($B88,'[1]Den 1 2021'!$G$3:$T$104,12,FALSE),0)","v":0},{"$f":"IFERROR(VLOOKUP($B88,'[1]Den 1 2021'!$G$3:$T$104,13,FALSE),0)","v":0},{"$f":"IFERROR(VLOOKUP($B88,'[1]Den 1'!$G$3:$O$93,2,FALSE),0)","v":0},{"$f":"IFERROR(VLOOKUP($B88,'[1]Den 1'!$G$3:$O$93,3,FALSE),0)","v":0},{"$f":"IFERROR(VLOOKUP($B88,'[1]Den 1'!$G$3:$O$93,4,FALSE),0)","v":0},{"$f":"IFERROR(VLOOKUP($B88,'[1]Den 1'!$G$3:$O$93,5,FALSE),0)","v":0},{"$f":"IFERROR(VLOOKUP($B88,'[1]Den 1'!$G$3:$O$93,6,FALSE),0)","v":0},{"$f":"IFERROR(VLOOKUP($B88,'[1]Den 1'!$G$3:$O$93,7,FALSE),0)","v":0},{"$f":"IFERROR(VLOOKUP($B88,'[1]Den 1'!$G$3:$O$93,8,FALSE),0)","v":0},null,null,0]
["04203-LOS VILOS","105480-P.S.R. QUILIMARI",null,null,{"$f":"IFERROR(VLOOKUP($B89,'[1]Num 1 2021'!$G$3:$T$95,11,FALSE),0)","v":0},{"$f":"IFERROR(VLOOKUP($B89,'[1]Num 1 2021'!$G$3:$T$95,12,FALSE),0)","v":1},{"$f":"IFERROR(VLOOKUP($B89,'[1]Num 1 2021'!$G$3:$T$95,13,FALSE),0)","v":0},{"$f":"IFERROR(VLOOKUP($B89,'[1]Num 1'!$G$3:$O$88,2,FALSE),0)","v":0},{"$f":"IFERROR(VLOOKUP($B89,'[1]Num 1'!$G$3:$O$88,3,FALSE),0)","v":0},{"$f":"IFERROR(VLOOKUP($B89,'[1]Num 1'!$G$3:$O$88,4,FALSE),0)","v":0},{"$f":"IFERROR(VLOOKUP($B89,'[1]Num 1'!$G$3:$O$88,5,FALSE),0)","v":0},{"$f":"IFERROR(VLOOKUP($B89,'[1]Num 1'!$G$3:$O$88,6,FALSE),0)","v":0},{"$f":"IFERROR(VLOOKUP($B89,'[1]Num 1'!$G$3:$O$88,7,FALSE),0)","v":0},{"$f":"IFERROR(VLOOKUP($B89,'[1]Num 1'!$G$3:$O$88,8,FALSE),0)","v":0},null,null,{"$f":"SUM(E89:P89)","v":1},{"$f":"IFERROR(VLOOKUP($B89,'[1]Den 1 2021'!$G$3:$T$104,11,FALSE),0)","v":0},{"$f":"IFERROR(VLOOKUP($B89,'[1]Den 1 2021'!$G$3:$T$104,12,FALSE),0)","v":0},{"$f":"IFERROR(VLOOKUP($B89,'[1]Den 1 2021'!$G$3:$T$104,13,FALSE),0)","v":0},{"$f":"IFERROR(VLOOKUP($B89,'[1]Den 1'!$G$3:$O$93,2,FALSE),0)","v":0},{"$f":"IFERROR(VLOOKUP($B89,'[1]Den 1'!$G$3:$O$93,3,FALSE),0)","v":0},{"$f":"IFERROR(VLOOKUP($B89,'[1]Den 1'!$G$3:$O$93,4,FALSE),0)","v":1},{"$f":"IFERROR(VLOOKUP($B89,'[1]Den 1'!$G$3:$O$93,5,FALSE),0)","v":0},{"$f":"IFERROR(VLOOKUP($B89,'[1]Den 1'!$G$3:$O$93,6,FALSE),0)","v":1},{"$f":"IFERROR(VLOOKUP($B89,'[1]Den 1'!$G$3:$O$93,7,FALSE),0)","v":0},{"$f":"IFERROR(VLOOKUP($B89,'[1]Den 1'!$G$3:$O$93,8,FALSE),0)","v":0},null,null,2]
["04203-LOS VILOS","105481-P.S.R. TILAMA",null,null,{"$f":"IFERROR(VLOOKUP($B90,'[1]Num 1 2021'!$G$3:$T$95,11,FALSE),0)","v":0},{"$f":"IFERROR(VLOOKUP($B90,'[1]Num 1 2021'!$G$3:$T$95,12,FALSE),0)","v":0},{"$f":"IFERROR(VLOOKUP($B90,'[1]Num 1 2021'!$G$3:$T$95,13,FALSE),0)","v":0},{"$f":"IFERROR(VLOOKUP($B90,'[1]Num 1'!$G$3:$O$88,2,FALSE),0)","v":0},{"$f":"IFERROR(VLOOKUP($B90,'[1]Num 1'!$G$3:$O$88,3,FALSE),0)","v":0},{"$f":"IFERROR(VLOOKUP($B90,'[1]Num 1'!$G$3:$O$88,4,FALSE),0)","v":0},{"$f":"IFERROR(VLOOKUP($B90,'[1]Num 1'!$G$3:$O$88,5,FALSE),0)","v":0},{"$f":"IFERROR(VLOOKUP($B90,'[1]Num 1'!$G$3:$O$88,6,FALSE),0)","v":0},{"$f":"IFERROR(VLOOKUP($B90,'[1]Num 1'!$G$3:$O$88,7,FALSE),0)","v":0},{"$f":"IFERROR(VLOOKUP($B90,'[1]Num 1'!$G$3:$O$88,8,FALSE),0)","v":0},null,null,{"$f":"SUM(E90:P90)","v":0},{"$f":"IFERROR(VLOOKUP($B90,'[1]Den 1 2021'!$G$3:$T$104,11,FALSE),0)","v":0},{"$f":"IFERROR(VLOOKUP($B90,'[1]Den 1 2021'!$G$3:$T$104,12,FALSE),0)","v":0},{"$f":"IFERROR(VLOOKUP($B90,'[1]Den 1 2021'!$G$3:$T$104,13,FALSE),0)","v":0},{"$f":"IFERROR(VLOOKUP($B90,'[1]Den 1'!$G$3:$O$93,2,FALSE),0)","v":0},{"$f":"IFERROR(VLOOKUP($B90,'[1]Den 1'!$G$3:$O$93,3,FALSE),0)","v":0},{"$f":"IFERROR(VLOOKUP($B90,'[1]Den 1'!$G$3:$O$93,4,FALSE),0)","v":0},{"$f":"IFERROR(VLOOKUP($B90,'[1]Den 1'!$G$3:$O$93,5,FALSE),0)","v":0},{"$f":"IFERROR(VLOOKUP($B90,'[1]Den 1'!$G$3:$O$93,6,FALSE),0)","v":0},{"$f":"IFERROR(VLOOKUP($B90,'[1]Den 1'!$G$3:$O$93,7,FALSE),0)","v":0},{"$f":"IFERROR(VLOOKUP($B90,'[1]Den 1'!$G$3:$O$93,8,FALSE),0)","v":0},null,null,{"$f":"SUM(R90:AC90)","v":0}]
["04203-LOS VILOS","105511-P.S.R. LOS CONDORES",null,null,{"$f":"IFERROR(VLOOKUP($B91,'[1]Num 1 2021'!$G$3:$T$95,11,FALSE),0)","v":0},{"$f":"IFERROR(VLOOKUP($B91,'[1]Num 1 2021'!$G$3:$T$95,12,FALSE),0)","v":0},{"$f":"IFERROR(VLOOKUP($B91,'[1]Num 1 2021'!$G$3:$T$95,13,FALSE),0)","v":0},{"$f":"IFERROR(VLOOKUP($B91,'[1]Num 1'!$G$3:$O$88,2,FALSE),0)","v":0},{"$f":"IFERROR(VLOOKUP($B91,'[1]Num 1'!$G$3:$O$88,3,FALSE),0)","v":0},{"$f":"IFERROR(VLOOKUP($B91,'[1]Num 1'!$G$3:$O$88,4,FALSE),0)","v":0},{"$f":"IFERROR(VLOOKUP($B91,'[1]Num 1'!$G$3:$O$88,5,FALSE),0)","v":0},{"$f":"IFERROR(VLOOKUP($B91,'[1]Num 1'!$G$3:$O$88,6,FALSE),0)","v":0},{"$f":"IFERROR(VLOOKUP($B91,'[1]Num 1'!$G$3:$O$88,7,FALSE),0)","v":0},{"$f":"IFERROR(VLOOKUP($B91,'[1]Num 1'!$G$3:$O$88,8,FALSE),0)","v":0},null,null,{"$f":"SUM(E91:P91)","v":0},{"$f":"IFERROR(VLOOKUP($B91,'[1]Den 1 2021'!$G$3:$T$104,11,FALSE),0)","v":0},{"$f":"IFERROR(VLOOKUP($B91,'[1]Den 1 2021'!$G$3:$T$104,12,FALSE),0)","v":0},{"$f":"IFERROR(VLOOKUP($B91,'[1]Den 1 2021'!$G$3:$T$104,13,FALSE),0)","v":0},{"$f":"IFERROR(VLOOKUP($B91,'[1]Den 1'!$G$3:$O$93,2,FALSE),0)","v":0},{"$f":"IFERROR(VLOOKUP($B91,'[1]Den 1'!$G$3:$O$93,3,FALSE),0)","v":0},{"$f":"IFERROR(VLOOKUP($B91,'[1]Den 1'!$G$3:$O$93,4,FALSE),0)","v":0},{"$f":"IFERROR(VLOOKUP($B91,'[1]Den 1'!$G$3:$O$93,5,FALSE),0)","v":0},{"$f":"IFERROR(VLOOKUP($B91,'[1]Den 1'!$G$3:$O$93,6,FALSE),0)","v":0},{"$f":"IFERROR(VLOOKUP($B91,'[1]Den 1'!$G$3:$O$93,7,FALSE),0)","v":0},{"$f":"IFERROR(VLOOKUP($B91,'[1]Den 1'!$G$3:$O$93,8,FALSE),0)","v":0},null,null,0]
["TOTAL LOS VILOS",null,{"$f":"D92/Metas!G12","v":{"v":0.5555555555555556,"d":"55.56%"}},{"$f":"Q92/AD92","v":{"v":0.3333333333333333,"d":"33.33%"}},{"$f":"SUM(E87:E91)","v":0},{"$f":"SUM(F87:F91)","v":1},{"$f":"SUM(G87:G91)","v":0},{"$f":"SUM(H87:H91)","v":0},{"$f":"SUM(I87:I91)","v":0},0,0,0,0,0,0,{"$f":"SUM(P87:P91)","v":0},1,0,0,0,0,0,1,0,1,1,0,{"$f":"SUM(AB87:AB91)","v":0},{"$f":"SUM(AC87:AC91)","v":0},3]
["04204-SALAMANCA","105452-P.S.R. CUNCUMEN                 ",null,null,{"$f":"IFERROR(VLOOKUP($B93,'[1]Num 1 2021'!$G$3:$T$95,11,FALSE),0)","v":0},{"$f":"IFERROR(VLOOKUP($B93,'[1]Num 1 2021'!$G$3:$T$95,12,FALSE),0)","v":0},{"$f":"IFERROR(VLOOKUP($B93,'[1]Num 1 2021'!$G$3:$T$95,13,FALSE),0)","v":0},{"$f":"IFERROR(VLOOKUP($B93,'[1]Num 1'!$G$3:$O$88,2,FALSE),0)","v":0},{"$f":"IFERROR(VLOOKUP($B93,'[1]Num 1'!$G$3:$O$88,3,FALSE),0)","v":0},{"$f":"IFERROR(VLOOKUP($B93,'[1]Num 1'!$G$3:$O$88,4,FALSE),0)","v":0},{"$f":"IFERROR(VLOOKUP($B93,'[1]Num 1'!$G$3:$O$88,5,FALSE),0)","v":0},{"$f":"IFERROR(VLOOKUP($B93,'[1]Num 1'!$G$3:$O$88,6,FALSE),0)","v":0},{"$f":"IFERROR(VLOOKUP($B93,'[1]Num 1'!$G$3:$O$88,7,FALSE),0)","v":0},{"$f":"IFERROR(VLOOKUP($B93,'[1]Num 1'!$G$3:$O$88,8,FALSE),0)","v":0},null,null,{"$f":"SUM(E93:P93)","v":0},{"$f":"IFERROR(VLOOKUP($B93,'[1]Den 1 2021'!$G$3:$T$104,11,FALSE),0)","v":0},{"$f":"IFERROR(VLOOKUP($B93,'[1]Den 1 2021'!$G$3:$T$104,12,FALSE),0)","v":0},{"$f":"IFERROR(VLOOKUP($B93,'[1]Den 1 2021'!$G$3:$T$104,13,FALSE),0)","v":0},{"$f":"IFERROR(VLOOKUP($B93,'[1]Den 1'!$G$3:$O$93,2,FALSE),0)","v":0},{"$f":"IFERROR(VLOOKUP($B93,'[1]Den 1'!$G$3:$O$93,3,FALSE),0)","v":0},{"$f":"IFERROR(VLOOKUP($B93,'[1]Den 1'!$G$3:$O$93,4,FALSE),0)","v":0},{"$f":"IFERROR(VLOOKUP($B93,'[1]Den 1'!$G$3:$O$93,5,FALSE),0)","v":0},{"$f":"IFERROR(VLOOKUP($B93,'[1]Den 1'!$G$3:$O$93,6,FALSE),0)","v":0},{"$f":"IFERROR(VLOOKUP($B93,'[1]Den 1'!$G$3:$O$93,7,FALSE),0)","v":0},{"$f":"IFERROR(VLOOKUP($B93,'[1]Den 1'!$G$3:$O$93,8,FALSE),0)","v":0},null,null,0]
["04204-SALAMANCA","105453-P.S.R. TRANQUILLA",null,null,{"$f":"IFERROR(VLOOKUP($B94,'[1]Num 1 2021'!$G$3:$T$95,11,FALSE),0)","v":0},{"$f":"IFERROR(VLOOKUP($B94,'[1]Num 1 2021'!$G$3:$T$95,12,FALSE),0)","v":3},{"$f":"IFERROR(VLOOKUP($B94,'[1]Num 1 2021'!$G$3:$T$95,13,FALSE),0)","v":0},{"$f":"IFERROR(VLOOKUP($B94,'[1]Num 1'!$G$3:$O$88,2,FALSE),0)","v":0},{"$f":"IFERROR(VLOOKUP($B94,'[1]Num 1'!$G$3:$O$88,3,FALSE),0)","v":0},{"$f":"IFERROR(VLOOKUP($B94,'[1]Num 1'!$G$3:$O$88,4,FALSE),0)","v":0},{"$f":"IFERROR(VLOOKUP($B94,'[1]Num 1'!$G$3:$O$88,5,FALSE),0)","v":0},{"$f":"IFERROR(VLOOKUP($B94,'[1]Num 1'!$G$3:$O$88,6,FALSE),0)","v":0},{"$f":"IFERROR(VLOOKUP($B94,'[1]Num 1'!$G$3:$O$88,7,FALSE),0)","v":0},{"$f":"IFERROR(VLOOKUP($B94,'[1]Num 1'!$G$3:$O$88,8,FALSE),0)","v":0},null,null,3,{"$f":"IFERROR(VLOOKUP($B94,'[1]Den 1 2021'!$G$3:$T$104,11,FALSE),0)","v":0},{"$f":"IFERROR(VLOOKUP($B94,'[1]Den 1 2021'!$G$3:$T$104,12,FALSE),0)","v":0},{"$f":"IFERROR(VLOOKUP($B94,'[1]Den 1 2021'!$G$3:$T$104,13,FALSE),0)","v":0},{"$f":"IFERROR(VLOOKUP($B94,'[1]Den 1'!$G$3:$O$93,2,FALSE),0)","v":0},{"$f":"IFERROR(VLOOKUP($B94,'[1]Den 1'!$G$3:$O$93,3,FALSE),0)","v":0},{"$f":"IFERROR(VLOOKUP($B94,'[1]Den 1'!$G$3:$O$93,4,FALSE),0)","v":0},{"$f":"IFERROR(VLOOKUP($B94,'[1]Den 1'!$G$3:$O$93,5,FALSE),0)","v":0},{"$f":"IFERROR(VLOOKUP($B94,'[1]Den 1'!$G$3:$O$93,6,FALSE),0)","v":0},{"$f":"IFERROR(VLOOKUP($B94,'[1]Den 1'!$G$3:$O$93,7,FALSE),0)","v":0},{"$f":"IFERROR(VLOOKUP($B94,'[1]Den 1'!$G$3:$O$93,8,FALSE),0)","v":0},null,null,0]
["04204-SALAMANCA","105454-P.S.R. CUNLAGUA",null,null,{"$f":"IFERROR(VLOOKUP($B95,'[1]Num 1 2021'!$G$3:$T$95,11,FALSE),0)","v":0},{"$f":"IFERROR(VLOOKUP($B95,'[1]Num 1 2021'!$G$3:$T$95,12,FALSE),0)","v":0},{"$f":"IFERROR(VLOOKUP($B95,'[1]Num 1 2021'!$G$3:$T$95,13,FALSE),0)","v":1},{"$f":"IFERROR(VLOOKUP($B95,'[1]Num 1'!$G$3:$O$88,2,FALSE),0)","v":0},{"$f":"IFERROR(VLOOKUP($B95,'[1]Num 1'!$G$3:$O$88,3,FALSE),0)","v":0},{"$f":"IFERROR(VLOOKUP($B95,'[1]Num 1'!$G$3:$O$88,4,FALSE),0)","v":0},{"$f":"IFERROR(VLOOKUP($B95,'[1]Num 1'!$G$3:$O$88,5,FALSE),0)","v":0},{"$f":"IFERROR(VLOOKUP($B95,'[1]Num 1'!$G$3:$O$88,6,FALSE),0)","v":0},{"$f":"IFERROR(VLOOKUP($B95,'[1]Num 1'!$G$3:$O$88,7,FALSE),0)","v":0},{"$f":"IFERROR(VLOOKUP($B95,'[1]Num 1'!$G$3:$O$88,8,FALSE),0)","v":0},null,null,1,{"$f":"IFERROR(VLOOKUP($B95,'[1]Den 1 2021'!$G$3:$T$104,11,FALSE),0)","v":0},{"$f":"IFERROR(VLOOKUP($B95,'[1]Den 1 2021'!$G$3:$T$104,12,FALSE),0)","v":0},{"$f":"IFERROR(VLOOKUP($B95,'[1]Den 1 2021'!$G$3:$T$104,13,FALSE),0)","v":0},{"$f":"IFERROR(VLOOKUP($B95,'[1]Den 1'!$G$3:$O$93,2,FALSE),0)","v":0},{"$f":"IFERROR(VLOOKUP($B95,'[1]Den 1'!$G$3:$O$93,3,FALSE),0)","v":0},{"$f":"IFERROR(VLOOKUP($B95,'[1]Den 1'!$G$3:$O$93,4,FALSE),0)","v":0},{"$f":"IFERROR(VLOOKUP($B95,'[1]Den 1'!$G$3:$O$93,5,FALSE),0)","v":0},{"$f":"IFERROR(VLOOKUP($B95,'[1]Den 1'!$G$3:$O$93,6,FALSE),0)","v":0},{"$f":"IFERROR(VLOOKUP($B95,'[1]Den 1'!$G$3:$O$93,7,FALSE),0)","v":0},{"$f":"IFERROR(VLOOKUP($B95,'[1]Den 1'!$G$3:$O$93,8,FALSE),0)","v":0},null,null,0]
["04204-SALAMANCA","105455-P.S.R. CHILLEPIN",null,null,{"$f":"IFERROR(VLOOKUP($B96,'[1]Num 1 2021'!$G$3:$T$95,11,FALSE),0)","v":0},{"$f":"IFERROR(VLOOKUP($B96,'[1]Num 1 2021'!$G$3:$T$95,12,FALSE),0)","v":0},{"$f":"IFERROR(VLOOKUP($B96,'[1]Num 1 2021'!$G$3:$T$95,13,FALSE),0)","v":0},{"$f":"IFERROR(VLOOKUP($B96,'[1]Num 1'!$G$3:$O$88,2,FALSE),0)","v":0},{"$f":"IFERROR(VLOOKUP($B96,'[1]Num 1'!$G$3:$O$88,3,FALSE),0)","v":0},{"$f":"IFERROR(VLOOKUP($B96,'[1]Num 1'!$G$3:$O$88,4,FALSE),0)","v":0},{"$f":"IFERROR(VLOOKUP($B96,'[1]Num 1'!$G$3:$O$88,5,FALSE),0)","v":0},{"$f":"IFERROR(VLOOKUP($B96,'[1]Num 1'!$G$3:$O$88,6,FALSE),0)","v":0},{"$f":"IFERROR(VLOOKUP($B96,'[1]Num 1'!$G$3:$O$88,7,FALSE),0)","v":0},{"$f":"IFERROR(VLOOKUP($B96,'[1]Num 1'!$G$3:$O$88,8,FALSE),0)","v":0},null,null,0,{"$f":"IFERROR(VLOOKUP($B96,'[1]Den 1 2021'!$G$3:$T$104,11,FALSE),0)","v":0},{"$f":"IFERROR(VLOOKUP($B96,'[1]Den 1 2021'!$G$3:$T$104,12,FALSE),0)","v":0},{"$f":"IFERROR(VLOOKUP($B96,'[1]Den 1 2021'!$G$3:$T$104,13,FALSE),0)","v":0},{"$f":"IFERROR(VLOOKUP($B96,'[1]Den 1'!$G$3:$O$93,2,FALSE),0)","v":0},{"$f":"IFERROR(VLOOKUP($B96,'[1]Den 1'!$G$3:$O$93,3,FALSE),0)","v":0},{"$f":"IFERROR(VLOOKUP($B96,'[1]Den 1'!$G$3:$O$93,4,FALSE),0)","v":0},{"$f":"IFERROR(VLOOKUP($B96,'[1]Den 1'!$G$3:$O$93,5,FALSE),0)","v":0},{"$f":"IFERROR(VLOOKUP($B96,'[1]Den 1'!$G$3:$O$93,6,FALSE),0)","v":0},{"$f":"IFERROR(VLOOKUP($B96,'[1]Den 1'!$G$3:$O$93,7,FALSE),0)","v":0},{"$f":"IFERROR(VLOOKUP($B96,'[1]Den 1'!$G$3:$O$93,8,FALSE),0)","v":0},null,null,0]
["04204-SALAMANCA","105456-P.S.R. LLIMPO",null,null,{"$f":"IFERROR(VLOOKUP($B97,'[1]Num 1 2021'!$G$3:$T$95,11,FALSE),0)","v":0},{"$f":"IFERROR(VLOOKUP($B97,'[1]Num 1 2021'!$G$3:$T$95,12,FALSE),0)","v":0},{"$f":"IFERROR(VLOOKUP($B97,'[1]Num 1 2021'!$G$3:$T$95,13,FALSE),0)","v":0},{"$f":"IFERROR(VLOOKUP($B97,'[1]Num 1'!$G$3:$O$88,2,FALSE),0)","v":0},{"$f":"IFERROR(VLOOKUP($B97,'[1]Num 1'!$G$3:$O$88,3,FALSE),0)","v":0},{"$f":"IFERROR(VLOOKUP($B97,'[1]Num 1'!$G$3:$O$88,4,FALSE),0)","v":0},{"$f":"IFERROR(VLOOKUP($B97,'[1]Num 1'!$G$3:$O$88,5,FALSE),0)","v":0},{"$f":"IFERROR(VLOOKUP($B97,'[1]Num 1'!$G$3:$O$88,6,FALSE),0)","v":0},{"$f":"IFERROR(VLOOKUP($B97,'[1]Num 1'!$G$3:$O$88,7,FALSE),0)","v":0},{"$f":"IFERROR(VLOOKUP($B97,'[1]Num 1'!$G$3:$O$88,8,FALSE),0)","v":0},null,null,0,{"$f":"IFERROR(VLOOKUP($B97,'[1]Den 1 2021'!$G$3:$T$104,11,FALSE),0)","v":0},{"$f":"IFERROR(VLOOKUP($B97,'[1]Den 1 2021'!$G$3:$T$104,12,FALSE),0)","v":0},{"$f":"IFERROR(VLOOKUP($B97,'[1]Den 1 2021'!$G$3:$T$104,13,FALSE),0)","v":0},{"$f":"IFERROR(VLOOKUP($B97,'[1]Den 1'!$G$3:$O$93,2,FALSE),0)","v":0},{"$f":"IFERROR(VLOOKUP($B97,'[1]Den 1'!$G$3:$O$93,3,FALSE),0)","v":0},{"$f":"IFERROR(VLOOKUP($B97,'[1]Den 1'!$G$3:$O$93,4,FALSE),0)","v":0},{"$f":"IFERROR(VLOOKUP($B97,'[1]Den 1'!$G$3:$O$93,5,FALSE),0)","v":0},{"$f":"IFERROR(VLOOKUP($B97,'[1]Den 1'!$G$3:$O$93,6,FALSE),0)","v":0},{"$f":"IFERROR(VLOOKUP($B97,'[1]Den 1'!$G$3:$O$93,7,FALSE),0)","v":0},{"$f":"IFERROR(VLOOKUP($B97,'[1]Den 1'!$G$3:$O$93,8,FALSE),0)","v":0},null,null,0]
["04204-SALAMANCA","105457-P.S.R. SAN AGUSTIN",null,null,{"$f":"IFERROR(VLOOKUP($B98,'[1]Num 1 2021'!$G$3:$T$95,11,FALSE),0)","v":0},{"$f":"IFERROR(VLOOKUP($B98,'[1]Num 1 2021'!$G$3:$T$95,12,FALSE),0)","v":0},{"$f":"IFERROR(VLOOKUP($B98,'[1]Num 1 2021'!$G$3:$T$95,13,FALSE),0)","v":0},{"$f":"IFERROR(VLOOKUP($B98,'[1]Num 1'!$G$3:$O$88,2,FALSE),0)","v":0},{"$f":"IFERROR(VLOOKUP($B98,'[1]Num 1'!$G$3:$O$88,3,FALSE),0)","v":0},{"$f":"IFERROR(VLOOKUP($B98,'[1]Num 1'!$G$3:$O$88,4,FALSE),0)","v":0},{"$f":"IFERROR(VLOOKUP($B98,'[1]Num 1'!$G$3:$O$88,5,FALSE),0)","v":0},{"$f":"IFERROR(VLOOKUP($B98,'[1]Num 1'!$G$3:$O$88,6,FALSE),0)","v":0},{"$f":"IFERROR(VLOOKUP($B98,'[1]Num 1'!$G$3:$O$88,7,FALSE),0)","v":0},{"$f":"IFERROR(VLOOKUP($B98,'[1]Num 1'!$G$3:$O$88,8,FALSE),0)","v":0},null,null,0,{"$f":"IFERROR(VLOOKUP($B98,'[1]Den 1 2021'!$G$3:$T$104,11,FALSE),0)","v":0},{"$f":"IFERROR(VLOOKUP($B98,'[1]Den 1 2021'!$G$3:$T$104,12,FALSE),0)","v":0},{"$f":"IFERROR(VLOOKUP($B98,'[1]Den 1 2021'!$G$3:$T$104,13,FALSE),0)","v":0},{"$f":"IFERROR(VLOOKUP($B98,'[1]Den 1'!$G$3:$O$93,2,FALSE),0)","v":0},{"$f":"IFERROR(VLOOKUP($B98,'[1]Den 1'!$G$3:$O$93,3,FALSE),0)","v":0},{"$f":"IFERROR(VLOOKUP($B98,'[1]Den 1'!$G$3:$O$93,4,FALSE),0)","v":0},{"$f":"IFERROR(VLOOKUP($B98,'[1]Den 1'!$G$3:$O$93,5,FALSE),0)","v":0},{"$f":"IFERROR(VLOOKUP($B98,'[1]Den 1'!$G$3:$O$93,6,FALSE),0)","v":0},{"$f":"IFERROR(VLOOKUP($B98,'[1]Den 1'!$G$3:$O$93,7,FALSE),0)","v":0},{"$f":"IFERROR(VLOOKUP($B98,'[1]Den 1'!$G$3:$O$93,8,FALSE),0)","v":0},null,null,0]
["04204-SALAMANCA","105458-P.S.R. TAHUINCO",null,null,{"$f":"IFERROR(VLOOKUP($B99,'[1]Num 1 2021'!$G$3:$T$95,11,FALSE),0)","v":0},{"$f":"IFERROR(VLOOKUP($B99,'[1]Num 1 2021'!$G$3:$T$95,12,FALSE),0)","v":2},{"$f":"IFERROR(VLOOKUP($B99,'[1]Num 1 2021'!$G$3:$T$95,13,FALSE),0)","v":0},{"$f":"IFERROR(VLOOKUP($B99,'[1]Num 1'!$G$3:$O$88,2,FALSE),0)","v":0},{"$f":"IFERROR(VLOOKUP($B99,'[1]Num 1'!$G$3:$O$88,3,FALSE),0)","v":0},{"$f":"IFERROR(VLOOKUP($B99,'[1]Num 1'!$G$3:$O$88,4,FALSE),0)","v":0},{"$f":"IFERROR(VLOOKUP($B99,'[1]Num 1'!$G$3:$O$88,5,FALSE),0)","v":0},{"$f":"IFERROR(VLOOKUP($B99,'[1]Num 1'!$G$3:$O$88,6,FALSE),0)","v":0},{"$f":"IFERROR(VLOOKUP($B99,'[1]Num 1'!$G$3:$O$88,7,FALSE),0)","v":0},{"$f":"IFERROR(VLOOKUP($B99,'[1]Num 1'!$G$3:$O$88,8,FALSE),0)","v":0},null,null,2,{"$f":"IFERROR(VLOOKUP($B99,'[1]Den 1 2021'!$G$3:$T$104,11,FALSE),0)","v":0},{"$f":"IFERROR(VLOOKUP($B99,'[1]Den 1 2021'!$G$3:$T$104,12,FALSE),0)","v":0},{"$f":"IFERROR(VLOOKUP($B99,'[1]Den 1 2021'!$G$3:$T$104,13,FALSE),0)","v":0},{"$f":"IFERROR(VLOOKUP($B99,'[1]Den 1'!$G$3:$O$93,2,FALSE),0)","v":0},{"$f":"IFERROR(VLOOKUP($B99,'[1]Den 1'!$G$3:$O$93,3,FALSE),0)","v":0},{"$f":"IFERROR(VLOOKUP($B99,'[1]Den 1'!$G$3:$O$93,4,FALSE),0)","v":0},{"$f":"IFERROR(VLOOKUP($B99,'[1]Den 1'!$G$3:$O$93,5,FALSE),0)","v":0},{"$f":"IFERROR(VLOOKUP($B99,'[1]Den 1'!$G$3:$O$93,6,FALSE),0)","v":0},{"$f":"IFERROR(VLOOKUP($B99,'[1]Den 1'!$G$3:$O$93,7,FALSE),0)","v":0},{"$f":"IFERROR(VLOOKUP($B99,'[1]Den 1'!$G$3:$O$93,8,FALSE),0)","v":0},null,null,0]
["04204-SALAMANCA","105491-P.S.R. QUELEN BAJO",null,null,{"$f":"IFERROR(VLOOKUP($B100,'[1]Num 1 2021'!$G$3:$T$95,11,FALSE),0)","v":0},{"$f":"IFERROR(VLOOKUP($B100,'[1]Num 1 2021'!$G$3:$T$95,12,FALSE),0)","v":0},{"$f":"IFERROR(VLOOKUP($B100,'[1]Num 1 2021'!$G$3:$T$95,13,FALSE),0)","v":0},{"$f":"IFERROR(VLOOKUP($B100,'[1]Num 1'!$G$3:$O$88,2,FALSE),0)","v":0},{"$f":"IFERROR(VLOOKUP($B100,'[1]Num 1'!$G$3:$O$88,3,FALSE),0)","v":0},{"$f":"IFERROR(VLOOKUP($B100,'[1]Num 1'!$G$3:$O$88,4,FALSE),0)","v":0},{"$f":"IFERROR(VLOOKUP($B100,'[1]Num 1'!$G$3:$O$88,5,FALSE),0)","v":0},{"$f":"IFERROR(VLOOKUP($B100,'[1]Num 1'!$G$3:$O$88,6,FALSE),0)","v":0},{"$f":"IFERROR(VLOOKUP($B100,'[1]Num 1'!$G$3:$O$88,7,FALSE),0)","v":0},{"$f":"IFERROR(VLOOKUP($B100,'[1]Num 1'!$G$3:$O$88,8,FALSE),0)","v":0},null,null,0,{"$f":"IFERROR(VLOOKUP($B100,'[1]Den 1 2021'!$G$3:$T$104,11,FALSE),0)","v":1},{"$f":"IFERROR(VLOOKUP($B100,'[1]Den 1 2021'!$G$3:$T$104,12,FALSE),0)","v":0},{"$f":"IFERROR(VLOOKUP($B100,'[1]Den 1 2021'!$G$3:$T$104,13,FALSE),0)","v":0},{"$f":"IFERROR(VLOOKUP($B100,'[1]Den 1'!$G$3:$O$93,2,FALSE),0)","v":0},{"$f":"IFERROR(VLOOKUP($B100,'[1]Den 1'!$G$3:$O$93,3,FALSE),0)","v":0},{"$f":"IFERROR(VLOOKUP($B100,'[1]Den 1'!$G$3:$O$93,4,FALSE),0)","v":0},{"$f":"IFERROR(VLOOKUP($B100,'[1]Den 1'!$G$3:$O$93,5,FALSE),0)","v":0},{"$f":"IFERROR(VLOOKUP($B100,'[1]Den 1'!$G$3:$O$93,6,FALSE),0)","v":0},{"$f":"IFERROR(VLOOKUP($B100,'[1]Den 1'!$G$3:$O$93,7,FALSE),0)","v":0},{"$f":"IFERROR(VLOOKUP($B100,'[1]Den 1'!$G$3:$O$93,8,FALSE),0)","v":0},null,null,1]
["04204-SALAMANCA","105492-P.S.R. CAMISA",null,null,{"$f":"IFERROR(VLOOKUP($B101,'[1]Num 1 2021'!$G$3:$T$95,11,FALSE),0)","v":0},{"$f":"IFERROR(VLOOKUP($B101,'[1]Num 1 2021'!$G$3:$T$95,12,FALSE),0)","v":0},{"$f":"IFERROR(VLOOKUP($B101,'[1]Num 1 2021'!$G$3:$T$95,13,FALSE),0)","v":0},{"$f":"IFERROR(VLOOKUP($B101,'[1]Num 1'!$G$3:$O$88,2,FALSE),0)","v":0},{"$f":"IFERROR(VLOOKUP($B101,'[1]Num 1'!$G$3:$O$88,3,FALSE),0)","v":0},{"$f":"IFERROR(VLOOKUP($B101,'[1]Num 1'!$G$3:$O$88,4,FALSE),0)","v":0},{"$f":"IFERROR(VLOOKUP($B101,'[1]Num 1'!$G$3:$O$88,5,FALSE),0)","v":0},{"$f":"IFERROR(VLOOKUP($B101,'[1]Num 1'!$G$3:$O$88,6,FALSE),0)","v":0},{"$f":"IFERROR(VLOOKUP($B101,'[1]Num 1'!$G$3:$O$88,7,FALSE),0)","v":0},{"$f":"IFERROR(VLOOKUP($B101,'[1]Num 1'!$G$3:$O$88,8,FALSE),0)","v":0},null,null,0,{"$f":"IFERROR(VLOOKUP($B101,'[1]Den 1 2021'!$G$3:$T$104,11,FALSE),0)","v":0},{"$f":"IFERROR(VLOOKUP($B101,'[1]Den 1 2021'!$G$3:$T$104,12,FALSE),0)","v":0},{"$f":"IFERROR(VLOOKUP($B101,'[1]Den 1 2021'!$G$3:$T$104,13,FALSE),0)","v":0},{"$f":"IFERROR(VLOOKUP($B101,'[1]Den 1'!$G$3:$O$93,2,FALSE),0)","v":0},{"$f":"IFERROR(VLOOKUP($B101,'[1]Den 1'!$G$3:$O$93,3,FALSE),0)","v":0},{"$f":"IFERROR(VLOOKUP($B101,'[1]Den 1'!$G$3:$O$93,4,FALSE),0)","v":0},{"$f":"IFERROR(VLOOKUP($B101,'[1]Den 1'!$G$3:$O$93,5,FALSE),0)","v":0},{"$f":"IFERROR(VLOOKUP($B101,'[1]Den 1'!$G$3:$O$93,6,FALSE),0)","v":0},{"$f":"IFERROR(VLOOKUP($B101,'[1]Den 1'!$G$3:$O$93,7,FALSE),0)","v":0},{"$f":"IFERROR(VLOOKUP($B101,'[1]Den 1'!$G$3:$O$93,8,FALSE),0)","v":0},null,null,0]
["04204-SALAMANCA","105501-P.S.R. ARBOLEDA GRANDE",null,null,{"$f":"IFERROR(VLOOKUP($B102,'[1]Num 1 2021'!$G$3:$T$95,11,FALSE),0)","v":0},{"$f":"IFERROR(VLOOKUP($B102,'[1]Num 1 2021'!$G$3:$T$95,12,FALSE),0)","v":0},{"$f":"IFERROR(VLOOKUP($B102,'[1]Num 1 2021'!$G$3:$T$95,13,FALSE),0)","v":0},{"$f":"IFERROR(VLOOKUP($B102,'[1]Num 1'!$G$3:$O$88,2,FALSE),0)","v":0},{"$f":"IFERROR(VLOOKUP($B102,'[1]Num 1'!$G$3:$O$88,3,FALSE),0)","v":0},{"$f":"IFERROR(VLOOKUP($B102,'[1]Num 1'!$G$3:$O$88,4,FALSE),0)","v":0},{"$f":"IFERROR(VLOOKUP($B102,'[1]Num 1'!$G$3:$O$88,5,FALSE),0)","v":0},{"$f":"IFERROR(VLOOKUP($B102,'[1]Num 1'!$G$3:$O$88,6,FALSE),0)","v":0},{"$f":"IFERROR(VLOOKUP($B102,'[1]Num 1'!$G$3:$O$88,7,FALSE),0)","v":0},{"$f":"IFERROR(VLOOKUP($B102,'[1]Num 1'!$G$3:$O$88,8,FALSE),0)","v":0},null,null,0,{"$f":"IFERROR(VLOOKUP($B102,'[1]Den 1 2021'!$G$3:$T$104,11,FALSE),0)","v":0},{"$f":"IFERROR(VLOOKUP($B102,'[1]Den 1 2021'!$G$3:$T$104,12,FALSE),0)","v":0},{"$f":"IFERROR(VLOOKUP($B102,'[1]Den 1 2021'!$G$3:$T$104,13,FALSE),0)","v":0},{"$f":"IFERROR(VLOOKUP($B102,'[1]Den 1'!$G$3:$O$93,2,FALSE),0)","v":0},{"$f":"IFERROR(VLOOKUP($B102,'[1]Den 1'!$G$3:$O$93,3,FALSE),0)","v":0},{"$f":"IFERROR(VLOOKUP($B102,'[1]Den 1'!$G$3:$O$93,4,FALSE),0)","v":0},{"$f":"IFERROR(VLOOKUP($B102,'[1]Den 1'!$G$3:$O$93,5,FALSE),0)","v":0},{"$f":"IFERROR(VLOOKUP($B102,'[1]Den 1'!$G$3:$O$93,6,FALSE),0)","v":0},{"$f":"IFERROR(VLOOKUP($B102,'[1]Den 1'!$G$3:$O$93,7,FALSE),0)","v":0},{"$f":"IFERROR(VLOOKUP($B102,'[1]Den 1'!$G$3:$O$93,8,FALSE),0)","v":0},null,null,0]
["TOTAL SALAMANCA",null,{"$f":"D103/Metas!G13","v":{"v":6.818181818181818,"d":"681.82%"}},{"$f":"Q103/AD103","v":{"v":6,"d":"600.00%"}},{"$f":"SUM(E93:E102)","v":0},{"$f":"SUM(F93:F102)","v":5},{"$f":"SUM(G93:G102)","v":1},{"$f":"SUM(H93:H102)","v":0},{"$f":"SUM(I93:I102)","v":0},0,0,0,0,0,0,{"$f":"SUM(P93:P102)","v":0},6,1,0,0,0,0,0,0,0,0,0,{"$f":"SUM(AB93:AB102)","v":0},{"$f":"SUM(AC93:AC102)","v":0},1]
["04301-OVALLE","105315-CES. RURAL C. DE TAMAYA",null,null,{"$f":"IFERROR(VLOOKUP($B104,'[1]Num 1 2021'!$G$3:$T$95,11,FALSE),0)","v":1},{"$f":"IFERROR(VLOOKUP($B104,'[1]Num 1 2021'!$G$3:$T$95,12,FALSE),0)","v":2},{"$f":"IFERROR(VLOOKUP($B104,'[1]Num 1 2021'!$G$3:$T$95,13,FALSE),0)","v":4},{"$f":"IFERROR(VLOOKUP($B104,'[1]Num 1'!$G$3:$O$88,2,FALSE),0)","v":0},{"$f":"IFERROR(VLOOKUP($B104,'[1]Num 1'!$G$3:$O$88,3,FALSE),0)","v":0},{"$f":"IFERROR(VLOOKUP($B104,'[1]Num 1'!$G$3:$O$88,4,FALSE),0)","v":0},{"$f":"IFERROR(VLOOKUP($B104,'[1]Num 1'!$G$3:$O$88,5,FALSE),0)","v":0},{"$f":"IFERROR(VLOOKUP($B104,'[1]Num 1'!$G$3:$O$88,6,FALSE),0)","v":0},{"$f":"IFERROR(VLOOKUP($B104,'[1]Num 1'!$G$3:$O$88,7,FALSE),0)","v":1},{"$f":"IFERROR(VLOOKUP($B104,'[1]Num 1'!$G$3:$O$88,8,FALSE),0)","v":0},null,null,{"$f":"SUM(E104:P104)","v":8},{"$f":"IFERROR(VLOOKUP($B104,'[1]Den 1 2021'!$G$3:$T$104,11,FALSE),0)","v":1},{"$f":"IFERROR(VLOOKUP($B104,'[1]Den 1 2021'!$G$3:$T$104,12,FALSE),0)","v":0},{"$f":"IFERROR(VLOOKUP($B104,'[1]Den 1 2021'!$G$3:$T$104,13,FALSE),0)","v":0},{"$f":"IFERROR(VLOOKUP($B104,'[1]Den 1'!$G$3:$O$93,2,FALSE),0)","v":2},{"$f":"IFERROR(VLOOKUP($B104,'[1]Den 1'!$G$3:$O$93,3,FALSE),0)","v":0},{"$f":"IFERROR(VLOOKUP($B104,'[1]Den 1'!$G$3:$O$93,4,FALSE),0)","v":0},{"$f":"IFERROR(VLOOKUP($B104,'[1]Den 1'!$G$3:$O$93,5,FALSE),0)","v":0},{"$f":"IFERROR(VLOOKUP($B104,'[1]Den 1'!$G$3:$O$93,6,FALSE),0)","v":0},{"$f":"IFERROR(VLOOKUP($B104,'[1]Den 1'!$G$3:$O$93,7,FALSE),0)","v":0},{"$f":"IFERROR(VLOOKUP($B104,'[1]Den 1'!$G$3:$O$93,8,FALSE),0)","v":0},null,null,3]
["04301-OVALLE","105317-CES. JORGE JORDAN D.",null,null,{"$f":"IFERROR(VLOOKUP($B105,'[1]Num 1 2021'!$G$3:$T$95,11,FALSE),0)","v":1},{"$f":"IFERROR(VLOOKUP($B105,'[1]Num 1 2021'!$G$3:$T$95,12,FALSE),0)","v":0},{"$f":"IFERROR(VLOOKUP($B105,'[1]Num 1 2021'!$G$3:$T$95,13,FALSE),0)","v":0},{"$f":"IFERROR(VLOOKUP($B105,'[1]Num 1'!$G$3:$O$88,2,FALSE),0)","v":0},{"$f":"IFERROR(VLOOKUP($B105,'[1]Num 1'!$G$3:$O$88,3,FALSE),0)","v":4},{"$f":"IFERROR(VLOOKUP($B105,'[1]Num 1'!$G$3:$O$88,4,FALSE),0)","v":6},{"$f":"IFERROR(VLOOKUP($B105,'[1]Num 1'!$G$3:$O$88,5,FALSE),0)","v":0},{"$f":"IFERROR(VLOOKUP($B105,'[1]Num 1'!$G$3:$O$88,6,FALSE),0)","v":0},{"$f":"IFERROR(VLOOKUP($B105,'[1]Num 1'!$G$3:$O$88,7,FALSE),0)","v":0},{"$f":"IFERROR(VLOOKUP($B105,'[1]Num 1'!$G$3:$O$88,8,FALSE),0)","v":0},null,null,11,{"$f":"IFERROR(VLOOKUP($B105,'[1]Den 1 2021'!$G$3:$T$104,11,FALSE),0)","v":1},{"$f":"IFERROR(VLOOKUP($B105,'[1]Den 1 2021'!$G$3:$T$104,12,FALSE),0)","v":5},{"$f":"IFERROR(VLOOKUP($B105,'[1]Den 1 2021'!$G$3:$T$104,13,FALSE),0)","v":5},{"$f":"IFERROR(VLOOKUP($B105,'[1]Den 1'!$G$3:$O$93,2,FALSE),0)","v":0},{"$f":"IFERROR(VLOOKUP($B105,'[1]Den 1'!$G$3:$O$93,3,FALSE),0)","v":0},{"$f":"IFERROR(VLOOKUP($B105,'[1]Den 1'!$G$3:$O$93,4,FALSE),0)","v":4},{"$f":"IFERROR(VLOOKUP($B105,'[1]Den 1'!$G$3:$O$93,5,FALSE),0)","v":1},{"$f":"IFERROR(VLOOKUP($B105,'[1]Den 1'!$G$3:$O$93,6,FALSE),0)","v":1},{"$f":"IFERROR(VLOOKUP($B105,'[1]Den 1'!$G$3:$O$93,7,FALSE),0)","v":0},{"$f":"IFERROR(VLOOKUP($B105,'[1]Den 1'!$G$3:$O$93,8,FALSE),0)","v":2},null,null,19]
["04301-OVALLE","105322-CES. MARCOS MACUADA",null,null,{"$f":"IFERROR(VLOOKUP($B106,'[1]Num 1 2021'!$G$3:$T$95,11,FALSE),0)","v":2},{"$f":"IFERROR(VLOOKUP($B106,'[1]Num 1 2021'!$G$3:$T$95,12,FALSE),0)","v":2},{"$f":"IFERROR(VLOOKUP($B106,'[1]Num 1 2021'!$G$3:$T$95,13,FALSE),0)","v":3},{"$f":"IFERROR(VLOOKUP($B106,'[1]Num 1'!$G$3:$O$88,2,FALSE),0)","v":0},{"$f":"IFERROR(VLOOKUP($B106,'[1]Num 1'!$G$3:$O$88,3,FALSE),0)","v":0},{"$f":"IFERROR(VLOOKUP($B106,'[1]Num 1'!$G$3:$O$88,4,FALSE),0)","v":0},{"$f":"IFERROR(VLOOKUP($B106,'[1]Num 1'!$G$3:$O$88,5,FALSE),0)","v":0},{"$f":"IFERROR(VLOOKUP($B106,'[1]Num 1'!$G$3:$O$88,6,FALSE),0)","v":0},{"$f":"IFERROR(VLOOKUP($B106,'[1]Num 1'!$G$3:$O$88,7,FALSE),0)","v":3},{"$f":"IFERROR(VLOOKUP($B106,'[1]Num 1'!$G$3:$O$88,8,FALSE),0)","v":2},null,null,12,{"$f":"IFERROR(VLOOKUP($B106,'[1]Den 1 2021'!$G$3:$T$104,11,FALSE),0)","v":0},{"$f":"IFERROR(VLOOKUP($B106,'[1]Den 1 2021'!$G$3:$T$104,12,FALSE),0)","v":0},{"$f":"IFERROR(VLOOKUP($B106,'[1]Den 1 2021'!$G$3:$T$104,13,FALSE),0)","v":0},{"$f":"IFERROR(VLOOKUP($B106,'[1]Den 1'!$G$3:$O$93,2,FALSE),0)","v":0},{"$f":"IFERROR(VLOOKUP($B106,'[1]Den 1'!$G$3:$O$93,3,FALSE),0)","v":3},{"$f":"IFERROR(VLOOKUP($B106,'[1]Den 1'!$G$3:$O$93,4,FALSE),0)","v":3},{"$f":"IFERROR(VLOOKUP($B106,'[1]Den 1'!$G$3:$O$93,5,FALSE),0)","v":1},{"$f":"IFERROR(VLOOKUP($B106,'[1]Den 1'!$G$3:$O$93,6,FALSE),0)","v":2},{"$f":"IFERROR(VLOOKUP($B106,'[1]Den 1'!$G$3:$O$93,7,FALSE),0)","v":0},{"$f":"IFERROR(VLOOKUP($B106,'[1]Den 1'!$G$3:$O$93,8,FALSE),0)","v":2},null,null,11]
["04301-OVALLE","105324-CES. SOTAQUI",null,null,{"$f":"IFERROR(VLOOKUP($B107,'[1]Num 1 2021'!$G$3:$T$95,11,FALSE),0)","v":1},{"$f":"IFERROR(VLOOKUP($B107,'[1]Num 1 2021'!$G$3:$T$95,12,FALSE),0)","v":1},{"$f":"IFERROR(VLOOKUP($B107,'[1]Num 1 2021'!$G$3:$T$95,13,FALSE),0)","v":0},{"$f":"IFERROR(VLOOKUP($B107,'[1]Num 1'!$G$3:$O$88,2,FALSE),0)","v":0},{"$f":"IFERROR(VLOOKUP($B107,'[1]Num 1'!$G$3:$O$88,3,FALSE),0)","v":1},{"$f":"IFERROR(VLOOKUP($B107,'[1]Num 1'!$G$3:$O$88,4,FALSE),0)","v":1},{"$f":"IFERROR(VLOOKUP($B107,'[1]Num 1'!$G$3:$O$88,5,FALSE),0)","v":0},{"$f":"IFERROR(VLOOKUP($B107,'[1]Num 1'!$G$3:$O$88,6,FALSE),0)","v":0},{"$f":"IFERROR(VLOOKUP($B107,'[1]Num 1'!$G$3:$O$88,7,FALSE),0)","v":0},{"$f":"IFERROR(VLOOKUP($B107,'[1]Num 1'!$G$3:$O$88,8,FALSE),0)","v":0},null,null,4,{"$f":"IFERROR(VLOOKUP($B107,'[1]Den 1 2021'!$G$3:$T$104,11,FALSE),0)","v":1},{"$f":"IFERROR(VLOOKUP($B107,'[1]Den 1 2021'!$G$3:$T$104,12,FALSE),0)","v":2},{"$f":"IFERROR(VLOOKUP($B107,'[1]Den 1 2021'!$G$3:$T$104,13,FALSE),0)","v":0},{"$f":"IFERROR(VLOOKUP($B107,'[1]Den 1'!$G$3:$O$93,2,FALSE),0)","v":0},{"$f":"IFERROR(VLOOKUP($B107,'[1]Den 1'!$G$3:$O$93,3,FALSE),0)","v":0},{"$f":"IFERROR(VLOOKUP($B107,'[1]Den 1'!$G$3:$O$93,4,FALSE),0)","v":0},{"$f":"IFERROR(VLOOKUP($B107,'[1]Den 1'!$G$3:$O$93,5,FALSE),0)","v":0},{"$f":"IFERROR(VLOOKUP($B107,'[1]Den 1'!$G$3:$O$93,6,FALSE),0)","v":2},{"$f":"IFERROR(VLOOKUP($B107,'[1]Den 1'!$G$3:$O$93,7,FALSE),0)","v":0},{"$f":"IFERROR(VLOOKUP($B107,'[1]Den 1'!$G$3:$O$93,8,FALSE),0)","v":1},null,null,6]
["04301-OVALLE","105415-P.S.R. BARRAZA",null,null,{"$f":"IFERROR(VLOOKUP($B108,'[1]Num 1 2021'!$G$3:$T$95,11,FALSE),0)","v":0},{"$f":"IFERROR(VLOOKUP($B108,'[1]Num 1 2021'!$G$3:$T$95,12,FALSE),0)","v":0},{"$f":"IFERROR(VLOOKUP($B108,'[1]Num 1 2021'!$G$3:$T$95,13,FALSE),0)","v":0},{"$f":"IFERROR(VLOOKUP($B108,'[1]Num 1'!$G$3:$O$88,2,FALSE),0)","v":0},{"$f":"IFERROR(VLOOKUP($B108,'[1]Num 1'!$G$3:$O$88,3,FALSE),0)","v":0},{"$f":"IFERROR(VLOOKUP($B108,'[1]Num 1'!$G$3:$O$88,4,FALSE),0)","v":0},{"$f":"IFERROR(VLOOKUP($B108,'[1]Num 1'!$G$3:$O$88,5,FALSE),0)","v":0},{"$f":"IFERROR(VLOOKUP($B108,'[1]Num 1'!$G$3:$O$88,6,FALSE),0)","v":0},{"$f":"IFERROR(VLOOKUP($B108,'[1]Num 1'!$G$3:$O$88,7,FALSE),0)","v":0},{"$f":"IFERROR(VLOOKUP($B108,'[1]Num 1'!$G$3:$O$88,8,FALSE),0)","v":0},null,null,0,{"$f":"IFERROR(VLOOKUP($B108,'[1]Den 1 2021'!$G$3:$T$104,11,FALSE),0)","v":0},{"$f":"IFERROR(VLOOKUP($B108,'[1]Den 1 2021'!$G$3:$T$104,12,FALSE),0)","v":0},{"$f":"IFERROR(VLOOKUP($B108,'[1]Den 1 2021'!$G$3:$T$104,13,FALSE),0)","v":0},{"$f":"IFERROR(VLOOKUP($B108,'[1]Den 1'!$G$3:$O$93,2,FALSE),0)","v":1},{"$f":"IFERROR(VLOOKUP($B108,'[1]Den 1'!$G$3:$O$93,3,FALSE),0)","v":0},{"$f":"IFERROR(VLOOKUP($B108,'[1]Den 1'!$G$3:$O$93,4,FALSE),0)","v":1},{"$f":"IFERROR(VLOOKUP($B108,'[1]Den 1'!$G$3:$O$93,5,FALSE),0)","v":0},{"$f":"IFERROR(VLOOKUP($B108,'[1]Den 1'!$G$3:$O$93,6,FALSE),0)","v":0},{"$f":"IFERROR(VLOOKUP($B108,'[1]Den 1'!$G$3:$O$93,7,FALSE),0)","v":0},{"$f":"IFERROR(VLOOKUP($B108,'[1]Den 1'!$G$3:$O$93,8,FALSE),0)","v":1},null,null,3]
["04301-OVALLE","105416-P.S.R. CAMARICO                  ",null,null,{"$f":"IFERROR(VLOOKUP($B109,'[1]Num 1 2021'!$G$3:$T$95,11,FALSE),0)","v":0},{"$f":"IFERROR(VLOOKUP($B109,'[1]Num 1 2021'!$G$3:$T$95,12,FALSE),0)","v":0},{"$f":"IFERROR(VLOOKUP($B109,'[1]Num 1 2021'!$G$3:$T$95,13,FALSE),0)","v":0},{"$f":"IFERROR(VLOOKUP($B109,'[1]Num 1'!$G$3:$O$88,2,FALSE),0)","v":0},{"$f":"IFERROR(VLOOKUP($B109,'[1]Num 1'!$G$3:$O$88,3,FALSE),0)","v":0},{"$f":"IFERROR(VLOOKUP($B109,'[1]Num 1'!$G$3:$O$88,4,FALSE),0)","v":0},{"$f":"IFERROR(VLOOKUP($B109,'[1]Num 1'!$G$3:$O$88,5,FALSE),0)","v":0},{"$f":"IFERROR(VLOOKUP($B109,'[1]Num 1'!$G$3:$O$88,6,FALSE),0)","v":0},{"$f":"IFERROR(VLOOKUP($B109,'[1]Num 1'!$G$3:$O$88,7,FALSE),0)","v":0},{"$f":"IFERROR(VLOOKUP($B109,'[1]Num 1'!$G$3:$O$88,8,FALSE),0)","v":0},null,null,0,{"$f":"IFERROR(VLOOKUP($B109,'[1]Den 1 2021'!$G$3:$T$104,11,FALSE),0)","v":0},{"$f":"IFERROR(VLOOKUP($B109,'[1]Den 1 2021'!$G$3:$T$104,12,FALSE),0)","v":0},{"$f":"IFERROR(VLOOKUP($B109,'[1]Den 1 2021'!$G$3:$T$104,13,FALSE),0)","v":0},{"$f":"IFERROR(VLOOKUP($B109,'[1]Den 1'!$G$3:$O$93,2,FALSE),0)","v":0},{"$f":"IFERROR(VLOOKUP($B109,'[1]Den 1'!$G$3:$O$93,3,FALSE),0)","v":0},{"$f":"IFERROR(VLOOKUP($B109,'[1]Den 1'!$G$3:$O$93,4,FALSE),0)","v":0},{"$f":"IFERROR(VLOOKUP($B109,'[1]Den 1'!$G$3:$O$93,5,FALSE),0)","v":1},{"$f":"IFERROR(VLOOKUP($B109,'[1]Den 1'!$G$3:$O$93,6,FALSE),0)","v":0},{"$f":"IFERROR(VLOOKUP($B109,'[1]Den 1'!$G$3:$O$93,7,FALSE),0)","v":0},{"$f":"IFERROR(VLOOKUP($B109,'[1]Den 1'!$G$3:$O$93,8,FALSE),0)","v":0},null,null,1]
["04301-OVALLE","105417-P.S.R. ALCONES BAJOS",null,null,{"$f":"IFERROR(VLOOKUP($B110,'[1]Num 1 2021'!$G$3:$T$95,11,FALSE),0)","v":0},{"$f":"IFERROR(VLOOKUP($B110,'[1]Num 1 2021'!$G$3:$T$95,12,FALSE),0)","v":0},{"$f":"IFERROR(VLOOKUP($B110,'[1]Num 1 2021'!$G$3:$T$95,13,FALSE),0)","v":0},{"$f":"IFERROR(VLOOKUP($B110,'[1]Num 1'!$G$3:$O$88,2,FALSE),0)","v":0},{"$f":"IFERROR(VLOOKUP($B110,'[1]Num 1'!$G$3:$O$88,3,FALSE),0)","v":0},{"$f":"IFERROR(VLOOKUP($B110,'[1]Num 1'!$G$3:$O$88,4,FALSE),0)","v":0},{"$f":"IFERROR(VLOOKUP($B110,'[1]Num 1'!$G$3:$O$88,5,FALSE),0)","v":0},{"$f":"IFERROR(VLOOKUP($B110,'[1]Num 1'!$G$3:$O$88,6,FALSE),0)","v":0},{"$f":"IFERROR(VLOOKUP($B110,'[1]Num 1'!$G$3:$O$88,7,FALSE),0)","v":0},{"$f":"IFERROR(VLOOKUP($B110,'[1]Num 1'!$G$3:$O$88,8,FALSE),0)","v":0},null,null,0,{"$f":"IFERROR(VLOOKUP($B110,'[1]Den 1 2021'!$G$3:$T$104,11,FALSE),0)","v":0},{"$f":"IFERROR(VLOOKUP($B110,'[1]Den 1 2021'!$G$3:$T$104,12,FALSE),0)","v":0},{"$f":"IFERROR(VLOOKUP($B110,'[1]Den 1 2021'!$G$3:$T$104,13,FALSE),0)","v":0},{"$f":"IFERROR(VLOOKUP($B110,'[1]Den 1'!$G$3:$O$93,2,FALSE),0)","v":0},{"$f":"IFERROR(VLOOKUP($B110,'[1]Den 1'!$G$3:$O$93,3,FALSE),0)","v":0},{"$f":"IFERROR(VLOOKUP($B110,'[1]Den 1'!$G$3:$O$93,4,FALSE),0)","v":0},{"$f":"IFERROR(VLOOKUP($B110,'[1]Den 1'!$G$3:$O$93,5,FALSE),0)","v":0},{"$f":"IFERROR(VLOOKUP($B110,'[1]Den 1'!$G$3:$O$93,6,FALSE),0)","v":0},{"$f":"IFERROR(VLOOKUP($B110,'[1]Den 1'!$G$3:$O$93,7,FALSE),0)","v":0},{"$f":"IFERROR(VLOOKUP($B110,'[1]Den 1'!$G$3:$O$93,8,FALSE),0)","v":0},null,null,0]
["04301-OVALLE","105419-P.S.R. LAS SOSSAS",null,null,{"$f":"IFERROR(VLOOKUP($B111,'[1]Num 1 2021'!$G$3:$T$95,11,FALSE),0)","v":0},{"$f":"IFERROR(VLOOKUP($B111,'[1]Num 1 2021'!$G$3:$T$95,12,FALSE),0)","v":0},{"$f":"IFERROR(VLOOKUP($B111,'[1]Num 1 2021'!$G$3:$T$95,13,FALSE),0)","v":0},{"$f":"IFERROR(VLOOKUP($B111,'[1]Num 1'!$G$3:$O$88,2,FALSE),0)","v":0},{"$f":"IFERROR(VLOOKUP($B111,'[1]Num 1'!$G$3:$O$88,3,FALSE),0)","v":0},{"$f":"IFERROR(VLOOKUP($B111,'[1]Num 1'!$G$3:$O$88,4,FALSE),0)","v":0},{"$f":"IFERROR(VLOOKUP($B111,'[1]Num 1'!$G$3:$O$88,5,FALSE),0)","v":0},{"$f":"IFERROR(VLOOKUP($B111,'[1]Num 1'!$G$3:$O$88,6,FALSE),0)","v":1},{"$f":"IFERROR(VLOOKUP($B111,'[1]Num 1'!$G$3:$O$88,7,FALSE),0)","v":0},{"$f":"IFERROR(VLOOKUP($B111,'[1]Num 1'!$G$3:$O$88,8,FALSE),0)","v":0},null,null,1,{"$f":"IFERROR(VLOOKUP($B111,'[1]Den 1 2021'!$G$3:$T$104,11,FALSE),0)","v":0},{"$f":"IFERROR(VLOOKUP($B111,'[1]Den 1 2021'!$G$3:$T$104,12,FALSE),0)","v":0},{"$f":"IFERROR(VLOOKUP($B111,'[1]Den 1 2021'!$G$3:$T$104,13,FALSE),0)","v":0},{"$f":"IFERROR(VLOOKUP($B111,'[1]Den 1'!$G$3:$O$93,2,FALSE),0)","v":1},{"$f":"IFERROR(VLOOKUP($B111,'[1]Den 1'!$G$3:$O$93,3,FALSE),0)","v":0},{"$f":"IFERROR(VLOOKUP($B111,'[1]Den 1'!$G$3:$O$93,4,FALSE),0)","v":1},{"$f":"IFERROR(VLOOKUP($B111,'[1]Den 1'!$G$3:$O$93,5,FALSE),0)","v":0},{"$f":"IFERROR(VLOOKUP($B111,'[1]Den 1'!$G$3:$O$93,6,FALSE),0)","v":0},{"$f":"IFERROR(VLOOKUP($B111,'[1]Den 1'!$G$3:$O$93,7,FALSE),0)","v":0},{"$f":"IFERROR(VLOOKUP($B111,'[1]Den 1'!$G$3:$O$93,8,FALSE),0)","v":0},null,null,2]
["04301-OVALLE","105422-P.S.R. HORNILLOS",null,null,{"$f":"IFERROR(VLOOKUP($B112,'[1]Num 1 2021'!$G$3:$T$95,11,FALSE),0)","v":0},{"$f":"IFERROR(VLOOKUP($B112,'[1]Num 1 2021'!$G$3:$T$95,12,FALSE),0)","v":0},{"$f":"IFERROR(VLOOKUP($B112,'[1]Num 1 2021'!$G$3:$T$95,13,FALSE),0)","v":0},{"$f":"IFERROR(VLOOKUP($B112,'[1]Num 1'!$G$3:$O$88,2,FALSE),0)","v":0},{"$f":"IFERROR(VLOOKUP($B112,'[1]Num 1'!$G$3:$O$88,3,FALSE),0)","v":0},{"$f":"IFERROR(VLOOKUP($B112,'[1]Num 1'!$G$3:$O$88,4,FALSE),0)","v":0},{"$f":"IFERROR(VLOOKUP($B112,'[1]Num 1'!$G$3:$O$88,5,FALSE),0)","v":0},{"$f":"IFERROR(VLOOKUP($B112,'[1]Num 1'!$G$3:$O$88,6,FALSE),0)","v":0},{"$f":"IFERROR(VLOOKUP($B112,'[1]Num 1'!$G$3:$O$88,7,FALSE),0)","v":0},{"$f":"IFERROR(VLOOKUP($B112,'[1]Num 1'!$G$3:$O$88,8,FALSE),0)","v":0},null,null,0,{"$f":"IFERROR(VLOOKUP($B112,'[1]Den 1 2021'!$G$3:$T$104,11,FALSE),0)","v":0},{"$f":"IFERROR(VLOOKUP($B112,'[1]Den 1 2021'!$G$3:$T$104,12,FALSE),0)","v":0},{"$f":"IFERROR(VLOOKUP($B112,'[1]Den 1 2021'!$G$3:$T$104,13,FALSE),0)","v":0},{"$f":"IFERROR(VLOOKUP($B112,'[1]Den 1'!$G$3:$O$93,2,FALSE),0)","v":0},{"$f":"IFERROR(VLOOKUP($B112,'[1]Den 1'!$G$3:$O$93,3,FALSE),0)","v":0},{"$f":"IFERROR(VLOOKUP($B112,'[1]Den 1'!$G$3:$O$93,4,FALSE),0)","v":0},{"$f":"IFERROR(VLOOKUP($B112,'[1]Den 1'!$G$3:$O$93,5,FALSE),0)","v":0},{"$f":"IFERROR(VLOOKUP($B112,'[1]Den 1'!$G$3:$O$93,6,FALSE),0)","v":0},{"$f":"IFERROR(VLOOKUP($B112,'[1]Den 1'!$G$3:$O$93,7,FALSE),0)","v":0},{"$f":"IFERROR(VLOOKUP($B112,'[1]Den 1'!$G$3:$O$93,8,FALSE),0)","v":0},null,null,0]
["04301-OVALLE","105437-P.S.R. CHALINGA",null,null,{"$f":"IFERROR(VLOOKUP($B113,'[1]Num 1 2021'!$G$3:$T$95,11,FALSE),0)","v":0},{"$f":"IFERROR(VLOOKUP($B113,'[1]Num 1 2021'!$G$3:$T$95,12,FALSE),0)","v":0},{"$f":"IFERROR(VLOOKUP($B113,'[1]Num 1 2021'!$G$3:$T$95,13,FALSE),0)","v":0},{"$f":"IFERROR(VLOOKUP($B113,'[1]Num 1'!$G$3:$O$88,2,FALSE),0)","v":0},{"$f":"IFERROR(VLOOKUP($B113,'[1]Num 1'!$G$3:$O$88,3,FALSE),0)","v":0},{"$f":"IFERROR(VLOOKUP($B113,'[1]Num 1'!$G$3:$O$88,4,FALSE),0)","v":0},{"$f":"IFERROR(VLOOKUP($B113,'[1]Num 1'!$G$3:$O$88,5,FALSE),0)","v":0},{"$f":"IFERROR(VLOOKUP($B113,'[1]Num 1'!$G$3:$O$88,6,FALSE),0)","v":0},{"$f":"IFERROR(VLOOKUP($B113,'[1]Num 1'!$G$3:$O$88,7,FALSE),0)","v":0},{"$f":"IFERROR(VLOOKUP($B113,'[1]Num 1'!$G$3:$O$88,8,FALSE),0)","v":0},null,null,0,{"$f":"IFERROR(VLOOKUP($B113,'[1]Den 1 2021'!$G$3:$T$104,11,FALSE),0)","v":0},{"$f":"IFERROR(VLOOKUP($B113,'[1]Den 1 2021'!$G$3:$T$104,12,FALSE),0)","v":0},{"$f":"IFERROR(VLOOKUP($B113,'[1]Den 1 2021'!$G$3:$T$104,13,FALSE),0)","v":0},{"$f":"IFERROR(VLOOKUP($B113,'[1]Den 1'!$G$3:$O$93,2,FALSE),0)","v":0},{"$f":"IFERROR(VLOOKUP($B113,'[1]Den 1'!$G$3:$O$93,3,FALSE),0)","v":0},{"$f":"IFERROR(VLOOKUP($B113,'[1]Den 1'!$G$3:$O$93,4,FALSE),0)","v":0},{"$f":"IFERROR(VLOOKUP($B113,'[1]Den 1'!$G$3:$O$93,5,FALSE),0)","v":0},{"$f":"IFERROR(VLOOKUP($B113,'[1]Den 1'!$G$3:$O$93,6,FALSE),0)","v":0},{"$f":"IFERROR(VLOOKUP($B113,'[1]Den 1'!$G$3:$O$93,7,FALSE),0)","v":0},{"$f":"IFERROR(VLOOKUP($B113,'[1]Den 1'!$G$3:$O$93,8,FALSE),0)","v":0},null,null,0]
["04301-OVALLE","105439-P.S.R. CERRO BLANCO",null,null,{"$f":"IFERROR(VLOOKUP($B114,'[1]Num 1 2021'!$G$3:$T$95,11,FALSE),0)","v":0},{"$f":"IFERROR(VLOOKUP($B114,'[1]Num 1 2021'!$G$3:$T$95,12,FALSE),0)","v":0},{"$f":"IFERROR(VLOOKUP($B114,'[1]Num 1 2021'!$G$3:$T$95,13,FALSE),0)","v":0},{"$f":"IFERROR(VLOOKUP($B114,'[1]Num 1'!$G$3:$O$88,2,FALSE),0)","v":0},{"$f":"IFERROR(VLOOKUP($B114,'[1]Num 1'!$G$3:$O$88,3,FALSE),0)","v":0},{"$f":"IFERROR(VLOOKUP($B114,'[1]Num 1'!$G$3:$O$88,4,FALSE),0)","v":0},{"$f":"IFERROR(VLOOKUP($B114,'[1]Num 1'!$G$3:$O$88,5,FALSE),0)","v":0},{"$f":"IFERROR(VLOOKUP($B114,'[1]Num 1'!$G$3:$O$88,6,FALSE),0)","v":0},{"$f":"IFERROR(VLOOKUP($B114,'[1]Num 1'!$G$3:$O$88,7,FALSE),0)","v":0},{"$f":"IFERROR(VLOOKUP($B114,'[1]Num 1'!$G$3:$O$88,8,FALSE),0)","v":0},null,null,0,{"$f":"IFERROR(VLOOKUP($B114,'[1]Den 1 2021'!$G$3:$T$104,11,FALSE),0)","v":0},{"$f":"IFERROR(VLOOKUP($B114,'[1]Den 1 2021'!$G$3:$T$104,12,FALSE),0)","v":0},{"$f":"IFERROR(VLOOKUP($B114,'[1]Den 1 2021'!$G$3:$T$104,13,FALSE),0)","v":0},{"$f":"IFERROR(VLOOKUP($B114,'[1]Den 1'!$G$3:$O$93,2,FALSE),0)","v":0},{"$f":"IFERROR(VLOOKUP($B114,'[1]Den 1'!$G$3:$O$93,3,FALSE),0)","v":0},{"$f":"IFERROR(VLOOKUP($B114,'[1]Den 1'!$G$3:$O$93,4,FALSE),0)","v":0},{"$f":"IFERROR(VLOOKUP($B114,'[1]Den 1'!$G$3:$O$93,5,FALSE),0)","v":0},{"$f":"IFERROR(VLOOKUP($B114,'[1]Den 1'!$G$3:$O$93,6,FALSE),0)","v":0},{"$f":"IFERROR(VLOOKUP($B114,'[1]Den 1'!$G$3:$O$93,7,FALSE),0)","v":0},{"$f":"IFERROR(VLOOKUP($B114,'[1]Den 1'!$G$3:$O$93,8,FALSE),0)","v":0},null,null,0]
["04301-OVALLE","105507-P.S.R. HUAMALATA",null,null,{"$f":"IFERROR(VLOOKUP($B115,'[1]Num 1 2021'!$G$3:$T$95,11,FALSE),0)","v":0},{"$f":"IFERROR(VLOOKUP($B115,'[1]Num 1 2021'!$G$3:$T$95,12,FALSE),0)","v":0},{"$f":"IFERROR(VLOOKUP($B115,'[1]Num 1 2021'!$G$3:$T$95,13,FALSE),0)","v":0},{"$f":"IFERROR(VLOOKUP($B115,'[1]Num 1'!$G$3:$O$88,2,FALSE),0)","v":0},{"$f":"IFERROR(VLOOKUP($B115,'[1]Num 1'!$G$3:$O$88,3,FALSE),0)","v":0},{"$f":"IFERROR(VLOOKUP($B115,'[1]Num 1'!$G$3:$O$88,4,FALSE),0)","v":0},{"$f":"IFERROR(VLOOKUP($B115,'[1]Num 1'!$G$3:$O$88,5,FALSE),0)","v":0},{"$f":"IFERROR(VLOOKUP($B115,'[1]Num 1'!$G$3:$O$88,6,FALSE),0)","v":0},{"$f":"IFERROR(VLOOKUP($B115,'[1]Num 1'!$G$3:$O$88,7,FALSE),0)","v":0},{"$f":"IFERROR(VLOOKUP($B115,'[1]Num 1'!$G$3:$O$88,8,FALSE),0)","v":0},null,null,0,{"$f":"IFERROR(VLOOKUP($B115,'[1]Den 1 2021'!$G$3:$T$104,11,FALSE),0)","v":0},{"$f":"IFERROR(VLOOKUP($B115,'[1]Den 1 2021'!$G$3:$T$104,12,FALSE),0)","v":0},{"$f":"IFERROR(VLOOKUP($B115,'[1]Den 1 2021'!$G$3:$T$104,13,FALSE),0)","v":0},{"$f":"IFERROR(VLOOKUP($B115,'[1]Den 1'!$G$3:$O$93,2,FALSE),0)","v":0},{"$f":"IFERROR(VLOOKUP($B115,'[1]Den 1'!$G$3:$O$93,3,FALSE),0)","v":0},{"$f":"IFERROR(VLOOKUP($B115,'[1]Den 1'!$G$3:$O$93,4,FALSE),0)","v":0},{"$f":"IFERROR(VLOOKUP($B115,'[1]Den 1'!$G$3:$O$93,5,FALSE),0)","v":0},{"$f":"IFERROR(VLOOKUP($B115,'[1]Den 1'!$G$3:$O$93,6,FALSE),0)","v":0},{"$f":"IFERROR(VLOOKUP($B115,'[1]Den 1'!$G$3:$O$93,7,FALSE),0)","v":0},{"$f":"IFERROR(VLOOKUP($B115,'[1]Den 1'!$G$3:$O$93,8,FALSE),0)","v":0},null,null,{"$f":"SUM(R115:AC115)","v":0}]
["04301-OVALLE","105510-P.S.R. RECOLETA",null,null,{"$f":"IFERROR(VLOOKUP($B116,'[1]Num 1 2021'!$G$3:$T$95,11,FALSE),0)","v":0},{"$f":"IFERROR(VLOOKUP($B116,'[1]Num 1 2021'!$G$3:$T$95,12,FALSE),0)","v":0},{"$f":"IFERROR(VLOOKUP($B116,'[1]Num 1 2021'!$G$3:$T$95,13,FALSE),0)","v":0},{"$f":"IFERROR(VLOOKUP($B116,'[1]Num 1'!$G$3:$O$88,2,FALSE),0)","v":0},{"$f":"IFERROR(VLOOKUP($B116,'[1]Num 1'!$G$3:$O$88,3,FALSE),0)","v":0},{"$f":"IFERROR(VLOOKUP($B116,'[1]Num 1'!$G$3:$O$88,4,FALSE),0)","v":0},{"$f":"IFERROR(VLOOKUP($B116,'[1]Num 1'!$G$3:$O$88,5,FALSE),0)","v":0},{"$f":"IFERROR(VLOOKUP($B116,'[1]Num 1'!$G$3:$O$88,6,FALSE),0)","v":1},{"$f":"IFERROR(VLOOKUP($B116,'[1]Num 1'!$G$3:$O$88,7,FALSE),0)","v":0},{"$f":"IFERROR(VLOOKUP($B116,'[1]Num 1'!$G$3:$O$88,8,FALSE),0)","v":0},null,null,1,{"$f":"IFERROR(VLOOKUP($B116,'[1]Den 1 2021'!$G$3:$T$104,11,FALSE),0)","v":0},{"$f":"IFERROR(VLOOKUP($B116,'[1]Den 1 2021'!$G$3:$T$104,12,FALSE),0)","v":0},{"$f":"IFERROR(VLOOKUP($B116,'[1]Den 1 2021'!$G$3:$T$104,13,FALSE),0)","v":0},{"$f":"IFERROR(VLOOKUP($B116,'[1]Den 1'!$G$3:$O$93,2,FALSE),0)","v":0},{"$f":"IFERROR(VLOOKUP($B116,'[1]Den 1'!$G$3:$O$93,3,FALSE),0)","v":1},{"$f":"IFERROR(VLOOKUP($B116,'[1]Den 1'!$G$3:$O$93,4,FALSE),0)","v":0},{"$f":"IFERROR(VLOOKUP($B116,'[1]Den 1'!$G$3:$O$93,5,FALSE),0)","v":0},{"$f":"IFERROR(VLOOKUP($B116,'[1]Den 1'!$G$3:$O$93,6,FALSE),0)","v":0},{"$f":"IFERROR(VLOOKUP($B116,'[1]Den 1'!$G$3:$O$93,7,FALSE),0)","v":0},{"$f":"IFERROR(VLOOKUP($B116,'[1]Den 1'!$G$3:$O$93,8,FALSE),0)","v":0},null,null,{"$f":"SUM(R116:AC116)","v":1}]
["04301-OVALLE","105722-CECOF SAN JOSE DE LA DEHESA",null,null,{"$f":"IFERROR(VLOOKUP($B117,'[1]Num 1 2021'!$G$3:$T$95,11,FALSE),0)","v":0},{"$f":"IFERROR(VLOOKUP($B117,'[1]Num 1 2021'!$G$3:$T$95,12,FALSE),0)","v":1},{"$f":"IFERROR(VLOOKUP($B117,'[1]Num 1 2021'!$G$3:$T$95,13,FALSE),0)","v":0},{"$f":"IFERROR(VLOOKUP($B117,'[1]Num 1'!$G$3:$O$88,2,FALSE),0)","v":0},{"$f":"IFERROR(VLOOKUP($B117,'[1]Num 1'!$G$3:$O$88,3,FALSE),0)","v":0},{"$f":"IFERROR(VLOOKUP($B117,'[1]Num 1'!$G$3:$O$88,4,FALSE),0)","v":0},{"$f":"IFERROR(VLOOKUP($B117,'[1]Num 1'!$G$3:$O$88,5,FALSE),0)","v":0},{"$f":"IFERROR(VLOOKUP($B117,'[1]Num 1'!$G$3:$O$88,6,FALSE),0)","v":0},{"$f":"IFERROR(VLOOKUP($B117,'[1]Num 1'!$G$3:$O$88,7,FALSE),0)","v":0},{"$f":"IFERROR(VLOOKUP($B117,'[1]Num 1'!$G$3:$O$88,8,FALSE),0)","v":0},null,null,1,{"$f":"IFERROR(VLOOKUP($B117,'[1]Den 1 2021'!$G$3:$T$104,11,FALSE),0)","v":0},{"$f":"IFERROR(VLOOKUP($B117,'[1]Den 1 2021'!$G$3:$T$104,12,FALSE),0)","v":0},{"$f":"IFERROR(VLOOKUP($B117,'[1]Den 1 2021'!$G$3:$T$104,13,FALSE),0)","v":0},{"$f":"IFERROR(VLOOKUP($B117,'[1]Den 1'!$G$3:$O$93,2,FALSE),0)","v":2},{"$f":"IFERROR(VLOOKUP($B117,'[1]Den 1'!$G$3:$O$93,3,FALSE),0)","v":0},{"$f":"IFERROR(VLOOKUP($B117,'[1]Den 1'!$G$3:$O$93,4,FALSE),0)","v":0},{"$f":"IFERROR(VLOOKUP($B117,'[1]Den 1'!$G$3:$O$93,5,FALSE),0)","v":0},{"$f":"IFERROR(VLOOKUP($B117,'[1]Den 1'!$G$3:$O$93,6,FALSE),0)","v":0},{"$f":"IFERROR(VLOOKUP($B117,'[1]Den 1'!$G$3:$O$93,7,FALSE),0)","v":0},{"$f":"IFERROR(VLOOKUP($B117,'[1]Den 1'!$G$3:$O$93,8,FALSE),0)","v":0},null,null,{"$f":"SUM(R117:AC117)","v":2}]
["04301-OVALLE","105723-CECOF LIMARI",null,null,{"$f":"IFERROR(VLOOKUP($B118,'[1]Num 1 2021'!$G$3:$T$95,11,FALSE),0)","v":0},{"$f":"IFERROR(VLOOKUP($B118,'[1]Num 1 2021'!$G$3:$T$95,12,FALSE),0)","v":0},{"$f":"IFERROR(VLOOKUP($B118,'[1]Num 1 2021'!$G$3:$T$95,13,FALSE),0)","v":0},{"$f":"IFERROR(VLOOKUP($B118,'[1]Num 1'!$G$3:$O$88,2,FALSE),0)","v":0},{"$f":"IFERROR(VLOOKUP($B118,'[1]Num 1'!$G$3:$O$88,3,FALSE),0)","v":0},{"$f":"IFERROR(VLOOKUP($B118,'[1]Num 1'!$G$3:$O$88,4,FALSE),0)","v":0},{"$f":"IFERROR(VLOOKUP($B118,'[1]Num 1'!$G$3:$O$88,5,FALSE),0)","v":0},{"$f":"IFERROR(VLOOKUP($B118,'[1]Num 1'!$G$3:$O$88,6,FALSE),0)","v":0},{"$f":"IFERROR(VLOOKUP($B118,'[1]Num 1'!$G$3:$O$88,7,FALSE),0)","v":0},{"$f":"IFERROR(VLOOKUP($B118,'[1]Num 1'!$G$3:$O$88,8,FALSE),0)","v":0},null,null,0,{"$f":"IFERROR(VLOOKUP($B118,'[1]Den 1 2021'!$G$3:$T$104,11,FALSE),0)","v":0},{"$f":"IFERROR(VLOOKUP($B118,'[1]Den 1 2021'!$G$3:$T$104,12,FALSE),0)","v":0},{"$f":"IFERROR(VLOOKUP($B118,'[1]Den 1 2021'!$G$3:$T$104,13,FALSE),0)","v":0},{"$f":"IFERROR(VLOOKUP($B118,'[1]Den 1'!$G$3:$O$93,2,FALSE),0)","v":0},{"$f":"IFERROR(VLOOKUP($B118,'[1]Den 1'!$G$3:$O$93,3,FALSE),0)","v":0},{"$f":"IFERROR(VLOOKUP($B118,'[1]Den 1'!$G$3:$O$93,4,FALSE),0)","v":0},{"$f":"IFERROR(VLOOKUP($B118,'[1]Den 1'!$G$3:$O$93,5,FALSE),0)","v":0},{"$f":"IFERROR(VLOOKUP($B118,'[1]Den 1'!$G$3:$O$93,6,FALSE),0)","v":0},{"$f":"IFERROR(VLOOKUP($B118,'[1]Den 1'!$G$3:$O$93,7,FALSE),0)","v":0},{"$f":"IFERROR(VLOOKUP($B118,'[1]Den 1'!$G$3:$O$93,8,FALSE),0)","v":0},null,null,0]
["04301-OVALLE","200258-CECOF LOS COPIHUES",null,null,{"$f":"IFERROR(VLOOKUP($B119,'[1]Num 1 2021'!$G$3:$T$95,11,FALSE),0)","v":0},{"$f":"IFERROR(VLOOKUP($B119,'[1]Num 1 2021'!$G$3:$T$95,12,FALSE),0)","v":0},{"$f":"IFERROR(VLOOKUP($B119,'[1]Num 1 2021'!$G$3:$T$95,13,FALSE),0)","v":0},{"$f":"IFERROR(VLOOKUP($B119,'[1]Num 1'!$G$3:$O$88,2,FALSE),0)","v":0},{"$f":"IFERROR(VLOOKUP($B119,'[1]Num 1'!$G$3:$O$88,3,FALSE),0)","v":0},{"$f":"IFERROR(VLOOKUP($B119,'[1]Num 1'!$G$3:$O$88,4,FALSE),0)","v":0},{"$f":"IFERROR(VLOOKUP($B119,'[1]Num 1'!$G$3:$O$88,5,FALSE),0)","v":1},{"$f":"IFERROR(VLOOKUP($B119,'[1]Num 1'!$G$3:$O$88,6,FALSE),0)","v":0},{"$f":"IFERROR(VLOOKUP($B119,'[1]Num 1'!$G$3:$O$88,7,FALSE),0)","v":0},{"$f":"IFERROR(VLOOKUP($B119,'[1]Num 1'!$G$3:$O$88,8,FALSE),0)","v":0},null,null,1,{"$f":"IFERROR(VLOOKUP($B119,'[1]Den 1 2021'!$G$3:$T$104,11,FALSE),0)","v":0},{"$f":"IFERROR(VLOOKUP($B119,'[1]Den 1 2021'!$G$3:$T$104,12,FALSE),0)","v":0},{"$f":"IFERROR(VLOOKUP($B119,'[1]Den 1 2021'!$G$3:$T$104,13,FALSE),0)","v":0},{"$f":"IFERROR(VLOOKUP($B119,'[1]Den 1'!$G$3:$O$93,2,FALSE),0)","v":0},{"$f":"IFERROR(VLOOKUP($B119,'[1]Den 1'!$G$3:$O$93,3,FALSE),0)","v":0},{"$f":"IFERROR(VLOOKUP($B119,'[1]Den 1'!$G$3:$O$93,4,FALSE),0)","v":1},{"$f":"IFERROR(VLOOKUP($B119,'[1]Den 1'!$G$3:$O$93,5,FALSE),0)","v":1},{"$f":"IFERROR(VLOOKUP($B119,'[1]Den 1'!$G$3:$O$93,6,FALSE),0)","v":0},{"$f":"IFERROR(VLOOKUP($B119,'[1]Den 1'!$G$3:$O$93,7,FALSE),0)","v":0},{"$f":"IFERROR(VLOOKUP($B119,'[1]Den 1'!$G$3:$O$93,8,FALSE),0)","v":0},null,null,2]
["04301-OVALLE","200367-CECOF COLONIA LIMARÍ",null,null,{"$f":"IFERROR(VLOOKUP($B120,'[1]Num 1 2021'!$G$3:$T$95,11,FALSE),0)","v":1},{"$f":"IFERROR(VLOOKUP($B120,'[1]Num 1 2021'!$G$3:$T$95,12,FALSE),0)","v":0},{"$f":"IFERROR(VLOOKUP($B120,'[1]Num 1 2021'!$G$3:$T$95,13,FALSE),0)","v":0},{"$f":"IFERROR(VLOOKUP($B120,'[1]Num 1'!$G$3:$O$88,2,FALSE),0)","v":0},{"$f":"IFERROR(VLOOKUP($B120,'[1]Num 1'!$G$3:$O$88,3,FALSE),0)","v":0},{"$f":"IFERROR(VLOOKUP($B120,'[1]Num 1'!$G$3:$O$88,4,FALSE),0)","v":0},{"$f":"IFERROR(VLOOKUP($B120,'[1]Num 1'!$G$3:$O$88,5,FALSE),0)","v":1},{"$f":"IFERROR(VLOOKUP($B120,'[1]Num 1'!$G$3:$O$88,6,FALSE),0)","v":0},{"$f":"IFERROR(VLOOKUP($B120,'[1]Num 1'!$G$3:$O$88,7,FALSE),0)","v":0},{"$f":"IFERROR(VLOOKUP($B120,'[1]Num 1'!$G$3:$O$88,8,FALSE),0)","v":0},null,null,2,{"$f":"IFERROR(VLOOKUP($B120,'[1]Den 1 2021'!$G$3:$T$104,11,FALSE),0)","v":0},{"$f":"IFERROR(VLOOKUP($B120,'[1]Den 1 2021'!$G$3:$T$104,12,FALSE),0)","v":0},{"$f":"IFERROR(VLOOKUP($B120,'[1]Den 1 2021'!$G$3:$T$104,13,FALSE),0)","v":0},{"$f":"IFERROR(VLOOKUP($B120,'[1]Den 1'!$G$3:$O$93,2,FALSE),0)","v":1},{"$f":"IFERROR(VLOOKUP($B120,'[1]Den 1'!$G$3:$O$93,3,FALSE),0)","v":0},{"$f":"IFERROR(VLOOKUP($B120,'[1]Den 1'!$G$3:$O$93,4,FALSE),0)","v":0},{"$f":"IFERROR(VLOOKUP($B120,'[1]Den 1'!$G$3:$O$93,5,FALSE),0)","v":0},{"$f":"IFERROR(VLOOKUP($B120,'[1]Den 1'!$G$3:$O$93,6,FALSE),0)","v":0},{"$f":"IFERROR(VLOOKUP($B120,'[1]Den 1'!$G$3:$O$93,7,FALSE),0)","v":0},{"$f":"IFERROR(VLOOKUP($B120,'[1]Den 1'!$G$3:$O$93,8,FALSE),0)","v":0},null,null,1]
["04301-OVALLE","200569-CESFAM FRAY JORGE",null,null,{"$f":"IFERROR(VLOOKUP($B121,'[1]Num 1 2021'!$G$3:$T$95,11,FALSE),0)","v":0},{"$f":"IFERROR(VLOOKUP($B121,'[1]Num 1 2021'!$G$3:$T$95,12,FALSE),0)","v":1},{"$f":"IFERROR(VLOOKUP($B121,'[1]Num 1 2021'!$G$3:$T$95,13,FALSE),0)","v":2},{"$f":"IFERROR(VLOOKUP($B121,'[1]Num 1'!$G$3:$O$88,2,FALSE),0)","v":0},{"$f":"IFERROR(VLOOKUP($B121,'[1]Num 1'!$G$3:$O$88,3,FALSE),0)","v":0},{"$f":"IFERROR(VLOOKUP($B121,'[1]Num 1'!$G$3:$O$88,4,FALSE),0)","v":3},{"$f":"IFERROR(VLOOKUP($B121,'[1]Num 1'!$G$3:$O$88,5,FALSE),0)","v":1},{"$f":"IFERROR(VLOOKUP($B121,'[1]Num 1'!$G$3:$O$88,6,FALSE),0)","v":2},{"$f":"IFERROR(VLOOKUP($B121,'[1]Num 1'!$G$3:$O$88,7,FALSE),0)","v":1},{"$f":"IFERROR(VLOOKUP($B121,'[1]Num 1'!$G$3:$O$88,8,FALSE),0)","v":0},null,null,10,{"$f":"IFERROR(VLOOKUP($B121,'[1]Den 1 2021'!$G$3:$T$104,11,FALSE),0)","v":1},{"$f":"IFERROR(VLOOKUP($B121,'[1]Den 1 2021'!$G$3:$T$104,12,FALSE),0)","v":0},{"$f":"IFERROR(VLOOKUP($B121,'[1]Den 1 2021'!$G$3:$T$104,13,FALSE),0)","v":1},{"$f":"IFERROR(VLOOKUP($B121,'[1]Den 1'!$G$3:$O$93,2,FALSE),0)","v":4},{"$f":"IFERROR(VLOOKUP($B121,'[1]Den 1'!$G$3:$O$93,3,FALSE),0)","v":1},{"$f":"IFERROR(VLOOKUP($B121,'[1]Den 1'!$G$3:$O$93,4,FALSE),0)","v":3},{"$f":"IFERROR(VLOOKUP($B121,'[1]Den 1'!$G$3:$O$93,5,FALSE),0)","v":1},{"$f":"IFERROR(VLOOKUP($B121,'[1]Den 1'!$G$3:$O$93,6,FALSE),0)","v":2},{"$f":"IFERROR(VLOOKUP($B121,'[1]Den 1'!$G$3:$O$93,7,FALSE),0)","v":3},{"$f":"IFERROR(VLOOKUP($B121,'[1]Den 1'!$G$3:$O$93,8,FALSE),0)","v":2},null,null,18]
["TOTAL OVALLE",null,{"$f":"D122/Metas!G14","v":{"v":0.8495752123938031,"d":"84.96%"}},{"$f":"Q122/AD122","v":{"v":0.7391304347826086,"d":"73.91%"}},{"$f":"SUM(E104:E121)","v":6},7,9,0,5,10,3,4,5,2,0,0,51,4,7,6,11,5,13,5,7,3,8,0,0,69]
["04302-COMBARBALÁ","105433-P.S.R. SAN LORENZO",null,null,{"$f":"IFERROR(VLOOKUP($B123,'[1]Num 1 2021'!$G$3:$T$95,11,FALSE),0)","v":0},{"$f":"IFERROR(VLOOKUP($B123,'[1]Num 1 2021'!$G$3:$T$95,12,FALSE),0)","v":0},{"$f":"IFERROR(VLOOKUP($B123,'[1]Num 1 2021'!$G$3:$T$95,13,FALSE),0)","v":0},{"$f":"IFERROR(VLOOKUP($B123,'[1]Num 1'!$G$3:$O$88,2,FALSE),0)","v":0},{"$f":"IFERROR(VLOOKUP($B123,'[1]Num 1'!$G$3:$O$88,3,FALSE),0)","v":0},{"$f":"IFERROR(VLOOKUP($B123,'[1]Num 1'!$G$3:$O$88,4,FALSE),0)","v":0},{"$f":"IFERROR(VLOOKUP($B123,'[1]Num 1'!$G$3:$O$88,5,FALSE),0)","v":0},{"$f":"IFERROR(VLOOKUP($B123,'[1]Num 1'!$G$3:$O$88,6,FALSE),0)","v":0},{"$f":"IFERROR(VLOOKUP($B123,'[1]Num 1'!$G$3:$O$88,7,FALSE),0)","v":0},{"$f":"IFERROR(VLOOKUP($B123,'[1]Num 1'!$G$3:$O$88,8,FALSE),0)","v":0},null,null,{"$f":"SUM(E123:P123)","v":0},{"$f":"IFERROR(VLOOKUP($B123,'[1]Den 1 2021'!$G$3:$T$104,11,FALSE),0)","v":0},{"$f":"IFERROR(VLOOKUP($B123,'[1]Den 1 2021'!$G$3:$T$104,12,FALSE),0)","v":0},{"$f":"IFERROR(VLOOKUP($B123,'[1]Den 1 2021'!$G$3:$T$104,13,FALSE),0)","v":0},{"$f":"IFERROR(VLOOKUP($B123,'[1]Den 1'!$G$3:$O$93,2,FALSE),0)","v":0},{"$f":"IFERROR(VLOOKUP($B123,'[1]Den 1'!$G$3:$O$93,3,FALSE),0)","v":0},{"$f":"IFERROR(VLOOKUP($B123,'[1]Den 1'!$G$3:$O$93,4,FALSE),0)","v":0},{"$f":"IFERROR(VLOOKUP($B123,'[1]Den 1'!$G$3:$O$93,5,FALSE),0)","v":0},{"$f":"IFERROR(VLOOKUP($B123,'[1]Den 1'!$G$3:$O$93,6,FALSE),0)","v":0},{"$f":"IFERROR(VLOOKUP($B123,'[1]Den 1'!$G$3:$O$93,7,FALSE),0)","v":0},{"$f":"IFERROR(VLOOKUP($B123,'[1]Den 1'!$G$3:$O$93,8,FALSE),0)","v":0},null,null,0]
["04302-COMBARBALÁ","105434-P.S.R. SAN MARCOS",null,null,{"$f":"IFERROR(VLOOKUP($B124,'[1]Num 1 2021'!$G$3:$T$95,11,FALSE),0)","v":1},{"$f":"IFERROR(VLOOKUP($B124,'[1]Num 1 2021'!$G$3:$T$95,12,FALSE),0)","v":0},{"$f":"IFERROR(VLOOKUP($B124,'[1]Num 1 2021'!$G$3:$T$95,13,FALSE),0)","v":0},{"$f":"IFERROR(VLOOKUP($B124,'[1]Num 1'!$G$3:$O$88,2,FALSE),0)","v":0},{"$f":"IFERROR(VLOOKUP($B124,'[1]Num 1'!$G$3:$O$88,3,FALSE),0)","v":0},{"$f":"IFERROR(VLOOKUP($B124,'[1]Num 1'!$G$3:$O$88,4,FALSE),0)","v":0},{"$f":"IFERROR(VLOOKUP($B124,'[1]Num 1'!$G$3:$O$88,5,FALSE),0)","v":0},{"$f":"IFERROR(VLOOKUP($B124,'[1]Num 1'!$G$3:$O$88,6,FALSE),0)","v":0},{"$f":"IFERROR(VLOOKUP($B124,'[1]Num 1'!$G$3:$O$88,7,FALSE),0)","v":1},{"$f":"IFERROR(VLOOKUP($B124,'[1]Num 1'!$G$3:$O$88,8,FALSE),0)","v":0},null,null,2,{"$f":"IFERROR(VLOOKUP($B124,'[1]Den 1 2021'!$G$3:$T$104,11,FALSE),0)","v":0},{"$f":"IFERROR(VLOOKUP($B124,'[1]Den 1 2021'!$G$3:$T$104,12,FALSE),0)","v":0},{"$f":"IFERROR(VLOOKUP($B124,'[1]Den 1 2021'!$G$3:$T$104,13,FALSE),0)","v":0},{"$f":"IFERROR(VLOOKUP($B124,'[1]Den 1'!$G$3:$O$93,2,FALSE),0)","v":0},{"$f":"IFERROR(VLOOKUP($B124,'[1]Den 1'!$G$3:$O$93,3,FALSE),0)","v":1},{"$f":"IFERROR(VLOOKUP($B124,'[1]Den 1'!$G$3:$O$93,4,FALSE),0)","v":0},{"$f":"IFERROR(VLOOKUP($B124,'[1]Den 1'!$G$3:$O$93,5,FALSE),0)","v":0},{"$f":"IFERROR(VLOOKUP($B124,'[1]Den 1'!$G$3:$O$93,6,FALSE),0)","v":0},{"$f":"IFERROR(VLOOKUP($B124,'[1]Den 1'!$G$3:$O$93,7,FALSE),0)","v":0},{"$f":"IFERROR(VLOOKUP($B124,'[1]Den 1'!$G$3:$O$93,8,FALSE),0)","v":0},null,null,1]
["04302-COMBARBALÁ","105441-P.S.R. MANQUEHUA",null,null,{"$f":"IFERROR(VLOOKUP($B125,'[1]Num 1 2021'!$G$3:$T$95,11,FALSE),0)","v":0},{"$f":"IFERROR(VLOOKUP($B125,'[1]Num 1 2021'!$G$3:$T$95,12,FALSE),0)","v":0},{"$f":"IFERROR(VLOOKUP($B125,'[1]Num 1 2021'!$G$3:$T$95,13,FALSE),0)","v":0},{"$f":"IFERROR(VLOOKUP($B125,'[1]Num 1'!$G$3:$O$88,2,FALSE),0)","v":0},{"$f":"IFERROR(VLOOKUP($B125,'[1]Num 1'!$G$3:$O$88,3,FALSE),0)","v":0},{"$f":"IFERROR(VLOOKUP($B125,'[1]Num 1'!$G$3:$O$88,4,FALSE),0)","v":0},{"$f":"IFERROR(VLOOKUP($B125,'[1]Num 1'!$G$3:$O$88,5,FALSE),0)","v":0},{"$f":"IFERROR(VLOOKUP($B125,'[1]Num 1'!$G$3:$O$88,6,FALSE),0)","v":0},{"$f":"IFERROR(VLOOKUP($B125,'[1]Num 1'!$G$3:$O$88,7,FALSE),0)","v":1},{"$f":"IFERROR(VLOOKUP($B125,'[1]Num 1'!$G$3:$O$88,8,FALSE),0)","v":0},null,null,1,{"$f":"IFERROR(VLOOKUP($B125,'[1]Den 1 2021'!$G$3:$T$104,11,FALSE),0)","v":0},{"$f":"IFERROR(VLOOKUP($B125,'[1]Den 1 2021'!$G$3:$T$104,12,FALSE),0)","v":0},{"$f":"IFERROR(VLOOKUP($B125,'[1]Den 1 2021'!$G$3:$T$104,13,FALSE),0)","v":0},{"$f":"IFERROR(VLOOKUP($B125,'[1]Den 1'!$G$3:$O$93,2,FALSE),0)","v":0},{"$f":"IFERROR(VLOOKUP($B125,'[1]Den 1'!$G$3:$O$93,3,FALSE),0)","v":0},{"$f":"IFERROR(VLOOKUP($B125,'[1]Den 1'!$G$3:$O$93,4,FALSE),0)","v":1},{"$f":"IFERROR(VLOOKUP($B125,'[1]Den 1'!$G$3:$O$93,5,FALSE),0)","v":0},{"$f":"IFERROR(VLOOKUP($B125,'[1]Den 1'!$G$3:$O$93,6,FALSE),0)","v":0},{"$f":"IFERROR(VLOOKUP($B125,'[1]Den 1'!$G$3:$O$93,7,FALSE),0)","v":0},{"$f":"IFERROR(VLOOKUP($B125,'[1]Den 1'!$G$3:$O$93,8,FALSE),0)","v":0},null,null,1]
["04302-COMBARBALÁ","105459-P.S.R. BARRANCAS                ",null,null,{"$f":"IFERROR(VLOOKUP($B126,'[1]Num 1 2021'!$G$3:$T$95,11,FALSE),0)","v":0},{"$f":"IFERROR(VLOOKUP($B126,'[1]Num 1 2021'!$G$3:$T$95,12,FALSE),0)","v":0},{"$f":"IFERROR(VLOOKUP($B126,'[1]Num 1 2021'!$G$3:$T$95,13,FALSE),0)","v":0},{"$f":"IFERROR(VLOOKUP($B126,'[1]Num 1'!$G$3:$O$88,2,FALSE),0)","v":0},{"$f":"IFERROR(VLOOKUP($B126,'[1]Num 1'!$G$3:$O$88,3,FALSE),0)","v":0},{"$f":"IFERROR(VLOOKUP($B126,'[1]Num 1'!$G$3:$O$88,4,FALSE),0)","v":0},{"$f":"IFERROR(VLOOKUP($B126,'[1]Num 1'!$G$3:$O$88,5,FALSE),0)","v":0},{"$f":"IFERROR(VLOOKUP($B126,'[1]Num 1'!$G$3:$O$88,6,FALSE),0)","v":0},{"$f":"IFERROR(VLOOKUP($B126,'[1]Num 1'!$G$3:$O$88,7,FALSE),0)","v":0},{"$f":"IFERROR(VLOOKUP($B126,'[1]Num 1'!$G$3:$O$88,8,FALSE),0)","v":0},null,null,0,{"$f":"IFERROR(VLOOKUP($B126,'[1]Den 1 2021'!$G$3:$T$104,11,FALSE),0)","v":0},{"$f":"IFERROR(VLOOKUP($B126,'[1]Den 1 2021'!$G$3:$T$104,12,FALSE),0)","v":0},{"$f":"IFERROR(VLOOKUP($B126,'[1]Den 1 2021'!$G$3:$T$104,13,FALSE),0)","v":0},{"$f":"IFERROR(VLOOKUP($B126,'[1]Den 1'!$G$3:$O$93,2,FALSE),0)","v":0},{"$f":"IFERROR(VLOOKUP($B126,'[1]Den 1'!$G$3:$O$93,3,FALSE),0)","v":0},{"$f":"IFERROR(VLOOKUP($B126,'[1]Den 1'!$G$3:$O$93,4,FALSE),0)","v":0},{"$f":"IFERROR(VLOOKUP($B126,'[1]Den 1'!$G$3:$O$93,5,FALSE),0)","v":0},{"$f":"IFERROR(VLOOKUP($B126,'[1]Den 1'!$G$3:$O$93,6,FALSE),0)","v":0},{"$f":"IFERROR(VLOOKUP($B126,'[1]Den 1'!$G$3:$O$93,7,FALSE),0)","v":0},{"$f":"IFERROR(VLOOKUP($B126,'[1]Den 1'!$G$3:$O$93,8,FALSE),0)","v":0},null,null,0]
["04302-COMBARBALÁ","105460-P.S.R. COGOTI 18",null,null,{"$f":"IFERROR(VLOOKUP($B127,'[1]Num 1 2021'!$G$3:$T$95,11,FALSE),0)","v":0},{"$f":"IFERROR(VLOOKUP($B127,'[1]Num 1 2021'!$G$3:$T$95,12,FALSE),0)","v":0},{"$f":"IFERROR(VLOOKUP($B127,'[1]Num 1 2021'!$G$3:$T$95,13,FALSE),0)","v":0},{"$f":"IFERROR(VLOOKUP($B127,'[1]Num 1'!$G$3:$O$88,2,FALSE),0)","v":0},{"$f":"IFERROR(VLOOKUP($B127,'[1]Num 1'!$G$3:$O$88,3,FALSE),0)","v":0},{"$f":"IFERROR(VLOOKUP($B127,'[1]Num 1'!$G$3:$O$88,4,FALSE),0)","v":0},{"$f":"IFERROR(VLOOKUP($B127,'[1]Num 1'!$G$3:$O$88,5,FALSE),0)","v":0},{"$f":"IFERROR(VLOOKUP($B127,'[1]Num 1'!$G$3:$O$88,6,FALSE),0)","v":0},{"$f":"IFERROR(VLOOKUP($B127,'[1]Num 1'!$G$3:$O$88,7,FALSE),0)","v":0},{"$f":"IFERROR(VLOOKUP($B127,'[1]Num 1'!$G$3:$O$88,8,FALSE),0)","v":0},null,null,0,{"$f":"IFERROR(VLOOKUP($B127,'[1]Den 1 2021'!$G$3:$T$104,11,FALSE),0)","v":0},{"$f":"IFERROR(VLOOKUP($B127,'[1]Den 1 2021'!$G$3:$T$104,12,FALSE),0)","v":0},{"$f":"IFERROR(VLOOKUP($B127,'[1]Den 1 2021'!$G$3:$T$104,13,FALSE),0)","v":0},{"$f":"IFERROR(VLOOKUP($B127,'[1]Den 1'!$G$3:$O$93,2,FALSE),0)","v":0},{"$f":"IFERROR(VLOOKUP($B127,'[1]Den 1'!$G$3:$O$93,3,FALSE),0)","v":0},{"$f":"IFERROR(VLOOKUP($B127,'[1]Den 1'!$G$3:$O$93,4,FALSE),0)","v":0},{"$f":"IFERROR(VLOOKUP($B127,'[1]Den 1'!$G$3:$O$93,5,FALSE),0)","v":0},{"$f":"IFERROR(VLOOKUP($B127,'[1]Den 1'!$G$3:$O$93,6,FALSE),0)","v":0},{"$f":"IFERROR(VLOOKUP($B127,'[1]Den 1'!$G$3:$O$93,7,FALSE),0)","v":0},{"$f":"IFERROR(VLOOKUP($B127,'[1]Den 1'!$G$3:$O$93,8,FALSE),0)","v":0},null,null,0]
["04302-COMBARBALÁ","105461-P.S.R. EL HUACHO",null,null,{"$f":"IFERROR(VLOOKUP($B128,'[1]Num 1 2021'!$G$3:$T$95,11,FALSE),0)","v":0},{"$f":"IFERROR(VLOOKUP($B128,'[1]Num 1 2021'!$G$3:$T$95,12,FALSE),0)","v":0},{"$f":"IFERROR(VLOOKUP($B128,'[1]Num 1 2021'!$G$3:$T$95,13,FALSE),0)","v":0},{"$f":"IFERROR(VLOOKUP($B128,'[1]Num 1'!$G$3:$O$88,2,FALSE),0)","v":0},{"$f":"IFERROR(VLOOKUP($B128,'[1]Num 1'!$G$3:$O$88,3,FALSE),0)","v":0},{"$f":"IFERROR(VLOOKUP($B128,'[1]Num 1'!$G$3:$O$88,4,FALSE),0)","v":0},{"$f":"IFERROR(VLOOKUP($B128,'[1]Num 1'!$G$3:$O$88,5,FALSE),0)","v":0},{"$f":"IFERROR(VLOOKUP($B128,'[1]Num 1'!$G$3:$O$88,6,FALSE),0)","v":0},{"$f":"IFERROR(VLOOKUP($B128,'[1]Num 1'!$G$3:$O$88,7,FALSE),0)","v":0},{"$f":"IFERROR(VLOOKUP($B128,'[1]Num 1'!$G$3:$O$88,8,FALSE),0)","v":0},null,null,0,{"$f":"IFERROR(VLOOKUP($B128,'[1]Den 1 2021'!$G$3:$T$104,11,FALSE),0)","v":0},{"$f":"IFERROR(VLOOKUP($B128,'[1]Den 1 2021'!$G$3:$T$104,12,FALSE),0)","v":0},{"$f":"IFERROR(VLOOKUP($B128,'[1]Den 1 2021'!$G$3:$T$104,13,FALSE),0)","v":0},{"$f":"IFERROR(VLOOKUP($B128,'[1]Den 1'!$G$3:$O$93,2,FALSE),0)","v":0},{"$f":"IFERROR(VLOOKUP($B128,'[1]Den 1'!$G$3:$O$93,3,FALSE),0)","v":0},{"$f":"IFERROR(VLOOKUP($B128,'[1]Den 1'!$G$3:$O$93,4,FALSE),0)","v":0},{"$f":"IFERROR(VLOOKUP($B128,'[1]Den 1'!$G$3:$O$93,5,FALSE),0)","v":0},{"$f":"IFERROR(VLOOKUP($B128,'[1]Den 1'!$G$3:$O$93,6,FALSE),0)","v":0},{"$f":"IFERROR(VLOOKUP($B128,'[1]Den 1'!$G$3:$O$93,7,FALSE),0)","v":0},{"$f":"IFERROR(VLOOKUP($B128,'[1]Den 1'!$G$3:$O$93,8,FALSE),0)","v":0},null,null,0]
["04302-COMBARBALÁ","105462-P.S.R. EL SAUCE",null,null,{"$f":"IFERROR(VLOOKUP($B129,'[1]Num 1 2021'!$G$3:$T$95,11,FALSE),0)","v":0},{"$f":"IFERROR(VLOOKUP($B129,'[1]Num 1 2021'!$G$3:$T$95,12,FALSE),0)","v":0},{"$f":"IFERROR(VLOOKUP($B129,'[1]Num 1 2021'!$G$3:$T$95,13,FALSE),0)","v":0},{"$f":"IFERROR(VLOOKUP($B129,'[1]Num 1'!$G$3:$O$88,2,FALSE),0)","v":0},{"$f":"IFERROR(VLOOKUP($B129,'[1]Num 1'!$G$3:$O$88,3,FALSE),0)","v":0},{"$f":"IFERROR(VLOOKUP($B129,'[1]Num 1'!$G$3:$O$88,4,FALSE),0)","v":0},{"$f":"IFERROR(VLOOKUP($B129,'[1]Num 1'!$G$3:$O$88,5,FALSE),0)","v":0},{"$f":"IFERROR(VLOOKUP($B129,'[1]Num 1'!$G$3:$O$88,6,FALSE),0)","v":0},{"$f":"IFERROR(VLOOKUP($B129,'[1]Num 1'!$G$3:$O$88,7,FALSE),0)","v":1},{"$f":"IFERROR(VLOOKUP($B129,'[1]Num 1'!$G$3:$O$88,8,FALSE),0)","v":0},null,null,1,{"$f":"IFERROR(VLOOKUP($B129,'[1]Den 1 2021'!$G$3:$T$104,11,FALSE),0)","v":0},{"$f":"IFERROR(VLOOKUP($B129,'[1]Den 1 2021'!$G$3:$T$104,12,FALSE),0)","v":0},{"$f":"IFERROR(VLOOKUP($B129,'[1]Den 1 2021'!$G$3:$T$104,13,FALSE),0)","v":0},{"$f":"IFERROR(VLOOKUP($B129,'[1]Den 1'!$G$3:$O$93,2,FALSE),0)","v":0},{"$f":"IFERROR(VLOOKUP($B129,'[1]Den 1'!$G$3:$O$93,3,FALSE),0)","v":0},{"$f":"IFERROR(VLOOKUP($B129,'[1]Den 1'!$G$3:$O$93,4,FALSE),0)","v":0},{"$f":"IFERROR(VLOOKUP($B129,'[1]Den 1'!$G$3:$O$93,5,FALSE),0)","v":1},{"$f":"IFERROR(VLOOKUP($B129,'[1]Den 1'!$G$3:$O$93,6,FALSE),0)","v":0},{"$f":"IFERROR(VLOOKUP($B129,'[1]Den 1'!$G$3:$O$93,7,FALSE),0)","v":0},{"$f":"IFERROR(VLOOKUP($B129,'[1]Den 1'!$G$3:$O$93,8,FALSE),0)","v":0},null,null,1]
["04302-COMBARBALÁ","105463-P.S.R. QUILITAPIA",null,null,{"$f":"IFERROR(VLOOKUP($B130,'[1]Num 1 2021'!$G$3:$T$95,11,FALSE),0)","v":0},{"$f":"IFERROR(VLOOKUP($B130,'[1]Num 1 2021'!$G$3:$T$95,12,FALSE),0)","v":0},{"$f":"IFERROR(VLOOKUP($B130,'[1]Num 1 2021'!$G$3:$T$95,13,FALSE),0)","v":0},{"$f":"IFERROR(VLOOKUP($B130,'[1]Num 1'!$G$3:$O$88,2,FALSE),0)","v":0},{"$f":"IFERROR(VLOOKUP($B130,'[1]Num 1'!$G$3:$O$88,3,FALSE),0)","v":0},{"$f":"IFERROR(VLOOKUP($B130,'[1]Num 1'!$G$3:$O$88,4,FALSE),0)","v":0},{"$f":"IFERROR(VLOOKUP($B130,'[1]Num 1'!$G$3:$O$88,5,FALSE),0)","v":0},{"$f":"IFERROR(VLOOKUP($B130,'[1]Num 1'!$G$3:$O$88,6,FALSE),0)","v":0},{"$f":"IFERROR(VLOOKUP($B130,'[1]Num 1'!$G$3:$O$88,7,FALSE),0)","v":0},{"$f":"IFERROR(VLOOKUP($B130,'[1]Num 1'!$G$3:$O$88,8,FALSE),0)","v":0},null,null,0,{"$f":"IFERROR(VLOOKUP($B130,'[1]Den 1 2021'!$G$3:$T$104,11,FALSE),0)","v":0},{"$f":"IFERROR(VLOOKUP($B130,'[1]Den 1 2021'!$G$3:$T$104,12,FALSE),0)","v":0},{"$f":"IFERROR(VLOOKUP($B130,'[1]Den 1 2021'!$G$3:$T$104,13,FALSE),0)","v":0},{"$f":"IFERROR(VLOOKUP($B130,'[1]Den 1'!$G$3:$O$93,2,FALSE),0)","v":0},{"$f":"IFERROR(VLOOKUP($B130,'[1]Den 1'!$G$3:$O$93,3,FALSE),0)","v":0},{"$f":"IFERROR(VLOOKUP($B130,'[1]Den 1'!$G$3:$O$93,4,FALSE),0)","v":0},{"$f":"IFERROR(VLOOKUP($B130,'[1]Den 1'!$G$3:$O$93,5,FALSE),0)","v":0},{"$f":"IFERROR(VLOOKUP($B130,'[1]Den 1'!$G$3:$O$93,6,FALSE),0)","v":0},{"$f":"IFERROR(VLOOKUP($B130,'[1]Den 1'!$G$3:$O$93,7,FALSE),0)","v":0},{"$f":"IFERROR(VLOOKUP($B130,'[1]Den 1'!$G$3:$O$93,8,FALSE),0)","v":1},null,null,1]
["04302-COMBARBALÁ","105464-P.S.R. LA LIGUA",null,null,{"$f":"IFERROR(VLOOKUP($B131,'[1]Num 1 2021'!$G$3:$T$95,11,FALSE),0)","v":0},{"$f":"IFERROR(VLOOKUP($B131,'[1]Num 1 2021'!$G$3:$T$95,12,FALSE),0)","v":0},{"$f":"IFERROR(VLOOKUP($B131,'[1]Num 1 2021'!$G$3:$T$95,13,FALSE),0)","v":0},{"$f":"IFERROR(VLOOKUP($B131,'[1]Num 1'!$G$3:$O$88,2,FALSE),0)","v":0},{"$f":"IFERROR(VLOOKUP($B131,'[1]Num 1'!$G$3:$O$88,3,FALSE),0)","v":0},{"$f":"IFERROR(VLOOKUP($B131,'[1]Num 1'!$G$3:$O$88,4,FALSE),0)","v":0},{"$f":"IFERROR(VLOOKUP($B131,'[1]Num 1'!$G$3:$O$88,5,FALSE),0)","v":0},{"$f":"IFERROR(VLOOKUP($B131,'[1]Num 1'!$G$3:$O$88,6,FALSE),0)","v":0},{"$f":"IFERROR(VLOOKUP($B131,'[1]Num 1'!$G$3:$O$88,7,FALSE),0)","v":1},{"$f":"IFERROR(VLOOKUP($B131,'[1]Num 1'!$G$3:$O$88,8,FALSE),0)","v":0},null,null,1,{"$f":"IFERROR(VLOOKUP($B131,'[1]Den 1 2021'!$G$3:$T$104,11,FALSE),0)","v":0},{"$f":"IFERROR(VLOOKUP($B131,'[1]Den 1 2021'!$G$3:$T$104,12,FALSE),0)","v":0},{"$f":"IFERROR(VLOOKUP($B131,'[1]Den 1 2021'!$G$3:$T$104,13,FALSE),0)","v":0},{"$f":"IFERROR(VLOOKUP($B131,'[1]Den 1'!$G$3:$O$93,2,FALSE),0)","v":0},{"$f":"IFERROR(VLOOKUP($B131,'[1]Den 1'!$G$3:$O$93,3,FALSE),0)","v":0},{"$f":"IFERROR(VLOOKUP($B131,'[1]Den 1'!$G$3:$O$93,4,FALSE),0)","v":0},{"$f":"IFERROR(VLOOKUP($B131,'[1]Den 1'!$G$3:$O$93,5,FALSE),0)","v":0},{"$f":"IFERROR(VLOOKUP($B131,'[1]Den 1'!$G$3:$O$93,6,FALSE),0)","v":0},{"$f":"IFERROR(VLOOKUP($B131,'[1]Den 1'!$G$3:$O$93,7,FALSE),0)","v":0},{"$f":"IFERROR(VLOOKUP($B131,'[1]Den 1'!$G$3:$O$93,8,FALSE),0)","v":0},null,null,0]
["04302-COMBARBALÁ","105465-P.S.R. RAMADILLA",null,null,{"$f":"IFERROR(VLOOKUP($B132,'[1]Num 1 2021'!$G$3:$T$95,11,FALSE),0)","v":0},{"$f":"IFERROR(VLOOKUP($B132,'[1]Num 1 2021'!$G$3:$T$95,12,FALSE),0)","v":0},{"$f":"IFERROR(VLOOKUP($B132,'[1]Num 1 2021'!$G$3:$T$95,13,FALSE),0)","v":0},{"$f":"IFERROR(VLOOKUP($B132,'[1]Num 1'!$G$3:$O$88,2,FALSE),0)","v":0},{"$f":"IFERROR(VLOOKUP($B132,'[1]Num 1'!$G$3:$O$88,3,FALSE),0)","v":0},{"$f":"IFERROR(VLOOKUP($B132,'[1]Num 1'!$G$3:$O$88,4,FALSE),0)","v":0},{"$f":"IFERROR(VLOOKUP($B132,'[1]Num 1'!$G$3:$O$88,5,FALSE),0)","v":0},{"$f":"IFERROR(VLOOKUP($B132,'[1]Num 1'!$G$3:$O$88,6,FALSE),0)","v":0},{"$f":"IFERROR(VLOOKUP($B132,'[1]Num 1'!$G$3:$O$88,7,FALSE),0)","v":0},{"$f":"IFERROR(VLOOKUP($B132,'[1]Num 1'!$G$3:$O$88,8,FALSE),0)","v":0},null,null,0,{"$f":"IFERROR(VLOOKUP($B132,'[1]Den 1 2021'!$G$3:$T$104,11,FALSE),0)","v":1},{"$f":"IFERROR(VLOOKUP($B132,'[1]Den 1 2021'!$G$3:$T$104,12,FALSE),0)","v":0},{"$f":"IFERROR(VLOOKUP($B132,'[1]Den 1 2021'!$G$3:$T$104,13,FALSE),0)","v":0},{"$f":"IFERROR(VLOOKUP($B132,'[1]Den 1'!$G$3:$O$93,2,FALSE),0)","v":0},{"$f":"IFERROR(VLOOKUP($B132,'[1]Den 1'!$G$3:$O$93,3,FALSE),0)","v":0},{"$f":"IFERROR(VLOOKUP($B132,'[1]Den 1'!$G$3:$O$93,4,FALSE),0)","v":0},{"$f":"IFERROR(VLOOKUP($B132,'[1]Den 1'!$G$3:$O$93,5,FALSE),0)","v":0},{"$f":"IFERROR(VLOOKUP($B132,'[1]Den 1'!$G$3:$O$93,6,FALSE),0)","v":0},{"$f":"IFERROR(VLOOKUP($B132,'[1]Den 1'!$G$3:$O$93,7,FALSE),0)","v":0},{"$f":"IFERROR(VLOOKUP($B132,'[1]Den 1'!$G$3:$O$93,8,FALSE),0)","v":0},null,null,1]
["04302-COMBARBALÁ","105466-P.S.R. VALLE HERMOSO",null,null,{"$f":"IFERROR(VLOOKUP($B133,'[1]Num 1 2021'!$G$3:$T$95,11,FALSE),0)","v":0},{"$f":"IFERROR(VLOOKUP($B133,'[1]Num 1 2021'!$G$3:$T$95,12,FALSE),0)","v":0},{"$f":"IFERROR(VLOOKUP($B133,'[1]Num 1 2021'!$G$3:$T$95,13,FALSE),0)","v":0},{"$f":"IFERROR(VLOOKUP($B133,'[1]Num 1'!$G$3:$O$88,2,FALSE),0)","v":0},{"$f":"IFERROR(VLOOKUP($B133,'[1]Num 1'!$G$3:$O$88,3,FALSE),0)","v":0},{"$f":"IFERROR(VLOOKUP($B133,'[1]Num 1'!$G$3:$O$88,4,FALSE),0)","v":0},{"$f":"IFERROR(VLOOKUP($B133,'[1]Num 1'!$G$3:$O$88,5,FALSE),0)","v":0},{"$f":"IFERROR(VLOOKUP($B133,'[1]Num 1'!$G$3:$O$88,6,FALSE),0)","v":0},{"$f":"IFERROR(VLOOKUP($B133,'[1]Num 1'!$G$3:$O$88,7,FALSE),0)","v":1},{"$f":"IFERROR(VLOOKUP($B133,'[1]Num 1'!$G$3:$O$88,8,FALSE),0)","v":0},null,null,1,{"$f":"IFERROR(VLOOKUP($B133,'[1]Den 1 2021'!$G$3:$T$104,11,FALSE),0)","v":0},{"$f":"IFERROR(VLOOKUP($B133,'[1]Den 1 2021'!$G$3:$T$104,12,FALSE),0)","v":0},{"$f":"IFERROR(VLOOKUP($B133,'[1]Den 1 2021'!$G$3:$T$104,13,FALSE),0)","v":0},{"$f":"IFERROR(VLOOKUP($B133,'[1]Den 1'!$G$3:$O$93,2,FALSE),0)","v":0},{"$f":"IFERROR(VLOOKUP($B133,'[1]Den 1'!$G$3:$O$93,3,FALSE),0)","v":0},{"$f":"IFERROR(VLOOKUP($B133,'[1]Den 1'!$G$3:$O$93,4,FALSE),0)","v":0},{"$f":"IFERROR(VLOOKUP($B133,'[1]Den 1'!$G$3:$O$93,5,FALSE),0)","v":0},{"$f":"IFERROR(VLOOKUP($B133,'[1]Den 1'!$G$3:$O$93,6,FALSE),0)","v":0},{"$f":"IFERROR(VLOOKUP($B133,'[1]Den 1'!$G$3:$O$93,7,FALSE),0)","v":0},{"$f":"IFERROR(VLOOKUP($B133,'[1]Den 1'!$G$3:$O$93,8,FALSE),0)","v":0},null,null,0]
["04302-COMBARBALÁ","105490-P.S.R. EL DURAZNO",null,null,{"$f":"IFERROR(VLOOKUP($B134,'[1]Num 1 2021'!$G$3:$T$95,11,FALSE),0)","v":0},{"$f":"IFERROR(VLOOKUP($B134,'[1]Num 1 2021'!$G$3:$T$95,12,FALSE),0)","v":0},{"$f":"IFERROR(VLOOKUP($B134,'[1]Num 1 2021'!$G$3:$T$95,13,FALSE),0)","v":0},{"$f":"IFERROR(VLOOKUP($B134,'[1]Num 1'!$G$3:$O$88,2,FALSE),0)","v":0},{"$f":"IFERROR(VLOOKUP($B134,'[1]Num 1'!$G$3:$O$88,3,FALSE),0)","v":0},{"$f":"IFERROR(VLOOKUP($B134,'[1]Num 1'!$G$3:$O$88,4,FALSE),0)","v":0},{"$f":"IFERROR(VLOOKUP($B134,'[1]Num 1'!$G$3:$O$88,5,FALSE),0)","v":0},{"$f":"IFERROR(VLOOKUP($B134,'[1]Num 1'!$G$3:$O$88,6,FALSE),0)","v":0},{"$f":"IFERROR(VLOOKUP($B134,'[1]Num 1'!$G$3:$O$88,7,FALSE),0)","v":0},{"$f":"IFERROR(VLOOKUP($B134,'[1]Num 1'!$G$3:$O$88,8,FALSE),0)","v":0},null,null,0,{"$f":"IFERROR(VLOOKUP($B134,'[1]Den 1 2021'!$G$3:$T$104,11,FALSE),0)","v":0},{"$f":"IFERROR(VLOOKUP($B134,'[1]Den 1 2021'!$G$3:$T$104,12,FALSE),0)","v":0},{"$f":"IFERROR(VLOOKUP($B134,'[1]Den 1 2021'!$G$3:$T$104,13,FALSE),0)","v":0},{"$f":"IFERROR(VLOOKUP($B134,'[1]Den 1'!$G$3:$O$93,2,FALSE),0)","v":0},{"$f":"IFERROR(VLOOKUP($B134,'[1]Den 1'!$G$3:$O$93,3,FALSE),0)","v":0},{"$f":"IFERROR(VLOOKUP($B134,'[1]Den 1'!$G$3:$O$93,4,FALSE),0)","v":0},{"$f":"IFERROR(VLOOKUP($B134,'[1]Den 1'!$G$3:$O$93,5,FALSE),0)","v":0},{"$f":"IFERROR(VLOOKUP($B134,'[1]Den 1'!$G$3:$O$93,6,FALSE),0)","v":0},{"$f":"IFERROR(VLOOKUP($B134,'[1]Den 1'!$G$3:$O$93,7,FALSE),0)","v":0},{"$f":"IFERROR(VLOOKUP($B134,'[1]Den 1'!$G$3:$O$93,8,FALSE),0)","v":0},null,null,0]
["TOTAL COMBARBALÁ ",null,{"$f":"D135/Metas!G15","v":{"v":1.4457831325301205,"d":"144.58%"}},{"$f":"Q135/AD135","v":{"v":1.2,"d":"120.00%"}},{"$f":"SUM(E123:E134)","v":1},{"$f":"SUM(F123:F134)","v":0},{"$f":"SUM(G123:G134)","v":0},{"$f":"SUM(H123:H134)","v":0},{"$f":"SUM(I123:I134)","v":0},0,0,0,5,0,0,{"$f":"SUM(P123:P134)","v":0},6,1,0,0,0,1,1,1,0,0,1,{"$f":"SUM(AB123:AB134)","v":0},{"$f":"SUM(AC123:AC134)","v":0},5]
["04304-MONTE PATRIA","105307-CES. RURAL MONTE PATRIA",null,null,{"$f":"IFERROR(VLOOKUP($B136,'[1]Num 1 2021'!$G$3:$T$95,11,FALSE),0)","v":0},{"$f":"IFERROR(VLOOKUP($B136,'[1]Num 1 2021'!$G$3:$T$95,12,FALSE),0)","v":0},{"$f":"IFERROR(VLOOKUP($B136,'[1]Num 1 2021'!$G$3:$T$95,13,FALSE),0)","v":3},{"$f":"IFERROR(VLOOKUP($B136,'[1]Num 1'!$G$3:$O$88,2,FALSE),0)","v":0},{"$f":"IFERROR(VLOOKUP($B136,'[1]Num 1'!$G$3:$O$88,3,FALSE),0)","v":0},{"$f":"IFERROR(VLOOKUP($B136,'[1]Num 1'!$G$3:$O$88,4,FALSE),0)","v":1},{"$f":"IFERROR(VLOOKUP($B136,'[1]Num 1'!$G$3:$O$88,5,FALSE),0)","v":1},{"$f":"IFERROR(VLOOKUP($B136,'[1]Num 1'!$G$3:$O$88,6,FALSE),0)","v":2},{"$f":"IFERROR(VLOOKUP($B136,'[1]Num 1'!$G$3:$O$88,7,FALSE),0)","v":1},{"$f":"IFERROR(VLOOKUP($B136,'[1]Num 1'!$G$3:$O$88,8,FALSE),0)","v":0},null,null,{"$f":"SUM(E136:P136)","v":8},{"$f":"IFERROR(VLOOKUP($B136,'[1]Den 1 2021'!$G$3:$T$104,11,FALSE),0)","v":2},{"$f":"IFERROR(VLOOKUP($B136,'[1]Den 1 2021'!$G$3:$T$104,12,FALSE),0)","v":0},{"$f":"IFERROR(VLOOKUP($B136,'[1]Den 1 2021'!$G$3:$T$104,13,FALSE),0)","v":0},{"$f":"IFERROR(VLOOKUP($B136,'[1]Den 1'!$G$3:$O$93,2,FALSE),0)","v":5},{"$f":"IFERROR(VLOOKUP($B136,'[1]Den 1'!$G$3:$O$93,3,FALSE),0)","v":0},{"$f":"IFERROR(VLOOKUP($B136,'[1]Den 1'!$G$3:$O$93,4,FALSE),0)","v":0},{"$f":"IFERROR(VLOOKUP($B136,'[1]Den 1'!$G$3:$O$93,5,FALSE),0)","v":0},{"$f":"IFERROR(VLOOKUP($B136,'[1]Den 1'!$G$3:$O$93,6,FALSE),0)","v":0},{"$f":"IFERROR(VLOOKUP($B136,'[1]Den 1'!$G$3:$O$93,7,FALSE),0)","v":0},{"$f":"IFERROR(VLOOKUP($B136,'[1]Den 1'!$G$3:$O$93,8,FALSE),0)","v":1},null,null,8]
["04304-MONTE PATRIA","105311-CES. RURAL CHAÑARAL ALTO",null,null,{"$f":"IFERROR(VLOOKUP($B137,'[1]Num 1 2021'!$G$3:$T$95,11,FALSE),0)","v":0},{"$f":"IFERROR(VLOOKUP($B137,'[1]Num 1 2021'!$G$3:$T$95,12,FALSE),0)","v":0},{"$f":"IFERROR(VLOOKUP($B137,'[1]Num 1 2021'!$G$3:$T$95,13,FALSE),0)","v":1},{"$f":"IFERROR(VLOOKUP($B137,'[1]Num 1'!$G$3:$O$88,2,FALSE),0)","v":0},{"$f":"IFERROR(VLOOKUP($B137,'[1]Num 1'!$G$3:$O$88,3,FALSE),0)","v":0},{"$f":"IFERROR(VLOOKUP($B137,'[1]Num 1'!$G$3:$O$88,4,FALSE),0)","v":0},{"$f":"IFERROR(VLOOKUP($B137,'[1]Num 1'!$G$3:$O$88,5,FALSE),0)","v":1},{"$f":"IFERROR(VLOOKUP($B137,'[1]Num 1'!$G$3:$O$88,6,FALSE),0)","v":0},{"$f":"IFERROR(VLOOKUP($B137,'[1]Num 1'!$G$3:$O$88,7,FALSE),0)","v":0},{"$f":"IFERROR(VLOOKUP($B137,'[1]Num 1'!$G$3:$O$88,8,FALSE),0)","v":0},null,null,2,{"$f":"IFERROR(VLOOKUP($B137,'[1]Den 1 2021'!$G$3:$T$104,11,FALSE),0)","v":0},{"$f":"IFERROR(VLOOKUP($B137,'[1]Den 1 2021'!$G$3:$T$104,12,FALSE),0)","v":0},{"$f":"IFERROR(VLOOKUP($B137,'[1]Den 1 2021'!$G$3:$T$104,13,FALSE),0)","v":0},{"$f":"IFERROR(VLOOKUP($B137,'[1]Den 1'!$G$3:$O$93,2,FALSE),0)","v":0},{"$f":"IFERROR(VLOOKUP($B137,'[1]Den 1'!$G$3:$O$93,3,FALSE),0)","v":0},{"$f":"IFERROR(VLOOKUP($B137,'[1]Den 1'!$G$3:$O$93,4,FALSE),0)","v":0},{"$f":"IFERROR(VLOOKUP($B137,'[1]Den 1'!$G$3:$O$93,5,FALSE),0)","v":1},{"$f":"IFERROR(VLOOKUP($B137,'[1]Den 1'!$G$3:$O$93,6,FALSE),0)","v":0},{"$f":"IFERROR(VLOOKUP($B137,'[1]Den 1'!$G$3:$O$93,7,FALSE),0)","v":0},{"$f":"IFERROR(VLOOKUP($B137,'[1]Den 1'!$G$3:$O$93,8,FALSE),0)","v":0},null,null,1]
["04304-MONTE PATRIA","105312-CES. RURAL CAREN",null,null,{"$f":"IFERROR(VLOOKUP($B138,'[1]Num 1 2021'!$G$3:$T$95,11,FALSE),0)","v":0},{"$f":"IFERROR(VLOOKUP($B138,'[1]Num 1 2021'!$G$3:$T$95,12,FALSE),0)","v":0},{"$f":"IFERROR(VLOOKUP($B138,'[1]Num 1 2021'!$G$3:$T$95,13,FALSE),0)","v":0},{"$f":"IFERROR(VLOOKUP($B138,'[1]Num 1'!$G$3:$O$88,2,FALSE),0)","v":0},{"$f":"IFERROR(VLOOKUP($B138,'[1]Num 1'!$G$3:$O$88,3,FALSE),0)","v":1},{"$f":"IFERROR(VLOOKUP($B138,'[1]Num 1'!$G$3:$O$88,4,FALSE),0)","v":0},{"$f":"IFERROR(VLOOKUP($B138,'[1]Num 1'!$G$3:$O$88,5,FALSE),0)","v":1},{"$f":"IFERROR(VLOOKUP($B138,'[1]Num 1'!$G$3:$O$88,6,FALSE),0)","v":0},{"$f":"IFERROR(VLOOKUP($B138,'[1]Num 1'!$G$3:$O$88,7,FALSE),0)","v":0},{"$f":"IFERROR(VLOOKUP($B138,'[1]Num 1'!$G$3:$O$88,8,FALSE),0)","v":0},null,null,2,{"$f":"IFERROR(VLOOKUP($B138,'[1]Den 1 2021'!$G$3:$T$104,11,FALSE),0)","v":0},{"$f":"IFERROR(VLOOKUP($B138,'[1]Den 1 2021'!$G$3:$T$104,12,FALSE),0)","v":0},{"$f":"IFERROR(VLOOKUP($B138,'[1]Den 1 2021'!$G$3:$T$104,13,FALSE),0)","v":0},{"$f":"IFERROR(VLOOKUP($B138,'[1]Den 1'!$G$3:$O$93,2,FALSE),0)","v":1},{"$f":"IFERROR(VLOOKUP($B138,'[1]Den 1'!$G$3:$O$93,3,FALSE),0)","v":0},{"$f":"IFERROR(VLOOKUP($B138,'[1]Den 1'!$G$3:$O$93,4,FALSE),0)","v":0},{"$f":"IFERROR(VLOOKUP($B138,'[1]Den 1'!$G$3:$O$93,5,FALSE),0)","v":0},{"$f":"IFERROR(VLOOKUP($B138,'[1]Den 1'!$G$3:$O$93,6,FALSE),0)","v":0},{"$f":"IFERROR(VLOOKUP($B138,'[1]Den 1'!$G$3:$O$93,7,FALSE),0)","v":0},{"$f":"IFERROR(VLOOKUP($B138,'[1]Den 1'!$G$3:$O$93,8,FALSE),0)","v":0},null,null,1]
["04304-MONTE PATRIA","105318-CES. RURAL EL PALQUI",null,null,{"$f":"IFERROR(VLOOKUP($B139,'[1]Num 1 2021'!$G$3:$T$95,11,FALSE),0)","v":1},{"$f":"IFERROR(VLOOKUP($B139,'[1]Num 1 2021'!$G$3:$T$95,12,FALSE),0)","v":1},{"$f":"IFERROR(VLOOKUP($B139,'[1]Num 1 2021'!$G$3:$T$95,13,FALSE),0)","v":1},{"$f":"IFERROR(VLOOKUP($B139,'[1]Num 1'!$G$3:$O$88,2,FALSE),0)","v":0},{"$f":"IFERROR(VLOOKUP($B139,'[1]Num 1'!$G$3:$O$88,3,FALSE),0)","v":1},{"$f":"IFERROR(VLOOKUP($B139,'[1]Num 1'!$G$3:$O$88,4,FALSE),0)","v":1},{"$f":"IFERROR(VLOOKUP($B139,'[1]Num 1'!$G$3:$O$88,5,FALSE),0)","v":1},{"$f":"IFERROR(VLOOKUP($B139,'[1]Num 1'!$G$3:$O$88,6,FALSE),0)","v":0},{"$f":"IFERROR(VLOOKUP($B139,'[1]Num 1'!$G$3:$O$88,7,FALSE),0)","v":3},{"$f":"IFERROR(VLOOKUP($B139,'[1]Num 1'!$G$3:$O$88,8,FALSE),0)","v":0},null,null,9,{"$f":"IFERROR(VLOOKUP($B139,'[1]Den 1 2021'!$G$3:$T$104,11,FALSE),0)","v":0},{"$f":"IFERROR(VLOOKUP($B139,'[1]Den 1 2021'!$G$3:$T$104,12,FALSE),0)","v":0},{"$f":"IFERROR(VLOOKUP($B139,'[1]Den 1 2021'!$G$3:$T$104,13,FALSE),0)","v":0},{"$f":"IFERROR(VLOOKUP($B139,'[1]Den 1'!$G$3:$O$93,2,FALSE),0)","v":0},{"$f":"IFERROR(VLOOKUP($B139,'[1]Den 1'!$G$3:$O$93,3,FALSE),0)","v":1},{"$f":"IFERROR(VLOOKUP($B139,'[1]Den 1'!$G$3:$O$93,4,FALSE),0)","v":3},{"$f":"IFERROR(VLOOKUP($B139,'[1]Den 1'!$G$3:$O$93,5,FALSE),0)","v":0},{"$f":"IFERROR(VLOOKUP($B139,'[1]Den 1'!$G$3:$O$93,6,FALSE),0)","v":0},{"$f":"IFERROR(VLOOKUP($B139,'[1]Den 1'!$G$3:$O$93,7,FALSE),0)","v":0},{"$f":"IFERROR(VLOOKUP($B139,'[1]Den 1'!$G$3:$O$93,8,FALSE),0)","v":0},null,null,4]
["04304-MONTE PATRIA","105425-P.S.R. CHILECITO",null,null,{"$f":"IFERROR(VLOOKUP($B140,'[1]Num 1 2021'!$G$3:$T$95,11,FALSE),0)","v":0},{"$f":"IFERROR(VLOOKUP($B140,'[1]Num 1 2021'!$G$3:$T$95,12,FALSE),0)","v":0},{"$f":"IFERROR(VLOOKUP($B140,'[1]Num 1 2021'!$G$3:$T$95,13,FALSE),0)","v":0},{"$f":"IFERROR(VLOOKUP($B140,'[1]Num 1'!$G$3:$O$88,2,FALSE),0)","v":0},{"$f":"IFERROR(VLOOKUP($B140,'[1]Num 1'!$G$3:$O$88,3,FALSE),0)","v":0},{"$f":"IFERROR(VLOOKUP($B140,'[1]Num 1'!$G$3:$O$88,4,FALSE),0)","v":0},{"$f":"IFERROR(VLOOKUP($B140,'[1]Num 1'!$G$3:$O$88,5,FALSE),0)","v":0},{"$f":"IFERROR(VLOOKUP($B140,'[1]Num 1'!$G$3:$O$88,6,FALSE),0)","v":0},{"$f":"IFERROR(VLOOKUP($B140,'[1]Num 1'!$G$3:$O$88,7,FALSE),0)","v":0},{"$f":"IFERROR(VLOOKUP($B140,'[1]Num 1'!$G$3:$O$88,8,FALSE),0)","v":0},null,null,0,{"$f":"IFERROR(VLOOKUP($B140,'[1]Den 1 2021'!$G$3:$T$104,11,FALSE),0)","v":0},{"$f":"IFERROR(VLOOKUP($B140,'[1]Den 1 2021'!$G$3:$T$104,12,FALSE),0)","v":0},{"$f":"IFERROR(VLOOKUP($B140,'[1]Den 1 2021'!$G$3:$T$104,13,FALSE),0)","v":0},{"$f":"IFERROR(VLOOKUP($B140,'[1]Den 1'!$G$3:$O$93,2,FALSE),0)","v":0},{"$f":"IFERROR(VLOOKUP($B140,'[1]Den 1'!$G$3:$O$93,3,FALSE),0)","v":0},{"$f":"IFERROR(VLOOKUP($B140,'[1]Den 1'!$G$3:$O$93,4,FALSE),0)","v":0},{"$f":"IFERROR(VLOOKUP($B140,'[1]Den 1'!$G$3:$O$93,5,FALSE),0)","v":0},{"$f":"IFERROR(VLOOKUP($B140,'[1]Den 1'!$G$3:$O$93,6,FALSE),0)","v":0},{"$f":"IFERROR(VLOOKUP($B140,'[1]Den 1'!$G$3:$O$93,7,FALSE),0)","v":0},{"$f":"IFERROR(VLOOKUP($B140,'[1]Den 1'!$G$3:$O$93,8,FALSE),0)","v":0},null,null,0]
["04304-MONTE PATRIA","105427-P.S.R. HACIENDA VALDIVIA",null,null,{"$f":"IFERROR(VLOOKUP($B141,'[1]Num 1 2021'!$G$3:$T$95,11,FALSE),0)","v":0},{"$f":"IFERROR(VLOOKUP($B141,'[1]Num 1 2021'!$G$3:$T$95,12,FALSE),0)","v":0},{"$f":"IFERROR(VLOOKUP($B141,'[1]Num 1 2021'!$G$3:$T$95,13,FALSE),0)","v":0},{"$f":"IFERROR(VLOOKUP($B141,'[1]Num 1'!$G$3:$O$88,2,FALSE),0)","v":0},{"$f":"IFERROR(VLOOKUP($B141,'[1]Num 1'!$G$3:$O$88,3,FALSE),0)","v":0},{"$f":"IFERROR(VLOOKUP($B141,'[1]Num 1'!$G$3:$O$88,4,FALSE),0)","v":0},{"$f":"IFERROR(VLOOKUP($B141,'[1]Num 1'!$G$3:$O$88,5,FALSE),0)","v":0},{"$f":"IFERROR(VLOOKUP($B141,'[1]Num 1'!$G$3:$O$88,6,FALSE),0)","v":0},{"$f":"IFERROR(VLOOKUP($B141,'[1]Num 1'!$G$3:$O$88,7,FALSE),0)","v":0},{"$f":"IFERROR(VLOOKUP($B141,'[1]Num 1'!$G$3:$O$88,8,FALSE),0)","v":0},null,null,0,{"$f":"IFERROR(VLOOKUP($B141,'[1]Den 1 2021'!$G$3:$T$104,11,FALSE),0)","v":0},{"$f":"IFERROR(VLOOKUP($B141,'[1]Den 1 2021'!$G$3:$T$104,12,FALSE),0)","v":0},{"$f":"IFERROR(VLOOKUP($B141,'[1]Den 1 2021'!$G$3:$T$104,13,FALSE),0)","v":0},{"$f":"IFERROR(VLOOKUP($B141,'[1]Den 1'!$G$3:$O$93,2,FALSE),0)","v":0},{"$f":"IFERROR(VLOOKUP($B141,'[1]Den 1'!$G$3:$O$93,3,FALSE),0)","v":0},{"$f":"IFERROR(VLOOKUP($B141,'[1]Den 1'!$G$3:$O$93,4,FALSE),0)","v":0},{"$f":"IFERROR(VLOOKUP($B141,'[1]Den 1'!$G$3:$O$93,5,FALSE),0)","v":0},{"$f":"IFERROR(VLOOKUP($B141,'[1]Den 1'!$G$3:$O$93,6,FALSE),0)","v":0},{"$f":"IFERROR(VLOOKUP($B141,'[1]Den 1'!$G$3:$O$93,7,FALSE),0)","v":0},{"$f":"IFERROR(VLOOKUP($B141,'[1]Den 1'!$G$3:$O$93,8,FALSE),0)","v":1},null,null,1]
["04304-MONTE PATRIA","105428-P.S.R. HUATULAME",null,null,{"$f":"IFERROR(VLOOKUP($B142,'[1]Num 1 2021'!$G$3:$T$95,11,FALSE),0)","v":0},{"$f":"IFERROR(VLOOKUP($B142,'[1]Num 1 2021'!$G$3:$T$95,12,FALSE),0)","v":0},{"$f":"IFERROR(VLOOKUP($B142,'[1]Num 1 2021'!$G$3:$T$95,13,FALSE),0)","v":0},{"$f":"IFERROR(VLOOKUP($B142,'[1]Num 1'!$G$3:$O$88,2,FALSE),0)","v":0},{"$f":"IFERROR(VLOOKUP($B142,'[1]Num 1'!$G$3:$O$88,3,FALSE),0)","v":0},{"$f":"IFERROR(VLOOKUP($B142,'[1]Num 1'!$G$3:$O$88,4,FALSE),0)","v":0},{"$f":"IFERROR(VLOOKUP($B142,'[1]Num 1'!$G$3:$O$88,5,FALSE),0)","v":0},{"$f":"IFERROR(VLOOKUP($B142,'[1]Num 1'!$G$3:$O$88,6,FALSE),0)","v":0},{"$f":"IFERROR(VLOOKUP($B142,'[1]Num 1'!$G$3:$O$88,7,FALSE),0)","v":0},{"$f":"IFERROR(VLOOKUP($B142,'[1]Num 1'!$G$3:$O$88,8,FALSE),0)","v":0},null,null,0,{"$f":"IFERROR(VLOOKUP($B142,'[1]Den 1 2021'!$G$3:$T$104,11,FALSE),0)","v":0},{"$f":"IFERROR(VLOOKUP($B142,'[1]Den 1 2021'!$G$3:$T$104,12,FALSE),0)","v":0},{"$f":"IFERROR(VLOOKUP($B142,'[1]Den 1 2021'!$G$3:$T$104,13,FALSE),0)","v":0},{"$f":"IFERROR(VLOOKUP($B142,'[1]Den 1'!$G$3:$O$93,2,FALSE),0)","v":0},{"$f":"IFERROR(VLOOKUP($B142,'[1]Den 1'!$G$3:$O$93,3,FALSE),0)","v":0},{"$f":"IFERROR(VLOOKUP($B142,'[1]Den 1'!$G$3:$O$93,4,FALSE),0)","v":0},{"$f":"IFERROR(VLOOKUP($B142,'[1]Den 1'!$G$3:$O$93,5,FALSE),0)","v":0},{"$f":"IFERROR(VLOOKUP($B142,'[1]Den 1'!$G$3:$O$93,6,FALSE),0)","v":0},{"$f":"IFERROR(VLOOKUP($B142,'[1]Den 1'!$G$3:$O$93,7,FALSE),0)","v":0},{"$f":"IFERROR(VLOOKUP($B142,'[1]Den 1'!$G$3:$O$93,8,FALSE),0)","v":0},null,null,0]
["04304-MONTE PATRIA","105430-P.S.R. MIALQUI",null,null,{"$f":"IFERROR(VLOOKUP($B143,'[1]Num 1 2021'!$G$3:$T$95,11,FALSE),0)","v":0},{"$f":"IFERROR(VLOOKUP($B143,'[1]Num 1 2021'!$G$3:$T$95,12,FALSE),0)","v":0},{"$f":"IFERROR(VLOOKUP($B143,'[1]Num 1 2021'!$G$3:$T$95,13,FALSE),0)","v":0},{"$f":"IFERROR(VLOOKUP($B143,'[1]Num 1'!$G$3:$O$88,2,FALSE),0)","v":0},{"$f":"IFERROR(VLOOKUP($B143,'[1]Num 1'!$G$3:$O$88,3,FALSE),0)","v":0},{"$f":"IFERROR(VLOOKUP($B143,'[1]Num 1'!$G$3:$O$88,4,FALSE),0)","v":0},{"$f":"IFERROR(VLOOKUP($B143,'[1]Num 1'!$G$3:$O$88,5,FALSE),0)","v":0},{"$f":"IFERROR(VLOOKUP($B143,'[1]Num 1'!$G$3:$O$88,6,FALSE),0)","v":0},{"$f":"IFERROR(VLOOKUP($B143,'[1]Num 1'!$G$3:$O$88,7,FALSE),0)","v":0},{"$f":"IFERROR(VLOOKUP($B143,'[1]Num 1'!$G$3:$O$88,8,FALSE),0)","v":0},null,null,0,{"$f":"IFERROR(VLOOKUP($B143,'[1]Den 1 2021'!$G$3:$T$104,11,FALSE),0)","v":0},{"$f":"IFERROR(VLOOKUP($B143,'[1]Den 1 2021'!$G$3:$T$104,12,FALSE),0)","v":0},{"$f":"IFERROR(VLOOKUP($B143,'[1]Den 1 2021'!$G$3:$T$104,13,FALSE),0)","v":0},{"$f":"IFERROR(VLOOKUP($B143,'[1]Den 1'!$G$3:$O$93,2,FALSE),0)","v":0},{"$f":"IFERROR(VLOOKUP($B143,'[1]Den 1'!$G$3:$O$93,3,FALSE),0)","v":0},{"$f":"IFERROR(VLOOKUP($B143,'[1]Den 1'!$G$3:$O$93,4,FALSE),0)","v":0},{"$f":"IFERROR(VLOOKUP($B143,'[1]Den 1'!$G$3:$O$93,5,FALSE),0)","v":0},{"$f":"IFERROR(VLOOKUP($B143,'[1]Den 1'!$G$3:$O$93,6,FALSE),0)","v":0},{"$f":"IFERROR(VLOOKUP($B143,'[1]Den 1'!$G$3:$O$93,7,FALSE),0)","v":0},{"$f":"IFERROR(VLOOKUP($B143,'[1]Den 1'!$G$3:$O$93,8,FALSE),0)","v":0},null,null,0]
["04304-MONTE PATRIA","105431-P.S.R. PEDREGAL",null,null,{"$f":"IFERROR(VLOOKUP($B144,'[1]Num 1 2021'!$G$3:$T$95,11,FALSE),0)","v":0},{"$f":"IFERROR(VLOOKUP($B144,'[1]Num 1 2021'!$G$3:$T$95,12,FALSE),0)","v":0},{"$f":"IFERROR(VLOOKUP($B144,'[1]Num 1 2021'!$G$3:$T$95,13,FALSE),0)","v":0},{"$f":"IFERROR(VLOOKUP($B144,'[1]Num 1'!$G$3:$O$88,2,FALSE),0)","v":0},{"$f":"IFERROR(VLOOKUP($B144,'[1]Num 1'!$G$3:$O$88,3,FALSE),0)","v":0},{"$f":"IFERROR(VLOOKUP($B144,'[1]Num 1'!$G$3:$O$88,4,FALSE),0)","v":0},{"$f":"IFERROR(VLOOKUP($B144,'[1]Num 1'!$G$3:$O$88,5,FALSE),0)","v":0},{"$f":"IFERROR(VLOOKUP($B144,'[1]Num 1'!$G$3:$O$88,6,FALSE),0)","v":0},{"$f":"IFERROR(VLOOKUP($B144,'[1]Num 1'!$G$3:$O$88,7,FALSE),0)","v":0},{"$f":"IFERROR(VLOOKUP($B144,'[1]Num 1'!$G$3:$O$88,8,FALSE),0)","v":0},null,null,0,{"$f":"IFERROR(VLOOKUP($B144,'[1]Den 1 2021'!$G$3:$T$104,11,FALSE),0)","v":0},{"$f":"IFERROR(VLOOKUP($B144,'[1]Den 1 2021'!$G$3:$T$104,12,FALSE),0)","v":0},{"$f":"IFERROR(VLOOKUP($B144,'[1]Den 1 2021'!$G$3:$T$104,13,FALSE),0)","v":0},{"$f":"IFERROR(VLOOKUP($B144,'[1]Den 1'!$G$3:$O$93,2,FALSE),0)","v":0},{"$f":"IFERROR(VLOOKUP($B144,'[1]Den 1'!$G$3:$O$93,3,FALSE),0)","v":0},{"$f":"IFERROR(VLOOKUP($B144,'[1]Den 1'!$G$3:$O$93,4,FALSE),0)","v":0},{"$f":"IFERROR(VLOOKUP($B144,'[1]Den 1'!$G$3:$O$93,5,FALSE),0)","v":0},{"$f":"IFERROR(VLOOKUP($B144,'[1]Den 1'!$G$3:$O$93,6,FALSE),0)","v":0},{"$f":"IFERROR(VLOOKUP($B144,'[1]Den 1'!$G$3:$O$93,7,FALSE),0)","v":0},{"$f":"IFERROR(VLOOKUP($B144,'[1]Den 1'!$G$3:$O$93,8,FALSE),0)","v":0},null,null,0]
["04304-MONTE PATRIA","105432-P.S.R. RAPEL",null,null,{"$f":"IFERROR(VLOOKUP($B145,'[1]Num 1 2021'!$G$3:$T$95,11,FALSE),0)","v":0},{"$f":"IFERROR(VLOOKUP($B145,'[1]Num 1 2021'!$G$3:$T$95,12,FALSE),0)","v":0},{"$f":"IFERROR(VLOOKUP($B145,'[1]Num 1 2021'!$G$3:$T$95,13,FALSE),0)","v":0},{"$f":"IFERROR(VLOOKUP($B145,'[1]Num 1'!$G$3:$O$88,2,FALSE),0)","v":0},{"$f":"IFERROR(VLOOKUP($B145,'[1]Num 1'!$G$3:$O$88,3,FALSE),0)","v":0},{"$f":"IFERROR(VLOOKUP($B145,'[1]Num 1'!$G$3:$O$88,4,FALSE),0)","v":0},{"$f":"IFERROR(VLOOKUP($B145,'[1]Num 1'!$G$3:$O$88,5,FALSE),0)","v":0},{"$f":"IFERROR(VLOOKUP($B145,'[1]Num 1'!$G$3:$O$88,6,FALSE),0)","v":0},{"$f":"IFERROR(VLOOKUP($B145,'[1]Num 1'!$G$3:$O$88,7,FALSE),0)","v":0},{"$f":"IFERROR(VLOOKUP($B145,'[1]Num 1'!$G$3:$O$88,8,FALSE),0)","v":1},null,null,1,{"$f":"IFERROR(VLOOKUP($B145,'[1]Den 1 2021'!$G$3:$T$104,11,FALSE),0)","v":0},{"$f":"IFERROR(VLOOKUP($B145,'[1]Den 1 2021'!$G$3:$T$104,12,FALSE),0)","v":0},{"$f":"IFERROR(VLOOKUP($B145,'[1]Den 1 2021'!$G$3:$T$104,13,FALSE),0)","v":0},{"$f":"IFERROR(VLOOKUP($B145,'[1]Den 1'!$G$3:$O$93,2,FALSE),0)","v":0},{"$f":"IFERROR(VLOOKUP($B145,'[1]Den 1'!$G$3:$O$93,3,FALSE),0)","v":0},{"$f":"IFERROR(VLOOKUP($B145,'[1]Den 1'!$G$3:$O$93,4,FALSE),0)","v":0},{"$f":"IFERROR(VLOOKUP($B145,'[1]Den 1'!$G$3:$O$93,5,FALSE),0)","v":1},{"$f":"IFERROR(VLOOKUP($B145,'[1]Den 1'!$G$3:$O$93,6,FALSE),0)","v":0},{"$f":"IFERROR(VLOOKUP($B145,'[1]Den 1'!$G$3:$O$93,7,FALSE),0)","v":0},{"$f":"IFERROR(VLOOKUP($B145,'[1]Den 1'!$G$3:$O$93,8,FALSE),0)","v":0},null,null,1]
["04304-MONTE PATRIA","105435-P.S.R. TULAHUEN",null,null,{"$f":"IFERROR(VLOOKUP($B146,'[1]Num 1 2021'!$G$3:$T$95,11,FALSE),0)","v":0},{"$f":"IFERROR(VLOOKUP($B146,'[1]Num 1 2021'!$G$3:$T$95,12,FALSE),0)","v":0},{"$f":"IFERROR(VLOOKUP($B146,'[1]Num 1 2021'!$G$3:$T$95,13,FALSE),0)","v":0},{"$f":"IFERROR(VLOOKUP($B146,'[1]Num 1'!$G$3:$O$88,2,FALSE),0)","v":0},{"$f":"IFERROR(VLOOKUP($B146,'[1]Num 1'!$G$3:$O$88,3,FALSE),0)","v":0},{"$f":"IFERROR(VLOOKUP($B146,'[1]Num 1'!$G$3:$O$88,4,FALSE),0)","v":0},{"$f":"IFERROR(VLOOKUP($B146,'[1]Num 1'!$G$3:$O$88,5,FALSE),0)","v":0},{"$f":"IFERROR(VLOOKUP($B146,'[1]Num 1'!$G$3:$O$88,6,FALSE),0)","v":0},{"$f":"IFERROR(VLOOKUP($B146,'[1]Num 1'!$G$3:$O$88,7,FALSE),0)","v":0},{"$f":"IFERROR(VLOOKUP($B146,'[1]Num 1'!$G$3:$O$88,8,FALSE),0)","v":0},null,null,0,{"$f":"IFERROR(VLOOKUP($B146,'[1]Den 1 2021'!$G$3:$T$104,11,FALSE),0)","v":0},{"$f":"IFERROR(VLOOKUP($B146,'[1]Den 1 2021'!$G$3:$T$104,12,FALSE),0)","v":0},{"$f":"IFERROR(VLOOKUP($B146,'[1]Den 1 2021'!$G$3:$T$104,13,FALSE),0)","v":0},{"$f":"IFERROR(VLOOKUP($B146,'[1]Den 1'!$G$3:$O$93,2,FALSE),0)","v":0},{"$f":"IFERROR(VLOOKUP($B146,'[1]Den 1'!$G$3:$O$93,3,FALSE),0)","v":0},{"$f":"IFERROR(VLOOKUP($B146,'[1]Den 1'!$G$3:$O$93,4,FALSE),0)","v":0},{"$f":"IFERROR(VLOOKUP($B146,'[1]Den 1'!$G$3:$O$93,5,FALSE),0)","v":0},{"$f":"IFERROR(VLOOKUP($B146,'[1]Den 1'!$G$3:$O$93,6,FALSE),0)","v":0},{"$f":"IFERROR(VLOOKUP($B146,'[1]Den 1'!$G$3:$O$93,7,FALSE),0)","v":0},{"$f":"IFERROR(VLOOKUP($B146,'[1]Den 1'!$G$3:$O$93,8,FALSE),0)","v":0},null,null,0]
["04304-MONTE PATRIA","105436-P.S.R. EL MAITEN",null,null,{"$f":"IFERROR(VLOOKUP($B147,'[1]Num 1 2021'!$G$3:$T$95,11,FALSE),0)","v":0},{"$f":"IFERROR(VLOOKUP($B147,'[1]Num 1 2021'!$G$3:$T$95,12,FALSE),0)","v":0},{"$f":"IFERROR(VLOOKUP($B147,'[1]Num 1 2021'!$G$3:$T$95,13,FALSE),0)","v":0},{"$f":"IFERROR(VLOOKUP($B147,'[1]Num 1'!$G$3:$O$88,2,FALSE),0)","v":0},{"$f":"IFERROR(VLOOKUP($B147,'[1]Num 1'!$G$3:$O$88,3,FALSE),0)","v":0},{"$f":"IFERROR(VLOOKUP($B147,'[1]Num 1'!$G$3:$O$88,4,FALSE),0)","v":0},{"$f":"IFERROR(VLOOKUP($B147,'[1]Num 1'!$G$3:$O$88,5,FALSE),0)","v":0},{"$f":"IFERROR(VLOOKUP($B147,'[1]Num 1'!$G$3:$O$88,6,FALSE),0)","v":0},{"$f":"IFERROR(VLOOKUP($B147,'[1]Num 1'!$G$3:$O$88,7,FALSE),0)","v":0},{"$f":"IFERROR(VLOOKUP($B147,'[1]Num 1'!$G$3:$O$88,8,FALSE),0)","v":0},null,null,0,{"$f":"IFERROR(VLOOKUP($B147,'[1]Den 1 2021'!$G$3:$T$104,11,FALSE),0)","v":0},{"$f":"IFERROR(VLOOKUP($B147,'[1]Den 1 2021'!$G$3:$T$104,12,FALSE),0)","v":0},{"$f":"IFERROR(VLOOKUP($B147,'[1]Den 1 2021'!$G$3:$T$104,13,FALSE),0)","v":0},{"$f":"IFERROR(VLOOKUP($B147,'[1]Den 1'!$G$3:$O$93,2,FALSE),0)","v":0},{"$f":"IFERROR(VLOOKUP($B147,'[1]Den 1'!$G$3:$O$93,3,FALSE),0)","v":0},{"$f":"IFERROR(VLOOKUP($B147,'[1]Den 1'!$G$3:$O$93,4,FALSE),0)","v":0},{"$f":"IFERROR(VLOOKUP($B147,'[1]Den 1'!$G$3:$O$93,5,FALSE),0)","v":0},{"$f":"IFERROR(VLOOKUP($B147,'[1]Den 1'!$G$3:$O$93,6,FALSE),0)","v":0},{"$f":"IFERROR(VLOOKUP($B147,'[1]Den 1'!$G$3:$O$93,7,FALSE),0)","v":0},{"$f":"IFERROR(VLOOKUP($B147,'[1]Den 1'!$G$3:$O$93,8,FALSE),0)","v":0},null,null,0]
["04304-MONTE PATRIA","105489-P.S.R. RAMADAS DE TULAHUEN",null,null,{"$f":"IFERROR(VLOOKUP($B148,'[1]Num 1 2021'!$G$3:$T$95,11,FALSE),0)","v":0},{"$f":"IFERROR(VLOOKUP($B148,'[1]Num 1 2021'!$G$3:$T$95,12,FALSE),0)","v":0},{"$f":"IFERROR(VLOOKUP($B148,'[1]Num 1 2021'!$G$3:$T$95,13,FALSE),0)","v":0},{"$f":"IFERROR(VLOOKUP($B148,'[1]Num 1'!$G$3:$O$88,2,FALSE),0)","v":0},{"$f":"IFERROR(VLOOKUP($B148,'[1]Num 1'!$G$3:$O$88,3,FALSE),0)","v":0},{"$f":"IFERROR(VLOOKUP($B148,'[1]Num 1'!$G$3:$O$88,4,FALSE),0)","v":0},{"$f":"IFERROR(VLOOKUP($B148,'[1]Num 1'!$G$3:$O$88,5,FALSE),0)","v":0},{"$f":"IFERROR(VLOOKUP($B148,'[1]Num 1'!$G$3:$O$88,6,FALSE),0)","v":0},{"$f":"IFERROR(VLOOKUP($B148,'[1]Num 1'!$G$3:$O$88,7,FALSE),0)","v":0},{"$f":"IFERROR(VLOOKUP($B148,'[1]Num 1'!$G$3:$O$88,8,FALSE),0)","v":0},null,null,0,{"$f":"IFERROR(VLOOKUP($B148,'[1]Den 1 2021'!$G$3:$T$104,11,FALSE),0)","v":0},{"$f":"IFERROR(VLOOKUP($B148,'[1]Den 1 2021'!$G$3:$T$104,12,FALSE),0)","v":0},{"$f":"IFERROR(VLOOKUP($B148,'[1]Den 1 2021'!$G$3:$T$104,13,FALSE),0)","v":0},{"$f":"IFERROR(VLOOKUP($B148,'[1]Den 1'!$G$3:$O$93,2,FALSE),0)","v":0},{"$f":"IFERROR(VLOOKUP($B148,'[1]Den 1'!$G$3:$O$93,3,FALSE),0)","v":0},{"$f":"IFERROR(VLOOKUP($B148,'[1]Den 1'!$G$3:$O$93,4,FALSE),0)","v":0},{"$f":"IFERROR(VLOOKUP($B148,'[1]Den 1'!$G$3:$O$93,5,FALSE),0)","v":0},{"$f":"IFERROR(VLOOKUP($B148,'[1]Den 1'!$G$3:$O$93,6,FALSE),0)","v":0},{"$f":"IFERROR(VLOOKUP($B148,'[1]Den 1'!$G$3:$O$93,7,FALSE),0)","v":0},{"$f":"IFERROR(VLOOKUP($B148,'[1]Den 1'!$G$3:$O$93,8,FALSE),0)","v":0},null,null,0]
["TOTAL MONTE PATRIA ",null,{"$f":"D149/Metas!G16","v":{"v":1.8581081081081081,"d":"185.81%"}},{"$f":"Q149/AD149","v":{"v":1.375,"d":"137.50%"}},{"$f":"SUM(E136:E148)","v":1},{"$f":"SUM(F136:F148)","v":1},{"$f":"SUM(G136:G148)","v":5},{"$f":"SUM(H136:H148)","v":0},{"$f":"SUM(I136:I148)","v":2},2,4,2,4,1,0,{"$f":"SUM(P136:P148)","v":0},22,2,0,0,6,{"$f":"SUM(V136:V148)","v":1},3,2,0,0,2,{"$f":"SUM(AB136:AB148)","v":0},{"$f":"SUM(AC136:AC148)","v":0},16]
["04304-PUNITAQUI","105308-CES. RURAL PUNITAQUI",null,null,{"$f":"IFERROR(VLOOKUP($B150,'[1]Num 1 2021'!$G$3:$T$95,11,FALSE),0)","v":1},{"$f":"IFERROR(VLOOKUP($B150,'[1]Num 1 2021'!$G$3:$T$95,12,FALSE),0)","v":0},{"$f":"IFERROR(VLOOKUP($B150,'[1]Num 1 2021'!$G$3:$T$95,13,FALSE),0)","v":0},{"$f":"IFERROR(VLOOKUP($B150,'[1]Num 1'!$G$3:$O$88,2,FALSE),0)","v":0},{"$f":"IFERROR(VLOOKUP($B150,'[1]Num 1'!$G$3:$O$88,3,FALSE),0)","v":0},{"$f":"IFERROR(VLOOKUP($B150,'[1]Num 1'!$G$3:$O$88,4,FALSE),0)","v":0},{"$f":"IFERROR(VLOOKUP($B150,'[1]Num 1'!$G$3:$O$88,5,FALSE),0)","v":1},{"$f":"IFERROR(VLOOKUP($B150,'[1]Num 1'!$G$3:$O$88,6,FALSE),0)","v":0},{"$f":"IFERROR(VLOOKUP($B150,'[1]Num 1'!$G$3:$O$88,7,FALSE),0)","v":0},{"$f":"IFERROR(VLOOKUP($B150,'[1]Num 1'!$G$3:$O$88,8,FALSE),0)","v":0},null,null,{"$f":"SUM(E150:P150)","v":2},{"$f":"IFERROR(VLOOKUP($B150,'[1]Den 1 2021'!$G$3:$T$104,11,FALSE),0)","v":0},{"$f":"IFERROR(VLOOKUP($B150,'[1]Den 1 2021'!$G$3:$T$104,12,FALSE),0)","v":0},{"$f":"IFERROR(VLOOKUP($B150,'[1]Den 1 2021'!$G$3:$T$104,13,FALSE),0)","v":0},{"$f":"IFERROR(VLOOKUP($B150,'[1]Den 1'!$G$3:$O$93,2,FALSE),0)","v":0},{"$f":"IFERROR(VLOOKUP($B150,'[1]Den 1'!$G$3:$O$93,3,FALSE),0)","v":0},{"$f":"IFERROR(VLOOKUP($B150,'[1]Den 1'!$G$3:$O$93,4,FALSE),0)","v":3},{"$f":"IFERROR(VLOOKUP($B150,'[1]Den 1'!$G$3:$O$93,5,FALSE),0)","v":1},{"$f":"IFERROR(VLOOKUP($B150,'[1]Den 1'!$G$3:$O$93,6,FALSE),0)","v":0},{"$f":"IFERROR(VLOOKUP($B150,'[1]Den 1'!$G$3:$O$93,7,FALSE),0)","v":1},{"$f":"IFERROR(VLOOKUP($B150,'[1]Den 1'!$G$3:$O$93,8,FALSE),0)","v":1},null,null,6]
["04304-PUNITAQUI","105440-P.S.R. DIVISADERO",null,null,{"$f":"IFERROR(VLOOKUP($B151,'[1]Num 1 2021'!$G$3:$T$95,11,FALSE),0)","v":0},{"$f":"IFERROR(VLOOKUP($B151,'[1]Num 1 2021'!$G$3:$T$95,12,FALSE),0)","v":0},{"$f":"IFERROR(VLOOKUP($B151,'[1]Num 1 2021'!$G$3:$T$95,13,FALSE),0)","v":0},{"$f":"IFERROR(VLOOKUP($B151,'[1]Num 1'!$G$3:$O$88,2,FALSE),0)","v":0},{"$f":"IFERROR(VLOOKUP($B151,'[1]Num 1'!$G$3:$O$88,3,FALSE),0)","v":0},{"$f":"IFERROR(VLOOKUP($B151,'[1]Num 1'!$G$3:$O$88,4,FALSE),0)","v":0},{"$f":"IFERROR(VLOOKUP($B151,'[1]Num 1'!$G$3:$O$88,5,FALSE),0)","v":0},{"$f":"IFERROR(VLOOKUP($B151,'[1]Num 1'!$G$3:$O$88,6,FALSE),0)","v":0},{"$f":"IFERROR(VLOOKUP($B151,'[1]Num 1'!$G$3:$O$88,7,FALSE),0)","v":0},{"$f":"IFERROR(VLOOKUP($B151,'[1]Num 1'!$G$3:$O$88,8,FALSE),0)","v":0},null,null,{"$f":"SUM(E151:P151)","v":0},{"$f":"IFERROR(VLOOKUP($B151,'[1]Den 1 2021'!$G$3:$T$104,11,FALSE),0)","v":0},{"$f":"IFERROR(VLOOKUP($B151,'[1]Den 1 2021'!$G$3:$T$104,12,FALSE),0)","v":0},{"$f":"IFERROR(VLOOKUP($B151,'[1]Den 1 2021'!$G$3:$T$104,13,FALSE),0)","v":0},{"$f":"IFERROR(VLOOKUP($B151,'[1]Den 1'!$G$3:$O$93,2,FALSE),0)","v":0},{"$f":"IFERROR(VLOOKUP($B151,'[1]Den 1'!$G$3:$O$93,3,FALSE),0)","v":0},{"$f":"IFERROR(VLOOKUP($B151,'[1]Den 1'!$G$3:$O$93,4,FALSE),0)","v":0},{"$f":"IFERROR(VLOOKUP($B151,'[1]Den 1'!$G$3:$O$93,5,FALSE),0)","v":0},{"$f":"IFERROR(VLOOKUP($B151,'[1]Den 1'!$G$3:$O$93,6,FALSE),0)","v":0},{"$f":"IFERROR(VLOOKUP($B151,'[1]Den 1'!$G$3:$O$93,7,FALSE),0)","v":0},{"$f":"IFERROR(VLOOKUP($B151,'[1]Den 1'!$G$3:$O$93,8,FALSE),0)","v":0},null,null,0]
["04304-PUNITAQUI","105442-P.S.R. SAN PEDRO DE QUILES",null,null,{"$f":"IFERROR(VLOOKUP($B152,'[1]Num 1 2021'!$G$3:$T$95,11,FALSE),0)","v":0},{"$f":"IFERROR(VLOOKUP($B152,'[1]Num 1 2021'!$G$3:$T$95,12,FALSE),0)","v":0},{"$f":"IFERROR(VLOOKUP($B152,'[1]Num 1 2021'!$G$3:$T$95,13,FALSE),0)","v":0},{"$f":"IFERROR(VLOOKUP($B152,'[1]Num 1'!$G$3:$O$88,2,FALSE),0)","v":0},{"$f":"IFERROR(VLOOKUP($B152,'[1]Num 1'!$G$3:$O$88,3,FALSE),0)","v":0},{"$f":"IFERROR(VLOOKUP($B152,'[1]Num 1'!$G$3:$O$88,4,FALSE),0)","v":0},{"$f":"IFERROR(VLOOKUP($B152,'[1]Num 1'!$G$3:$O$88,5,FALSE),0)","v":0},{"$f":"IFERROR(VLOOKUP($B152,'[1]Num 1'!$G$3:$O$88,6,FALSE),0)","v":0},{"$f":"IFERROR(VLOOKUP($B152,'[1]Num 1'!$G$3:$O$88,7,FALSE),0)","v":0},{"$f":"IFERROR(VLOOKUP($B152,'[1]Num 1'!$G$3:$O$88,8,FALSE),0)","v":0},null,null,{"$f":"SUM(E152:P152)","v":0},{"$f":"IFERROR(VLOOKUP($B152,'[1]Den 1 2021'!$G$3:$T$104,11,FALSE),0)","v":0},{"$f":"IFERROR(VLOOKUP($B152,'[1]Den 1 2021'!$G$3:$T$104,12,FALSE),0)","v":0},{"$f":"IFERROR(VLOOKUP($B152,'[1]Den 1 2021'!$G$3:$T$104,13,FALSE),0)","v":0},{"$f":"IFERROR(VLOOKUP($B152,'[1]Den 1'!$G$3:$O$93,2,FALSE),0)","v":0},{"$f":"IFERROR(VLOOKUP($B152,'[1]Den 1'!$G$3:$O$93,3,FALSE),0)","v":0},{"$f":"IFERROR(VLOOKUP($B152,'[1]Den 1'!$G$3:$O$93,4,FALSE),0)","v":0},{"$f":"IFERROR(VLOOKUP($B152,'[1]Den 1'!$G$3:$O$93,5,FALSE),0)","v":0},{"$f":"IFERROR(VLOOKUP($B152,'[1]Den 1'!$G$3:$O$93,6,FALSE),0)","v":0},{"$f":"IFERROR(VLOOKUP($B152,'[1]Den 1'!$G$3:$O$93,7,FALSE),0)","v":0},{"$f":"IFERROR(VLOOKUP($B152,'[1]Den 1'!$G$3:$O$93,8,FALSE),0)","v":0},null,null,0]
["04304-PUNITAQUI","105508-P.S.R. EL PARRAL DE QUILES  ",null,null,{"$f":"IFERROR(VLOOKUP($B153,'[1]Num 1 2021'!$G$3:$T$95,11,FALSE),0)","v":0},{"$f":"IFERROR(VLOOKUP($B153,'[1]Num 1 2021'!$G$3:$T$95,12,FALSE),0)","v":0},{"$f":"IFERROR(VLOOKUP($B153,'[1]Num 1 2021'!$G$3:$T$95,13,FALSE),0)","v":0},{"$f":"IFERROR(VLOOKUP($B153,'[1]Num 1'!$G$3:$O$88,2,FALSE),0)","v":0},{"$f":"IFERROR(VLOOKUP($B153,'[1]Num 1'!$G$3:$O$88,3,FALSE),0)","v":0},{"$f":"IFERROR(VLOOKUP($B153,'[1]Num 1'!$G$3:$O$88,4,FALSE),0)","v":0},{"$f":"IFERROR(VLOOKUP($B153,'[1]Num 1'!$G$3:$O$88,5,FALSE),0)","v":0},{"$f":"IFERROR(VLOOKUP($B153,'[1]Num 1'!$G$3:$O$88,6,FALSE),0)","v":0},{"$f":"IFERROR(VLOOKUP($B153,'[1]Num 1'!$G$3:$O$88,7,FALSE),0)","v":0},{"$f":"IFERROR(VLOOKUP($B153,'[1]Num 1'!$G$3:$O$88,8,FALSE),0)","v":0},null,null,{"$f":"SUM(E153:P153)","v":0},{"$f":"IFERROR(VLOOKUP($B153,'[1]Den 1 2021'!$G$3:$T$104,11,FALSE),0)","v":0},{"$f":"IFERROR(VLOOKUP($B153,'[1]Den 1 2021'!$G$3:$T$104,12,FALSE),0)","v":0},{"$f":"IFERROR(VLOOKUP($B153,'[1]Den 1 2021'!$G$3:$T$104,13,FALSE),0)","v":0},{"$f":"IFERROR(VLOOKUP($B153,'[1]Den 1'!$G$3:$O$93,2,FALSE),0)","v":0},{"$f":"IFERROR(VLOOKUP($B153,'[1]Den 1'!$G$3:$O$93,3,FALSE),0)","v":0},{"$f":"IFERROR(VLOOKUP($B153,'[1]Den 1'!$G$3:$O$93,4,FALSE),0)","v":0},{"$f":"IFERROR(VLOOKUP($B153,'[1]Den 1'!$G$3:$O$93,5,FALSE),0)","v":0},{"$f":"IFERROR(VLOOKUP($B153,'[1]Den 1'!$G$3:$O$93,6,FALSE),0)","v":0},{"$f":"IFERROR(VLOOKUP($B153,'[1]Den 1'!$G$3:$O$93,7,FALSE),0)","v":0},{"$f":"IFERROR(VLOOKUP($B153,'[1]Den 1'!$G$3:$O$93,8,FALSE),0)","v":0},null,null,0]
["TOTAL PUNITAQUI ",null,{"$f":"D154/Metas!G17","v":{"v":0.37037037037037035,"d":"37.04%"}},{"$f":"Q154/AD154","v":{"v":0.3333333333333333,"d":"33.33%"}},{"$f":"SUM(E150:E153)","v":1},{"$f":"SUM(F150:F153)","v":0},{"$f":"SUM(G150:G153)","v":0},{"$f":"SUM(H150:H153)","v":0},{"$f":"SUM(I150:I153)","v":0},0,1,0,0,0,0,0,2,0,0,0,0,{"$f":"SUM(V150:V153)","v":0},3,1,0,1,1,{"$f":"SUM(AB150:AB153)","v":0},{"$f":"SUM(AC150:AC153)","v":0},{"$f":"SUM(AD150:AD153)","v":6}]
["04305-RIO HURTADO","105310-CES. RURAL PICHASCA",null,null,{"$f":"IFERROR(VLOOKUP($B155,'[1]Num 1 2021'!$G$3:$T$95,11,FALSE),0)","v":0},{"$f":"IFERROR(VLOOKUP($B155,'[1]Num 1 2021'!$G$3:$T$95,12,FALSE),0)","v":0},{"$f":"IFERROR(VLOOKUP($B155,'[1]Num 1 2021'!$G$3:$T$95,13,FALSE),0)","v":0},{"$f":"IFERROR(VLOOKUP($B155,'[1]Num 1'!$G$3:$O$88,2,FALSE),0)","v":0},{"$f":"IFERROR(VLOOKUP($B155,'[1]Num 1'!$G$3:$O$88,3,FALSE),0)","v":0},{"$f":"IFERROR(VLOOKUP($B155,'[1]Num 1'!$G$3:$O$88,4,FALSE),0)","v":0},{"$f":"IFERROR(VLOOKUP($B155,'[1]Num 1'!$G$3:$O$88,5,FALSE),0)","v":0},{"$f":"IFERROR(VLOOKUP($B155,'[1]Num 1'!$G$3:$O$88,6,FALSE),0)","v":0},{"$f":"IFERROR(VLOOKUP($B155,'[1]Num 1'!$G$3:$O$88,7,FALSE),0)","v":0},{"$f":"IFERROR(VLOOKUP($B155,'[1]Num 1'!$G$3:$O$88,8,FALSE),0)","v":0},null,null,{"$f":"SUM(E155:P155)","v":0},{"$f":"IFERROR(VLOOKUP($B155,'[1]Den 1 2021'!$G$3:$T$104,11,FALSE),0)","v":0},{"$f":"IFERROR(VLOOKUP($B155,'[1]Den 1 2021'!$G$3:$T$104,12,FALSE),0)","v":0},{"$f":"IFERROR(VLOOKUP($B155,'[1]Den 1 2021'!$G$3:$T$104,13,FALSE),0)","v":0},{"$f":"IFERROR(VLOOKUP($B155,'[1]Den 1'!$G$3:$O$93,2,FALSE),0)","v":0},{"$f":"IFERROR(VLOOKUP($B155,'[1]Den 1'!$G$3:$O$93,3,FALSE),0)","v":0},{"$f":"IFERROR(VLOOKUP($B155,'[1]Den 1'!$G$3:$O$93,4,FALSE),0)","v":0},{"$f":"IFERROR(VLOOKUP($B155,'[1]Den 1'!$G$3:$O$93,5,FALSE),0)","v":0},{"$f":"IFERROR(VLOOKUP($B155,'[1]Den 1'!$G$3:$O$93,6,FALSE),0)","v":0},{"$f":"IFERROR(VLOOKUP($B155,'[1]Den 1'!$G$3:$O$93,7,FALSE),0)","v":0},{"$f":"IFERROR(VLOOKUP($B155,'[1]Den 1'!$G$3:$O$93,8,FALSE),0)","v":0},null,null,0]
["04305-RIO HURTADO","105409-P.S.R. EL CHAÑAR",null,null,{"$f":"IFERROR(VLOOKUP($B156,'[1]Num 1 2021'!$G$3:$T$95,11,FALSE),0)","v":0},{"$f":"IFERROR(VLOOKUP($B156,'[1]Num 1 2021'!$G$3:$T$95,12,FALSE),0)","v":0},{"$f":"IFERROR(VLOOKUP($B156,'[1]Num 1 2021'!$G$3:$T$95,13,FALSE),0)","v":0},{"$f":"IFERROR(VLOOKUP($B156,'[1]Num 1'!$G$3:$O$88,2,FALSE),0)","v":0},{"$f":"IFERROR(VLOOKUP($B156,'[1]Num 1'!$G$3:$O$88,3,FALSE),0)","v":0},{"$f":"IFERROR(VLOOKUP($B156,'[1]Num 1'!$G$3:$O$88,4,FALSE),0)","v":0},{"$f":"IFERROR(VLOOKUP($B156,'[1]Num 1'!$G$3:$O$88,5,FALSE),0)","v":0},{"$f":"IFERROR(VLOOKUP($B156,'[1]Num 1'!$G$3:$O$88,6,FALSE),0)","v":0},{"$f":"IFERROR(VLOOKUP($B156,'[1]Num 1'!$G$3:$O$88,7,FALSE),0)","v":0},{"$f":"IFERROR(VLOOKUP($B156,'[1]Num 1'!$G$3:$O$88,8,FALSE),0)","v":0},null,null,0,{"$f":"IFERROR(VLOOKUP($B156,'[1]Den 1 2021'!$G$3:$T$104,11,FALSE),0)","v":0},{"$f":"IFERROR(VLOOKUP($B156,'[1]Den 1 2021'!$G$3:$T$104,12,FALSE),0)","v":0},{"$f":"IFERROR(VLOOKUP($B156,'[1]Den 1 2021'!$G$3:$T$104,13,FALSE),0)","v":0},{"$f":"IFERROR(VLOOKUP($B156,'[1]Den 1'!$G$3:$O$93,2,FALSE),0)","v":0},{"$f":"IFERROR(VLOOKUP($B156,'[1]Den 1'!$G$3:$O$93,3,FALSE),0)","v":0},{"$f":"IFERROR(VLOOKUP($B156,'[1]Den 1'!$G$3:$O$93,4,FALSE),0)","v":0},{"$f":"IFERROR(VLOOKUP($B156,'[1]Den 1'!$G$3:$O$93,5,FALSE),0)","v":0},{"$f":"IFERROR(VLOOKUP($B156,'[1]Den 1'!$G$3:$O$93,6,FALSE),0)","v":0},{"$f":"IFERROR(VLOOKUP($B156,'[1]Den 1'!$G$3:$O$93,7,FALSE),0)","v":0},{"$f":"IFERROR(VLOOKUP($B156,'[1]Den 1'!$G$3:$O$93,8,FALSE),0)","v":0},null,null,{"$f":"SUM(R156:AC156)","v":0}]
["04305-RIO HURTADO","105410-P.S.R. HURTADO",null,null,{"$f":"IFERROR(VLOOKUP($B157,'[1]Num 1 2021'!$G$3:$T$95,11,FALSE),0)","v":0},{"$f":"IFERROR(VLOOKUP($B157,'[1]Num 1 2021'!$G$3:$T$95,12,FALSE),0)","v":0},{"$f":"IFERROR(VLOOKUP($B157,'[1]Num 1 2021'!$G$3:$T$95,13,FALSE),0)","v":0},{"$f":"IFERROR(VLOOKUP($B157,'[1]Num 1'!$G$3:$O$88,2,FALSE),0)","v":0},{"$f":"IFERROR(VLOOKUP($B157,'[1]Num 1'!$G$3:$O$88,3,FALSE),0)","v":0},{"$f":"IFERROR(VLOOKUP($B157,'[1]Num 1'!$G$3:$O$88,4,FALSE),0)","v":0},{"$f":"IFERROR(VLOOKUP($B157,'[1]Num 1'!$G$3:$O$88,5,FALSE),0)","v":0},{"$f":"IFERROR(VLOOKUP($B157,'[1]Num 1'!$G$3:$O$88,6,FALSE),0)","v":0},{"$f":"IFERROR(VLOOKUP($B157,'[1]Num 1'!$G$3:$O$88,7,FALSE),0)","v":0},{"$f":"IFERROR(VLOOKUP($B157,'[1]Num 1'!$G$3:$O$88,8,FALSE),0)","v":0},null,null,0,{"$f":"IFERROR(VLOOKUP($B157,'[1]Den 1 2021'!$G$3:$T$104,11,FALSE),0)","v":0},{"$f":"IFERROR(VLOOKUP($B157,'[1]Den 1 2021'!$G$3:$T$104,12,FALSE),0)","v":0},{"$f":"IFERROR(VLOOKUP($B157,'[1]Den 1 2021'!$G$3:$T$104,13,FALSE),0)","v":0},{"$f":"IFERROR(VLOOKUP($B157,'[1]Den 1'!$G$3:$O$93,2,FALSE),0)","v":0},{"$f":"IFERROR(VLOOKUP($B157,'[1]Den 1'!$G$3:$O$93,3,FALSE),0)","v":0},{"$f":"IFERROR(VLOOKUP($B157,'[1]Den 1'!$G$3:$O$93,4,FALSE),0)","v":0},{"$f":"IFERROR(VLOOKUP($B157,'[1]Den 1'!$G$3:$O$93,5,FALSE),0)","v":0},{"$f":"IFERROR(VLOOKUP($B157,'[1]Den 1'!$G$3:$O$93,6,FALSE),0)","v":0},{"$f":"IFERROR(VLOOKUP($B157,'[1]Den 1'!$G$3:$O$93,7,FALSE),0)","v":0},{"$f":"IFERROR(VLOOKUP($B157,'[1]Den 1'!$G$3:$O$93,8,FALSE),0)","v":0},null,null,0]
["04305-RIO HURTADO","105411-P.S.R. LAS BREAS",null,null,{"$f":"IFERROR(VLOOKUP($B158,'[1]Num 1 2021'!$G$3:$T$95,11,FALSE),0)","v":0},{"$f":"IFERROR(VLOOKUP($B158,'[1]Num 1 2021'!$G$3:$T$95,12,FALSE),0)","v":0},{"$f":"IFERROR(VLOOKUP($B158,'[1]Num 1 2021'!$G$3:$T$95,13,FALSE),0)","v":0},{"$f":"IFERROR(VLOOKUP($B158,'[1]Num 1'!$G$3:$O$88,2,FALSE),0)","v":0},{"$f":"IFERROR(VLOOKUP($B158,'[1]Num 1'!$G$3:$O$88,3,FALSE),0)","v":0},{"$f":"IFERROR(VLOOKUP($B158,'[1]Num 1'!$G$3:$O$88,4,FALSE),0)","v":0},{"$f":"IFERROR(VLOOKUP($B158,'[1]Num 1'!$G$3:$O$88,5,FALSE),0)","v":0},{"$f":"IFERROR(VLOOKUP($B158,'[1]Num 1'!$G$3:$O$88,6,FALSE),0)","v":0},{"$f":"IFERROR(VLOOKUP($B158,'[1]Num 1'!$G$3:$O$88,7,FALSE),0)","v":0},{"$f":"IFERROR(VLOOKUP($B158,'[1]Num 1'!$G$3:$O$88,8,FALSE),0)","v":0},null,null,0,{"$f":"IFERROR(VLOOKUP($B158,'[1]Den 1 2021'!$G$3:$T$104,11,FALSE),0)","v":0},{"$f":"IFERROR(VLOOKUP($B158,'[1]Den 1 2021'!$G$3:$T$104,12,FALSE),0)","v":0},{"$f":"IFERROR(VLOOKUP($B158,'[1]Den 1 2021'!$G$3:$T$104,13,FALSE),0)","v":0},{"$f":"IFERROR(VLOOKUP($B158,'[1]Den 1'!$G$3:$O$93,2,FALSE),0)","v":0},{"$f":"IFERROR(VLOOKUP($B158,'[1]Den 1'!$G$3:$O$93,3,FALSE),0)","v":0},{"$f":"IFERROR(VLOOKUP($B158,'[1]Den 1'!$G$3:$O$93,4,FALSE),0)","v":0},{"$f":"IFERROR(VLOOKUP($B158,'[1]Den 1'!$G$3:$O$93,5,FALSE),0)","v":0},{"$f":"IFERROR(VLOOKUP($B158,'[1]Den 1'!$G$3:$O$93,6,FALSE),0)","v":0},{"$f":"IFERROR(VLOOKUP($B158,'[1]Den 1'!$G$3:$O$93,7,FALSE),0)","v":0},{"$f":"IFERROR(VLOOKUP($B158,'[1]Den 1'!$G$3:$O$93,8,FALSE),0)","v":0},null,null,0]
["04305-RIO HURTADO","105413-P.S.R. SAMO ALTO",null,null,{"$f":"IFERROR(VLOOKUP($B159,'[1]Num 1 2021'!$G$3:$T$95,11,FALSE),0)","v":0},{"$f":"IFERROR(VLOOKUP($B159,'[1]Num 1 2021'!$G$3:$T$95,12,FALSE),0)","v":0},{"$f":"IFERROR(VLOOKUP($B159,'[1]Num 1 2021'!$G$3:$T$95,13,FALSE),0)","v":0},{"$f":"IFERROR(VLOOKUP($B159,'[1]Num 1'!$G$3:$O$88,2,FALSE),0)","v":0},{"$f":"IFERROR(VLOOKUP($B159,'[1]Num 1'!$G$3:$O$88,3,FALSE),0)","v":0},{"$f":"IFERROR(VLOOKUP($B159,'[1]Num 1'!$G$3:$O$88,4,FALSE),0)","v":0},{"$f":"IFERROR(VLOOKUP($B159,'[1]Num 1'!$G$3:$O$88,5,FALSE),0)","v":0},{"$f":"IFERROR(VLOOKUP($B159,'[1]Num 1'!$G$3:$O$88,6,FALSE),0)","v":0},{"$f":"IFERROR(VLOOKUP($B159,'[1]Num 1'!$G$3:$O$88,7,FALSE),0)","v":0},{"$f":"IFERROR(VLOOKUP($B159,'[1]Num 1'!$G$3:$O$88,8,FALSE),0)","v":0},null,null,0,{"$f":"IFERROR(VLOOKUP($B159,'[1]Den 1 2021'!$G$3:$T$104,11,FALSE),0)","v":0},{"$f":"IFERROR(VLOOKUP($B159,'[1]Den 1 2021'!$G$3:$T$104,12,FALSE),0)","v":1},{"$f":"IFERROR(VLOOKUP($B159,'[1]Den 1 2021'!$G$3:$T$104,13,FALSE),0)","v":0},{"$f":"IFERROR(VLOOKUP($B159,'[1]Den 1'!$G$3:$O$93,2,FALSE),0)","v":0},{"$f":"IFERROR(VLOOKUP($B159,'[1]Den 1'!$G$3:$O$93,3,FALSE),0)","v":0},{"$f":"IFERROR(VLOOKUP($B159,'[1]Den 1'!$G$3:$O$93,4,FALSE),0)","v":0},{"$f":"IFERROR(VLOOKUP($B159,'[1]Den 1'!$G$3:$O$93,5,FALSE),0)","v":0},{"$f":"IFERROR(VLOOKUP($B159,'[1]Den 1'!$G$3:$O$93,6,FALSE),0)","v":0},{"$f":"IFERROR(VLOOKUP($B159,'[1]Den 1'!$G$3:$O$93,7,FALSE),0)","v":0},{"$f":"IFERROR(VLOOKUP($B159,'[1]Den 1'!$G$3:$O$93,8,FALSE),0)","v":0},null,null,1]
["04305-RIO HURTADO","105414-P.S.R. SERON",null,null,{"$f":"IFERROR(VLOOKUP($B160,'[1]Num 1 2021'!$G$3:$T$95,11,FALSE),0)","v":0},{"$f":"IFERROR(VLOOKUP($B160,'[1]Num 1 2021'!$G$3:$T$95,12,FALSE),0)","v":0},{"$f":"IFERROR(VLOOKUP($B160,'[1]Num 1 2021'!$G$3:$T$95,13,FALSE),0)","v":0},{"$f":"IFERROR(VLOOKUP($B160,'[1]Num 1'!$G$3:$O$88,2,FALSE),0)","v":0},{"$f":"IFERROR(VLOOKUP($B160,'[1]Num 1'!$G$3:$O$88,3,FALSE),0)","v":0},{"$f":"IFERROR(VLOOKUP($B160,'[1]Num 1'!$G$3:$O$88,4,FALSE),0)","v":0},{"$f":"IFERROR(VLOOKUP($B160,'[1]Num 1'!$G$3:$O$88,5,FALSE),0)","v":0},{"$f":"IFERROR(VLOOKUP($B160,'[1]Num 1'!$G$3:$O$88,6,FALSE),0)","v":0},{"$f":"IFERROR(VLOOKUP($B160,'[1]Num 1'!$G$3:$O$88,7,FALSE),0)","v":0},{"$f":"IFERROR(VLOOKUP($B160,'[1]Num 1'!$G$3:$O$88,8,FALSE),0)","v":0},null,null,0,{"$f":"IFERROR(VLOOKUP($B160,'[1]Den 1 2021'!$G$3:$T$104,11,FALSE),0)","v":0},{"$f":"IFERROR(VLOOKUP($B160,'[1]Den 1 2021'!$G$3:$T$104,12,FALSE),0)","v":0},{"$f":"IFERROR(VLOOKUP($B160,'[1]Den 1 2021'!$G$3:$T$104,13,FALSE),0)","v":0},{"$f":"IFERROR(VLOOKUP($B160,'[1]Den 1'!$G$3:$O$93,2,FALSE),0)","v":0},{"$f":"IFERROR(VLOOKUP($B160,'[1]Den 1'!$G$3:$O$93,3,FALSE),0)","v":0},{"$f":"IFERROR(VLOOKUP($B160,'[1]Den 1'!$G$3:$O$93,4,FALSE),0)","v":0},{"$f":"IFERROR(VLOOKUP($B160,'[1]Den 1'!$G$3:$O$93,5,FALSE),0)","v":0},{"$f":"IFERROR(VLOOKUP($B160,'[1]Den 1'!$G$3:$O$93,6,FALSE),0)","v":0},{"$f":"IFERROR(VLOOKUP($B160,'[1]Den 1'!$G$3:$O$93,7,FALSE),0)","v":0},{"$f":"IFERROR(VLOOKUP($B160,'[1]Den 1'!$G$3:$O$93,8,FALSE),0)","v":0},null,null,0]
["04305-RIO HURTADO","105503-P.S.R. TABAQUEROS",null,null,{"$f":"IFERROR(VLOOKUP($B161,'[1]Num 1 2021'!$G$3:$T$95,11,FALSE),0)","v":0},{"$f":"IFERROR(VLOOKUP($B161,'[1]Num 1 2021'!$G$3:$T$95,12,FALSE),0)","v":0},{"$f":"IFERROR(VLOOKUP($B161,'[1]Num 1 2021'!$G$3:$T$95,13,FALSE),0)","v":0},{"$f":"IFERROR(VLOOKUP($B161,'[1]Num 1'!$G$3:$O$88,2,FALSE),0)","v":0},{"$f":"IFERROR(VLOOKUP($B161,'[1]Num 1'!$G$3:$O$88,3,FALSE),0)","v":0},{"$f":"IFERROR(VLOOKUP($B161,'[1]Num 1'!$G$3:$O$88,4,FALSE),0)","v":0},{"$f":"IFERROR(VLOOKUP($B161,'[1]Num 1'!$G$3:$O$88,5,FALSE),0)","v":0},{"$f":"IFERROR(VLOOKUP($B161,'[1]Num 1'!$G$3:$O$88,6,FALSE),0)","v":0},{"$f":"IFERROR(VLOOKUP($B161,'[1]Num 1'!$G$3:$O$88,7,FALSE),0)","v":0},{"$f":"IFERROR(VLOOKUP($B161,'[1]Num 1'!$G$3:$O$88,8,FALSE),0)","v":0},null,null,{"$f":"SUM(E161:P161)","v":0},{"$f":"IFERROR(VLOOKUP($B161,'[1]Den 1 2021'!$G$3:$T$104,11,FALSE),0)","v":0},{"$f":"IFERROR(VLOOKUP($B161,'[1]Den 1 2021'!$G$3:$T$104,12,FALSE),0)","v":0},{"$f":"IFERROR(VLOOKUP($B161,'[1]Den 1 2021'!$G$3:$T$104,13,FALSE),0)","v":0},{"$f":"IFERROR(VLOOKUP($B161,'[1]Den 1'!$G$3:$O$93,2,FALSE),0)","v":0},{"$f":"IFERROR(VLOOKUP($B161,'[1]Den 1'!$G$3:$O$93,3,FALSE),0)","v":0},{"$f":"IFERROR(VLOOKUP($B161,'[1]Den 1'!$G$3:$O$93,4,FALSE),0)","v":0},{"$f":"IFERROR(VLOOKUP($B161,'[1]Den 1'!$G$3:$O$93,5,FALSE),0)","v":0},{"$f":"IFERROR(VLOOKUP($B161,'[1]Den 1'!$G$3:$O$93,6,FALSE),0)","v":0},{"$f":"IFERROR(VLOOKUP($B161,'[1]Den 1'!$G$3:$O$93,7,FALSE),0)","v":0},{"$f":"IFERROR(VLOOKUP($B161,'[1]Den 1'!$G$3:$O$93,8,FALSE),0)","v":0},null,null,0]
["TOTAL RIO HURTADO",null,{"$f":"D162/Metas!G18","v":{"v":0,"d":"0.00%"}},{"$f":"Q162/AD162","v":{"v":0,"d":"0.00%"}},{"$f":"SUM(E155:E161)","v":0},{"$f":"SUM(F155:F161)","v":0},{"$f":"SUM(G155:G161)","v":0},{"$f":"SUM(H155:H161)","v":0},{"$f":"SUM(I155:I161)","v":0},0,0,0,0,0,{"$f":"SUM(O155:O161)","v":0},{"$f":"SUM(P155:P161)","v":0},{"$f":"SUM(Q155:Q161)","v":0},0,1,0,0,0,0,0,0,0,0,{"$f":"SUM(AB155:AB161)","v":0},{"$f":"SUM(AC155:AC161)","v":0},1]

{"sheet":"Meta 02","index":2,"n_rows":162,"n_cols":12,"rows_kept":162,"merged":[[0,0,9,0],[0,1,9,1],[0,2,10,2],[0,3,9,3],[0,4,0,7],[1,4,8,5],[1,6,8,7],[9,4,9,5],[9,6,10,7],[25,0,25,1],[38,0,38,1],[43,0,43,1],[48,0,48,1],[59,0,59,1],[74,0,74,1],[85,0,85,1],[91,0,91,1],[102,0,102,1],[121,0,121,1],[134,0,134,1],[148,0,148,1],[153,0,153,1],[161,0,161,1]]}
["COMUNA","ESTABLECIMIENTO","CUMPLIMIENTO","Indicador","META 2 : DETECCIÓN PRECOZ DEL CÁNCER DE CUELLO UTERINO"]
[{"$nulls":4},"NUMERADOR",null,"DENOMINADOR"]
{"$rows_empty":7}
[{"$nulls":4},"Nº logrado de mujeres de 25 a 64 años inscritas validadas por FONASA con PAP vigente",null,"Nº de mujeres comprometidas con PAP vigente"]
[{"$nulls":3},"Resultado","A JUNIO","A DICBRE"]
["04101-LA SERENA","105300-CES. CARDENAL CARO",null,null,{"$f":"IFERROR(VLOOKUP($B12,'[1]Num 2'!$G$3:$I$74,2,FALSE),0)","v":{"v":2982,"d":"2,982"}}]
["04101-LA SERENA","105301-CES. LAS COMPAÑIAS",null,null,{"$f":"IFERROR(VLOOKUP($B13,'[1]Num 2'!$G$3:$I$74,2,FALSE),0)","v":{"v":1558,"d":"1,558"}}]
["04101-LA SERENA","105302-CES. PEDRO AGUIRRE C.",null,null,{"$f":"IFERROR(VLOOKUP($B14,'[1]Num 2'!$G$3:$I$74,2,FALSE),0)","v":{"v":2319,"d":"2,319"}}]
["04101-LA SERENA","105313-CES. SCHAFFHAUSER",null,null,{"$f":"IFERROR(VLOOKUP($B15,'[1]Num 2'!$G$3:$I$74,2,FALSE),0)","v":{"v":3085,"d":"3,085"}}]
["04101-LA SERENA","105319-CES. CARDENAL R.S.H.",null,null,{"$f":"IFERROR(VLOOKUP($B16,'[1]Num 2'!$G$3:$I$74,2,FALSE),0)","v":{"v":1621,"d":"1,621"}},{"$nulls":6}," "]
["04101-LA SERENA","105325-CESFAM JUAN PABLO II",null,null,{"$f":"IFERROR(VLOOKUP($B17,'[1]Num 2'!$G$3:$I$74,2,FALSE),0)","v":{"v":1879,"d":"1,879"}}]
["04101-LA SERENA","105400-P.S.R. ALGARROBITO            ",null,null,{"$f":"IFERROR(VLOOKUP($B18,'[1]Num 2'!$G$3:$I$74,2,FALSE),0)","v":730}]
["04101-LA SERENA","105401-P.S.R. LAS ROJAS",null,null,{"$f":"IFERROR(VLOOKUP($B19,'[1]Num 2'!$G$3:$I$74,2,FALSE),0)","v":0}]
["04101-LA SERENA","105402-P.S.R. EL ROMERO",null,null,{"$f":"IFERROR(VLOOKUP($B20,'[1]Num 2'!$G$3:$I$74,2,FALSE),0)","v":0}]
["04101-LA SERENA","105499-P.S.R. LAMBERT",null,null,{"$f":"IFERROR(VLOOKUP($B21,'[1]Num 2'!$G$3:$I$74,2,FALSE),0)","v":0}]
["04101-LA SERENA","105700-CECOF VILLA EL INDIO",null,null,{"$f":"IFERROR(VLOOKUP($B22,'[1]Num 2'!$G$3:$I$74,2,FALSE),0)","v":0}]
["04101-LA SERENA","105701-CECOF VILLA ALEMANIA",null,null,{"$f":"IFERROR(VLOOKUP($B23,'[1]Num 2'!$G$3:$I$74,2,FALSE),0)","v":293}]
["04101-LA SERENA","105702-CECOF VILLA LAMBERT",null,null,{"$f":"IFERROR(VLOOKUP($B24,'[1]Num 2'!$G$3:$I$74,2,FALSE),0)","v":342}]
["04101-LA SERENA","200402-CECOF ARCOS DE PINAMAR",null,null,{"$f":"IFERROR(VLOOKUP($B25,'[1]Num 2'!$G$3:$I$74,2,FALSE),0)","v":302}]
["TOTAL LA SERENA",null,{"$f":"D26/Metas!H5","v":{"v":1.712346618571533,"d":"171.23%"}},{"$f":"E26/H26","v":{"v":0.6609657947686117,"d":"66.10%"}},{"$f":"SUM(E12:E25)","v":{"v":15111,"d":"15,111"}},{"$f":"SUM(F12:F25)","v":0},null,{"v":22862,"d":"22,862"}]
["04102-COQUIMBO","105303-CES. SAN JUAN",null,null,{"$f":"IFERROR(VLOOKUP($B27,'[1]Num 2'!$G$3:$I$74,2,FALSE),0)","v":{"v":2665,"d":"2,665"}}]
["04102-COQUIMBO","105304-CES. SANTA CECILIA",null,null,{"$f":"IFERROR(VLOOKUP($B28,'[1]Num 2'!$G$3:$I$74,2,FALSE),0)","v":{"v":2722,"d":"2,722"}}]
["04102-COQUIMBO","105305-CES. TIERRAS BLANCAS",null,null,{"$f":"IFERROR(VLOOKUP($B29,'[1]Num 2'!$G$3:$I$74,2,FALSE),0)","v":{"v":4240,"d":"4,240"}}]
["04102-COQUIMBO","105321-CES. RURAL  TONGOY",null,null,{"$f":"IFERROR(VLOOKUP($B30,'[1]Num 2'!$G$3:$I$74,2,FALSE),0)","v":901}]
["04102-COQUIMBO","105323-CES. DR. SERGIO AGUILAR",null,null,{"$f":"IFERROR(VLOOKUP($B31,'[1]Num 2'!$G$3:$I$74,2,FALSE),0)","v":{"v":3811,"d":"3,811"}}]
["04102-COQUIMBO","105404-P.S.R. EL TANGUE                         ",null,null,{"$f":"IFERROR(VLOOKUP($B32,'[1]Num 2'!$G$3:$I$74,2,FALSE),0)","v":0}]
["04102-COQUIMBO","105405-P.S.R. GUANAQUEROS",null,null,{"$f":"IFERROR(VLOOKUP($B33,'[1]Num 2'!$G$3:$I$74,2,FALSE),0)","v":0}]
["04102-COQUIMBO","105407-P.S.R. TAMBILLOS",null,null,{"$f":"IFERROR(VLOOKUP($B34,'[1]Num 2'!$G$3:$I$74,2,FALSE),0)","v":0}]
["04102-COQUIMBO","200273-CECOF PUNTA MIRA",null,null,{"$f":"IFERROR(VLOOKUP($B35,'[1]Num 2'!$G$3:$I$74,2,FALSE),0)","v":449}]
["04102-COQUIMBO","200494-CESFAM EL SAUCE",null,null,{"$f":"IFERROR(VLOOKUP($B36,'[1]Num 2'!$G$3:$I$74,2,FALSE),0)","v":{"v":1593,"d":"1,593"}}]
["04102-COQUIMBO","200607-CESFAM LILA CORTES",null,null,{"$f":"IFERROR(VLOOKUP($B37,'[1]Num 2'!$G$3:$I$74,2,FALSE),0)","v":{"v":2366,"d":"2,366"}}]
["04102-COQUIMBO","200499-CESFAM PAN DE AZÚCAR",null,null,{"$f":"IFERROR(VLOOKUP($B38,'[1]Num 2'!$G$3:$I$74,2,FALSE),0)","v":{"v":1569,"d":"1,569"}}]
["TOTAL COQUIMBO",null,{"$f":"D39/Metas!H6","v":{"v":1.821240526922643,"d":"182.12%"}},{"$f":"E39/H39","v":{"v":0.821379477642112,"d":"82.14%"}},{"$f":"SUM(E27:E38)","v":{"v":20316,"d":"20,316"}},{"$f":"SUM(F27:F38)","v":0},null,{"v":24734,"d":"24,734"}]
["04104-LA HIGUERA","105314-CES. LA HIGUERA",null,null,{"$f":"IFERROR(VLOOKUP($B40,'[1]Num 2'!$G$3:$I$74,2,FALSE),0)","v":520}]
["04104-LA HIGUERA","105500-P.S.R. CALETA HORNOS        ",null,null,{"$f":"IFERROR(VLOOKUP($B41,'[1]Num 2'!$G$3:$I$74,2,FALSE),0)","v":0}]
["04104-LA HIGUERA","105505-P.S.R. LOS CHOROS",null,null,{"$f":"IFERROR(VLOOKUP($B42,'[1]Num 2'!$G$3:$I$74,2,FALSE),0)","v":0}]
["04104-LA HIGUERA","105506-P.S.R. EL TRAPICHE",null,null,{"$f":"IFERROR(VLOOKUP($B43,'[1]Num 2'!$G$3:$I$74,2,FALSE),0)","v":0}]
["TOTAL LA HIGUERA",null,{"$f":"D44/Metas!H7","v":{"v":2.051282051282051,"d":"205.13%"}},{"$f":"E44/H44","v":{"v":1.0256410256410255,"d":"102.56%"}},{"$f":"SUM(E40:E43)","v":520},{"$f":"SUM(F40:F43)","v":0},null,507]
["04105-PAIHUANO","105306-CES. PAIHUANO",null,null,{"$f":"IFERROR(VLOOKUP($B45,'[1]Num 2'!$G$3:$I$74,2,FALSE),0)","v":779}]
["04105-PAIHUANO","105475-P.S.R. HORCON",null,null,{"$f":"IFERROR(VLOOKUP($B46,'[1]Num 2'!$G$3:$I$74,2,FALSE),0)","v":0}]
["04105-PAIHUANO","105476-P.S.R. MONTE GRANDE",null,null,{"$f":"IFERROR(VLOOKUP($B47,'[1]Num 2'!$G$3:$I$74,2,FALSE),0)","v":0}]
["04105-PAIHUANO","105477-P.S.R. PISCO ELQUI",null,null,{"$f":"IFERROR(VLOOKUP($B48,'[1]Num 2'!$G$3:$I$74,2,FALSE),0)","v":0}]
["TOTAL PAIHUANO",null,{"$f":"D49/Metas!H8","v":{"v":1.5516259207176915,"d":"155.16%"}},{"$f":"E49/H49","v":{"v":1.020969855832241,"d":"102.10%"}},{"$f":"SUM(E45:E48)","v":779},{"$f":"SUM(F45:F48)","v":0},null,763]
["04106-VICUÑA","105467-P.S.R. DIAGUITAS",null,null,{"$f":"IFERROR(VLOOKUP($B50,'[1]Num 2'!$G$3:$I$74,2,FALSE),0)","v":{"v":2072,"d":"2,072"}}]
["04106-VICUÑA","105468-P.S.R. EL MOLLE",null,null,{"$f":"IFERROR(VLOOKUP($B51,'[1]Num 2'!$G$3:$I$74,2,FALSE),0)","v":0}]
["04106-VICUÑA","105469-P.S.R. EL TAMBO",null,null,{"$f":"IFERROR(VLOOKUP($B52,'[1]Num 2'!$G$3:$I$74,2,FALSE),0)","v":0}]
["04106-VICUÑA","105470-P.S.R. HUANTA",null,null,{"$f":"IFERROR(VLOOKUP($B53,'[1]Num 2'!$G$3:$I$74,2,FALSE),0)","v":0}]
["04106-VICUÑA","105471-P.S.R. PERALILLO",null,null,{"$f":"IFERROR(VLOOKUP($B54,'[1]Num 2'!$G$3:$I$74,2,FALSE),0)","v":0}]
["04106-VICUÑA","105472-P.S.R. RIVADAVIA",null,null,{"$f":"IFERROR(VLOOKUP($B55,'[1]Num 2'!$G$3:$I$74,2,FALSE),0)","v":0}]
["04106-VICUÑA","105473-P.S.R. TALCUNA",null,null,{"$f":"IFERROR(VLOOKUP($B56,'[1]Num 2'!$G$3:$I$74,2,FALSE),0)","v":0}]
["04106-VICUÑA","105474-P.S.R. CHAPILCA",null,null,{"$f":"IFERROR(VLOOKUP($B57,'[1]Num 2'!$G$3:$I$74,2,FALSE),0)","v":0}]
["04106-VICUÑA","105509-P.S.R. GUALLIGUAICA",null,null,{"$f":"IFERROR(VLOOKUP($B58,'[1]Num 2'!$G$3:$I$74,2,FALSE),0)","v":0}]
["04106-VICUÑA","200538-CESFAM SAN ISIDRO CALINGASTA",null,null,{"$f":"IFERROR(VLOOKUP($B59,'[1]Num 2'!$G$3:$I$74,2,FALSE),0)","v":0}]
["TOTAL VICUÑA",null,{"$f":"D60/Metas!H9","v":{"v":1.5827643682463244,"d":"158.28%"}},{"$f":"E60/H60","v":{"v":0.8768514600084638,"d":"87.69%"}},{"$f":"SUM(E50:E59)","v":{"v":2072,"d":"2,072"}},{"$f":"SUM(F50:F59)","v":0},null,{"v":2363,"d":"2,363"}]
["04201-ILLAPEL","105326-CESFAM SAN RAFAEL",null,null,{"$f":"IFERROR(VLOOKUP($B61,'[1]Num 2'!$G$3:$I$74,2,FALSE),0)","v":846}]
["04201-ILLAPEL","105443-P.S.R. CARCAMO                   ",null,null,{"$f":"IFERROR(VLOOKUP($B62,'[1]Num 2'!$G$3:$I$74,2,FALSE),0)","v":{"v":1257,"d":"1,257"}}]
["04201-ILLAPEL","105444-P.S.R. HUINTIL",null,null,{"$f":"IFERROR(VLOOKUP($B63,'[1]Num 2'!$G$3:$I$74,2,FALSE),0)","v":0}]
["04201-ILLAPEL","105445-P.S.R. LIMAHUIDA",null,null,{"$f":"IFERROR(VLOOKUP($B64,'[1]Num 2'!$G$3:$I$74,2,FALSE),0)","v":0}]
["04201-ILLAPEL","105446-P.S.R. MATANCILLA",null,null,{"$f":"IFERROR(VLOOKUP($B65,'[1]Num 2'!$G$3:$I$74,2,FALSE),0)","v":0}]
["04201-ILLAPEL","105447-P.S.R. PERALILLO",null,null,{"$f":"IFERROR(VLOOKUP($B66,'[1]Num 2'!$G$3:$I$74,2,FALSE),0)","v":0}]
["04201-ILLAPEL","105448-P.S.R. SANTA VIRGINIA",null,null,{"$f":"IFERROR(VLOOKUP($B67,'[1]Num 2'!$G$3:$I$74,2,FALSE),0)","v":0}]
["04201-ILLAPEL","105449-P.S.R. TUNGA NORTE",null,null,{"$f":"IFERROR(VLOOKUP($B68,'[1]Num 2'!$G$3:$I$74,2,FALSE),0)","v":0}]
["04201-ILLAPEL","105485-P.S.R. PLAN DE HORNOS",null,null,{"$f":"IFERROR(VLOOKUP($B69,'[1]Num 2'!$G$3:$I$74,2,FALSE),0)","v":0}]
["04201-ILLAPEL","105486-P.S.R. TUNGA SUR",null,null,{"$f":"IFERROR(VLOOKUP($B70,'[1]Num 2'!$G$3:$I$74,2,FALSE),0)","v":0}]
["04201-ILLAPEL","105487-P.S.R. CAÑAS UNO",null,null,{"$f":"IFERROR(VLOOKUP($B71,'[1]Num 2'!$G$3:$I$74,2,FALSE),0)","v":0}]
["04201-ILLAPEL","105496-P.S.R. PINTACURA SUR",null,null,{"$f":"IFERROR(VLOOKUP($B72,'[1]Num 2'!$G$3:$I$74,2,FALSE),0)","v":0}]
["04201-ILLAPEL","105504-P.S.R. SOCAVON",null,null,{"$f":"IFERROR(VLOOKUP($B73,'[1]Num 2'!$G$3:$I$74,2,FALSE),0)","v":0}]
["04201-ILLAPEL","200366-CESFAM URBANO II",null,null,{"$f":"IFERROR(VLOOKUP($B74,'[1]Num 2'!$G$3:$I$74,2,FALSE),0)","v":{"v":1600,"d":"1,600"}}]
["TOTAL ILLAPEL",null,{"$f":"D75/Metas!H10","v":{"v":1.8528896672504378,"d":"185.29%"}},{"$f":"E75/H75","v":{"v":0.9264448336252189,"d":"92.64%"}},{"$f":"SUM(E61:E74)","v":{"v":3703,"d":"3,703"}},{"$f":"SUM(F61:F74)","v":0},null,{"v":3997,"d":"3,997"}]
["04202-CANELA","105309-CES. RURAL CANELA",null,null,{"$f":"IFERROR(VLOOKUP($B76,'[1]Num 2'!$G$3:$I$74,2,FALSE),0)","v":{"v":1184,"d":"1,184"}}]
["04202-CANELA","105450-P.S.R. MINCHA NORTE            ",null,null,{"$f":"IFERROR(VLOOKUP($B77,'[1]Num 2'!$G$3:$I$74,2,FALSE),0)","v":0}]
["04202-CANELA","105451-P.S.R. AGUA FRIA",null,null,{"$f":"IFERROR(VLOOKUP($B78,'[1]Num 2'!$G$3:$I$74,2,FALSE),0)","v":0}]
["04202-CANELA","105482-P.S.R. CANELA ALTA",null,null,{"$f":"IFERROR(VLOOKUP($B79,'[1]Num 2'!$G$3:$I$74,2,FALSE),0)","v":0}]
["04202-CANELA","105483-P.S.R. LOS RULOS",null,null,{"$f":"IFERROR(VLOOKUP($B80,'[1]Num 2'!$G$3:$I$74,2,FALSE),0)","v":0}]
["04202-CANELA","105484-P.S.R. HUENTELAUQUEN",null,null,{"$f":"IFERROR(VLOOKUP($B81,'[1]Num 2'!$G$3:$I$74,2,FALSE),0)","v":0}]
["04202-CANELA","105488-P.S.R. ESPIRITU SANTO",null,null,{"$f":"IFERROR(VLOOKUP($B82,'[1]Num 2'!$G$3:$I$74,2,FALSE),0)","v":0}]
["04202-CANELA","105493-P.S.R. MINCHA SUR",null,null,{"$f":"IFERROR(VLOOKUP($B83,'[1]Num 2'!$G$3:$I$74,2,FALSE),0)","v":0}]
["04202-CANELA","105497-P.S.R. JABONERIA",null,null,{"$f":"IFERROR(VLOOKUP($B84,'[1]Num 2'!$G$3:$I$74,2,FALSE),0)","v":0}]
["04202-CANELA","105498-P.S.R. QUEBRADA DE LINARES",null,null,{"$f":"IFERROR(VLOOKUP($B85,'[1]Num 2'!$G$3:$I$74,2,FALSE),0)","v":0}]
["TOTAL CANELA",null,{"$f":"D86/Metas!H11","v":{"v":1.9624092551463521,"d":"196.24%"}},{"$f":"E86/H86","v":{"v":0.9517684887459807,"d":"95.18%"}},{"$f":"SUM(E76:E85)","v":{"v":1184,"d":"1,184"}},{"$f":"SUM(F76:F85)","v":0},null,{"v":1244,"d":"1,244"}]
["04203-LOS VILOS","105478-P.S.R. CAIMANES                   ",null,null,{"$f":"IFERROR(VLOOKUP($B87,'[1]Num 2'!$G$3:$I$74,2,FALSE),0)","v":821}]
["04203-LOS VILOS","105479-P.S.R. GUANGUALI",null,null,{"$f":"IFERROR(VLOOKUP($B88,'[1]Num 2'!$G$3:$I$74,2,FALSE),0)","v":0}]
["04203-LOS VILOS","105480-P.S.R. QUILIMARI",null,null,{"$f":"IFERROR(VLOOKUP($B89,'[1]Num 2'!$G$3:$I$74,2,FALSE),0)","v":0}]
["04203-LOS VILOS","105481-P.S.R. TILAMA",null,null,{"$f":"IFERROR(VLOOKUP($B90,'[1]Num 2'!$G$3:$I$74,2,FALSE),0)","v":0}]
["04203-LOS VILOS","105511-P.S.R. LOS CONDORES",null,null,{"$f":"IFERROR(VLOOKUP($B91,'[1]Num 2'!$G$3:$I$74,2,FALSE),0)","v":0}]
["TOTAL LOS VILOS",null,{"$f":"D92/Metas!H12","v":{"v":1.8566091668098887,"d":"185.66%"}},{"$f":"E92/H92","v":{"v":0.883745963401507,"d":"88.37%"}},{"$f":"SUM(E87:E91)","v":821},{"$f":"SUM(F87:F91)","v":0},null,929]
["04204-SALAMANCA","105452-P.S.R. CUNCUMEN                 ",null,null,{"$f":"IFERROR(VLOOKUP($B93,'[1]Num 2'!$G$3:$I$74,2,FALSE),0)","v":{"v":2343,"d":"2,343"}}]
["04204-SALAMANCA","105453-P.S.R. TRANQUILLA",null,null,{"$f":"IFERROR(VLOOKUP($B94,'[1]Num 2'!$G$3:$I$74,2,FALSE),0)","v":0}]
["04204-SALAMANCA","105454-P.S.R. CUNLAGUA",null,null,{"$f":"IFERROR(VLOOKUP($B95,'[1]Num 2'!$G$3:$I$74,2,FALSE),0)","v":0}]
["04204-SALAMANCA","105455-P.S.R. CHILLEPIN",null,null,{"$f":"IFERROR(VLOOKUP($B96,'[1]Num 2'!$G$3:$I$74,2,FALSE),0)","v":0}]
["04204-SALAMANCA","105456-P.S.R. LLIMPO",null,null,{"$f":"IFERROR(VLOOKUP($B97,'[1]Num 2'!$G$3:$I$74,2,FALSE),0)","v":0}]
["04204-SALAMANCA","105457-P.S.R. SAN AGUSTIN",null,null,{"$f":"IFERROR(VLOOKUP($B98,'[1]Num 2'!$G$3:$I$74,2,FALSE),0)","v":0}]
["04204-SALAMANCA","105458-P.S.R. TAHUINCO",null,null,{"$f":"IFERROR(VLOOKUP($B99,'[1]Num 2'!$G$3:$I$74,2,FALSE),0)","v":0}]
["04204-SALAMANCA","105491-P.S.R. QUELEN BAJO",null,null,{"$f":"IFERROR(VLOOKUP($B100,'[1]Num 2'!$G$3:$I$74,2,FALSE),0)","v":0}]
["04204-SALAMANCA","105492-P.S.R. CAMISA",null,null,{"$f":"IFERROR(VLOOKUP($B101,'[1]Num 2'!$G$3:$I$74,2,FALSE),0)","v":0}]
["04204-SALAMANCA","105501-P.S.R. ARBOLEDA GRANDE",null,null,{"$f":"IFERROR(VLOOKUP($B102,'[1]Num 2'!$G$3:$I$74,2,FALSE),0)","v":0}]
["TOTAL SALAMANCA",null,{"$f":"D103/Metas!H13","v":{"v":1.393020982712984,"d":"139.30%"}},{"$f":"E103/H103","v":{"v":0.9528263521756811,"d":"95.28%"}},{"$f":"SUM(E93:E102)","v":{"v":2343,"d":"2,343"}},{"$f":"SUM(F93:F102)","v":0},null,{"v":2459,"d":"2,459"}]
["04301-OVALLE","105315-CES. RURAL C. DE TAMAYA",null,null,{"$f":"IFERROR(VLOOKUP($B104,'[1]Num 2'!$G$3:$I$74,2,FALSE),0)","v":955}]
["04301-OVALLE","105317-CES. JORGE JORDAN D.",null,null,{"$f":"IFERROR(VLOOKUP($B105,'[1]Num 2'!$G$3:$I$74,2,FALSE),0)","v":{"v":2532,"d":"2,532"}}]
["04301-OVALLE","105322-CES. MARCOS MACUADA",null,null,{"$f":"IFERROR(VLOOKUP($B106,'[1]Num 2'!$G$3:$I$74,2,FALSE),0)","v":{"v":2318,"d":"2,318"}}]
["04301-OVALLE","105324-CES. SOTAQUI",null,null,{"$f":"IFERROR(VLOOKUP($B107,'[1]Num 2'!$G$3:$I$74,2,FALSE),0)","v":627}]
["04301-OVALLE","105415-P.S.R. BARRAZA",null,null,{"$f":"IFERROR(VLOOKUP($B108,'[1]Num 2'!$G$3:$I$74,2,FALSE),0)","v":734}]
["04301-OVALLE","105416-P.S.R. CAMARICO                  ",null,null,{"$f":"IFERROR(VLOOKUP($B109,'[1]Num 2'!$G$3:$I$74,2,FALSE),0)","v":0}]
["04301-OVALLE","105417-P.S.R. ALCONES BAJOS",null,null,{"$f":"IFERROR(VLOOKUP($B110,'[1]Num 2'!$G$3:$I$74,2,FALSE),0)","v":0}]
["04301-OVALLE","105419-P.S.R. LAS SOSSAS",null,null,{"$f":"IFERROR(VLOOKUP($B111,'[1]Num 2'!$G$3:$I$74,2,FALSE),0)","v":0}]
["04301-OVALLE","105422-P.S.R. HORNILLOS",null,null,{"$f":"IFERROR(VLOOKUP($B112,'[1]Num 2'!$G$3:$I$74,2,FALSE),0)","v":0}]
["04301-OVALLE","105437-P.S.R. CHALINGA",null,null,{"$f":"IFERROR(VLOOKUP($B113,'[1]Num 2'!$G$3:$I$74,2,FALSE),0)","v":0}]
["04301-OVALLE","105439-P.S.R. CERRO BLANCO",null,null,{"$f":"IFERROR(VLOOKUP($B114,'[1]Num 2'!$G$3:$I$74,2,FALSE),0)","v":0}]
["04301-OVALLE","105507-P.S.R. HUAMALATA",null,null,{"$f":"IFERROR(VLOOKUP($B115,'[1]Num 2'!$G$3:$I$74,2,FALSE),0)","v":0}]
["04301-OVALLE","105510-P.S.R. RECOLETA",null,null,{"$f":"IFERROR(VLOOKUP($B116,'[1]Num 2'!$G$3:$I$74,2,FALSE),0)","v":0}]
["04301-OVALLE","105722-CECOF SAN JOSE DE LA DEHESA",null,null,{"$f":"IFERROR(VLOOKUP($B117,'[1]Num 2'!$G$3:$I$74,2,FALSE),0)","v":501}]
["04301-OVALLE","105723-CECOF LIMARI",null,null,{"$f":"IFERROR(VLOOKUP($B118,'[1]Num 2'!$G$3:$I$74,2,FALSE),0)","v":134}]
["04301-OVALLE","200258-CECOF LOS COPIHUES",null,null,{"$f":"IFERROR(VLOOKUP($B119,'[1]Num 2'!$G$3:$I$74,2,FALSE),0)","v":331}]
["04301-OVALLE","200367-CECOF COLONIA LIMARÍ",null,null,{"$f":"IFERROR(VLOOKUP($B120,'[1]Num 2'!$G$3:$I$74,2,FALSE),0)","v":209}]
["04301-OVALLE","200569-CESFAM FRAY JORGE",null,null,{"$f":"IFERROR(VLOOKUP($B121,'[1]Num 2'!$G$3:$I$74,2,FALSE),0)","v":{"v":1469,"d":"1,469"}}]
["TOTAL OVALLE",null,{"$f":"D122/Metas!H14","v":{"v":1.6682839327421384,"d":"166.83%"}},{"$f":"E122/H122","v":{"v":0.735713214339283,"d":"73.57%"}},{"$f":"SUM(E104:E121)","v":{"v":9810,"d":"9,810"}},{"$f":"SUM(F104:F121)","v":0},null,{"v":13334,"d":"13,334"}]
["04302-COMBARBALÁ","105433-P.S.R. SAN LORENZO",null,null,{"$f":"IFERROR(VLOOKUP($B123,'[1]Num 2'!$G$3:$I$74,2,FALSE),0)","v":945}]
["04302-COMBARBALÁ","105434-P.S.R. SAN MARCOS",null,null,{"$f":"IFERROR(VLOOKUP($B124,'[1]Num 2'!$G$3:$I$74,2,FALSE),0)","v":0}]
["04302-COMBARBALÁ","105441-P.S.R. MANQUEHUA",null,null,{"$f":"IFERROR(VLOOKUP($B125,'[1]Num 2'!$G$3:$I$74,2,FALSE),0)","v":0}]
["04302-COMBARBALÁ","105459-P.S.R. BARRANCAS                ",null,null,{"$f":"IFERROR(VLOOKUP($B126,'[1]Num 2'!$G$3:$I$74,2,FALSE),0)","v":0}]
["04302-COMBARBALÁ","105460-P.S.R. COGOTI 18",null,null,{"$f":"IFERROR(VLOOKUP($B127,'[1]Num 2'!$G$3:$I$74,2,FALSE),0)","v":0}]
["04302-COMBARBALÁ","105461-P.S.R. EL HUACHO",null,null,{"$f":"IFERROR(VLOOKUP($B128,'[1]Num 2'!$G$3:$I$74,2,FALSE),0)","v":0}]
["04302-COMBARBALÁ","105462-P.S.R. EL SAUCE",null,null,{"$f":"IFERROR(VLOOKUP($B129,'[1]Num 2'!$G$3:$I$74,2,FALSE),0)","v":0}]
["04302-COMBARBALÁ","105463-P.S.R. QUILITAPIA",null,null,{"$f":"IFERROR(VLOOKUP($B130,'[1]Num 2'!$G$3:$I$74,2,FALSE),0)","v":0}]
["04302-COMBARBALÁ","105464-P.S.R. LA LIGUA",null,null,{"$f":"IFERROR(VLOOKUP($B131,'[1]Num 2'!$G$3:$I$74,2,FALSE),0)","v":0}]
["04302-COMBARBALÁ","105465-P.S.R. RAMADILLA",null,null,{"$f":"IFERROR(VLOOKUP($B132,'[1]Num 2'!$G$3:$I$74,2,FALSE),0)","v":0}]
["04302-COMBARBALÁ","105466-P.S.R. VALLE HERMOSO",null,null,{"$f":"IFERROR(VLOOKUP($B133,'[1]Num 2'!$G$3:$I$74,2,FALSE),0)","v":0}]
["04302-COMBARBALÁ","105490-P.S.R. EL DURAZNO",null,null,{"$f":"IFERROR(VLOOKUP($B134,'[1]Num 2'!$G$3:$I$74,2,FALSE),0)","v":0}]
["TOTAL COMBARBALÁ",null,{"$f":"D135/Metas!H15","v":{"v":1.5440369131025828,"d":"154.40%"}},{"$f":"E135/H135","v":{"v":0.9017175572519084,"d":"90.17%"}},{"$f":"SUM(E123:E134)","v":945},{"$f":"SUM(F123:F134)","v":0},null,{"v":1048,"d":"1,048"}]
["04304-MONTE PATRIA","105307-CES. RURAL MONTE PATRIA",null,null,{"$f":"IFERROR(VLOOKUP($B136,'[1]Num 2'!$G$3:$I$74,2,FALSE),0)","v":{"v":1313,"d":"1,313"}}]
["04304-MONTE PATRIA","105311-CES. RURAL CHAÑARAL ALTO",null,null,{"$f":"IFERROR(VLOOKUP($B137,'[1]Num 2'!$G$3:$I$74,2,FALSE),0)","v":752}]
["04304-MONTE PATRIA","105312-CES. RURAL CAREN",null,null,{"$f":"IFERROR(VLOOKUP($B138,'[1]Num 2'!$G$3:$I$74,2,FALSE),0)","v":785}]
["04304-MONTE PATRIA","105318-CES. RURAL EL PALQUI",null,null,{"$f":"IFERROR(VLOOKUP($B139,'[1]Num 2'!$G$3:$I$74,2,FALSE),0)","v":{"v":1162,"d":"1,162"}}]
["04304-MONTE PATRIA","105425-P.S.R. CHILECITO",null,null,{"$f":"IFERROR(VLOOKUP($B140,'[1]Num 2'!$G$3:$I$74,2,FALSE),0)","v":0}]
["04304-MONTE PATRIA","105427-P.S.R. HACIENDA VALDIVIA",null,null,{"$f":"IFERROR(VLOOKUP($B141,'[1]Num 2'!$G$3:$I$74,2,FALSE),0)","v":0}]
["04304-MONTE PATRIA","105428-P.S.R. HUATULAME",null,null,{"$f":"IFERROR(VLOOKUP($B142,'[1]Num 2'!$G$3:$I$74,2,FALSE),0)","v":0}]
["04304-MONTE PATRIA","105430-P.S.R. MIALQUI",null,null,{"$f":"IFERROR(VLOOKUP($B143,'[1]Num 2'!$G$3:$I$74,2,FALSE),0)","v":0}]
["04304-MONTE PATRIA","105431-P.S.R. PEDREGAL",null,null,{"$f":"IFERROR(VLOOKUP($B144,'[1]Num 2'!$G$3:$I$74,2,FALSE),0)","v":0}]
["04304-MONTE PATRIA","105432-P.S.R. RAPEL",null,null,{"$f":"IFERROR(VLOOKUP($B145,'[1]Num 2'!$G$3:$I$74,2,FALSE),0)","v":0}]
["04304-MONTE PATRIA","105435-P.S.R. TULAHUEN",null,null,{"$f":"IFERROR(VLOOKUP($B146,'[1]Num 2'!$G$3:$I$74,2,FALSE),0)","v":0}]
["04304-MONTE PATRIA","105436-P.S.R. EL MAITEN",null,null,{"$f":"IFERROR(VLOOKUP($B147,'[1]Num 2'!$G$3:$I$74,2,FALSE),0)","v":0}]
["04304-MONTE PATRIA","105489-P.S.R. RAMADAS DE TULAHUEN",null,null,{"$f":"IFERROR(VLOOKUP($B148,'[1]Num 2'!$G$3:$I$74,2,FALSE),0)","v":0}]
["TOTAL MONTE PATRIA",null,{"$f":"D149/Metas!H16","v":{"v":1.6731934556949883,"d":"167.32%"}},{"$f":"E149/H149","v":{"v":0.860021436227224,"d":"86.00%"}},{"$f":"SUM(E136:E148)","v":{"v":4012,"d":"4,012"}},{"$f":"SUM(F136:F148)","v":0},null,{"v":4665,"d":"4,665"}]
["04304-PUNITAQUI","105308-CES. RURAL PUNITAQUI",null,null,{"$f":"IFERROR(VLOOKUP($B150,'[1]Num 2'!$G$3:$I$74,2,FALSE),0)","v":{"v":1746,"d":"1,746"}}]
["04304-PUNITAQUI","105440-P.S.R. DIVISADERO",null,null,{"$f":"IFERROR(VLOOKUP($B151,'[1]Num 2'!$G$3:$I$74,2,FALSE),0)","v":0}]
["04304-PUNITAQUI","105442-P.S.R. SAN PEDRO DE QUILES",null,null,{"$f":"IFERROR(VLOOKUP($B152,'[1]Num 2'!$G$3:$I$74,2,FALSE),0)","v":0}]
["04304-PUNITAQUI","105508-P.S.R. EL PARRAL DE QUILES  ",null,null,{"$f":"IFERROR(VLOOKUP($B153,'[1]Num 2'!$G$3:$I$74,2,FALSE),0)","v":0}]
["TOTAL PUNITAQUI",null,{"$f":"D154/Metas!H17","v":{"v":1.353908188585608,"d":"135.39%"}},{"$f":"E154/H154","v":{"v":0.8394230769230769,"d":"83.94%"}},{"$f":"SUM(E150:E153)","v":{"v":1746,"d":"1,746"}},{"$f":"SUM(F150:F153)","v":0},null,{"v":2080,"d":"2,080"}]
["04305-RIO HURTADO","105310-CES. RURAL PICHASCA",null,null,{"$f":"IFERROR(VLOOKUP($B155,'[1]Num 2'!$G$3:$I$74,2,FALSE),0)","v":614}]
["04305-RIO HURTADO","105409-P.S.R. EL CHAÑAR",null,null,{"$f":"IFERROR(VLOOKUP($B156,'[1]Num 2'!$G$3:$I$74,2,FALSE),0)","v":0}]
["04305-RIO HURTADO","105410-P.S.R. HURTADO",null,null,{"$f":"IFERROR(VLOOKUP($B157,'[1]Num 2'!$G$3:$I$74,2,FALSE),0)","v":0}]
["04305-RIO HURTADO","105411-P.S.R. LAS BREAS",null,null,{"$f":"IFERROR(VLOOKUP($B158,'[1]Num 2'!$G$3:$I$74,2,FALSE),0)","v":0}]
["04305-RIO HURTADO","105413-P.S.R. SAMO ALTO",null,null,{"$f":"IFERROR(VLOOKUP($B159,'[1]Num 2'!$G$3:$I$74,2,FALSE),0)","v":0}]
["04305-RIO HURTADO","105414-P.S.R. SERON",null,null,{"$f":"IFERROR(VLOOKUP($B160,'[1]Num 2'!$G$3:$I$74,2,FALSE),0)","v":0}]
["04305-RIO HURTADO","105503-P.S.R. TABAQUEROS",null,null,{"$f":"IFERROR(VLOOKUP($B161,'[1]Num 2'!$G$3:$I$74,2,FALSE),0)","v":0}]
["TOTAL RIO HURTADO",null,{"$f":"D162/Metas!H18","v":{"v":1.4253215098193974,"d":"142.53%"}},{"$f":"E162/H162","v":{"v":0.8480662983425414,"d":"84.81%"}},{"$f":"SUM(E155:E161)","v":614},{"$f":"SUM(F155:F161)","v":0},null,724]

{"sheet":"Meta 3A","index":3,"n_rows":162,"n_cols":18,"rows_kept":162,"merged":[[0,0,9,0],[0,1,9,1],[0,2,10,2],[0,3,9,3],[0,4,0,18],[1,4,8,16],[1,17,8,18],[9,4,9,16],[9,17,10,18],[25,0,25,1],[25,17,25,18],[26,17,26,18],[27,17,27,18],[28,17,28,18],[29,17,29,18],[30,17,30,18],[31,17,31,18],[32,17,32,18],[33,17,33,18],[34,17,34,18],[35,17,35,18],[36,17,36,18],[37,17,37,18],[38,0,38,1],[38,17,38,18],[39,17,39,18],[40,17,40,18],[41,17,41,18],[42,17,42,18],[43,0,43,1],[43,17,43,18],[44,17,44,18],[45,17,45,18],[46,17,46,18],[47,17,47,18],[48,0,48,1],[48,17,48,18],[49,17,49,18],[50,17,50,18],[51,17,51,18],[52,17,52,18],[53,17,53,18],[54,17,54,18],[55,17,55,18],[56,17,56,18],[57,17,57,18],[59,0,59,1],[59,17,59,18],[60,17,60,18],[61,17,61,18],[62,17,62,18],[63,17,63,18],[64,17,64,18],[65,17,65,18],[66,17,66,18],[67,17,67,18],[68,17,68,18],[69,17,69,18],[70,17,70,18],[71,17,71,18],[72,17,72,18],[74,0,74,1],[74,17,74,18],[75,17,75,18],[76,17,76,18],[77,17,77,18],[78,17,78,18],[79,17,79,18],[80,17,80,18],[81,17,81,18],[82,17,82,18],[83,17,83,18],[84,17,84,18],[85,0,85,1],[85,17,85,18],[86,17,86,18],[87,17,87,18],[88,17,88,18],[89,17,89,18],[90,17,90,18],[91,0,91,1],[91,17,91,18],[92,17,92,18],[93,17,93,18],[94,17,94,18],[95,17,95,18],[96,17,96,18],[97,17,97,18],[98,17,98,18],[99,17,99,18],[100,17,100,18],[101,17,101,18],[102,0,102,1],[102,17,102,18],[103,17,103,18],[104,17,104,18],[105,17,105,18],[106,17,106,18],[107,17,107,18],[108,17,108,18],[109,17,109,18],[110,17,110,18],[111,17,111,18],[112,17,112,18],[113,17,113,18],[114,17,114,18],[115,17,115,18],[116,17,116,18],[117,17,117,18],[121,0,121,1],[121,17,121,18],[122,17,122,18],[123,17,123,18],[124,17,124,18],[125,17,125,18],[126,17,126,18],[127,17,127,18],[128,17,128,18],[129,17,129,18],[130,17,130,18],[131,17,131,18],[132,17,132,18],[133,17,133,18],[134,0,134,1],[134,17,134,18],[135,17,135,18],[136,17,136,18],[137,17,137,18],[138,17,138,18],[139,17,139,18],[140,17,140,18],[141,17,141,18],[142,17,142,18],[143,17,143,18],[144,17,144,18],[145,17,145,18],[146,17,146,18],[147,17,147,18],[148,0,148,1],[148,17,148,18],[149,17,149,18],[150,17,150,18],[151,17,151,18],[152,17,152,18],[153,0,153,1],[153,17,153,18],[154,17,154,18],[155,17,155,18],[156,17,156,18],[157,17,157,18],[158,17,158,18],[159,17,159,18],[160,17,160,18],[161,0,161,1],[161,17,161,18]]}
["COMUNA","ESTABLECIMIENTO","CUMPLIMIENTO","Indicador","META 3a: CONTROL ODONTOLOGICO EN POBLACION INFANTIL"]
[{"$nulls":4},"NUMERADOR",{"$nulls":12},"DENOMINADOR"]
{"$rows_empty":7}
[{"$nulls":4},"N° de niños(as) de 0 a 9 años con control odontológico",{"$nulls":12},"Total de niños(as) de 0 a 9 años inscritos validados "]
[{"$nulls":3},"Resultado","ENERO","FEBRERO","MARZO","ABRIL","MAYO","JUNIO","JULIO","AGOSTO","SEPBRE","OCTUBRE","NOVBRE","DICBRE","TOTAL"]
["04101-LA SERENA","105300-CES. CARDENAL CARO",null,null,{"$f":"IFERROR(VLOOKUP($B12,'[1]Num 3A'!$G$3:$O$138,2,FALSE),0)","v":40},{"$f":"IFERROR(VLOOKUP($B12,'[1]Num 3A'!$G$3:$O$138,3,FALSE),0)","v":23},{"$f":"IFERROR(VLOOKUP($B12,'[1]Num 3A'!$G$3:$O$138,4,FALSE),0)","v":55},{"$f":"IFERROR(VLOOKUP($B12,'[1]Num 3A'!$G$3:$O$138,5,FALSE),0)","v":67},{"$f":"IFERROR(VLOOKUP($B12,'[1]Num 3A'!$G$3:$O$138,6,FALSE),0)","v":89},{"$f":"IFERROR(VLOOKUP($B12,'[1]Num 3A'!$G$3:$O$138,7,FALSE),0)","v":51},{"$f":"IFERROR(VLOOKUP($B12,'[1]Num 3A'!$G$3:$O$138,8,FALSE),0)","v":87},{"$nulls":5},{"$f":"SUM(E12:P12)","v":412}]
["04101-LA SERENA","105301-CES. LAS COMPAÑIAS",null,null,{"$f":"IFERROR(VLOOKUP($B13,'[1]Num 3A'!$G$3:$O$138,2,FALSE),0)","v":27},{"$f":"IFERROR(VLOOKUP($B13,'[1]Num 3A'!$G$3:$O$138,3,FALSE),0)","v":69},{"$f":"IFERROR(VLOOKUP($B13,'[1]Num 3A'!$G$3:$O$138,4,FALSE),0)","v":122},{"$f":"IFERROR(VLOOKUP($B13,'[1]Num 3A'!$G$3:$O$138,5,FALSE),0)","v":118},{"$f":"IFERROR(VLOOKUP($B13,'[1]Num 3A'!$G$3:$O$138,6,FALSE),0)","v":118},{"$f":"IFERROR(VLOOKUP($B13,'[1]Num 3A'!$G$3:$O$138,7,FALSE),0)","v":95},{"$f":"IFERROR(VLOOKUP($B13,'[1]Num 3A'!$G$3:$O$138,8,FALSE),0)","v":46},{"$nulls":5},{"$f":"SUM(E13:P13)","v":595}]
["04101-LA SERENA","105302-CES. PEDRO AGUIRRE C.",null,null,{"$f":"IFERROR(VLOOKUP($B14,'[1]Num 3A'!$G$3:$O$138,2,FALSE),0)","v":61},{"$f":"IFERROR(VLOOKUP($B14,'[1]Num 3A'!$G$3:$O$138,3,FALSE),0)","v":38},{"$f":"IFERROR(VLOOKUP($B14,'[1]Num 3A'!$G$3:$O$138,4,FALSE),0)","v":36},{"$f":"IFERROR(VLOOKUP($B14,'[1]Num 3A'!$G$3:$O$138,5,FALSE),0)","v":54},{"$f":"IFERROR(VLOOKUP($B14,'[1]Num 3A'!$G$3:$O$138,6,FALSE),0)","v":105},{"$f":"IFERROR(VLOOKUP($B14,'[1]Num 3A'!$G$3:$O$138,7,FALSE),0)","v":72},{"$f":"IFERROR(VLOOKUP($B14,'[1]Num 3A'!$G$3:$O$138,8,FALSE),0)","v":88},{"$nulls":5},454]
["04101-LA SERENA","105313-CES. SCHAFFHAUSER",null,null,{"$f":"IFERROR(VLOOKUP($B15,'[1]Num 3A'!$G$3:$O$138,2,FALSE),0)","v":173},{"$f":"IFERROR(VLOOKUP($B15,'[1]Num 3A'!$G$3:$O$138,3,FALSE),0)","v":65},{"$f":"IFERROR(VLOOKUP($B15,'[1]Num 3A'!$G$3:$O$138,4,FALSE),0)","v":222},{"$f":"IFERROR(VLOOKUP($B15,'[1]Num 3A'!$G$3:$O$138,5,FALSE),0)","v":216},{"$f":"IFERROR(VLOOKUP($B15,'[1]Num 3A'!$G$3:$O$138,6,FALSE),0)","v":214},{"$f":"IFERROR(VLOOKUP($B15,'[1]Num 3A'!$G$3:$O$138,7,FALSE),0)","v":200},{"$f":"IFERROR(VLOOKUP($B15,'[1]Num 3A'!$G$3:$O$138,8,FALSE),0)","v":176},{"$nulls":5},{"v":1266,"d":"1,266"}]
["04101-LA SERENA","105319-CES. CARDENAL R.S.H.",null,null,{"$f":"IFERROR(VLOOKUP($B16,'[1]Num 3A'!$G$3:$O$138,2,FALSE),0)","v":89},{"$f":"IFERROR(VLOOKUP($B16,'[1]Num 3A'!$G$3:$O$138,3,FALSE),0)","v":97},{"$f":"IFERROR(VLOOKUP($B16,'[1]Num 3A'!$G$3:$O$138,4,FALSE),0)","v":84},{"$f":"IFERROR(VLOOKUP($B16,'[1]Num 3A'!$G$3:$O$138,5,FALSE),0)","v":197},{"$f":"IFERROR(VLOOKUP($B16,'[1]Num 3A'!$G$3:$O$138,6,FALSE),0)","v":199},{"$f":"IFERROR(VLOOKUP($B16,'[1]Num 3A'!$G$3:$O$138,7,FALSE),0)","v":97},{"$f":"IFERROR(VLOOKUP($B16,'[1]Num 3A'!$G$3:$O$138,8,FALSE),0)","v":84},{"$nulls":5},847]
["04101-LA SERENA","105325-CESFAM JUAN PABLO II",null,null,{"$f":"IFERROR(VLOOKUP($B17,'[1]Num 3A'!$G$3:$O$138,2,FALSE),0)","v":98},{"$f":"IFERROR(VLOOKUP($B17,'[1]Num 3A'!$G$3:$O$138,3,FALSE),0)","v":53},{"$f":"IFERROR(VLOOKUP($B17,'[1]Num 3A'!$G$3:$O$138,4,FALSE),0)","v":102},{"$f":"IFERROR(VLOOKUP($B17,'[1]Num 3A'!$G$3:$O$138,5,FALSE),0)","v":0},{"$f":"IFERROR(VLOOKUP($B17,'[1]Num 3A'!$G$3:$O$138,6,FALSE),0)","v":64},{"$f":"IFERROR(VLOOKUP($B17,'[1]Num 3A'!$G$3:$O$138,7,FALSE),0)","v":160},{"$f":"IFERROR(VLOOKUP($B17,'[1]Num 3A'!$G$3:$O$138,8,FALSE),0)","v":59},{"$nulls":5},536]
["04101-LA SERENA","105400-P.S.R. ALGARROBITO            ",null,null,{"$f":"IFERROR(VLOOKUP($B18,'[1]Num 3A'!$G$3:$O$138,2,FALSE),0)","v":0},{"$f":"IFERROR(VLOOKUP($B18,'[1]Num 3A'!$G$3:$O$138,3,FALSE),0)","v":1},{"$f":"IFERROR(VLOOKUP($B18,'[1]Num 3A'!$G$3:$O$138,4,FALSE),0)","v":0},{"$f":"IFERROR(VLOOKUP($B18,'[1]Num 3A'!$G$3:$O$138,5,FALSE),0)","v":0},{"$f":"IFERROR(VLOOKUP($B18,'[1]Num 3A'!$G$3:$O$138,6,FALSE),0)","v":0},{"$f":"IFERROR(VLOOKUP($B18,'[1]Num 3A'!$G$3:$O$138,7,FALSE),0)","v":0},{"$f":"IFERROR(VLOOKUP($B18,'[1]Num 3A'!$G$3:$O$138,8,FALSE),0)","v":0},{"$nulls":5},1]
["04101-LA SERENA","105401-P.S.R. LAS ROJAS",null,null,{"$f":"IFERROR(VLOOKUP($B19,'[1]Num 3A'!$G$3:$O$138,2,FALSE),0)","v":0},{"$f":"IFERROR(VLOOKUP($B19,'[1]Num 3A'!$G$3:$O$138,3,FALSE),0)","v":0},{"$f":"IFERROR(VLOOKUP($B19,'[1]Num 3A'!$G$3:$O$138,4,FALSE),0)","v":0},{"$f":"IFERROR(VLOOKUP($B19,'[1]Num 3A'!$G$3:$O$138,5,FALSE),0)","v":0},{"$f":"IFERROR(VLOOKUP($B19,'[1]Num 3A'!$G$3:$O$138,6,FALSE),0)","v":0},{"$f":"IFERROR(VLOOKUP($B19,'[1]Num 3A'!$G$3:$O$138,7,FALSE),0)","v":0},{"$f":"IFERROR(VLOOKUP($B19,'[1]Num 3A'!$G$3:$O$138,8,FALSE),0)","v":0},{"$nulls":5},0]
["04101-LA SERENA","105402-P.S.R. EL ROMERO",null,null,{"$f":"IFERROR(VLOOKUP($B20,'[1]Num 3A'!$G$3:$O$138,2,FALSE),0)","v":0},{"$f":"IFERROR(VLOOKUP($B20,'[1]Num 3A'!$G$3:$O$138,3,FALSE),0)","v":0},{"$f":"IFERROR(VLOOKUP($B20,'[1]Num 3A'!$G$3:$O$138,4,FALSE),0)","v":0},{"$f":"IFERROR(VLOOKUP($B20,'[1]Num 3A'!$G$3:$O$138,5,FALSE),0)","v":1},{"$f":"IFERROR(VLOOKUP($B20,'[1]Num 3A'!$G$3:$O$138,6,FALSE),0)","v":0},{"$f":"IFERROR(VLOOKUP($B20,'[1]Num 3A'!$G$3:$O$138,7,FALSE),0)","v":0},{"$f":"IFERROR(VLOOKUP($B20,'[1]Num 3A'!$G$3:$O$138,8,FALSE),0)","v":0},{"$nulls":5},1]
["04101-LA SERENA","105499-P.S.R. LAMBERT",null,null,{"$f":"IFERROR(VLOOKUP($B21,'[1]Num 3A'!$G$3:$O$138,2,FALSE),0)","v":0},{"$f":"IFERROR(VLOOKUP($B21,'[1]Num 3A'!$G$3:$O$138,3,FALSE),0)","v":0},{"$f":"IFERROR(VLOOKUP($B21,'[1]Num 3A'!$G$3:$O$138,4,FALSE),0)","v":0},{"$f":"IFERROR(VLOOKUP($B21,'[1]Num 3A'!$G$3:$O$138,5,FALSE),0)","v":0},{"$f":"IFERROR(VLOOKUP($B21,'[1]Num 3A'!$G$3:$O$138,6,FALSE),0)","v":0},{"$f":"IFERROR(VLOOKUP($B21,'[1]Num 3A'!$G$3:$O$138,7,FALSE),0)","v":0},{"$f":"IFERROR(VLOOKUP($B21,'[1]Num 3A'!$G$3:$O$138,8,FALSE),0)","v":0},{"$nulls":5},0]
["04101-LA SERENA","105700-CECOF VILLA EL INDIO",null,null,{"$f":"IFERROR(VLOOKUP($B22,'[1]Num 3A'!$G$3:$O$138,2,FALSE),0)","v":11},{"$f":"IFERROR(VLOOKUP($B22,'[1]Num 3A'!$G$3:$O$138,3,FALSE),0)","v":11},{"$f":"IFERROR(VLOOKUP($B22,'[1]Num 3A'!$G$3:$O$138,4,FALSE),0)","v":11},{"$f":"IFERROR(VLOOKUP($B22,'[1]Num 3A'!$G$3:$O$138,5,FALSE),0)","v":11},{"$f":"IFERROR(VLOOKUP($B22,'[1]Num 3A'!$G$3:$O$138,6,FALSE),0)","v":18},{"$f":"IFERROR(VLOOKUP($B22,'[1]Num 3A'!$G$3:$O$138,7,FALSE),0)","v":11},{"$f":"IFERROR(VLOOKUP($B22,'[1]Num 3A'!$G$3:$O$138,8,FALSE),0)","v":9},{"$nulls":5},{"$f":"SUM(E22:P22)","v":82}]
["04101-LA SERENA","105701-CECOF VILLA ALEMANIA",null,null,{"$f":"IFERROR(VLOOKUP($B23,'[1]Num 3A'!$G$3:$O$138,2,FALSE),0)","v":13},{"$f":"IFERROR(VLOOKUP($B23,'[1]Num 3A'!$G$3:$O$138,3,FALSE),0)","v":0},{"$f":"IFERROR(VLOOKUP($B23,'[1]Num 3A'!$G$3:$O$138,4,FALSE),0)","v":26},{"$f":"IFERROR(VLOOKUP($B23,'[1]Num 3A'!$G$3:$O$138,5,FALSE),0)","v":9},{"$f":"IFERROR(VLOOKUP($B23,'[1]Num 3A'!$G$3:$O$138,6,FALSE),0)","v":12},{"$f":"IFERROR(VLOOKUP($B23,'[1]Num 3A'!$G$3:$O$138,7,FALSE),0)","v":4},{"$f":"IFERROR(VLOOKUP($B23,'[1]Num 3A'!$G$3:$O$138,8,FALSE),0)","v":0},{"$nulls":5},64]
["04101-LA SERENA","105702-CECOF VILLA LAMBERT",null,null,{"$f":"IFERROR(VLOOKUP($B24,'[1]Num 3A'!$G$3:$O$138,2,FALSE),0)","v":20},{"$f":"IFERROR(VLOOKUP($B24,'[1]Num 3A'!$G$3:$O$138,3,FALSE),0)","v":19},{"$f":"IFERROR(VLOOKUP($B24,'[1]Num 3A'!$G$3:$O$138,4,FALSE),0)","v":23},{"$f":"IFERROR(VLOOKUP($B24,'[1]Num 3A'!$G$3:$O$138,5,FALSE),0)","v":22},{"$f":"IFERROR(VLOOKUP($B24,'[1]Num 3A'!$G$3:$O$138,6,FALSE),0)","v":7},{"$f":"IFERROR(VLOOKUP($B24,'[1]Num 3A'!$G$3:$O$138,7,FALSE),0)","v":12},{"$f":"IFERROR(VLOOKUP($B24,'[1]Num 3A'!$G$3:$O$138,8,FALSE),0)","v":14},{"$nulls":5},117]
["04101-LA SERENA","200402-CECOF ARCOS DE PINAMAR",null,null,{"$f":"IFERROR(VLOOKUP($B25,'[1]Num 3A'!$G$3:$O$138,2,FALSE),0)","v":17},{"$f":"IFERROR(VLOOKUP($B25,'[1]Num 3A'!$G$3:$O$138,3,FALSE),0)","v":21},{"$f":"IFERROR(VLOOKUP($B25,'[1]Num 3A'!$G$3:$O$138,4,FALSE),0)","v":21},{"$f":"IFERROR(VLOOKUP($B25,'[1]Num 3A'!$G$3:$O$138,5,FALSE),0)","v":15},{"$f":"IFERROR(VLOOKUP($B25,'[1]Num 3A'!$G$3:$O$138,6,FALSE),0)","v":75},{"$f":"IFERROR(VLOOKUP($B25,'[1]Num 3A'!$G$3:$O$138,7,FALSE),0)","v":23},{"$f":"IFERROR(VLOOKUP($B25,'[1]Num 3A'!$G$3:$O$138,8,FALSE),0)","v":21},{"$nulls":5},193]
["TOTAL LA SERENA",null,{"$f":"D26/Metas!I5","v":{"v":0.6551640061385771,"d":"65.52%"}},{"$f":"Q26/R26","v":{"v":0.1965492018415731,"d":"19.65%"}},{"$f":"SUM(E12:E25)","v":549},{"$f":"SUM(F12:F25)","v":397},702,710,901,725,584,0,0,0,0,{"$f":"SUM(P12:P25)","v":0},{"$f":"SUM(Q12:Q25)","v":{"v":4568,"d":"4,568"}},{"v":23241,"d":"23,241"}]
["04102-COQUIMBO","105303-CES. SAN JUAN",null,null,{"$f":"IFERROR(VLOOKUP($B27,'[1]Num 3A'!$G$3:$O$138,2,FALSE),0)","v":117},{"$f":"IFERROR(VLOOKUP($B27,'[1]Num 3A'!$G$3:$O$138,3,FALSE),0)","v":107},{"$f":"IFERROR(VLOOKUP($B27,'[1]Num 3A'!$G$3:$O$138,4,FALSE),0)","v":166},{"$f":"IFERROR(VLOOKUP($B27,'[1]Num 3A'!$G$3:$O$138,5,FALSE),0)","v":103},{"$f":"IFERROR(VLOOKUP($B27,'[1]Num 3A'!$G$3:$O$138,6,FALSE),0)","v":90},{"$f":"IFERROR(VLOOKUP($B27,'[1]Num 3A'!$G$3:$O$138,7,FALSE),0)","v":117},{"$f":"IFERROR(VLOOKUP($B27,'[1]Num 3A'!$G$3:$O$138,8,FALSE),0)","v":158},{"$nulls":5},{"$f":"SUM(E27:P27)","v":858}]
["04102-COQUIMBO","105304-CES. SANTA CECILIA",null,null,{"$f":"IFERROR(VLOOKUP($B28,'[1]Num 3A'!$G$3:$O$138,2,FALSE),0)","v":59},{"$f":"IFERROR(VLOOKUP($B28,'[1]Num 3A'!$G$3:$O$138,3,FALSE),0)","v":138},{"$f":"IFERROR(VLOOKUP($B28,'[1]Num 3A'!$G$3:$O$138,4,FALSE),0)","v":129},{"$f":"IFERROR(VLOOKUP($B28,'[1]Num 3A'!$G$3:$O$138,5,FALSE),0)","v":73},{"$f":"IFERROR(VLOOKUP($B28,'[1]Num 3A'!$G$3:$O$138,6,FALSE),0)","v":96},{"$f":"IFERROR(VLOOKUP($B28,'[1]Num 3A'!$G$3:$O$138,7,FALSE),0)","v":48},{"$f":"IFERROR(VLOOKUP($B28,'[1]Num 3A'!$G$3:$O$138,8,FALSE),0)","v":72},{"$nulls":5},615]
["04102-COQUIMBO","105305-CES. TIERRAS BLANCAS",null,null,{"$f":"IFERROR(VLOOKUP($B29,'[1]Num 3A'!$G$3:$O$138,2,FALSE),0)","v":75},{"$f":"IFERROR(VLOOKUP($B29,'[1]Num 3A'!$G$3:$O$138,3,FALSE),0)","v":141},{"$f":"IFERROR(VLOOKUP($B29,'[1]Num 3A'!$G$3:$O$138,4,FALSE),0)","v":134},{"$f":"IFERROR(VLOOKUP($B29,'[1]Num 3A'!$G$3:$O$138,5,FALSE),0)","v":136},{"$f":"IFERROR(VLOOKUP($B29,'[1]Num 3A'!$G$3:$O$138,6,FALSE),0)","v":124},{"$f":"IFERROR(VLOOKUP($B29,'[1]Num 3A'!$G$3:$O$138,7,FALSE),0)","v":108},{"$f":"IFERROR(VLOOKUP($B29,'[1]Num 3A'!$G$3:$O$138,8,FALSE),0)","v":74},{"$nulls":5},792]
["04102-COQUIMBO","105321-CES. RURAL  TONGOY",null,null,{"$f":"IFERROR(VLOOKUP($B30,'[1]Num 3A'!$G$3:$O$138,2,FALSE),0)","v":11},{"$f":"IFERROR(VLOOKUP($B30,'[1]Num 3A'!$G$3:$O$138,3,FALSE),0)","v":7},{"$f":"IFERROR(VLOOKUP($B30,'[1]Num 3A'!$G$3:$O$138,4,FALSE),0)","v":38},{"$f":"IFERROR(VLOOKUP($B30,'[1]Num 3A'!$G$3:$O$138,5,FALSE),0)","v":58},{"$f":"IFERROR(VLOOKUP($B30,'[1]Num 3A'!$G$3:$O$138,6,FALSE),0)","v":107},{"$f":"IFERROR(VLOOKUP($B30,'[1]Num 3A'!$G$3:$O$138,7,FALSE),0)","v":46},{"$f":"IFERROR(VLOOKUP($B30,'[1]Num 3A'!$G$3:$O$138,8,FALSE),0)","v":39},{"$nulls":5},306]
["04102-COQUIMBO","105323-CES. DR. SERGIO AGUILAR",null,null,{"$f":"IFERROR(VLOOKUP($B31,'[1]Num 3A'!$G$3:$O$138,2,FALSE),0)","v":118},{"$f":"IFERROR(VLOOKUP($B31,'[1]Num 3A'!$G$3:$O$138,3,FALSE),0)","v":91},{"$f":"IFERROR(VLOOKUP($B31,'[1]Num 3A'!$G$3:$O$138,4,FALSE),0)","v":129},{"$f":"IFERROR(VLOOKUP($B31,'[1]Num 3A'!$G$3:$O$138,5,FALSE),0)","v":138},{"$f":"IFERROR(VLOOKUP($B31,'[1]Num 3A'!$G$3:$O$138,6,FALSE),0)","v":0},{"$f":"IFERROR(VLOOKUP($B31,'[1]Num 3A'!$G$3:$O$138,7,FALSE),0)","v":118},{"$f":"IFERROR(VLOOKUP($B31,'[1]Num 3A'!$G$3:$O$138,8,FALSE),0)","v":100},{"$nulls":5},694]
["04102-COQUIMBO","105404-P.S.R. EL TANGUE                         ",null,null,{"$f":"IFERROR(VLOOKUP($B32,'[1]Num 3A'!$G$3:$O$138,2,FALSE),0)","v":0},{"$f":"IFERROR(VLOOKUP($B32,'[1]Num 3A'!$G$3:$O$138,3,FALSE),0)","v":0},{"$f":"IFERROR(VLOOKUP($B32,'[1]Num 3A'!$G$3:$O$138,4,FALSE),0)","v":0},{"$f":"IFERROR(VLOOKUP($B32,'[1]Num 3A'!$G$3:$O$138,5,FALSE),0)","v":0},{"$f":"IFERROR(VLOOKUP($B32,'[1]Num 3A'!$G$3:$O$138,6,FALSE),0)","v":0},{"$f":"IFERROR(VLOOKUP($B32,'[1]Num 3A'!$G$3:$O$138,7,FALSE),0)","v":0},{"$f":"IFERROR(VLOOKUP($B32,'[1]Num 3A'!$G$3:$O$138,8,FALSE),0)","v":0},{"$nulls":5},0]
["04102-COQUIMBO","105405-P.S.R. GUANAQUEROS",null,null,{"$f":"IFERROR(VLOOKUP($B33,'[1]Num 3A'!$G$3:$O$138,2,FALSE),0)","v":0},{"$f":"IFERROR(VLOOKUP($B33,'[1]Num 3A'!$G$3:$O$138,3,FALSE),0)","v":2},{"$f":"IFERROR(VLOOKUP($B33,'[1]Num 3A'!$G$3:$O$138,4,FALSE),0)","v":0},{"$f":"IFERROR(VLOOKUP($B33,'[1]Num 3A'!$G$3:$O$138,5,FALSE),0)","v":19},{"$f":"IFERROR(VLOOKUP($B33,'[1]Num 3A'!$G$3:$O$138,6,FALSE),0)","v":10},{"$f":"IFERROR(VLOOKUP($B33,'[1]Num 3A'!$G$3:$O$138,7,FALSE),0)","v":46},{"$f":"IFERROR(VLOOKUP($B33,'[1]Num 3A'!$G$3:$O$138,8,FALSE),0)","v":0},{"$nulls":5},77]
["04102-COQUIMBO","105407-P.S.R. TAMBILLOS",null,null,{"$f":"IFERROR(VLOOKUP($B34,'[1]Num 3A'!$G$3:$O$138,2,FALSE),0)","v":0},{"$f":"IFERROR(VLOOKUP($B34,'[1]Num 3A'!$G$3:$O$138,3,FALSE),0)","v":0},{"$f":"IFERROR(VLOOKUP($B34,'[1]Num 3A'!$G$3:$O$138,4,FALSE),0)","v":0},{"$f":"IFERROR(VLOOKUP($B34,'[1]Num 3A'!$G$3:$O$138,5,FALSE),0)","v":0},{"$f":"IFERROR(VLOOKUP($B34,'[1]Num 3A'!$G$3:$O$138,6,FALSE),0)","v":0},{"$f":"IFERROR(VLOOKUP($B34,'[1]Num 3A'!$G$3:$O$138,7,FALSE),0)","v":0},{"$f":"IFERROR(VLOOKUP($B34,'[1]Num 3A'!$G$3:$O$138,8,FALSE),0)","v":0},{"$nulls":5},0]
["04102-COQUIMBO","200273-CECOF PUNTA MIRA",null,null,{"$f":"IFERROR(VLOOKUP($B35,'[1]Num 3A'!$G$3:$O$138,2,FALSE),0)","v":10},{"$f":"IFERROR(VLOOKUP($B35,'[1]Num 3A'!$G$3:$O$138,3,FALSE),0)","v":0},{"$f":"IFERROR(VLOOKUP($B35,'[1]Num 3A'!$G$3:$O$138,4,FALSE),0)","v":12},{"$f":"IFERROR(VLOOKUP($B35,'[1]Num 3A'!$G$3:$O$138,5,FALSE),0)","v":14},{"$f":"IFERROR(VLOOKUP($B35,'[1]Num 3A'!$G$3:$O$138,6,FALSE),0)","v":8},{"$f":"IFERROR(VLOOKUP($B35,'[1]Num 3A'!$G$3:$O$138,7,FALSE),0)","v":5},{"$f":"IFERROR(VLOOKUP($B35,'[1]Num 3A'!$G$3:$O$138,8,FALSE),0)","v":7},{"$nulls":5},56]
["04102-COQUIMBO","200494-CESFAM EL SAUCE",null,null,{"$f":"IFERROR(VLOOKUP($B36,'[1]Num 3A'!$G$3:$O$138,2,FALSE),0)","v":44},{"$f":"IFERROR(VLOOKUP($B36,'[1]Num 3A'!$G$3:$O$138,3,FALSE),0)","v":22},{"$f":"IFERROR(VLOOKUP($B36,'[1]Num 3A'!$G$3:$O$138,4,FALSE),0)","v":62},{"$f":"IFERROR(VLOOKUP($B36,'[1]Num 3A'!$G$3:$O$138,5,FALSE),0)","v":60},{"$f":"IFERROR(VLOOKUP($B36,'[1]Num 3A'!$G$3:$O$138,6,FALSE),0)","v":80},{"$f":"IFERROR(VLOOKUP($B36,'[1]Num 3A'!$G$3:$O$138,7,FALSE),0)","v":52},{"$f":"IFERROR(VLOOKUP($B36,'[1]Num 3A'!$G$3:$O$138,8,FALSE),0)","v":57},{"$nulls":5},{"$f":"SUM(E36:P36)","v":377}]
["04102-COQUIMBO","200499-CESFAM PAN DE AZÚCAR",null,null,{"$f":"IFERROR(VLOOKUP($B37,'[1]Num 3A'!$G$3:$O$138,2,FALSE),0)","v":91},{"$f":"IFERROR(VLOOKUP($B37,'[1]Num 3A'!$G$3:$O$138,3,FALSE),0)","v":67},{"$f":"IFERROR(VLOOKUP($B37,'[1]Num 3A'!$G$3:$O$138,4,FALSE),0)","v":52},{"$f":"IFERROR(VLOOKUP($B37,'[1]Num 3A'!$G$3:$O$138,5,FALSE),0)","v":133},{"$f":"IFERROR(VLOOKUP($B37,'[1]Num 3A'!$G$3:$O$138,6,FALSE),0)","v":104},{"$f":"IFERROR(VLOOKUP($B37,'[1]Num 3A'!$G$3:$O$138,7,FALSE),0)","v":29},{"$f":"IFERROR(VLOOKUP($B37,'[1]Num 3A'!$G$3:$O$138,8,FALSE),0)","v":34},{"$nulls":5},{"$f":"SUM(E37:P37)","v":510}]
["04102-COQUIMBO","200607-CESFAM LILA CORTES",null,null,{"$f":"IFERROR(VLOOKUP($B38,'[1]Num 3A'!$G$3:$O$138,2,FALSE),0)","v":59},{"$f":"IFERROR(VLOOKUP($B38,'[1]Num 3A'!$G$3:$O$138,3,FALSE),0)","v":32},{"$f":"IFERROR(VLOOKUP($B38,'[1]Num 3A'!$G$3:$O$138,4,FALSE),0)","v":50},{"$f":"IFERROR(VLOOKUP($B38,'[1]Num 3A'!$G$3:$O$138,5,FALSE),0)","v":53},{"$f":"IFERROR(VLOOKUP($B38,'[1]Num 3A'!$G$3:$O$138,6,FALSE),0)","v":83},{"$f":"IFERROR(VLOOKUP($B38,'[1]Num 3A'!$G$3:$O$138,7,FALSE),0)","v":100},{"$f":"IFERROR(VLOOKUP($B38,'[1]Num 3A'!$G$3:$O$138,8,FALSE),0)","v":59},{"$nulls":5},{"$f":"SUM(E38:P38)","v":436}]
["TOTAL COQUIMBO",null,{"$f":"D39/Metas!I6","v":{"v":0.7461483509188956,"d":"74.61%"}},{"$f":"Q39/R39","v":{"v":0.2089215382572908,"d":"20.89%"}},{"$f":"SUM(E27:E38)","v":584},607,772,787,702,669,600,0,0,0,0,0,4721,{"v":22597,"d":"22,597"}]
["04104-LA HIGUERA","105314-CES. LA HIGUERA",null,null,{"$f":"IFERROR(VLOOKUP($B40,'[1]Num 3A'!$G$3:$O$138,2,FALSE),0)","v":10},{"$f":"IFERROR(VLOOKUP($B40,'[1]Num 3A'!$G$3:$O$138,3,FALSE),0)","v":8},{"$f":"IFERROR(VLOOKUP($B40,'[1]Num 3A'!$G$3:$O$138,4,FALSE),0)","v":7},{"$f":"IFERROR(VLOOKUP($B40,'[1]Num 3A'!$G$3:$O$138,5,FALSE),0)","v":24},{"$f":"IFERROR(VLOOKUP($B40,'[1]Num 3A'!$G$3:$O$138,6,FALSE),0)","v":6},{"$f":"IFERROR(VLOOKUP($B40,'[1]Num 3A'!$G$3:$O$138,7,FALSE),0)","v":4},{"$f":"IFERROR(VLOOKUP($B40,'[1]Num 3A'!$G$3:$O$138,8,FALSE),0)","v":5},{"$nulls":5},64]
["04104-LA HIGUERA","105500-P.S.R. CALETA HORNOS        ",null,null,{"$f":"IFERROR(VLOOKUP($B41,'[1]Num 3A'!$G$3:$O$138,2,FALSE),0)","v":7},{"$f":"IFERROR(VLOOKUP($B41,'[1]Num 3A'!$G$3:$O$138,3,FALSE),0)","v":8},{"$f":"IFERROR(VLOOKUP($B41,'[1]Num 3A'!$G$3:$O$138,4,FALSE),0)","v":10},{"$f":"IFERROR(VLOOKUP($B41,'[1]Num 3A'!$G$3:$O$138,5,FALSE),0)","v":8},{"$f":"IFERROR(VLOOKUP($B41,'[1]Num 3A'!$G$3:$O$138,6,FALSE),0)","v":4},{"$f":"IFERROR(VLOOKUP($B41,'[1]Num 3A'!$G$3:$O$138,7,FALSE),0)","v":7},{"$f":"IFERROR(VLOOKUP($B41,'[1]Num 3A'!$G$3:$O$138,8,FALSE),0)","v":2},{"$nulls":5},46]
["04104-LA HIGUERA","105505-P.S.R. LOS CHOROS",null,null,{"$f":"IFERROR(VLOOKUP($B42,'[1]Num 3A'!$G$3:$O$138,2,FALSE),0)","v":1},{"$f":"IFERROR(VLOOKUP($B42,'[1]Num 3A'!$G$3:$O$138,3,FALSE),0)","v":4},{"$f":"IFERROR(VLOOKUP($B42,'[1]Num 3A'!$G$3:$O$138,4,FALSE),0)","v":0},{"$f":"IFERROR(VLOOKUP($B42,'[1]Num 3A'!$G$3:$O$138,5,FALSE),0)","v":14},{"$f":"IFERROR(VLOOKUP($B42,'[1]Num 3A'!$G$3:$O$138,6,FALSE),0)","v":7},{"$f":"IFERROR(VLOOKUP($B42,'[1]Num 3A'!$G$3:$O$138,7,FALSE),0)","v":2},{"$f":"IFERROR(VLOOKUP($B42,'[1]Num 3A'!$G$3:$O$138,8,FALSE),0)","v":5},{"$nulls":5},33]
["04104-LA HIGUERA","105506-P.S.R. EL TRAPICHE",null,null,{"$f":"IFERROR(VLOOKUP($B43,'[1]Num 3A'!$G$3:$O$138,2,FALSE),0)","v":0},{"$f":"IFERROR(VLOOKUP($B43,'[1]Num 3A'!$G$3:$O$138,3,FALSE),0)","v":1},{"$f":"IFERROR(VLOOKUP($B43,'[1]Num 3A'!$G$3:$O$138,4,FALSE),0)","v":10},{"$f":"IFERROR(VLOOKUP($B43,'[1]Num 3A'!$G$3:$O$138,5,FALSE),0)","v":2},{"$f":"IFERROR(VLOOKUP($B43,'[1]Num 3A'!$G$3:$O$138,6,FALSE),0)","v":3},{"$f":"IFERROR(VLOOKUP($B43,'[1]Num 3A'!$G$3:$O$138,7,FALSE),0)","v":0},{"$f":"IFERROR(VLOOKUP($B43,'[1]Num 3A'!$G$3:$O$138,8,FALSE),0)","v":2},{"$nulls":5},18]
["TOTAL LA HIGUERA",null,{"$f":"D44/Metas!I7","v":{"v":0.4777494853807173,"d":"47.77%"}},{"$f":"Q44/R44","v":{"v":0.27427597955706984,"d":"27.43%"}},{"$f":"SUM(E40:E43)","v":18},21,27,48,20,13,14,0,0,0,{"$f":"SUM(O40:O43)","v":0},{"$f":"SUM(P40:P43)","v":0},161,587]
["04105-PAIHUANO","105306-CES. PAIHUANO",null,null,{"$f":"IFERROR(VLOOKUP($B45,'[1]Num 3A'!$G$3:$O$138,2,FALSE),0)","v":15},{"$f":"IFERROR(VLOOKUP($B45,'[1]Num 3A'!$G$3:$O$138,3,FALSE),0)","v":18},{"$f":"IFERROR(VLOOKUP($B45,'[1]Num 3A'!$G$3:$O$138,4,FALSE),0)","v":22},{"$f":"IFERROR(VLOOKUP($B45,'[1]Num 3A'!$G$3:$O$138,5,FALSE),0)","v":21},{"$f":"IFERROR(VLOOKUP($B45,'[1]Num 3A'!$G$3:$O$138,6,FALSE),0)","v":73},{"$f":"IFERROR(VLOOKUP($B45,'[1]Num 3A'!$G$3:$O$138,7,FALSE),0)","v":13},{"$f":"IFERROR(VLOOKUP($B45,'[1]Num 3A'!$G$3:$O$138,8,FALSE),0)","v":11},{"$nulls":5},173]
["04105-PAIHUANO","105475-P.S.R. HORCON",null,null,{"$f":"IFERROR(VLOOKUP($B46,'[1]Num 3A'!$G$3:$O$138,2,FALSE),0)","v":4},{"$f":"IFERROR(VLOOKUP($B46,'[1]Num 3A'!$G$3:$O$138,3,FALSE),0)","v":5},{"$f":"IFERROR(VLOOKUP($B46,'[1]Num 3A'!$G$3:$O$138,4,FALSE),0)","v":9},{"$f":"IFERROR(VLOOKUP($B46,'[1]Num 3A'!$G$3:$O$138,5,FALSE),0)","v":14},{"$f":"IFERROR(VLOOKUP($B46,'[1]Num 3A'!$G$3:$O$138,6,FALSE),0)","v":21},{"$f":"IFERROR(VLOOKUP($B46,'[1]Num 3A'!$G$3:$O$138,7,FALSE),0)","v":5},{"$f":"IFERROR(VLOOKUP($B46,'[1]Num 3A'!$G$3:$O$138,8,FALSE),0)","v":0},{"$nulls":5},58]
["04105-PAIHUANO","105476-P.S.R. MONTE GRANDE",null,null,{"$f":"IFERROR(VLOOKUP($B47,'[1]Num 3A'!$G$3:$O$138,2,FALSE),0)","v":2},{"$f":"IFERROR(VLOOKUP($B47,'[1]Num 3A'!$G$3:$O$138,3,FALSE),0)","v":0},{"$f":"IFERROR(VLOOKUP($B47,'[1]Num 3A'!$G$3:$O$138,4,FALSE),0)","v":7},{"$f":"IFERROR(VLOOKUP($B47,'[1]Num 3A'!$G$3:$O$138,5,FALSE),0)","v":6},{"$f":"IFERROR(VLOOKUP($B47,'[1]Num 3A'!$G$3:$O$138,6,FALSE),0)","v":1},{"$f":"IFERROR(VLOOKUP($B47,'[1]Num 3A'!$G$3:$O$138,7,FALSE),0)","v":6},{"$f":"IFERROR(VLOOKUP($B47,'[1]Num 3A'!$G$3:$O$138,8,FALSE),0)","v":0},{"$nulls":5},22]
["04105-PAIHUANO","105477-P.S.R. PISCO ELQUI",null,null,{"$f":"IFERROR(VLOOKUP($B48,'[1]Num 3A'!$G$3:$O$138,2,FALSE),0)","v":2},{"$f":"IFERROR(VLOOKUP($B48,'[1]Num 3A'!$G$3:$O$138,3,FALSE),0)","v":1},{"$f":"IFERROR(VLOOKUP($B48,'[1]Num 3A'!$G$3:$O$138,4,FALSE),0)","v":13},{"$f":"IFERROR(VLOOKUP($B48,'[1]Num 3A'!$G$3:$O$138,5,FALSE),0)","v":1},{"$f":"IFERROR(VLOOKUP($B48,'[1]Num 3A'!$G$3:$O$138,6,FALSE),0)","v":3},{"$f":"IFERROR(VLOOKUP($B48,'[1]Num 3A'!$G$3:$O$138,7,FALSE),0)","v":2},{"$f":"IFERROR(VLOOKUP($B48,'[1]Num 3A'!$G$3:$O$138,8,FALSE),0)","v":1},{"$nulls":5},23]
["TOTAL PAIHUANO",null,{"$f":"D49/Metas!I8","v":{"v":1.4680929153878477,"d":"146.81%"}},{"$f":"Q49/R49","v":{"v":1.2897196261682242,"d":"128.97%"}},{"$f":"SUM(E45:E48)","v":23},{"$f":"SUM(F45:F48)","v":24},{"$f":"SUM(G45:G48)","v":51},{"$f":"SUM(H45:H48)","v":42},{"$f":"SUM(I45:I48)","v":98},26,12,0,0,0,{"$f":"SUM(O45:O48)","v":0},{"$f":"SUM(P45:P48)","v":0},{"$f":"SUM(Q45:Q48)","v":276},214]
["04106-VICUÑA","105467-P.S.R. DIAGUITAS",null,null,{"$f":"IFERROR(VLOOKUP($B50,'[1]Num 3A'!$G$3:$O$138,2,FALSE),0)","v":0},{"$f":"IFERROR(VLOOKUP($B50,'[1]Num 3A'!$G$3:$O$138,3,FALSE),0)","v":0},{"$f":"IFERROR(VLOOKUP($B50,'[1]Num 3A'!$G$3:$O$138,4,FALSE),0)","v":0},{"$f":"IFERROR(VLOOKUP($B50,'[1]Num 3A'!$G$3:$O$138,5,FALSE),0)","v":7},{"$f":"IFERROR(VLOOKUP($B50,'[1]Num 3A'!$G$3:$O$138,6,FALSE),0)","v":2},{"$f":"IFERROR(VLOOKUP($B50,'[1]Num 3A'!$G$3:$O$138,7,FALSE),0)","v":2},{"$f":"IFERROR(VLOOKUP($B50,'[1]Num 3A'!$G$3:$O$138,8,FALSE),0)","v":6},{"$nulls":5},17]
["04106-VICUÑA","105468-P.S.R. EL MOLLE",null,null,{"$f":"IFERROR(VLOOKUP($B51,'[1]Num 3A'!$G$3:$O$138,2,FALSE),0)","v":0},{"$f":"IFERROR(VLOOKUP($B51,'[1]Num 3A'!$G$3:$O$138,3,FALSE),0)","v":0},{"$f":"IFERROR(VLOOKUP($B51,'[1]Num 3A'!$G$3:$O$138,4,FALSE),0)","v":0},{"$f":"IFERROR(VLOOKUP($B51,'[1]Num 3A'!$G$3:$O$138,5,FALSE),0)","v":4},{"$f":"IFERROR(VLOOKUP($B51,'[1]Num 3A'!$G$3:$O$138,6,FALSE),0)","v":6},{"$f":"IFERROR(VLOOKUP($B51,'[1]Num 3A'!$G$3:$O$138,7,FALSE),0)","v":5},{"$f":"IFERROR(VLOOKUP($B51,'[1]Num 3A'!$G$3:$O$138,8,FALSE),0)","v":7},{"$nulls":5},22]
["04106-VICUÑA","105469-P.S.R. EL TAMBO",null,null,{"$f":"IFERROR(VLOOKUP($B52,'[1]Num 3A'!$G$3:$O$138,2,FALSE),0)","v":21},{"$f":"IFERROR(VLOOKUP($B52,'[1]Num 3A'!$G$3:$O$138,3,FALSE),0)","v":31},{"$f":"IFERROR(VLOOKUP($B52,'[1]Num 3A'!$G$3:$O$138,4,FALSE),0)","v":30},{"$f":"IFERROR(VLOOKUP($B52,'[1]Num 3A'!$G$3:$O$138,5,FALSE),0)","v":10},{"$f":"IFERROR(VLOOKUP($B52,'[1]Num 3A'!$G$3:$O$138,6,FALSE),0)","v":10},{"$f":"IFERROR(VLOOKUP($B52,'[1]Num 3A'!$G$3:$O$138,7,FALSE),0)","v":11},{"$f":"IFERROR(VLOOKUP($B52,'[1]Num 3A'!$G$3:$O$138,8,FALSE),0)","v":9},{"$nulls":5},122]
["04106-VICUÑA","105470-P.S.R. HUANTA",null,null,{"$f":"IFERROR(VLOOKUP($B53,'[1]Num 3A'!$G$3:$O$138,2,FALSE),0)","v":0},{"$f":"IFERROR(VLOOKUP($B53,'[1]Num 3A'!$G$3:$O$138,3,FALSE),0)","v":0},{"$f":"IFERROR(VLOOKUP($B53,'[1]Num 3A'!$G$3:$O$138,4,FALSE),0)","v":0},{"$f":"IFERROR(VLOOKUP($B53,'[1]Num 3A'!$G$3:$O$138,5,FALSE),0)","v":0},{"$f":"IFERROR(VLOOKUP($B53,'[1]Num 3A'!$G$3:$O$138,6,FALSE),0)","v":1},{"$f":"IFERROR(VLOOKUP($B53,'[1]Num 3A'!$G$3:$O$138,7,FALSE),0)","v":0},{"$f":"IFERROR(VLOOKUP($B53,'[1]Num 3A'!$G$3:$O$138,8,FALSE),0)","v":1},{"$nulls":5},2]
["04106-VICUÑA","105471-P.S.R. PERALILLO",null,null,{"$f":"IFERROR(VLOOKUP($B54,'[1]Num 3A'!$G$3:$O$138,2,FALSE),0)","v":0},{"$f":"IFERROR(VLOOKUP($B54,'[1]Num 3A'!$G$3:$O$138,3,FALSE),0)","v":0},{"$f":"IFERROR(VLOOKUP($B54,'[1]Num 3A'!$G$3:$O$138,4,FALSE),0)","v":0},{"$f":"IFERROR(VLOOKUP($B54,'[1]Num 3A'!$G$3:$O$138,5,FALSE),0)","v":8},{"$f":"IFERROR(VLOOKUP($B54,'[1]Num 3A'!$G$3:$O$138,6,FALSE),0)","v":4},{"$f":"IFERROR(VLOOKUP($B54,'[1]Num 3A'!$G$3:$O$138,7,FALSE),0)","v":0},{"$f":"IFERROR(VLOOKUP($B54,'[1]Num 3A'!$G$3:$O$138,8,FALSE),0)","v":4},{"$nulls":5},16]
["04106-VICUÑA","105472-P.S.R. RIVADAVIA",null,null,{"$f":"IFERROR(VLOOKUP($B55,'[1]Num 3A'!$G$3:$O$138,2,FALSE),0)","v":0},{"$f":"IFERROR(VLOOKUP($B55,'[1]Num 3A'!$G$3:$O$138,3,FALSE),0)","v":2},{"$f":"IFERROR(VLOOKUP($B55,'[1]Num 3A'!$G$3:$O$138,4,FALSE),0)","v":7},{"$f":"IFERROR(VLOOKUP($B55,'[1]Num 3A'!$G$3:$O$138,5,FALSE),0)","v":8},{"$f":"IFERROR(VLOOKUP($B55,'[1]Num 3A'!$G$3:$O$138,6,FALSE),0)","v":1},{"$f":"IFERROR(VLOOKUP($B55,'[1]Num 3A'!$G$3:$O$138,7,FALSE),0)","v":4},{"$f":"IFERROR(VLOOKUP($B55,'[1]Num 3A'!$G$3:$O$138,8,FALSE),0)","v":3},{"$nulls":5},25]
["04106-VICUÑA","105473-P.S.R. TALCUNA",null,null,{"$f":"IFERROR(VLOOKUP($B56,'[1]Num 3A'!$G$3:$O$138,2,FALSE),0)","v":0},{"$f":"IFERROR(VLOOKUP($B56,'[1]Num 3A'!$G$3:$O$138,3,FALSE),0)","v":0},{"$f":"IFERROR(VLOOKUP($B56,'[1]Num 3A'!$G$3:$O$138,4,FALSE),0)","v":0},{"$f":"IFERROR(VLOOKUP($B56,'[1]Num 3A'!$G$3:$O$138,5,FALSE),0)","v":7},{"$f":"IFERROR(VLOOKUP($B56,'[1]Num 3A'!$G$3:$O$138,6,FALSE),0)","v":1},{"$f":"IFERROR(VLOOKUP($B56,'[1]Num 3A'!$G$3:$O$138,7,FALSE),0)","v":5},{"$f":"IFERROR(VLOOKUP($B56,'[1]Num 3A'!$G$3:$O$138,8,FALSE),0)","v":9},{"$nulls":5},22]
["04106-VICUÑA","105474-P.S.R. CHAPILCA",null,null,{"$f":"IFERROR(VLOOKUP($B57,'[1]Num 3A'!$G$3:$O$138,2,FALSE),0)","v":0},{"$f":"IFERROR(VLOOKUP($B57,'[1]Num 3A'!$G$3:$O$138,3,FALSE),0)","v":0},{"$f":"IFERROR(VLOOKUP($B57,'[1]Num 3A'!$G$3:$O$138,4,FALSE),0)","v":0},{"$f":"IFERROR(VLOOKUP($B57,'[1]Num 3A'!$G$3:$O$138,5,FALSE),0)","v":0},{"$f":"IFERROR(VLOOKUP($B57,'[1]Num 3A'!$G$3:$O$138,6,FALSE),0)","v":3},{"$f":"IFERROR(VLOOKUP($B57,'[1]Num 3A'!$G$3:$O$138,7,FALSE),0)","v":4},{"$f":"IFERROR(VLOOKUP($B57,'[1]Num 3A'!$G$3:$O$138,8,FALSE),0)","v":0},{"$nulls":5},7]
["04106-VICUÑA","105509-P.S.R. GUALLIGUAICA",null,null,{"$f":"IFERROR(VLOOKUP($B58,'[1]Num 3A'!$G$3:$O$138,2,FALSE),0)","v":0},{"$f":"IFERROR(VLOOKUP($B58,'[1]Num 3A'!$G$3:$O$138,3,FALSE),0)","v":0},{"$f":"IFERROR(VLOOKUP($B58,'[1]Num 3A'!$G$3:$O$138,4,FALSE),0)","v":0},{"$f":"IFERROR(VLOOKUP($B58,'[1]Num 3A'!$G$3:$O$138,5,FALSE),0)","v":0},{"$f":"IFERROR(VLOOKUP($B58,'[1]Num 3A'!$G$3:$O$138,6,FALSE),0)","v":0},{"$f":"IFERROR(VLOOKUP($B58,'[1]Num 3A'!$G$3:$O$138,7,FALSE),0)","v":0},{"$f":"IFERROR(VLOOKUP($B58,'[1]Num 3A'!$G$3:$O$138,8,FALSE),0)","v":3},{"$nulls":5},3]
["04106-VICUÑA","200538-CESFAM SAN ISIDRO CALINGASTA",null,null,{"$f":"IFERROR(VLOOKUP($B59,'[1]Num 3A'!$G$3:$O$138,2,FALSE),0)","v":22},{"$f":"IFERROR(VLOOKUP($B59,'[1]Num 3A'!$G$3:$O$138,3,FALSE),0)","v":25},{"$f":"IFERROR(VLOOKUP($B59,'[1]Num 3A'!$G$3:$O$138,4,FALSE),0)","v":46},{"$f":"IFERROR(VLOOKUP($B59,'[1]Num 3A'!$G$3:$O$138,5,FALSE),0)","v":12},{"$f":"IFERROR(VLOOKUP($B59,'[1]Num 3A'!$G$3:$O$138,6,FALSE),0)","v":15},{"$f":"IFERROR(VLOOKUP($B59,'[1]Num 3A'!$G$3:$O$138,7,FALSE),0)","v":131},{"$f":"IFERROR(VLOOKUP($B59,'[1]Num 3A'!$G$3:$O$138,8,FALSE),0)","v":31},{"$nulls":5},{"$f":"SUM(E59:P59)","v":282}]
["TOTAL VICUÑA",null,{"$f":"D60/Metas!I9","v":{"v":0.6248824575589607,"d":"62.49%"}},{"$f":"Q60/R60","v":{"v":0.4018619084561676,"d":"40.19%"}},{"$f":"SUM(E50:E59)","v":43},58,83,56,43,162,73,0,0,0,0,0,518,{"v":1289,"d":"1,289"}]
["04201-ILLAPEL","105326-CESFAM SAN RAFAEL",null,null,{"$f":"IFERROR(VLOOKUP($B61,'[1]Num 3A'!$G$3:$O$138,2,FALSE),0)","v":16},{"$f":"IFERROR(VLOOKUP($B61,'[1]Num 3A'!$G$3:$O$138,3,FALSE),0)","v":0},{"$f":"IFERROR(VLOOKUP($B61,'[1]Num 3A'!$G$3:$O$138,4,FALSE),0)","v":17},{"$f":"IFERROR(VLOOKUP($B61,'[1]Num 3A'!$G$3:$O$138,5,FALSE),0)","v":29},{"$f":"IFERROR(VLOOKUP($B61,'[1]Num 3A'!$G$3:$O$138,6,FALSE),0)","v":33},{"$f":"IFERROR(VLOOKUP($B61,'[1]Num 3A'!$G$3:$O$138,7,FALSE),0)","v":18},{"$f":"IFERROR(VLOOKUP($B61,'[1]Num 3A'!$G$3:$O$138,8,FALSE),0)","v":24},{"$nulls":5},137]
["04201-ILLAPEL","105443-P.S.R. CARCAMO                   ",null,null,{"$f":"IFERROR(VLOOKUP($B62,'[1]Num 3A'!$G$3:$O$138,2,FALSE),0)","v":0},{"$f":"IFERROR(VLOOKUP($B62,'[1]Num 3A'!$G$3:$O$138,3,FALSE),0)","v":3},{"$f":"IFERROR(VLOOKUP($B62,'[1]Num 3A'!$G$3:$O$138,4,FALSE),0)","v":5},{"$f":"IFERROR(VLOOKUP($B62,'[1]Num 3A'!$G$3:$O$138,5,FALSE),0)","v":1},{"$f":"IFERROR(VLOOKUP($B62,'[1]Num 3A'!$G$3:$O$138,6,FALSE),0)","v":2},{"$f":"IFERROR(VLOOKUP($B62,'[1]Num 3A'!$G$3:$O$138,7,FALSE),0)","v":0},{"$f":"IFERROR(VLOOKUP($B62,'[1]Num 3A'!$G$3:$O$138,8,FALSE),0)","v":0},{"$nulls":5},11]
["04201-ILLAPEL","105444-P.S.R. HUINTIL",null,null,{"$f":"IFERROR(VLOOKUP($B63,'[1]Num 3A'!$G$3:$O$138,2,FALSE),0)","v":0},{"$f":"IFERROR(VLOOKUP($B63,'[1]Num 3A'!$G$3:$O$138,3,FALSE),0)","v":1},{"$f":"IFERROR(VLOOKUP($B63,'[1]Num 3A'!$G$3:$O$138,4,FALSE),0)","v":1},{"$f":"IFERROR(VLOOKUP($B63,'[1]Num 3A'!$G$3:$O$138,5,FALSE),0)","v":3},{"$f":"IFERROR(VLOOKUP($B63,'[1]Num 3A'!$G$3:$O$138,6,FALSE),0)","v":2},{"$f":"IFERROR(VLOOKUP($B63,'[1]Num 3A'!$G$3:$O$138,7,FALSE),0)","v":0},{"$f":"IFERROR(VLOOKUP($B63,'[1]Num 3A'!$G$3:$O$138,8,FALSE),0)","v":2},{"$nulls":5},9]
["04201-ILLAPEL","105445-P.S.R. LIMAHUIDA",null,null,{"$f":"IFERROR(VLOOKUP($B64,'[1]Num 3A'!$G$3:$O$138,2,FALSE),0)","v":6},{"$f":"IFERROR(VLOOKUP($B64,'[1]Num 3A'!$G$3:$O$138,3,FALSE),0)","v":2},{"$f":"IFERROR(VLOOKUP($B64,'[1]Num 3A'!$G$3:$O$138,4,FALSE),0)","v":3},{"$f":"IFERROR(VLOOKUP($B64,'[1]Num 3A'!$G$3:$O$138,5,FALSE),0)","v":11},{"$f":"IFERROR(VLOOKUP($B64,'[1]Num 3A'!$G$3:$O$138,6,FALSE),0)","v":8},{"$f":"IFERROR(VLOOKUP($B64,'[1]Num 3A'!$G$3:$O$138,7,FALSE),0)","v":1},{"$f":"IFERROR(VLOOKUP($B64,'[1]Num 3A'!$G$3:$O$138,8,FALSE),0)","v":4},{"$nulls":5},35]
["04201-ILLAPEL","105446-P.S.R. MATANCILLA",null,null,{"$f":"IFERROR(VLOOKUP($B65,'[1]Num 3A'!$G$3:$O$138,2,FALSE),0)","v":0},{"$f":"IFERROR(VLOOKUP($B65,'[1]Num 3A'!$G$3:$O$138,3,FALSE),0)","v":0},{"$f":"IFERROR(VLOOKUP($B65,'[1]Num 3A'!$G$3:$O$138,4,FALSE),0)","v":0},{"$f":"IFERROR(VLOOKUP($B65,'[1]Num 3A'!$G$3:$O$138,5,FALSE),0)","v":0},{"$f":"IFERROR(VLOOKUP($B65,'[1]Num 3A'!$G$3:$O$138,6,FALSE),0)","v":0},{"$f":"IFERROR(VLOOKUP($B65,'[1]Num 3A'!$G$3:$O$138,7,FALSE),0)","v":0},{"$f":"IFERROR(VLOOKUP($B65,'[1]Num 3A'!$G$3:$O$138,8,FALSE),0)","v":0},{"$nulls":5},0]
["04201-ILLAPEL","105447-P.S.R. PERALILLO",null,null,{"$f":"IFERROR(VLOOKUP($B66,'[1]Num 3A'!$G$3:$O$138,2,FALSE),0)","v":5},{"$f":"IFERROR(VLOOKUP($B66,'[1]Num 3A'!$G$3:$O$138,3,FALSE),0)","v":3},{"$f":"IFERROR(VLOOKUP($B66,'[1]Num 3A'!$G$3:$O$138,4,FALSE),0)","v":0},{"$f":"IFERROR(VLOOKUP($B66,'[1]Num 3A'!$G$3:$O$138,5,FALSE),0)","v":3},{"$f":"IFERROR(VLOOKUP($B66,'[1]Num 3A'!$G$3:$O$138,6,FALSE),0)","v":3},{"$f":"IFERROR(VLOOKUP($B66,'[1]Num 3A'!$G$3:$O$138,7,FALSE),0)","v":2},{"$f":"IFERROR(VLOOKUP($B66,'[1]Num 3A'!$G$3:$O$138,8,FALSE),0)","v":4},{"$nulls":5},20]
["04201-ILLAPEL","105448-P.S.R. SANTA VIRGINIA",null,null,{"$f":"IFERROR(VLOOKUP($B67,'[1]Num 3A'!$G$3:$O$138,2,FALSE),0)","v":2},{"$f":"IFERROR(VLOOKUP($B67,'[1]Num 3A'!$G$3:$O$138,3,FALSE),0)","v":0},{"$f":"IFERROR(VLOOKUP($B67,'[1]Num 3A'!$G$3:$O$138,4,FALSE),0)","v":1},{"$f":"IFERROR(VLOOKUP($B67,'[1]Num 3A'!$G$3:$O$138,5,FALSE),0)","v":4},{"$f":"IFERROR(VLOOKUP($B67,'[1]Num 3A'!$G$3:$O$138,6,FALSE),0)","v":1},{"$f":"IFERROR(VLOOKUP($B67,'[1]Num 3A'!$G$3:$O$138,7,FALSE),0)","v":2},{"$f":"IFERROR(VLOOKUP($B67,'[1]Num 3A'!$G$3:$O$138,8,FALSE),0)","v":2},{"$nulls":5},12]
["04201-ILLAPEL","105449-P.S.R. TUNGA NORTE",null,null,{"$f":"IFERROR(VLOOKUP($B68,'[1]Num 3A'!$G$3:$O$138,2,FALSE),0)","v":4},{"$f":"IFERROR(VLOOKUP($B68,'[1]Num 3A'!$G$3:$O$138,3,FALSE),0)","v":2},{"$f":"IFERROR(VLOOKUP($B68,'[1]Num 3A'!$G$3:$O$138,4,FALSE),0)","v":0},{"$f":"IFERROR(VLOOKUP($B68,'[1]Num 3A'!$G$3:$O$138,5,FALSE),0)","v":1},{"$f":"IFERROR(VLOOKUP($B68,'[1]Num 3A'!$G$3:$O$138,6,FALSE),0)","v":1},{"$f":"IFERROR(VLOOKUP($B68,'[1]Num 3A'!$G$3:$O$138,7,FALSE),0)","v":0},{"$f":"IFERROR(VLOOKUP($B68,'[1]Num 3A'!$G$3:$O$138,8,FALSE),0)","v":0}]
["04201-ILLAPEL","105485-P.S.R. PLAN DE HORNOS",null,null,{"$f":"IFERROR(VLOOKUP($B69,'[1]Num 3A'!$G$3:$O$138,2,FALSE),0)","v":1},{"$f":"IFERROR(VLOOKUP($B69,'[1]Num 3A'!$G$3:$O$138,3,FALSE),0)","v":1},{"$f":"IFERROR(VLOOKUP($B69,'[1]Num 3A'!$G$3:$O$138,4,FALSE),0)","v":3},{"$f":"IFERROR(VLOOKUP($B69,'[1]Num 3A'!$G$3:$O$138,5,FALSE),0)","v":1},{"$f":"IFERROR(VLOOKUP($B69,'[1]Num 3A'!$G$3:$O$138,6,FALSE),0)","v":4},{"$f":"IFERROR(VLOOKUP($B69,'[1]Num 3A'!$G$3:$O$138,7,FALSE),0)","v":0},{"$f":"IFERROR(VLOOKUP($B69,'[1]Num 3A'!$G$3:$O$138,8,FALSE),0)","v":1},{"$nulls":5},11]
["04201-ILLAPEL","105486-P.S.R. TUNGA SUR",null,null,{"$f":"IFERROR(VLOOKUP($B70,'[1]Num 3A'!$G$3:$O$138,2,FALSE),0)","v":0},{"$f":"IFERROR(VLOOKUP($B70,'[1]Num 3A'!$G$3:$O$138,3,FALSE),0)","v":1},{"$f":"IFERROR(VLOOKUP($B70,'[1]Num 3A'!$G$3:$O$138,4,FALSE),0)","v":1},{"$f":"IFERROR(VLOOKUP($B70,'[1]Num 3A'!$G$3:$O$138,5,FALSE),0)","v":0},{"$f":"IFERROR(VLOOKUP($B70,'[1]Num 3A'!$G$3:$O$138,6,FALSE),0)","v":0},{"$f":"IFERROR(VLOOKUP($B70,'[1]Num 3A'!$G$3:$O$138,7,FALSE),0)","v":0},{"$f":"IFERROR(VLOOKUP($B70,'[1]Num 3A'!$G$3:$O$138,8,FALSE),0)","v":3},{"$nulls":5},5]
["04201-ILLAPEL","105487-P.S.R. CAÑAS UNO",null,null,{"$f":"IFERROR(VLOOKUP($B71,'[1]Num 3A'!$G$3:$O$138,2,FALSE),0)","v":10},{"$f":"IFERROR(VLOOKUP($B71,'[1]Num 3A'!$G$3:$O$138,3,FALSE),0)","v":1},{"$f":"IFERROR(VLOOKUP($B71,'[1]Num 3A'!$G$3:$O$138,4,FALSE),0)","v":3},{"$f":"IFERROR(VLOOKUP($B71,'[1]Num 3A'!$G$3:$O$138,5,FALSE),0)","v":13},{"$f":"IFERROR(VLOOKUP($B71,'[1]Num 3A'!$G$3:$O$138,6,FALSE),0)","v":11},{"$f":"IFERROR(VLOOKUP($B71,'[1]Num 3A'!$G$3:$O$138,7,FALSE),0)","v":10},{"$f":"IFERROR(VLOOKUP($B71,'[1]Num 3A'!$G$3:$O$138,8,FALSE),0)","v":7},{"$nulls":5},55]
["04201-ILLAPEL","105496-P.S.R. PINTACURA SUR",null,null,{"$f":"IFERROR(VLOOKUP($B72,'[1]Num 3A'!$G$3:$O$138,2,FALSE),0)","v":0},{"$f":"IFERROR(VLOOKUP($B72,'[1]Num 3A'!$G$3:$O$138,3,FALSE),0)","v":0},{"$f":"IFERROR(VLOOKUP($B72,'[1]Num 3A'!$G$3:$O$138,4,FALSE),0)","v":5},{"$f":"IFERROR(VLOOKUP($B72,'[1]Num 3A'!$G$3:$O$138,5,FALSE),0)","v":2},{"$f":"IFERROR(VLOOKUP($B72,'[1]Num 3A'!$G$3:$O$138,6,FALSE),0)","v":2},{"$f":"IFERROR(VLOOKUP($B72,'[1]Num 3A'!$G$3:$O$138,7,FALSE),0)","v":1},{"$f":"IFERROR(VLOOKUP($B72,'[1]Num 3A'!$G$3:$O$138,8,FALSE),0)","v":0},{"$nulls":5},10]
["04201-ILLAPEL","105504-P.S.R. SOCAVON",null,null,{"$f":"IFERROR(VLOOKUP($B73,'[1]Num 3A'!$G$3:$O$138,2,FALSE),0)","v":0},{"$f":"IFERROR(VLOOKUP($B73,'[1]Num 3A'!$G$3:$O$138,3,FALSE),0)","v":0},{"$f":"IFERROR(VLOOKUP($B73,'[1]Num 3A'!$G$3:$O$138,4,FALSE),0)","v":4},{"$f":"IFERROR(VLOOKUP($B73,'[1]Num 3A'!$G$3:$O$138,5,FALSE),0)","v":4},{"$f":"IFERROR(VLOOKUP($B73,'[1]Num 3A'!$G$3:$O$138,6,FALSE),0)","v":5},{"$f":"IFERROR(VLOOKUP($B73,'[1]Num 3A'!$G$3:$O$138,7,FALSE),0)","v":4},{"$f":"IFERROR(VLOOKUP($B73,'[1]Num 3A'!$G$3:$O$138,8,FALSE),0)","v":1},{"$nulls":5},{"$f":"SUM(E73:P73)","v":18}]
["04201-ILLAPEL","200366-CESFAM URBANO II",null,null,{"$f":"IFERROR(VLOOKUP($B74,'[1]Num 3A'!$G$3:$O$138,2,FALSE),0)","v":102},{"$f":"IFERROR(VLOOKUP($B74,'[1]Num 3A'!$G$3:$O$138,3,FALSE),0)","v":103},{"$f":"IFERROR(VLOOKUP($B74,'[1]Num 3A'!$G$3:$O$138,4,FALSE),0)","v":141},{"$f":"IFERROR(VLOOKUP($B74,'[1]Num 3A'!$G$3:$O$138,5,FALSE),0)","v":112},{"$f":"IFERROR(VLOOKUP($B74,'[1]Num 3A'!$G$3:$O$138,6,FALSE),0)","v":86},{"$f":"IFERROR(VLOOKUP($B74,'[1]Num 3A'!$G$3:$O$138,7,FALSE),0)","v":93},{"$f":"IFERROR(VLOOKUP($B74,'[1]Num 3A'!$G$3:$O$138,8,FALSE),0)","v":100},{"$nulls":5},{"$f":"SUM(E74:P74)","v":737}]
["TOTAL ILLAPEL",null,{"$f":"D75/Metas!I10","v":{"v":0.6082018661010313,"d":"60.82%"}},{"$f":"Q75/R75","v":{"v":0.3257529194837124,"d":"32.58%"}},{"$f":"SUM(E61:E74)","v":146},{"$f":"SUM(F61:F74)","v":117},184,184,158,131,148,0,0,0,0,0,{"$f":"SUM(Q61:Q74)","v":1060},{"v":3254,"d":"3,254"}]
["04202-CANELA","105309-CES. RURAL CANELA",null,null,{"$f":"IFERROR(VLOOKUP($B76,'[1]Num 3A'!$G$3:$O$138,2,FALSE),0)","v":13},{"$f":"IFERROR(VLOOKUP($B76,'[1]Num 3A'!$G$3:$O$138,3,FALSE),0)","v":6},{"$f":"IFERROR(VLOOKUP($B76,'[1]Num 3A'!$G$3:$O$138,4,FALSE),0)","v":29},{"$f":"IFERROR(VLOOKUP($B76,'[1]Num 3A'!$G$3:$O$138,5,FALSE),0)","v":38},{"$f":"IFERROR(VLOOKUP($B76,'[1]Num 3A'!$G$3:$O$138,6,FALSE),0)","v":60},{"$f":"IFERROR(VLOOKUP($B76,'[1]Num 3A'!$G$3:$O$138,7,FALSE),0)","v":44},{"$f":"IFERROR(VLOOKUP($B76,'[1]Num 3A'!$G$3:$O$138,8,FALSE),0)","v":35},{"$nulls":5},{"$f":"SUM(E76:P76)","v":225}]
["04202-CANELA","105450-P.S.R. MINCHA NORTE            ",null,null,{"$f":"IFERROR(VLOOKUP($B77,'[1]Num 3A'!$G$3:$O$138,2,FALSE),0)","v":0},{"$f":"IFERROR(VLOOKUP($B77,'[1]Num 3A'!$G$3:$O$138,3,FALSE),0)","v":0},{"$f":"IFERROR(VLOOKUP($B77,'[1]Num 3A'!$G$3:$O$138,4,FALSE),0)","v":0},{"$f":"IFERROR(VLOOKUP($B77,'[1]Num 3A'!$G$3:$O$138,5,FALSE),0)","v":0},{"$f":"IFERROR(VLOOKUP($B77,'[1]Num 3A'!$G$3:$O$138,6,FALSE),0)","v":0},{"$f":"IFERROR(VLOOKUP($B77,'[1]Num 3A'!$G$3:$O$138,7,FALSE),0)","v":0},{"$f":"IFERROR(VLOOKUP($B77,'[1]Num 3A'!$G$3:$O$138,8,FALSE),0)","v":0},{"$nulls":5},0]
["04202-CANELA","105451-P.S.R. AGUA FRIA",null,null,{"$f":"IFERROR(VLOOKUP($B78,'[1]Num 3A'!$G$3:$O$138,2,FALSE),0)","v":0},{"$f":"IFERROR(VLOOKUP($B78,'[1]Num 3A'!$G$3:$O$138,3,FALSE),0)","v":0},{"$f":"IFERROR(VLOOKUP($B78,'[1]Num 3A'!$G$3:$O$138,4,FALSE),0)","v":0},{"$f":"IFERROR(VLOOKUP($B78,'[1]Num 3A'!$G$3:$O$138,5,FALSE),0)","v":0},{"$f":"IFERROR(VLOOKUP($B78,'[1]Num 3A'!$G$3:$O$138,6,FALSE),0)","v":0},{"$f":"IFERROR(VLOOKUP($B78,'[1]Num 3A'!$G$3:$O$138,7,FALSE),0)","v":0},{"$f":"IFERROR(VLOOKUP($B78,'[1]Num 3A'!$G$3:$O$138,8,FALSE),0)","v":0},{"$nulls":5},0]
["04202-CANELA","105482-P.S.R. CANELA ALTA",null,null,{"$f":"IFERROR(VLOOKUP($B79,'[1]Num 3A'!$G$3:$O$138,2,FALSE),0)","v":0},{"$f":"IFERROR(VLOOKUP($B79,'[1]Num 3A'!$G$3:$O$138,3,FALSE),0)","v":0},{"$f":"IFERROR(VLOOKUP($B79,'[1]Num 3A'!$G$3:$O$138,4,FALSE),0)","v":0},{"$f":"IFERROR(VLOOKUP($B79,'[1]Num 3A'!$G$3:$O$138,5,FALSE),0)","v":0},{"$f":"IFERROR(VLOOKUP($B79,'[1]Num 3A'!$G$3:$O$138,6,FALSE),0)","v":0},{"$f":"IFERROR(VLOOKUP($B79,'[1]Num 3A'!$G$3:$O$138,7,FALSE),0)","v":0},{"$f":"IFERROR(VLOOKUP($B79,'[1]Num 3A'!$G$3:$O$138,8,FALSE),0)","v":0},{"$nulls":5},0]
["04202-CANELA","105483-P.S.R. LOS RULOS",null,null,{"$f":"IFERROR(VLOOKUP($B80,'[1]Num 3A'!$G$3:$O$138,2,FALSE),0)","v":0},{"$f":"IFERROR(VLOOKUP($B80,'[1]Num 3A'!$G$3:$O$138,3,FALSE),0)","v":0},{"$f":"IFERROR(VLOOKUP($B80,'[1]Num 3A'!$G$3:$O$138,4,FALSE),0)","v":0},{"$f":"IFERROR(VLOOKUP($B80,'[1]Num 3A'!$G$3:$O$138,5,FALSE),0)","v":0},{"$f":"IFERROR(VLOOKUP($B80,'[1]Num 3A'!$G$3:$O$138,6,FALSE),0)","v":0},{"$f":"IFERROR(VLOOKUP($B80,'[1]Num 3A'!$G$3:$O$138,7,FALSE),0)","v":0},{"$f":"IFERROR(VLOOKUP($B80,'[1]Num 3A'!$G$3:$O$138,8,FALSE),0)","v":0},{"$nulls":5},0]
["04202-CANELA","105484-P.S.R. HUENTELAUQUEN",null,null,{"$f":"IFERROR(VLOOKUP($B81,'[1]Num 3A'!$G$3:$O$138,2,FALSE),0)","v":0},{"$f":"IFERROR(VLOOKUP($B81,'[1]Num 3A'!$G$3:$O$138,3,FALSE),0)","v":0},{"$f":"IFERROR(VLOOKUP($B81,'[1]Num 3A'!$G$3:$O$138,4,FALSE),0)","v":0},{"$f":"IFERROR(VLOOKUP($B81,'[1]Num 3A'!$G$3:$O$138,5,FALSE),0)","v":0},{"$f":"IFERROR(VLOOKUP($B81,'[1]Num 3A'!$G$3:$O$138,6,FALSE),0)","v":0},{"$f":"IFERROR(VLOOKUP($B81,'[1]Num 3A'!$G$3:$O$138,7,FALSE),0)","v":0},{"$f":"IFERROR(VLOOKUP($B81,'[1]Num 3A'!$G$3:$O$138,8,FALSE),0)","v":0},{"$nulls":5},0]
["04202-CANELA","105488-P.S.R. ESPIRITU SANTO",null,null,{"$f":"IFERROR(VLOOKUP($B82,'[1]Num 3A'!$G$3:$O$138,2,FALSE),0)","v":0},{"$f":"IFERROR(VLOOKUP($B82,'[1]Num 3A'!$G$3:$O$138,3,FALSE),0)","v":0},{"$f":"IFERROR(VLOOKUP($B82,'[1]Num 3A'!$G$3:$O$138,4,FALSE),0)","v":0},{"$f":"IFERROR(VLOOKUP($B82,'[1]Num 3A'!$G$3:$O$138,5,FALSE),0)","v":0},{"$f":"IFERROR(VLOOKUP($B82,'[1]Num 3A'!$G$3:$O$138,6,FALSE),0)","v":0},{"$f":"IFERROR(VLOOKUP($B82,'[1]Num 3A'!$G$3:$O$138,7,FALSE),0)","v":0},{"$f":"IFERROR(VLOOKUP($B82,'[1]Num 3A'!$G$3:$O$138,8,FALSE),0)","v":0},{"$nulls":5},0]
["04202-CANELA","105493-P.S.R. MINCHA SUR",null,null,{"$f":"IFERROR(VLOOKUP($B83,'[1]Num 3A'!$G$3:$O$138,2,FALSE),0)","v":0},{"$f":"IFERROR(VLOOKUP($B83,'[1]Num 3A'!$G$3:$O$138,3,FALSE),0)","v":0},{"$f":"IFERROR(VLOOKUP($B83,'[1]Num 3A'!$G$3:$O$138,4,FALSE),0)","v":0},{"$f":"IFERROR(VLOOKUP($B83,'[1]Num 3A'!$G$3:$O$138,5,FALSE),0)","v":0},{"$f":"IFERROR(VLOOKUP($B83,'[1]Num 3A'!$G$3:$O$138,6,FALSE),0)","v":0},{"$f":"IFERROR(VLOOKUP($B83,'[1]Num 3A'!$G$3:$O$138,7,FALSE),0)","v":0},{"$f":"IFERROR(VLOOKUP($B83,'[1]Num 3A'!$G$3:$O$138,8,FALSE),0)","v":0},{"$nulls":5},0]
["04202-CANELA","105497-P.S.R. JABONERIA",null,null,{"$f":"IFERROR(VLOOKUP($B84,'[1]Num 3A'!$G$3:$O$138,2,FALSE),0)","v":0},{"$f":"IFERROR(VLOOKUP($B84,'[1]Num 3A'!$G$3:$O$138,3,FALSE),0)","v":0},{"$f":"IFERROR(VLOOKUP($B84,'[1]Num 3A'!$G$3:$O$138,4,FALSE),0)","v":0},{"$f":"IFERROR(VLOOKUP($B84,'[1]Num 3A'!$G$3:$O$138,5,FALSE),0)","v":0},{"$f":"IFERROR(VLOOKUP($B84,'[1]Num 3A'!$G$3:$O$138,6,FALSE),0)","v":0},{"$f":"IFERROR(VLOOKUP($B84,'[1]Num 3A'!$G$3:$O$138,7,FALSE),0)","v":0},{"$f":"IFERROR(VLOOKUP($B84,'[1]Num 3A'!$G$3:$O$138,8,FALSE),0)","v":0},{"$nulls":5},0]
["04202-CANELA","105498-P.S.R. QUEBRADA DE LINARES",null,null,{"$f":"IFERROR(VLOOKUP($B85,'[1]Num 3A'!$G$3:$O$138,2,FALSE),0)","v":0},{"$f":"IFERROR(VLOOKUP($B85,'[1]Num 3A'!$G$3:$O$138,3,FALSE),0)","v":0},{"$f":"IFERROR(VLOOKUP($B85,'[1]Num 3A'!$G$3:$O$138,4,FALSE),0)","v":0},{"$f":"IFERROR(VLOOKUP($B85,'[1]Num 3A'!$G$3:$O$138,5,FALSE),0)","v":0},{"$f":"IFERROR(VLOOKUP($B85,'[1]Num 3A'!$G$3:$O$138,6,FALSE),0)","v":0},{"$f":"IFERROR(VLOOKUP($B85,'[1]Num 3A'!$G$3:$O$138,7,FALSE),0)","v":0},{"$f":"IFERROR(VLOOKUP($B85,'[1]Num 3A'!$G$3:$O$138,8,FALSE),0)","v":0},{"$nulls":5},0]
["TOTAL CANELA",null,{"$f":"D86/Metas!I11","v":{"v":0.803511165234036,"d":"80.35%"}},{"$f":"Q86/R86","v":{"v":0.3065395095367847,"d":"30.65%"}},{"$f":"SUM(E76:E85)","v":13},{"$f":"SUM(F76:F85)","v":6},{"$f":"SUM(G76:G85)","v":29},{"$f":"SUM(H76:H85)","v":38},{"$f":"SUM(I76:I85)","v":60},44,35,0,0,0,{"$f":"SUM(O76:O85)","v":0},{"$f":"SUM(P76:P85)","v":0},{"$f":"SUM(Q76:Q85)","v":225},734]
["04203-LOS VILOS","105478-P.S.R. CAIMANES                   ",null,null,{"$f":"IFERROR(VLOOKUP($B87,'[1]Num 3A'!$G$3:$O$138,2,FALSE),0)","v":11},{"$f":"IFERROR(VLOOKUP($B87,'[1]Num 3A'!$G$3:$O$138,3,FALSE),0)","v":12},{"$f":"IFERROR(VLOOKUP($B87,'[1]Num 3A'!$G$3:$O$138,4,FALSE),0)","v":6},{"$f":"IFERROR(VLOOKUP($B87,'[1]Num 3A'!$G$3:$O$138,5,FALSE),0)","v":7},{"$f":"IFERROR(VLOOKUP($B87,'[1]Num 3A'!$G$3:$O$138,6,FALSE),0)","v":11},{"$f":"IFERROR(VLOOKUP($B87,'[1]Num 3A'!$G$3:$O$138,7,FALSE),0)","v":3},{"$f":"IFERROR(VLOOKUP($B87,'[1]Num 3A'!$G$3:$O$138,8,FALSE),0)","v":6},{"$nulls":5},{"$f":"SUM(E87:P87)","v":56}]
["04203-LOS VILOS","105479-P.S.R. GUANGUALI",null,null,{"$f":"IFERROR(VLOOKUP($B88,'[1]Num 3A'!$G$3:$O$138,2,FALSE),0)","v":6},{"$f":"IFERROR(VLOOKUP($B88,'[1]Num 3A'!$G$3:$O$138,3,FALSE),0)","v":0},{"$f":"IFERROR(VLOOKUP($B88,'[1]Num 3A'!$G$3:$O$138,4,FALSE),0)","v":3},{"$f":"IFERROR(VLOOKUP($B88,'[1]Num 3A'!$G$3:$O$138,5,FALSE),0)","v":2},{"$f":"IFERROR(VLOOKUP($B88,'[1]Num 3A'!$G$3:$O$138,6,FALSE),0)","v":0},{"$f":"IFERROR(VLOOKUP($B88,'[1]Num 3A'!$G$3:$O$138,7,FALSE),0)","v":0},{"$f":"IFERROR(VLOOKUP($B88,'[1]Num 3A'!$G$3:$O$138,8,FALSE),0)","v":6},{"$nulls":5},{"$f":"SUM(E88:P88)","v":17}]
["04203-LOS VILOS","105480-P.S.R. QUILIMARI",null,null,{"$f":"IFERROR(VLOOKUP($B89,'[1]Num 3A'!$G$3:$O$138,2,FALSE),0)","v":13},{"$f":"IFERROR(VLOOKUP($B89,'[1]Num 3A'!$G$3:$O$138,3,FALSE),0)","v":0},{"$f":"IFERROR(VLOOKUP($B89,'[1]Num 3A'!$G$3:$O$138,4,FALSE),0)","v":16},{"$f":"IFERROR(VLOOKUP($B89,'[1]Num 3A'!$G$3:$O$138,5,FALSE),0)","v":17},{"$f":"IFERROR(VLOOKUP($B89,'[1]Num 3A'!$G$3:$O$138,6,FALSE),0)","v":14},{"$f":"IFERROR(VLOOKUP($B89,'[1]Num 3A'!$G$3:$O$138,7,FALSE),0)","v":8},{"$f":"IFERROR(VLOOKUP($B89,'[1]Num 3A'!$G$3:$O$138,8,FALSE),0)","v":27},{"$nulls":5},{"$f":"SUM(E89:P89)","v":95}]
["04203-LOS VILOS","105481-P.S.R. TILAMA",null,null,{"$f":"IFERROR(VLOOKUP($B90,'[1]Num 3A'!$G$3:$O$138,2,FALSE),0)","v":0},{"$f":"IFERROR(VLOOKUP($B90,'[1]Num 3A'!$G$3:$O$138,3,FALSE),0)","v":0},{"$f":"IFERROR(VLOOKUP($B90,'[1]Num 3A'!$G$3:$O$138,4,FALSE),0)","v":2},{"$f":"IFERROR(VLOOKUP($B90,'[1]Num 3A'!$G$3:$O$138,5,FALSE),0)","v":2},{"$f":"IFERROR(VLOOKUP($B90,'[1]Num 3A'!$G$3:$O$138,6,FALSE),0)","v":2},{"$f":"IFERROR(VLOOKUP($B90,'[1]Num 3A'!$G$3:$O$138,7,FALSE),0)","v":0},{"$f":"IFERROR(VLOOKUP($B90,'[1]Num 3A'!$G$3:$O$138,8,FALSE),0)","v":0},{"$nulls":5},{"$f":"SUM(E90:P90)","v":6}]
["04203-LOS VILOS","105511-P.S.R. LOS CONDORES",null,null,{"$f":"IFERROR(VLOOKUP($B91,'[1]Num 3A'!$G$3:$O$138,2,FALSE),0)","v":1},{"$f":"IFERROR(VLOOKUP($B91,'[1]Num 3A'!$G$3:$O$138,3,FALSE),0)","v":0},{"$f":"IFERROR(VLOOKUP($B91,'[1]Num 3A'!$G$3:$O$138,4,FALSE),0)","v":7},{"$f":"IFERROR(VLOOKUP($B91,'[1]Num 3A'!$G$3:$O$138,5,FALSE),0)","v":3},{"$f":"IFERROR(VLOOKUP($B91,'[1]Num 3A'!$G$3:$O$138,6,FALSE),0)","v":7},{"$f":"IFERROR(VLOOKUP($B91,'[1]Num 3A'!$G$3:$O$138,7,FALSE),0)","v":1},{"$f":"IFERROR(VLOOKUP($B91,'[1]Num 3A'!$G$3:$O$138,8,FALSE),0)","v":1},{"$nulls":5},{"$f":"SUM(E91:P91)","v":20}]
["TOTAL LOS VILOS",null,{"$f":"D92/Metas!I12","v":{"v":0.9935979513444302,"d":"99.36%"}},{"$f":"Q92/R92","v":{"v":0.24839948783610755,"d":"24.84%"}},{"$f":"SUM(E87:E91)","v":31},{"$f":"SUM(F87:F91)","v":12},{"$f":"SUM(G87:G91)","v":34},{"$f":"SUM(H87:H91)","v":31},{"$f":"SUM(I87:I91)","v":34},12,40,0,0,0,{"$f":"SUM(O87:O91)","v":0},{"$f":"SUM(P87:P91)","v":0},{"$f":"SUM(Q87:Q91)","v":194},781]
["04204-SALAMANCA","105452-P.S.R. CUNCUMEN                 ",null,null,{"$f":"IFERROR(VLOOKUP($B93,'[1]Num 3A'!$G$3:$O$138,2,FALSE),0)","v":0},{"$f":"IFERROR(VLOOKUP($B93,'[1]Num 3A'!$G$3:$O$138,3,FALSE),0)","v":0},{"$f":"IFERROR(VLOOKUP($B93,'[1]Num 3A'!$G$3:$O$138,4,FALSE),0)","v":12},{"$f":"IFERROR(VLOOKUP($B93,'[1]Num 3A'!$G$3:$O$138,5,FALSE),0)","v":0},{"$f":"IFERROR(VLOOKUP($B93,'[1]Num 3A'!$G$3:$O$138,6,FALSE),0)","v":0},{"$f":"IFERROR(VLOOKUP($B93,'[1]Num 3A'!$G$3:$O$138,7,FALSE),0)","v":0},{"$f":"IFERROR(VLOOKUP($B93,'[1]Num 3A'!$G$3:$O$138,8,FALSE),0)","v":8},{"$nulls":5},{"$f":"SUM(E93:P93)","v":20}]
["04204-SALAMANCA","105453-P.S.R. TRANQUILLA",null,null,{"$f":"IFERROR(VLOOKUP($B94,'[1]Num 3A'!$G$3:$O$138,2,FALSE),0)","v":0},{"$f":"IFERROR(VLOOKUP($B94,'[1]Num 3A'!$G$3:$O$138,3,FALSE),0)","v":0},{"$f":"IFERROR(VLOOKUP($B94,'[1]Num 3A'!$G$3:$O$138,4,FALSE),0)","v":14},{"$f":"IFERROR(VLOOKUP($B94,'[1]Num 3A'!$G$3:$O$138,5,FALSE),0)","v":0},{"$f":"IFERROR(VLOOKUP($B94,'[1]Num 3A'!$G$3:$O$138,6,FALSE),0)","v":14},{"$f":"IFERROR(VLOOKUP($B94,'[1]Num 3A'!$G$3:$O$138,7,FALSE),0)","v":8},{"$f":"IFERROR(VLOOKUP($B94,'[1]Num 3A'!$G$3:$O$138,8,FALSE),0)","v":0},{"$nulls":5},36]
["04204-SALAMANCA","105454-P.S.R. CUNLAGUA",null,null,{"$f":"IFERROR(VLOOKUP($B95,'[1]Num 3A'!$G$3:$O$138,2,FALSE),0)","v":0},{"$f":"IFERROR(VLOOKUP($B95,'[1]Num 3A'!$G$3:$O$138,3,FALSE),0)","v":0},{"$f":"IFERROR(VLOOKUP($B95,'[1]Num 3A'!$G$3:$O$138,4,FALSE),0)","v":0},{"$f":"IFERROR(VLOOKUP($B95,'[1]Num 3A'!$G$3:$O$138,5,FALSE),0)","v":0},{"$f":"IFERROR(VLOOKUP($B95,'[1]Num 3A'!$G$3:$O$138,6,FALSE),0)","v":0},{"$f":"IFERROR(VLOOKUP($B95,'[1]Num 3A'!$G$3:$O$138,7,FALSE),0)","v":0},{"$f":"IFERROR(VLOOKUP($B95,'[1]Num 3A'!$G$3:$O$138,8,FALSE),0)","v":0},{"$nulls":5},0]
["04204-SALAMANCA","105455-P.S.R. CHILLEPIN",null,null,{"$f":"IFERROR(VLOOKUP($B96,'[1]Num 3A'!$G$3:$O$138,2,FALSE),0)","v":0},{"$f":"IFERROR(VLOOKUP($B96,'[1]Num 3A'!$G$3:$O$138,3,FALSE),0)","v":0},{"$f":"IFERROR(VLOOKUP($B96,'[1]Num 3A'!$G$3:$O$138,4,FALSE),0)","v":16},{"$f":"IFERROR(VLOOKUP($B96,'[1]Num 3A'!$G$3:$O$138,5,FALSE),0)","v":0},{"$f":"IFERROR(VLOOKUP($B96,'[1]Num 3A'!$G$3:$O$138,6,FALSE),0)","v":0},{"$f":"IFERROR(VLOOKUP($B96,'[1]Num 3A'!$G$3:$O$138,7,FALSE),0)","v":0},{"$f":"IFERROR(VLOOKUP($B96,'[1]Num 3A'!$G$3:$O$138,8,FALSE),0)","v":10},{"$nulls":5},26]
["04204-SALAMANCA","105456-P.S.R. LLIMPO",null,null,{"$f":"IFERROR(VLOOKUP($B97,'[1]Num 3A'!$G$3:$O$138,2,FALSE),0)","v":0},{"$f":"IFERROR(VLOOKUP($B97,'[1]Num 3A'!$G$3:$O$138,3,FALSE),0)","v":0},{"$f":"IFERROR(VLOOKUP($B97,'[1]Num 3A'!$G$3:$O$138,4,FALSE),0)","v":0},{"$f":"IFERROR(VLOOKUP($B97,'[1]Num 3A'!$G$3:$O$138,5,FALSE),0)","v":15},{"$f":"IFERROR(VLOOKUP($B97,'[1]Num 3A'!$G$3:$O$138,6,FALSE),0)","v":16},{"$f":"IFERROR(VLOOKUP($B97,'[1]Num 3A'!$G$3:$O$138,7,FALSE),0)","v":0},{"$f":"IFERROR(VLOOKUP($B97,'[1]Num 3A'!$G$3:$O$138,8,FALSE),0)","v":0},{"$nulls":5},31]
["04204-SALAMANCA","105457-P.S.R. SAN AGUSTIN",null,null,{"$f":"IFERROR(VLOOKUP($B98,'[1]Num 3A'!$G$3:$O$138,2,FALSE),0)","v":0},{"$f":"IFERROR(VLOOKUP($B98,'[1]Num 3A'!$G$3:$O$138,3,FALSE),0)","v":0},{"$f":"IFERROR(VLOOKUP($B98,'[1]Num 3A'!$G$3:$O$138,4,FALSE),0)","v":0},{"$f":"IFERROR(VLOOKUP($B98,'[1]Num 3A'!$G$3:$O$138,5,FALSE),0)","v":10},{"$f":"IFERROR(VLOOKUP($B98,'[1]Num 3A'!$G$3:$O$138,6,FALSE),0)","v":0},{"$f":"IFERROR(VLOOKUP($B98,'[1]Num 3A'!$G$3:$O$138,7,FALSE),0)","v":0},{"$f":"IFERROR(VLOOKUP($B98,'[1]Num 3A'!$G$3:$O$138,8,FALSE),0)","v":0},{"$nulls":5},10]
["04204-SALAMANCA","105458-P.S.R. TAHUINCO",null,null,{"$f":"IFERROR(VLOOKUP($B99,'[1]Num 3A'!$G$3:$O$138,2,FALSE),0)","v":0},{"$f":"IFERROR(VLOOKUP($B99,'[1]Num 3A'!$G$3:$O$138,3,FALSE),0)","v":0},{"$f":"IFERROR(VLOOKUP($B99,'[1]Num 3A'!$G$3:$O$138,4,FALSE),0)","v":14},{"$f":"IFERROR(VLOOKUP($B99,'[1]Num 3A'!$G$3:$O$138,5,FALSE),0)","v":0},{"$f":"IFERROR(VLOOKUP($B99,'[1]Num 3A'!$G$3:$O$138,6,FALSE),0)","v":17},{"$f":"IFERROR(VLOOKUP($B99,'[1]Num 3A'!$G$3:$O$138,7,FALSE),0)","v":17},{"$f":"IFERROR(VLOOKUP($B99,'[1]Num 3A'!$G$3:$O$138,8,FALSE),0)","v":12},{"$nulls":5},60]
["04204-SALAMANCA","105491-P.S.R. QUELEN BAJO",null,null,{"$f":"IFERROR(VLOOKUP($B100,'[1]Num 3A'!$G$3:$O$138,2,FALSE),0)","v":0},{"$f":"IFERROR(VLOOKUP($B100,'[1]Num 3A'!$G$3:$O$138,3,FALSE),0)","v":0},{"$f":"IFERROR(VLOOKUP($B100,'[1]Num 3A'!$G$3:$O$138,4,FALSE),0)","v":13},{"$f":"IFERROR(VLOOKUP($B100,'[1]Num 3A'!$G$3:$O$138,5,FALSE),0)","v":18},{"$f":"IFERROR(VLOOKUP($B100,'[1]Num 3A'!$G$3:$O$138,6,FALSE),0)","v":30},{"$f":"IFERROR(VLOOKUP($B100,'[1]Num 3A'!$G$3:$O$138,7,FALSE),0)","v":0},{"$f":"IFERROR(VLOOKUP($B100,'[1]Num 3A'!$G$3:$O$138,8,FALSE),0)","v":0},{"$nulls":5},61]
["04204-SALAMANCA","105492-P.S.R. CAMISA",null,null,{"$f":"IFERROR(VLOOKUP($B101,'[1]Num 3A'!$G$3:$O$138,2,FALSE),0)","v":0},{"$f":"IFERROR(VLOOKUP($B101,'[1]Num 3A'!$G$3:$O$138,3,FALSE),0)","v":0},{"$f":"IFERROR(VLOOKUP($B101,'[1]Num 3A'!$G$3:$O$138,4,FALSE),0)","v":0},{"$f":"IFERROR(VLOOKUP($B101,'[1]Num 3A'!$G$3:$O$138,5,FALSE),0)","v":0},{"$f":"IFERROR(VLOOKUP($B101,'[1]Num 3A'!$G$3:$O$138,6,FALSE),0)","v":9},{"$f":"IFERROR(VLOOKUP($B101,'[1]Num 3A'!$G$3:$O$138,7,FALSE),0)","v":0},{"$f":"IFERROR(VLOOKUP($B101,'[1]Num 3A'!$G$3:$O$138,8,FALSE),0)","v":0},{"$nulls":5},9]
["04204-SALAMANCA","105501-P.S.R. ARBOLEDA GRANDE",null,null,{"$f":"IFERROR(VLOOKUP($B102,'[1]Num 3A'!$G$3:$O$138,2,FALSE),0)","v":0},{"$f":"IFERROR(VLOOKUP($B102,'[1]Num 3A'!$G$3:$O$138,3,FALSE),0)","v":0},{"$f":"IFERROR(VLOOKUP($B102,'[1]Num 3A'!$G$3:$O$138,4,FALSE),0)","v":0},{"$f":"IFERROR(VLOOKUP($B102,'[1]Num 3A'!$G$3:$O$138,5,FALSE),0)","v":14},{"$f":"IFERROR(VLOOKUP($B102,'[1]Num 3A'!$G$3:$O$138,6,FALSE),0)","v":0},{"$f":"IFERROR(VLOOKUP($B102,'[1]Num 3A'!$G$3:$O$138,7,FALSE),0)","v":13},{"$f":"IFERROR(VLOOKUP($B102,'[1]Num 3A'!$G$3:$O$138,8,FALSE),0)","v":0},{"$nulls":5},27]
["TOTAL SALAMANCA",null,{"$f":"D103/Metas!I13","v":{"v":0.7977344342068525,"d":"79.77%"}},{"$f":"Q103/R103","v":{"v":0.340632603406326,"d":"34.06%"}},{"$f":"SUM(E93:E102)","v":0},{"$f":"SUM(F93:F102)","v":0},{"$f":"SUM(G93:G102)","v":69},{"$f":"SUM(H93:H102)","v":57},{"$f":"SUM(I93:I102)","v":86},38,30,0,0,0,{"$f":"SUM(O93:O102)","v":0},{"$f":"SUM(P93:P102)","v":0},{"$f":"SUM(Q93:Q102)","v":280},822]
["04301-OVALLE","105315-CES. RURAL C. DE TAMAYA",null,null,{"$f":"IFERROR(VLOOKUP($B104,'[1]Num 3A'!$G$3:$O$138,2,FALSE),0)","v":50},{"$f":"IFERROR(VLOOKUP($B104,'[1]Num 3A'!$G$3:$O$138,3,FALSE),0)","v":24},{"$f":"IFERROR(VLOOKUP($B104,'[1]Num 3A'!$G$3:$O$138,4,FALSE),0)","v":23},{"$f":"IFERROR(VLOOKUP($B104,'[1]Num 3A'!$G$3:$O$138,5,FALSE),0)","v":47},{"$f":"IFERROR(VLOOKUP($B104,'[1]Num 3A'!$G$3:$O$138,6,FALSE),0)","v":20},{"$f":"IFERROR(VLOOKUP($B104,'[1]Num 3A'!$G$3:$O$138,7,FALSE),0)","v":18},{"$f":"IFERROR(VLOOKUP($B104,'[1]Num 3A'!$G$3:$O$138,8,FALSE),0)","v":30},{"$nulls":5},{"$f":"SUM(E104:P104)","v":212}]
["04301-OVALLE","105317-CES. JORGE JORDAN D.",null,null,{"$f":"IFERROR(VLOOKUP($B105,'[1]Num 3A'!$G$3:$O$138,2,FALSE),0)","v":33},{"$f":"IFERROR(VLOOKUP($B105,'[1]Num 3A'!$G$3:$O$138,3,FALSE),0)","v":22},{"$f":"IFERROR(VLOOKUP($B105,'[1]Num 3A'!$G$3:$O$138,4,FALSE),0)","v":47},{"$f":"IFERROR(VLOOKUP($B105,'[1]Num 3A'!$G$3:$O$138,5,FALSE),0)","v":37},{"$f":"IFERROR(VLOOKUP($B105,'[1]Num 3A'!$G$3:$O$138,6,FALSE),0)","v":54},{"$f":"IFERROR(VLOOKUP($B105,'[1]Num 3A'!$G$3:$O$138,7,FALSE),0)","v":54},{"$f":"IFERROR(VLOOKUP($B105,'[1]Num 3A'!$G$3:$O$138,8,FALSE),0)","v":40},{"$nulls":5},287]
["04301-OVALLE","105322-CES. MARCOS MACUADA",null,null,{"$f":"IFERROR(VLOOKUP($B106,'[1]Num 3A'!$G$3:$O$138,2,FALSE),0)","v":62},{"$f":"IFERROR(VLOOKUP($B106,'[1]Num 3A'!$G$3:$O$138,3,FALSE),0)","v":62},{"$f":"IFERROR(VLOOKUP($B106,'[1]Num 3A'!$G$3:$O$138,4,FALSE),0)","v":46},{"$f":"IFERROR(VLOOKUP($B106,'[1]Num 3A'!$G$3:$O$138,5,FALSE),0)","v":91},{"$f":"IFERROR(VLOOKUP($B106,'[1]Num 3A'!$G$3:$O$138,6,FALSE),0)","v":14},{"$f":"IFERROR(VLOOKUP($B106,'[1]Num 3A'!$G$3:$O$138,7,FALSE),0)","v":71},{"$f":"IFERROR(VLOOKUP($B106,'[1]Num 3A'!$G$3:$O$138,8,FALSE),0)","v":125},{"$nulls":5},471]
["04301-OVALLE","105324-CES. SOTAQUI",null,null,{"$f":"IFERROR(VLOOKUP($B107,'[1]Num 3A'!$G$3:$O$138,2,FALSE),0)","v":40},{"$f":"IFERROR(VLOOKUP($B107,'[1]Num 3A'!$G$3:$O$138,3,FALSE),0)","v":37},{"$f":"IFERROR(VLOOKUP($B107,'[1]Num 3A'!$G$3:$O$138,4,FALSE),0)","v":44},{"$f":"IFERROR(VLOOKUP($B107,'[1]Num 3A'!$G$3:$O$138,5,FALSE),0)","v":32},{"$f":"IFERROR(VLOOKUP($B107,'[1]Num 3A'!$G$3:$O$138,6,FALSE),0)","v":27},{"$f":"IFERROR(VLOOKUP($B107,'[1]Num 3A'!$G$3:$O$138,7,FALSE),0)","v":16},{"$f":"IFERROR(VLOOKUP($B107,'[1]Num 3A'!$G$3:$O$138,8,FALSE),0)","v":14},{"$nulls":5},210]
["04301-OVALLE","105415-P.S.R. BARRAZA",null,null,{"$f":"IFERROR(VLOOKUP($B108,'[1]Num 3A'!$G$3:$O$138,2,FALSE),0)","v":3},{"$f":"IFERROR(VLOOKUP($B108,'[1]Num 3A'!$G$3:$O$138,3,FALSE),0)","v":0},{"$f":"IFERROR(VLOOKUP($B108,'[1]Num 3A'!$G$3:$O$138,4,FALSE),0)","v":1},{"$f":"IFERROR(VLOOKUP($B108,'[1]Num 3A'!$G$3:$O$138,5,FALSE),0)","v":3},{"$f":"IFERROR(VLOOKUP($B108,'[1]Num 3A'!$G$3:$O$138,6,FALSE),0)","v":4},{"$f":"IFERROR(VLOOKUP($B108,'[1]Num 3A'!$G$3:$O$138,7,FALSE),0)","v":6},{"$f":"IFERROR(VLOOKUP($B108,'[1]Num 3A'!$G$3:$O$138,8,FALSE),0)","v":0},{"$nulls":5},17]
["04301-OVALLE","105416-P.S.R. CAMARICO                  ",null,null,{"$f":"IFERROR(VLOOKUP($B109,'[1]Num 3A'!$G$3:$O$138,2,FALSE),0)","v":10},{"$f":"IFERROR(VLOOKUP($B109,'[1]Num 3A'!$G$3:$O$138,3,FALSE),0)","v":4},{"$f":"IFERROR(VLOOKUP($B109,'[1]Num 3A'!$G$3:$O$138,4,FALSE),0)","v":7},{"$f":"IFERROR(VLOOKUP($B109,'[1]Num 3A'!$G$3:$O$138,5,FALSE),0)","v":3},{"$f":"IFERROR(VLOOKUP($B109,'[1]Num 3A'!$G$3:$O$138,6,FALSE),0)","v":9},{"$f":"IFERROR(VLOOKUP($B109,'[1]Num 3A'!$G$3:$O$138,7,FALSE),0)","v":0},{"$f":"IFERROR(VLOOKUP($B109,'[1]Num 3A'!$G$3:$O$138,8,FALSE),0)","v":3},{"$nulls":5},36]
["04301-OVALLE","105417-P.S.R. ALCONES BAJOS",null,null,{"$f":"IFERROR(VLOOKUP($B110,'[1]Num 3A'!$G$3:$O$138,2,FALSE),0)","v":0},{"$f":"IFERROR(VLOOKUP($B110,'[1]Num 3A'!$G$3:$O$138,3,FALSE),0)","v":2},{"$f":"IFERROR(VLOOKUP($B110,'[1]Num 3A'!$G$3:$O$138,4,FALSE),0)","v":35},{"$f":"IFERROR(VLOOKUP($B110,'[1]Num 3A'!$G$3:$O$138,5,FALSE),0)","v":9},{"$f":"IFERROR(VLOOKUP($B110,'[1]Num 3A'!$G$3:$O$138,6,FALSE),0)","v":1},{"$f":"IFERROR(VLOOKUP($B110,'[1]Num 3A'!$G$3:$O$138,7,FALSE),0)","v":6},{"$f":"IFERROR(VLOOKUP($B110,'[1]Num 3A'!$G$3:$O$138,8,FALSE),0)","v":1},{"$nulls":5},54]
["04301-OVALLE","105419-P.S.R. LAS SOSSAS",null,null,{"$f":"IFERROR(VLOOKUP($B111,'[1]Num 3A'!$G$3:$O$138,2,FALSE),0)","v":0},{"$f":"IFERROR(VLOOKUP($B111,'[1]Num 3A'!$G$3:$O$138,3,FALSE),0)","v":0},{"$f":"IFERROR(VLOOKUP($B111,'[1]Num 3A'!$G$3:$O$138,4,FALSE),0)","v":2},{"$f":"IFERROR(VLOOKUP($B111,'[1]Num 3A'!$G$3:$O$138,5,FALSE),0)","v":3},{"$f":"IFERROR(VLOOKUP($B111,'[1]Num 3A'!$G$3:$O$138,6,FALSE),0)","v":0},{"$f":"IFERROR(VLOOKUP($B111,'[1]Num 3A'!$G$3:$O$138,7,FALSE),0)","v":7},{"$f":"IFERROR(VLOOKUP($B111,'[1]Num 3A'!$G$3:$O$138,8,FALSE),0)","v":0},{"$nulls":5},12]
["04301-OVALLE","105422-P.S.R. HORNILLOS",null,null,{"$f":"IFERROR(VLOOKUP($B112,'[1]Num 3A'!$G$3:$O$138,2,FALSE),0)","v":0},{"$f":"IFERROR(VLOOKUP($B112,'[1]Num 3A'!$G$3:$O$138,3,FALSE),0)","v":3},{"$f":"IFERROR(VLOOKUP($B112,'[1]Num 3A'!$G$3:$O$138,4,FALSE),0)","v":0},{"$f":"IFERROR(VLOOKUP($B112,'[1]Num 3A'!$G$3:$O$138,5,FALSE),0)","v":0},{"$f":"IFERROR(VLOOKUP($B112,'[1]Num 3A'!$G$3:$O$138,6,FALSE),0)","v":0},{"$f":"IFERROR(VLOOKUP($B112,'[1]Num 3A'!$G$3:$O$138,7,FALSE),0)","v":0},{"$f":"IFERROR(VLOOKUP($B112,'[1]Num 3A'!$G$3:$O$138,8,FALSE),0)","v":0},{"$nulls":5},3]
["04301-OVALLE","105437-P.S.R. CHALINGA",null,null,{"$f":"IFERROR(VLOOKUP($B113,'[1]Num 3A'!$G$3:$O$138,2,FALSE),0)","v":3},{"$f":"IFERROR(VLOOKUP($B113,'[1]Num 3A'!$G$3:$O$138,3,FALSE),0)","v":2},{"$f":"IFERROR(VLOOKUP($B113,'[1]Num 3A'!$G$3:$O$138,4,FALSE),0)","v":10},{"$f":"IFERROR(VLOOKUP($B113,'[1]Num 3A'!$G$3:$O$138,5,FALSE),0)","v":0},{"$f":"IFERROR(VLOOKUP($B113,'[1]Num 3A'!$G$3:$O$138,6,FALSE),0)","v":2},{"$f":"IFERROR(VLOOKUP($B113,'[1]Num 3A'!$G$3:$O$138,7,FALSE),0)","v":0},{"$f":"IFERROR(VLOOKUP($B113,'[1]Num 3A'!$G$3:$O$138,8,FALSE),0)","v":0},{"$nulls":5},17]
["04301-OVALLE","105439-P.S.R. CERRO BLANCO",null,null,{"$f":"IFERROR(VLOOKUP($B114,'[1]Num 3A'!$G$3:$O$138,2,FALSE),0)","v":0},{"$f":"IFERROR(VLOOKUP($B114,'[1]Num 3A'!$G$3:$O$138,3,FALSE),0)","v":0},{"$f":"IFERROR(VLOOKUP($B114,'[1]Num 3A'!$G$3:$O$138,4,FALSE),0)","v":6},{"$f":"IFERROR(VLOOKUP($B114,'[1]Num 3A'!$G$3:$O$138,5,FALSE),0)","v":1},{"$f":"IFERROR(VLOOKUP($B114,'[1]Num 3A'!$G$3:$O$138,6,FALSE),0)","v":0},{"$f":"IFERROR(VLOOKUP($B114,'[1]Num 3A'!$G$3:$O$138,7,FALSE),0)","v":0},{"$f":"IFERROR(VLOOKUP($B114,'[1]Num 3A'!$G$3:$O$138,8,FALSE),0)","v":0},{"$nulls":5},7]
["04301-OVALLE","105507-P.S.R. HUAMALATA",null,null,{"$f":"IFERROR(VLOOKUP($B115,'[1]Num 3A'!$G$3:$O$138,2,FALSE),0)","v":8},{"$f":"IFERROR(VLOOKUP($B115,'[1]Num 3A'!$G$3:$O$138,3,FALSE),0)","v":6},{"$f":"IFERROR(VLOOKUP($B115,'[1]Num 3A'!$G$3:$O$138,4,FALSE),0)","v":44},{"$f":"IFERROR(VLOOKUP($B115,'[1]Num 3A'!$G$3:$O$138,5,FALSE),0)","v":0},{"$f":"IFERROR(VLOOKUP($B115,'[1]Num 3A'!$G$3:$O$138,6,FALSE),0)","v":8},{"$f":"IFERROR(VLOOKUP($B115,'[1]Num 3A'!$G$3:$O$138,7,FALSE),0)","v":0},{"$f":"IFERROR(VLOOKUP($B115,'[1]Num 3A'!$G$3:$O$138,8,FALSE),0)","v":7},{"$nulls":5},73]
["04301-OVALLE","105510-P.S.R. RECOLETA",null,null,{"$f":"IFERROR(VLOOKUP($B116,'[1]Num 3A'!$G$3:$O$138,2,FALSE),0)","v":4},{"$f":"IFERROR(VLOOKUP($B116,'[1]Num 3A'!$G$3:$O$138,3,FALSE),0)","v":10},{"$f":"IFERROR(VLOOKUP($B116,'[1]Num 3A'!$G$3:$O$138,4,FALSE),0)","v":4},{"$f":"IFERROR(VLOOKUP($B116,'[1]Num 3A'!$G$3:$O$138,5,FALSE),0)","v":0},{"$f":"IFERROR(VLOOKUP($B116,'[1]Num 3A'!$G$3:$O$138,6,FALSE),0)","v":13},{"$f":"IFERROR(VLOOKUP($B116,'[1]Num 3A'!$G$3:$O$138,7,FALSE),0)","v":0},{"$f":"IFERROR(VLOOKUP($B116,'[1]Num 3A'!$G$3:$O$138,8,FALSE),0)","v":0},{"$nulls":5},31]
["04301-OVALLE","105722-CECOF SAN JOSE DE LA DEHESA",null,null,{"$f":"IFERROR(VLOOKUP($B117,'[1]Num 3A'!$G$3:$O$138,2,FALSE),0)","v":24},{"$f":"IFERROR(VLOOKUP($B117,'[1]Num 3A'!$G$3:$O$138,3,FALSE),0)","v":17},{"$f":"IFERROR(VLOOKUP($B117,'[1]Num 3A'!$G$3:$O$138,4,FALSE),0)","v":42},{"$f":"IFERROR(VLOOKUP($B117,'[1]Num 3A'!$G$3:$O$138,5,FALSE),0)","v":39},{"$f":"IFERROR(VLOOKUP($B117,'[1]Num 3A'!$G$3:$O$138,6,FALSE),0)","v":24},{"$f":"IFERROR(VLOOKUP($B117,'[1]Num 3A'!$G$3:$O$138,7,FALSE),0)","v":14},{"$f":"IFERROR(VLOOKUP($B117,'[1]Num 3A'!$G$3:$O$138,8,FALSE),0)","v":18},{"$nulls":5},178]
["04301-OVALLE","105723-CECOF LIMARI",null,null,{"$f":"IFERROR(VLOOKUP($B118,'[1]Num 3A'!$G$3:$O$138,2,FALSE),0)","v":16},{"$f":"IFERROR(VLOOKUP($B118,'[1]Num 3A'!$G$3:$O$138,3,FALSE),0)","v":0},{"$f":"IFERROR(VLOOKUP($B118,'[1]Num 3A'!$G$3:$O$138,4,FALSE),0)","v":27},{"$f":"IFERROR(VLOOKUP($B118,'[1]Num 3A'!$G$3:$O$138,5,FALSE),0)","v":27},{"$f":"IFERROR(VLOOKUP($B118,'[1]Num 3A'!$G$3:$O$138,6,FALSE),0)","v":3},{"$f":"IFERROR(VLOOKUP($B118,'[1]Num 3A'!$G$3:$O$138,7,FALSE),0)","v":0},{"$f":"IFERROR(VLOOKUP($B118,'[1]Num 3A'!$G$3:$O$138,8,FALSE),0)","v":12},{"$nulls":5},85]
["04301-OVALLE","200258-CECOF LOS COPIHUES",null,null,{"$f":"IFERROR(VLOOKUP($B119,'[1]Num 3A'!$G$3:$O$138,2,FALSE),0)","v":18},{"$f":"IFERROR(VLOOKUP($B119,'[1]Num 3A'!$G$3:$O$138,3,FALSE),0)","v":14},{"$f":"IFERROR(VLOOKUP($B119,'[1]Num 3A'!$G$3:$O$138,4,FALSE),0)","v":20},{"$f":"IFERROR(VLOOKUP($B119,'[1]Num 3A'!$G$3:$O$138,5,FALSE),0)","v":13},{"$f":"IFERROR(VLOOKUP($B119,'[1]Num 3A'!$G$3:$O$138,6,FALSE),0)","v":0},{"$f":"IFERROR(VLOOKUP($B119,'[1]Num 3A'!$G$3:$O$138,7,FALSE),0)","v":13},{"$f":"IFERROR(VLOOKUP($B119,'[1]Num 3A'!$G$3:$O$138,8,FALSE),0)","v":0},{"$nulls":5},78]
["04301-OVALLE","200367-CECOF COLONIA LIMARÍ",null,null,{"$f":"IFERROR(VLOOKUP($B120,'[1]Num 3A'!$G$3:$O$138,2,FALSE),0)","v":10},{"$f":"IFERROR(VLOOKUP($B120,'[1]Num 3A'!$G$3:$O$138,3,FALSE),0)","v":15},{"$f":"IFERROR(VLOOKUP($B120,'[1]Num 3A'!$G$3:$O$138,4,FALSE),0)","v":18},{"$f":"IFERROR(VLOOKUP($B120,'[1]Num 3A'!$G$3:$O$138,5,FALSE),0)","v":21},{"$f":"IFERROR(VLOOKUP($B120,'[1]Num 3A'!$G$3:$O$138,6,FALSE),0)","v":33},{"$f":"IFERROR(VLOOKUP($B120,'[1]Num 3A'!$G$3:$O$138,7,FALSE),0)","v":18},{"$f":"IFERROR(VLOOKUP($B120,'[1]Num 3A'!$G$3:$O$138,8,FALSE),0)","v":16},{"$nulls":5},131]
["04301-OVALLE","200569-CESFAM FRAY JORGE",null,null,{"$f":"IFERROR(VLOOKUP($B121,'[1]Num 3A'!$G$3:$O$138,2,FALSE),0)","v":75},{"$f":"IFERROR(VLOOKUP($B121,'[1]Num 3A'!$G$3:$O$138,3,FALSE),0)","v":83},{"$f":"IFERROR(VLOOKUP($B121,'[1]Num 3A'!$G$3:$O$138,4,FALSE),0)","v":135},{"$f":"IFERROR(VLOOKUP($B121,'[1]Num 3A'!$G$3:$O$138,5,FALSE),0)","v":146},{"$f":"IFERROR(VLOOKUP($B121,'[1]Num 3A'!$G$3:$O$138,6,FALSE),0)","v":132},{"$f":"IFERROR(VLOOKUP($B121,'[1]Num 3A'!$G$3:$O$138,7,FALSE),0)","v":84},{"$f":"IFERROR(VLOOKUP($B121,'[1]Num 3A'!$G$3:$O$138,8,FALSE),0)","v":104},{"$nulls":5},759]
["TOTAL OVALLE",null,{"$f":"D122/Metas!I14","v":{"v":0.7233651566883413,"d":"72.34%"}},{"$f":"Q122/R122","v":{"v":0.2025422438727356,"d":"20.25%"}},{"$f":"SUM(E104:E121)","v":356},301,511,472,344,307,370,0,0,0,0,0,2661,{"v":13138,"d":"13,138"}]
["04302-COMBARBALÁ","105433-P.S.R. SAN LORENZO",null,null,{"$f":"IFERROR(VLOOKUP($B123,'[1]Num 3A'!$G$3:$O$138,2,FALSE),0)","v":0},{"$f":"IFERROR(VLOOKUP($B123,'[1]Num 3A'!$G$3:$O$138,3,FALSE),0)","v":0},{"$f":"IFERROR(VLOOKUP($B123,'[1]Num 3A'!$G$3:$O$138,4,FALSE),0)","v":0},{"$f":"IFERROR(VLOOKUP($B123,'[1]Num 3A'!$G$3:$O$138,5,FALSE),0)","v":0},{"$f":"IFERROR(VLOOKUP($B123,'[1]Num 3A'!$G$3:$O$138,6,FALSE),0)","v":0},{"$f":"IFERROR(VLOOKUP($B123,'[1]Num 3A'!$G$3:$O$138,7,FALSE),0)","v":0},{"$f":"IFERROR(VLOOKUP($B123,'[1]Num 3A'!$G$3:$O$138,8,FALSE),0)","v":0},{"$nulls":5},{"$f":"SUM(E123:P123)","v":0}]
["04302-COMBARBALÁ","105434-P.S.R. SAN MARCOS",null,null,{"$f":"IFERROR(VLOOKUP($B124,'[1]Num 3A'!$G$3:$O$138,2,FALSE),0)","v":0},{"$f":"IFERROR(VLOOKUP($B124,'[1]Num 3A'!$G$3:$O$138,3,FALSE),0)","v":0},{"$f":"IFERROR(VLOOKUP($B124,'[1]Num 3A'!$G$3:$O$138,4,FALSE),0)","v":0},{"$f":"IFERROR(VLOOKUP($B124,'[1]Num 3A'!$G$3:$O$138,5,FALSE),0)","v":0},{"$f":"IFERROR(VLOOKUP($B124,'[1]Num 3A'!$G$3:$O$138,6,FALSE),0)","v":0},{"$f":"IFERROR(VLOOKUP($B124,'[1]Num 3A'!$G$3:$O$138,7,FALSE),0)","v":0},{"$f":"IFERROR(VLOOKUP($B124,'[1]Num 3A'!$G$3:$O$138,8,FALSE),0)","v":0},{"$nulls":5},0]
["04302-COMBARBALÁ","105441-P.S.R. MANQUEHUA",null,null,{"$f":"IFERROR(VLOOKUP($B125,'[1]Num 3A'!$G$3:$O$138,2,FALSE),0)","v":0},{"$f":"IFERROR(VLOOKUP($B125,'[1]Num 3A'!$G$3:$O$138,3,FALSE),0)","v":0},{"$f":"IFERROR(VLOOKUP($B125,'[1]Num 3A'!$G$3:$O$138,4,FALSE),0)","v":0},{"$f":"IFERROR(VLOOKUP($B125,'[1]Num 3A'!$G$3:$O$138,5,FALSE),0)","v":0},{"$f":"IFERROR(VLOOKUP($B125,'[1]Num 3A'!$G$3:$O$138,6,FALSE),0)","v":0},{"$f":"IFERROR(VLOOKUP($B125,'[1]Num 3A'!$G$3:$O$138,7,FALSE),0)","v":0},{"$f":"IFERROR(VLOOKUP($B125,'[1]Num 3A'!$G$3:$O$138,8,FALSE),0)","v":0},{"$nulls":5},0]
["04302-COMBARBALÁ","105459-P.S.R. BARRANCAS                ",null,null,{"$f":"IFERROR(VLOOKUP($B126,'[1]Num 3A'!$G$3:$O$138,2,FALSE),0)","v":10},{"$f":"IFERROR(VLOOKUP($B126,'[1]Num 3A'!$G$3:$O$138,3,FALSE),0)","v":0},{"$f":"IFERROR(VLOOKUP($B126,'[1]Num 3A'!$G$3:$O$138,4,FALSE),0)","v":0},{"$f":"IFERROR(VLOOKUP($B126,'[1]Num 3A'!$G$3:$O$138,5,FALSE),0)","v":0},{"$f":"IFERROR(VLOOKUP($B126,'[1]Num 3A'!$G$3:$O$138,6,FALSE),0)","v":0},{"$f":"IFERROR(VLOOKUP($B126,'[1]Num 3A'!$G$3:$O$138,7,FALSE),0)","v":0},{"$f":"IFERROR(VLOOKUP($B126,'[1]Num 3A'!$G$3:$O$138,8,FALSE),0)","v":0},{"$nulls":5},10]
["04302-COMBARBALÁ","105460-P.S.R. COGOTI 18",null,null,{"$f":"IFERROR(VLOOKUP($B127,'[1]Num 3A'!$G$3:$O$138,2,FALSE),0)","v":0},{"$f":"IFERROR(VLOOKUP($B127,'[1]Num 3A'!$G$3:$O$138,3,FALSE),0)","v":0},{"$f":"IFERROR(VLOOKUP($B127,'[1]Num 3A'!$G$3:$O$138,4,FALSE),0)","v":0},{"$f":"IFERROR(VLOOKUP($B127,'[1]Num 3A'!$G$3:$O$138,5,FALSE),0)","v":0},{"$f":"IFERROR(VLOOKUP($B127,'[1]Num 3A'!$G$3:$O$138,6,FALSE),0)","v":0},{"$f":"IFERROR(VLOOKUP($B127,'[1]Num 3A'!$G$3:$O$138,7,FALSE),0)","v":0},{"$f":"IFERROR(VLOOKUP($B127,'[1]Num 3A'!$G$3:$O$138,8,FALSE),0)","v":3},{"$nulls":5},3]
["04302-COMBARBALÁ","105461-P.S.R. EL HUACHO",null,null,{"$f":"IFERROR(VLOOKUP($B128,'[1]Num 3A'!$G$3:$O$138,2,FALSE),0)","v":0},{"$f":"IFERROR(VLOOKUP($B128,'[1]Num 3A'!$G$3:$O$138,3,FALSE),0)","v":0},{"$f":"IFERROR(VLOOKUP($B128,'[1]Num 3A'!$G$3:$O$138,4,FALSE),0)","v":0},{"$f":"IFERROR(VLOOKUP($B128,'[1]Num 3A'!$G$3:$O$138,5,FALSE),0)","v":0},{"$f":"IFERROR(VLOOKUP($B128,'[1]Num 3A'!$G$3:$O$138,6,FALSE),0)","v":0},{"$f":"IFERROR(VLOOKUP($B128,'[1]Num 3A'!$G$3:$O$138,7,FALSE),0)","v":0},{"$f":"IFERROR(VLOOKUP($B128,'[1]Num 3A'!$G$3:$O$138,8,FALSE),0)","v":0},{"$nulls":5},0]
["04302-COMBARBALÁ","105462-P.S.R. EL SAUCE",null,null,{"$f":"IFERROR(VLOOKUP($B129,'[1]Num 3A'!$G$3:$O$138,2,FALSE),0)","v":0},{"$f":"IFERROR(VLOOKUP($B129,'[1]Num 3A'!$G$3:$O$138,3,FALSE),0)","v":0},{"$f":"IFERROR(VLOOKUP($B129,'[1]Num 3A'!$G$3:$O$138,4,FALSE),0)","v":0},{"$f":"IFERROR(VLOOKUP($B129,'[1]Num 3A'!$G$3:$O$138,5,FALSE),0)","v":0},{"$f":"IFERROR(VLOOKUP($B129,'[1]Num 3A'!$G$3:$O$138,6,FALSE),0)","v":0},{"$f":"IFERROR(VLOOKUP($B129,'[1]Num 3A'!$G$3:$O$138,7,FALSE),0)","v":28},{"$f":"IFERROR(VLOOKUP($B129,'[1]Num 3A'!$G$3:$O$138,8,FALSE),0)","v":1},{"$nulls":5},29]
["04302-COMBARBALÁ","105463-P.S.R. QUILITAPIA",null,null,{"$f":"IFERROR(VLOOKUP($B130,'[1]Num 3A'!$G$3:$O$138,2,FALSE),0)","v":0},{"$f":"IFERROR(VLOOKUP($B130,'[1]Num 3A'!$G$3:$O$138,3,FALSE),0)","v":0},{"$f":"IFERROR(VLOOKUP($B130,'[1]Num 3A'!$G$3:$O$138,4,FALSE),0)","v":22},{"$f":"IFERROR(VLOOKUP($B130,'[1]Num 3A'!$G$3:$O$138,5,FALSE),0)","v":0},{"$f":"IFERROR(VLOOKUP($B130,'[1]Num 3A'!$G$3:$O$138,6,FALSE),0)","v":0},{"$f":"IFERROR(VLOOKUP($B130,'[1]Num 3A'!$G$3:$O$138,7,FALSE),0)","v":0},{"$f":"IFERROR(VLOOKUP($B130,'[1]Num 3A'!$G$3:$O$138,8,FALSE),0)","v":0},{"$nulls":5},22]
["04302-COMBARBALÁ","105464-P.S.R. LA LIGUA",null,null,{"$f":"IFERROR(VLOOKUP($B131,'[1]Num 3A'!$G$3:$O$138,2,FALSE),0)","v":0},{"$f":"IFERROR(VLOOKUP($B131,'[1]Num 3A'!$G$3:$O$138,3,FALSE),0)","v":0},{"$f":"IFERROR(VLOOKUP($B131,'[1]Num 3A'!$G$3:$O$138,4,FALSE),0)","v":0},{"$f":"IFERROR(VLOOKUP($B131,'[1]Num 3A'!$G$3:$O$138,5,FALSE),0)","v":0},{"$f":"IFERROR(VLOOKUP($B131,'[1]Num 3A'!$G$3:$O$138,6,FALSE),0)","v":0},{"$f":"IFERROR(VLOOKUP($B131,'[1]Num 3A'!$G$3:$O$138,7,FALSE),0)","v":0},{"$f":"IFERROR(VLOOKUP($B131,'[1]Num 3A'!$G$3:$O$138,8,FALSE),0)","v":0},{"$nulls":5},0]
["04302-COMBARBALÁ","105465-P.S.R. RAMADILLA",null,null,{"$f":"IFERROR(VLOOKUP($B132,'[1]Num 3A'!$G$3:$O$138,2,FALSE),0)","v":0},{"$f":"IFERROR(VLOOKUP($B132,'[1]Num 3A'!$G$3:$O$138,3,FALSE),0)","v":0},{"$f":"IFERROR(VLOOKUP($B132,'[1]Num 3A'!$G$3:$O$138,4,FALSE),0)","v":0},{"$f":"IFERROR(VLOOKUP($B132,'[1]Num 3A'!$G$3:$O$138,5,FALSE),0)","v":0},{"$f":"IFERROR(VLOOKUP($B132,'[1]Num 3A'!$G$3:$O$138,6,FALSE),0)","v":0},{"$f":"IFERROR(VLOOKUP($B132,'[1]Num 3A'!$G$3:$O$138,7,FALSE),0)","v":0},{"$f":"IFERROR(VLOOKUP($B132,'[1]Num 3A'!$G$3:$O$138,8,FALSE),0)","v":0},{"$nulls":5},0]
["04302-COMBARBALÁ","105466-P.S.R. VALLE HERMOSO",null,null,{"$f":"IFERROR(VLOOKUP($B133,'[1]Num 3A'!$G$3:$O$138,2,FALSE),0)","v":0},{"$f":"IFERROR(VLOOKUP($B133,'[1]Num 3A'!$G$3:$O$138,3,FALSE),0)","v":0},{"$f":"IFERROR(VLOOKUP($B133,'[1]Num 3A'!$G$3:$O$138,4,FALSE),0)","v":14},{"$f":"IFERROR(VLOOKUP($B133,'[1]Num 3A'!$G$3:$O$138,5,FALSE),0)","v":1},{"$f":"IFERROR(VLOOKUP($B133,'[1]Num 3A'!$G$3:$O$138,6,FALSE),0)","v":0},{"$f":"IFERROR(VLOOKUP($B133,'[1]Num 3A'!$G$3:$O$138,7,FALSE),0)","v":0},{"$f":"IFERROR(VLOOKUP($B133,'[1]Num 3A'!$G$3:$O$138,8,FALSE),0)","v":0},{"$nulls":5},15]
["04302-COMBARBALÁ","105490-P.S.R. EL DURAZNO",null,null,{"$f":"IFERROR(VLOOKUP($B134,'[1]Num 3A'!$G$3:$O$138,2,FALSE),0)","v":5},{"$f":"IFERROR(VLOOKUP($B134,'[1]Num 3A'!$G$3:$O$138,3,FALSE),0)","v":0},{"$f":"IFERROR(VLOOKUP($B134,'[1]Num 3A'!$G$3:$O$138,4,FALSE),0)","v":4},{"$f":"IFERROR(VLOOKUP($B134,'[1]Num 3A'!$G$3:$O$138,5,FALSE),0)","v":0},{"$f":"IFERROR(VLOOKUP($B134,'[1]Num 3A'!$G$3:$O$138,6,FALSE),0)","v":0},{"$f":"IFERROR(VLOOKUP($B134,'[1]Num 3A'!$G$3:$O$138,7,FALSE),0)","v":0},{"$f":"IFERROR(VLOOKUP($B134,'[1]Num 3A'!$G$3:$O$138,8,FALSE),0)","v":0},{"$nulls":5},9]
["TOTAL COMBARBALÁ",null,{"$f":"D135/Metas!I15","v":{"v":0.26642446260974867,"d":"26.64%"}},{"$f":"Q135/R135","v":{"v":0.23978201634877383,"d":"23.98%"}},{"$f":"SUM(E123:E134)","v":15},{"$f":"SUM(F123:F134)","v":0},{"$f":"SUM(G123:G134)","v":40},{"$f":"SUM(H123:H134)","v":1},{"$f":"SUM(I123:I134)","v":0},28,4,0,0,0,{"$f":"SUM(O123:O134)","v":0},{"$f":"SUM(P123:P134)","v":0},{"$f":"SUM(Q123:Q134)","v":88},367]
["04304-MONTE PATRIA","105307-CES. RURAL MONTE PATRIA",null,null,{"$f":"IFERROR(VLOOKUP($B136,'[1]Num 3A'!$G$3:$O$138,2,FALSE),0)","v":74},{"$f":"IFERROR(VLOOKUP($B136,'[1]Num 3A'!$G$3:$O$138,3,FALSE),0)","v":52},{"$f":"IFERROR(VLOOKUP($B136,'[1]Num 3A'!$G$3:$O$138,4,FALSE),0)","v":73},{"$f":"IFERROR(VLOOKUP($B136,'[1]Num 3A'!$G$3:$O$138,5,FALSE),0)","v":42},{"$f":"IFERROR(VLOOKUP($B136,'[1]Num 3A'!$G$3:$O$138,6,FALSE),0)","v":74},{"$f":"IFERROR(VLOOKUP($B136,'[1]Num 3A'!$G$3:$O$138,7,FALSE),0)","v":51},{"$f":"IFERROR(VLOOKUP($B136,'[1]Num 3A'!$G$3:$O$138,8,FALSE),0)","v":40},{"$nulls":5},{"$f":"SUM(E136:P136)","v":406}]
["04304-MONTE PATRIA","105311-CES. RURAL CHAÑARAL ALTO",null,null,{"$f":"IFERROR(VLOOKUP($B137,'[1]Num 3A'!$G$3:$O$138,2,FALSE),0)","v":24},{"$f":"IFERROR(VLOOKUP($B137,'[1]Num 3A'!$G$3:$O$138,3,FALSE),0)","v":0},{"$f":"IFERROR(VLOOKUP($B137,'[1]Num 3A'!$G$3:$O$138,4,FALSE),0)","v":0},{"$f":"IFERROR(VLOOKUP($B137,'[1]Num 3A'!$G$3:$O$138,5,FALSE),0)","v":23},{"$f":"IFERROR(VLOOKUP($B137,'[1]Num 3A'!$G$3:$O$138,6,FALSE),0)","v":27},{"$f":"IFERROR(VLOOKUP($B137,'[1]Num 3A'!$G$3:$O$138,7,FALSE),0)","v":0},{"$f":"IFERROR(VLOOKUP($B137,'[1]Num 3A'!$G$3:$O$138,8,FALSE),0)","v":14},{"$nulls":5},88]
["04304-MONTE PATRIA","105312-CES. RURAL CAREN",null,null,{"$f":"IFERROR(VLOOKUP($B138,'[1]Num 3A'!$G$3:$O$138,2,FALSE),0)","v":0},{"$f":"IFERROR(VLOOKUP($B138,'[1]Num 3A'!$G$3:$O$138,3,FALSE),0)","v":34},{"$f":"IFERROR(VLOOKUP($B138,'[1]Num 3A'!$G$3:$O$138,4,FALSE),0)","v":25},{"$f":"IFERROR(VLOOKUP($B138,'[1]Num 3A'!$G$3:$O$138,5,FALSE),0)","v":8},{"$f":"IFERROR(VLOOKUP($B138,'[1]Num 3A'!$G$3:$O$138,6,FALSE),0)","v":11},{"$f":"IFERROR(VLOOKUP($B138,'[1]Num 3A'!$G$3:$O$138,7,FALSE),0)","v":6},{"$f":"IFERROR(VLOOKUP($B138,'[1]Num 3A'!$G$3:$O$138,8,FALSE),0)","v":6},{"$nulls":5},90]
["04304-MONTE PATRIA","105318-CES. RURAL EL PALQUI",null,null,{"$f":"IFERROR(VLOOKUP($B139,'[1]Num 3A'!$G$3:$O$138,2,FALSE),0)","v":40},{"$f":"IFERROR(VLOOKUP($B139,'[1]Num 3A'!$G$3:$O$138,3,FALSE),0)","v":40},{"$f":"IFERROR(VLOOKUP($B139,'[1]Num 3A'!$G$3:$O$138,4,FALSE),0)","v":47},{"$f":"IFERROR(VLOOKUP($B139,'[1]Num 3A'!$G$3:$O$138,5,FALSE),0)","v":48},{"$f":"IFERROR(VLOOKUP($B139,'[1]Num 3A'!$G$3:$O$138,6,FALSE),0)","v":47},{"$f":"IFERROR(VLOOKUP($B139,'[1]Num 3A'!$G$3:$O$138,7,FALSE),0)","v":50},{"$f":"IFERROR(VLOOKUP($B139,'[1]Num 3A'!$G$3:$O$138,8,FALSE),0)","v":47},{"$nulls":5},319]
["04304-MONTE PATRIA","105425-P.S.R. CHILECITO",null,null,{"$f":"IFERROR(VLOOKUP($B140,'[1]Num 3A'!$G$3:$O$138,2,FALSE),0)","v":0},{"$f":"IFERROR(VLOOKUP($B140,'[1]Num 3A'!$G$3:$O$138,3,FALSE),0)","v":0},{"$f":"IFERROR(VLOOKUP($B140,'[1]Num 3A'!$G$3:$O$138,4,FALSE),0)","v":0},{"$f":"IFERROR(VLOOKUP($B140,'[1]Num 3A'!$G$3:$O$138,5,FALSE),0)","v":0},{"$f":"IFERROR(VLOOKUP($B140,'[1]Num 3A'!$G$3:$O$138,6,FALSE),0)","v":0},{"$f":"IFERROR(VLOOKUP($B140,'[1]Num 3A'!$G$3:$O$138,7,FALSE),0)","v":0},{"$f":"IFERROR(VLOOKUP($B140,'[1]Num 3A'!$G$3:$O$138,8,FALSE),0)","v":0},{"$nulls":5},0]
["04304-MONTE PATRIA","105427-P.S.R. HACIENDA VALDIVIA",null,null,{"$f":"IFERROR(VLOOKUP($B141,'[1]Num 3A'!$G$3:$O$138,2,FALSE),0)","v":4},{"$f":"IFERROR(VLOOKUP($B141,'[1]Num 3A'!$G$3:$O$138,3,FALSE),0)","v":0},{"$f":"IFERROR(VLOOKUP($B141,'[1]Num 3A'!$G$3:$O$138,4,FALSE),0)","v":0},{"$f":"IFERROR(VLOOKUP($B141,'[1]Num 3A'!$G$3:$O$138,5,FALSE),0)","v":0},{"$f":"IFERROR(VLOOKUP($B141,'[1]Num 3A'!$G$3:$O$138,6,FALSE),0)","v":3},{"$f":"IFERROR(VLOOKUP($B141,'[1]Num 3A'!$G$3:$O$138,7,FALSE),0)","v":5},{"$f":"IFERROR(VLOOKUP($B141,'[1]Num 3A'!$G$3:$O$138,8,FALSE),0)","v":0},{"$nulls":5},12]
["04304-MONTE PATRIA","105428-P.S.R. HUATULAME",null,null,{"$f":"IFERROR(VLOOKUP($B142,'[1]Num 3A'!$G$3:$O$138,2,FALSE),0)","v":0},{"$f":"IFERROR(VLOOKUP($B142,'[1]Num 3A'!$G$3:$O$138,3,FALSE),0)","v":0},{"$f":"IFERROR(VLOOKUP($B142,'[1]Num 3A'!$G$3:$O$138,4,FALSE),0)","v":0},{"$f":"IFERROR(VLOOKUP($B142,'[1]Num 3A'!$G$3:$O$138,5,FALSE),0)","v":2},{"$f":"IFERROR(VLOOKUP($B142,'[1]Num 3A'!$G$3:$O$138,6,FALSE),0)","v":0},{"$f":"IFERROR(VLOOKUP($B142,'[1]Num 3A'!$G$3:$O$138,7,FALSE),0)","v":0},{"$f":"IFERROR(VLOOKUP($B142,'[1]Num 3A'!$G$3:$O$138,8,FALSE),0)","v":0},{"$nulls":5},2]
["04304-MONTE PATRIA","105430-P.S.R. MIALQUI",null,null,{"$f":"IFERROR(VLOOKUP($B143,'[1]Num 3A'!$G$3:$O$138,2,FALSE),0)","v":0},{"$f":"IFERROR(VLOOKUP($B143,'[1]Num 3A'!$G$3:$O$138,3,FALSE),0)","v":0},{"$f":"IFERROR(VLOOKUP($B143,'[1]Num 3A'!$G$3:$O$138,4,FALSE),0)","v":0},{"$f":"IFERROR(VLOOKUP($B143,'[1]Num 3A'!$G$3:$O$138,5,FALSE),0)","v":0},{"$f":"IFERROR(VLOOKUP($B143,'[1]Num 3A'!$G$3:$O$138,6,FALSE),0)","v":0},{"$f":"IFERROR(VLOOKUP($B143,'[1]Num 3A'!$G$3:$O$138,7,FALSE),0)","v":0},{"$f":"IFERROR(VLOOKUP($B143,'[1]Num 3A'!$G$3:$O$138,8,FALSE),0)","v":0},{"$nulls":5},0]
["04304-MONTE PATRIA","105431-P.S.R. PEDREGAL",null,null,{"$f":"IFERROR(VLOOKUP($B144,'[1]Num 3A'!$G$3:$O$138,2,FALSE),0)","v":0},{"$f":"IFERROR(VLOOKUP($B144,'[1]Num 3A'!$G$3:$O$138,3,FALSE),0)","v":2},{"$f":"IFERROR(VLOOKUP($B144,'[1]Num 3A'!$G$3:$O$138,4,FALSE),0)","v":2},{"$f":"IFERROR(VLOOKUP($B144,'[1]Num 3A'!$G$3:$O$138,5,FALSE),0)","v":5},{"$f":"IFERROR(VLOOKUP($B144,'[1]Num 3A'!$G$3:$O$138,6,FALSE),0)","v":2},{"$f":"IFERROR(VLOOKUP($B144,'[1]Num 3A'!$G$3:$O$138,7,FALSE),0)","v":2},{"$f":"IFERROR(VLOOKUP($B144,'[1]Num 3A'!$G$3:$O$138,8,FALSE),0)","v":1},{"$nulls":5},14]
["04304-MONTE PATRIA","105432-P.S.R. RAPEL",null,null,{"$f":"IFERROR(VLOOKUP($B145,'[1]Num 3A'!$G$3:$O$138,2,FALSE),0)","v":5},{"$f":"IFERROR(VLOOKUP($B145,'[1]Num 3A'!$G$3:$O$138,3,FALSE),0)","v":0},{"$f":"IFERROR(VLOOKUP($B145,'[1]Num 3A'!$G$3:$O$138,4,FALSE),0)","v":4},{"$f":"IFERROR(VLOOKUP($B145,'[1]Num 3A'!$G$3:$O$138,5,FALSE),0)","v":0},{"$f":"IFERROR(VLOOKUP($B145,'[1]Num 3A'!$G$3:$O$138,6,FALSE),0)","v":5},{"$f":"IFERROR(VLOOKUP($B145,'[1]Num 3A'!$G$3:$O$138,7,FALSE),0)","v":0},{"$f":"IFERROR(VLOOKUP($B145,'[1]Num 3A'!$G$3:$O$138,8,FALSE),0)","v":7},{"$nulls":5},21]
["04304-MONTE PATRIA","105435-P.S.R. TULAHUEN",null,null,{"$f":"IFERROR(VLOOKUP($B146,'[1]Num 3A'!$G$3:$O$138,2,FALSE),0)","v":0},{"$f":"IFERROR(VLOOKUP($B146,'[1]Num 3A'!$G$3:$O$138,3,FALSE),0)","v":6},{"$f":"IFERROR(VLOOKUP($B146,'[1]Num 3A'!$G$3:$O$138,4,FALSE),0)","v":1},{"$f":"IFERROR(VLOOKUP($B146,'[1]Num 3A'!$G$3:$O$138,5,FALSE),0)","v":6},{"$f":"IFERROR(VLOOKUP($B146,'[1]Num 3A'!$G$3:$O$138,6,FALSE),0)","v":6},{"$f":"IFERROR(VLOOKUP($B146,'[1]Num 3A'!$G$3:$O$138,7,FALSE),0)","v":1},{"$f":"IFERROR(VLOOKUP($B146,'[1]Num 3A'!$G$3:$O$138,8,FALSE),0)","v":7},{"$nulls":5},27]
["04304-MONTE PATRIA","105436-P.S.R. EL MAITEN",null,null,{"$f":"IFERROR(VLOOKUP($B147,'[1]Num 3A'!$G$3:$O$138,2,FALSE),0)","v":0},{"$f":"IFERROR(VLOOKUP($B147,'[1]Num 3A'!$G$3:$O$138,3,FALSE),0)","v":5},{"$f":"IFERROR(VLOOKUP($B147,'[1]Num 3A'!$G$3:$O$138,4,FALSE),0)","v":1},{"$f":"IFERROR(VLOOKUP($B147,'[1]Num 3A'!$G$3:$O$138,5,FALSE),0)","v":1},{"$f":"IFERROR(VLOOKUP($B147,'[1]Num 3A'!$G$3:$O$138,6,FALSE),0)","v":4},{"$f":"IFERROR(VLOOKUP($B147,'[1]Num 3A'!$G$3:$O$138,7,FALSE),0)","v":2},{"$f":"IFERROR(VLOOKUP($B147,'[1]Num 3A'!$G$3:$O$138,8,FALSE),0)","v":0},{"$nulls":5},13]
["04304-MONTE PATRIA","105489-P.S.R. RAMADAS DE TULAHUEN",null,null,{"$f":"IFERROR(VLOOKUP($B148,'[1]Num 3A'!$G$3:$O$138,2,FALSE),0)","v":0},{"$f":"IFERROR(VLOOKUP($B148,'[1]Num 3A'!$G$3:$O$138,3,FALSE),0)","v":3},{"$f":"IFERROR(VLOOKUP($B148,'[1]Num 3A'!$G$3:$O$138,4,FALSE),0)","v":0},{"$f":"IFERROR(VLOOKUP($B148,'[1]Num 3A'!$G$3:$O$138,5,FALSE),0)","v":0},{"$f":"IFERROR(VLOOKUP($B148,'[1]Num 3A'!$G$3:$O$138,6,FALSE),0)","v":8},{"$f":"IFERROR(VLOOKUP($B148,'[1]Num 3A'!$G$3:$O$138,7,FALSE),0)","v":2},{"$f":"IFERROR(VLOOKUP($B148,'[1]Num 3A'!$G$3:$O$138,8,FALSE),0)","v":3},{"$nulls":5},16]
["TOTAL MONTE PATRIA",null,{"$f":"D149/Metas!I16","v":{"v":0.569212386242227,"d":"56.92%"}},{"$f":"Q149/R149","v":{"v":0.2743603701687534,"d":"27.44%"}},{"$f":"SUM(E136:E148)","v":147},{"$f":"SUM(F136:F148)","v":142},{"$f":"SUM(G136:G148)","v":153},{"$f":"SUM(H136:H148)","v":135},{"$f":"SUM(I136:I148)","v":187},119,125,0,0,0,{"$f":"SUM(O136:O148)","v":0},{"$f":"SUM(P136:P148)","v":0},{"$f":"SUM(Q136:Q148)","v":1008},{"v":3674,"d":"3,674"}]
["04304-PUNITAQUI","105308-CES. RURAL PUNITAQUI",null,null,{"$f":"IFERROR(VLOOKUP($B150,'[1]Num 3A'!$G$3:$O$138,2,FALSE),0)","v":89},{"$f":"IFERROR(VLOOKUP($B150,'[1]Num 3A'!$G$3:$O$138,3,FALSE),0)","v":33},{"$f":"IFERROR(VLOOKUP($B150,'[1]Num 3A'!$G$3:$O$138,4,FALSE),0)","v":93},{"$f":"IFERROR(VLOOKUP($B150,'[1]Num 3A'!$G$3:$O$138,5,FALSE),0)","v":112},{"$f":"IFERROR(VLOOKUP($B150,'[1]Num 3A'!$G$3:$O$138,6,FALSE),0)","v":91},{"$f":"IFERROR(VLOOKUP($B150,'[1]Num 3A'!$G$3:$O$138,7,FALSE),0)","v":7},{"$f":"IFERROR(VLOOKUP($B150,'[1]Num 3A'!$G$3:$O$138,8,FALSE),0)","v":12},{"$nulls":5},{"$f":"SUM(E150:P150)","v":437}]
["04304-PUNITAQUI","105440-P.S.R. DIVISADERO",null,null,{"$f":"IFERROR(VLOOKUP($B151,'[1]Num 3A'!$G$3:$O$138,2,FALSE),0)","v":0},{"$f":"IFERROR(VLOOKUP($B151,'[1]Num 3A'!$G$3:$O$138,3,FALSE),0)","v":0},{"$f":"IFERROR(VLOOKUP($B151,'[1]Num 3A'!$G$3:$O$138,4,FALSE),0)","v":0},{"$f":"IFERROR(VLOOKUP($B151,'[1]Num 3A'!$G$3:$O$138,5,FALSE),0)","v":2},{"$f":"IFERROR(VLOOKUP($B151,'[1]Num 3A'!$G$3:$O$138,6,FALSE),0)","v":0},{"$f":"IFERROR(VLOOKUP($B151,'[1]Num 3A'!$G$3:$O$138,7,FALSE),0)","v":0},{"$f":"IFERROR(VLOOKUP($B151,'[1]Num 3A'!$G$3:$O$138,8,FALSE),0)","v":0},{"$nulls":5},{"$f":"SUM(E151:P151)","v":2}]
["04304-PUNITAQUI","105442-P.S.R. SAN PEDRO DE QUILES",null,null,{"$f":"IFERROR(VLOOKUP($B152,'[1]Num 3A'!$G$3:$O$138,2,FALSE),0)","v":0},{"$f":"IFERROR(VLOOKUP($B152,'[1]Num 3A'!$G$3:$O$138,3,FALSE),0)","v":0},{"$f":"IFERROR(VLOOKUP($B152,'[1]Num 3A'!$G$3:$O$138,4,FALSE),0)","v":0},{"$f":"IFERROR(VLOOKUP($B152,'[1]Num 3A'!$G$3:$O$138,5,FALSE),0)","v":7},{"$f":"IFERROR(VLOOKUP($B152,'[1]Num 3A'!$G$3:$O$138,6,FALSE),0)","v":0},{"$f":"IFERROR(VLOOKUP($B152,'[1]Num 3A'!$G$3:$O$138,7,FALSE),0)","v":0},{"$f":"IFERROR(VLOOKUP($B152,'[1]Num 3A'!$G$3:$O$138,8,FALSE),0)","v":0},{"$nulls":5},{"$f":"SUM(E152:P152)","v":7}]
["04304-PUNITAQUI","105508-P.S.R. EL PARRAL DE QUILES  ",null,null,{"$f":"IFERROR(VLOOKUP($B153,'[1]Num 3A'!$G$3:$O$138,2,FALSE),0)","v":0},{"$f":"IFERROR(VLOOKUP($B153,'[1]Num 3A'!$G$3:$O$138,3,FALSE),0)","v":0},{"$f":"IFERROR(VLOOKUP($B153,'[1]Num 3A'!$G$3:$O$138,4,FALSE),0)","v":0},{"$f":"IFERROR(VLOOKUP($B153,'[1]Num 3A'!$G$3:$O$138,5,FALSE),0)","v":0},{"$f":"IFERROR(VLOOKUP($B153,'[1]Num 3A'!$G$3:$O$138,6,FALSE),0)","v":0},{"$f":"IFERROR(VLOOKUP($B153,'[1]Num 3A'!$G$3:$O$138,7,FALSE),0)","v":0},{"$f":"IFERROR(VLOOKUP($B153,'[1]Num 3A'!$G$3:$O$138,8,FALSE),0)","v":0},{"$nulls":5},{"$f":"SUM(E153:P153)","v":0}]
["TOTAL PUNITAQUI",null,{"$f":"D154/Metas!I17","v":{"v":0.4780124969186414,"d":"47.80%"}},{"$f":"Q154/R154","v":{"v":0.3011478730587441,"d":"30.11%"}},{"$f":"SUM(E150:E153)","v":89},{"$f":"SUM(F150:F153)","v":33},{"$f":"SUM(G150:G153)","v":93},{"$f":"SUM(H150:H153)","v":121},{"$f":"SUM(I150:I153)","v":91},7,12,0,0,0,{"$f":"SUM(O150:O153)","v":0},{"$f":"SUM(P150:P153)","v":0},{"$f":"SUM(Q150:Q153)","v":446},{"v":1481,"d":"1,481"}]
["04305-RIO HURTADO","105310-CES. RURAL PICHASCA",null,null,{"$f":"IFERROR(VLOOKUP($B155,'[1]Num 3A'!$G$3:$O$138,2,FALSE),0)","v":7},{"$f":"IFERROR(VLOOKUP($B155,'[1]Num 3A'!$G$3:$O$138,3,FALSE),0)","v":14},{"$f":"IFERROR(VLOOKUP($B155,'[1]Num 3A'!$G$3:$O$138,4,FALSE),0)","v":15},{"$f":"IFERROR(VLOOKUP($B155,'[1]Num 3A'!$G$3:$O$138,5,FALSE),0)","v":4},{"$f":"IFERROR(VLOOKUP($B155,'[1]Num 3A'!$G$3:$O$138,6,FALSE),0)","v":11},{"$f":"IFERROR(VLOOKUP($B155,'[1]Num 3A'!$G$3:$O$138,7,FALSE),0)","v":0},{"$f":"IFERROR(VLOOKUP($B155,'[1]Num 3A'!$G$3:$O$138,8,FALSE),0)","v":0},{"$nulls":5},{"$f":"SUM(E155:P155)","v":51}]
["04305-RIO HURTADO","105409-P.S.R. EL CHAÑAR",null,null,{"$f":"IFERROR(VLOOKUP($B156,'[1]Num 3A'!$G$3:$O$138,2,FALSE),0)","v":0},{"$f":"IFERROR(VLOOKUP($B156,'[1]Num 3A'!$G$3:$O$138,3,FALSE),0)","v":0},{"$f":"IFERROR(VLOOKUP($B156,'[1]Num 3A'!$G$3:$O$138,4,FALSE),0)","v":0},{"$f":"IFERROR(VLOOKUP($B156,'[1]Num 3A'!$G$3:$O$138,5,FALSE),0)","v":11},{"$f":"IFERROR(VLOOKUP($B156,'[1]Num 3A'!$G$3:$O$138,6,FALSE),0)","v":0},{"$f":"IFERROR(VLOOKUP($B156,'[1]Num 3A'!$G$3:$O$138,7,FALSE),0)","v":11},{"$f":"IFERROR(VLOOKUP($B156,'[1]Num 3A'!$G$3:$O$138,8,FALSE),0)","v":0},{"$nulls":5},22]
["04305-RIO HURTADO","105410-P.S.R. HURTADO",null,null,{"$f":"IFERROR(VLOOKUP($B157,'[1]Num 3A'!$G$3:$O$138,2,FALSE),0)","v":6},{"$f":"IFERROR(VLOOKUP($B157,'[1]Num 3A'!$G$3:$O$138,3,FALSE),0)","v":0},{"$f":"IFERROR(VLOOKUP($B157,'[1]Num 3A'!$G$3:$O$138,4,FALSE),0)","v":0},{"$f":"IFERROR(VLOOKUP($B157,'[1]Num 3A'!$G$3:$O$138,5,FALSE),0)","v":0},{"$f":"IFERROR(VLOOKUP($B157,'[1]Num 3A'!$G$3:$O$138,6,FALSE),0)","v":0},{"$f":"IFERROR(VLOOKUP($B157,'[1]Num 3A'!$G$3:$O$138,7,FALSE),0)","v":0},{"$f":"IFERROR(VLOOKUP($B157,'[1]Num 3A'!$G$3:$O$138,8,FALSE),0)","v":0},{"$nulls":5},6]
["04305-RIO HURTADO","105411-P.S.R. LAS BREAS",null,null,{"$f":"IFERROR(VLOOKUP($B158,'[1]Num 3A'!$G$3:$O$138,2,FALSE),0)","v":3},{"$f":"IFERROR(VLOOKUP($B158,'[1]Num 3A'!$G$3:$O$138,3,FALSE),0)","v":2},{"$f":"IFERROR(VLOOKUP($B158,'[1]Num 3A'!$G$3:$O$138,4,FALSE),0)","v":1},{"$f":"IFERROR(VLOOKUP($B158,'[1]Num 3A'!$G$3:$O$138,5,FALSE),0)","v":3},{"$f":"IFERROR(VLOOKUP($B158,'[1]Num 3A'!$G$3:$O$138,6,FALSE),0)","v":0},{"$f":"IFERROR(VLOOKUP($B158,'[1]Num 3A'!$G$3:$O$138,7,FALSE),0)","v":3},{"$f":"IFERROR(VLOOKUP($B158,'[1]Num 3A'!$G$3:$O$138,8,FALSE),0)","v":0},{"$nulls":5},12]
["04305-RIO HURTADO","105413-P.S.R. SAMO ALTO",null,null,{"$f":"IFERROR(VLOOKUP($B159,'[1]Num 3A'!$G$3:$O$138,2,FALSE),0)","v":5},{"$f":"IFERROR(VLOOKUP($B159,'[1]Num 3A'!$G$3:$O$138,3,FALSE),0)","v":0},{"$f":"IFERROR(VLOOKUP($B159,'[1]Num 3A'!$G$3:$O$138,4,FALSE),0)","v":1},{"$f":"IFERROR(VLOOKUP($B159,'[1]Num 3A'!$G$3:$O$138,5,FALSE),0)","v":9},{"$f":"IFERROR(VLOOKUP($B159,'[1]Num 3A'!$G$3:$O$138,6,FALSE),0)","v":1},{"$f":"IFERROR(VLOOKUP($B159,'[1]Num 3A'!$G$3:$O$138,7,FALSE),0)","v":0},{"$f":"IFERROR(VLOOKUP($B159,'[1]Num 3A'!$G$3:$O$138,8,FALSE),0)","v":0},{"$nulls":5},16]
["04305-RIO HURTADO","105414-P.S.R. SERON",null,null,{"$f":"IFERROR(VLOOKUP($B160,'[1]Num 3A'!$G$3:$O$138,2,FALSE),0)","v":2},{"$f":"IFERROR(VLOOKUP($B160,'[1]Num 3A'!$G$3:$O$138,3,FALSE),0)","v":6},{"$f":"IFERROR(VLOOKUP($B160,'[1]Num 3A'!$G$3:$O$138,4,FALSE),0)","v":6},{"$f":"IFERROR(VLOOKUP($B160,'[1]Num 3A'!$G$3:$O$138,5,FALSE),0)","v":4},{"$f":"IFERROR(VLOOKUP($B160,'[1]Num 3A'!$G$3:$O$138,6,FALSE),0)","v":0},{"$f":"IFERROR(VLOOKUP($B160,'[1]Num 3A'!$G$3:$O$138,7,FALSE),0)","v":0},{"$f":"IFERROR(VLOOKUP($B160,'[1]Num 3A'!$G$3:$O$138,8,FALSE),0)","v":0},{"$nulls":5},18]
["04305-RIO HURTADO","105503-P.S.R. TABAQUEROS",null,null,{"$f":"IFERROR(VLOOKUP($B161,'[1]Num 3A'!$G$3:$O$138,2,FALSE),0)","v":3},{"$f":"IFERROR(VLOOKUP($B161,'[1]Num 3A'!$G$3:$O$138,3,FALSE),0)","v":0},{"$f":"IFERROR(VLOOKUP($B161,'[1]Num 3A'!$G$3:$O$138,4,FALSE),0)","v":1},{"$f":"IFERROR(VLOOKUP($B161,'[1]Num 3A'!$G$3:$O$138,5,FALSE),0)","v":0},{"$f":"IFERROR(VLOOKUP($B161,'[1]Num 3A'!$G$3:$O$138,6,FALSE),0)","v":0},{"$f":"IFERROR(VLOOKUP($B161,'[1]Num 3A'!$G$3:$O$138,7,FALSE),0)","v":0},{"$f":"IFERROR(VLOOKUP($B161,'[1]Num 3A'!$G$3:$O$138,8,FALSE),0)","v":0},{"$nulls":5},4]
["TOTAL RIO HURTADO",null,{"$f":"D162/Metas!I18","v":{"v":0.3316181732928605,"d":"33.16%"}},{"$f":"Q162/R162","v":{"v":0.31009615384615385,"d":"31.01%"}},{"$f":"SUM(E155:E161)","v":26},{"$f":"SUM(F155:F161)","v":22},{"$f":"SUM(G155:G161)","v":24},{"$f":"SUM(H155:H161)","v":31},{"$f":"SUM(I155:I161)","v":12},14,0,0,0,0,{"$f":"SUM(O155:O161)","v":0},{"$f":"SUM(P155:P161)","v":0},{"$f":"SUM(Q155:Q161)","v":129},416]

{"sheet":"Meta 3B","index":4,"n_rows":162,"n_cols":18,"rows_kept":162,"merged":[[0,0,9,0],[0,1,9,1],[0,2,10,2],[0,3,9,3],[0,4,0,17],[1,4,8,16],[1,17,8,17],[9,4,9,16],[9,17,10,17],[25,0,25,1],[38,0,38,1],[43,0,43,1],[48,0,48,1],[59,0,59,1],[74,0,74,1],[85,0,85,1],[91,0,91,1],[102,0,102,1],[121,0,121,1],[134,0,134,1],[148,0,148,1],[153,0,153,1],[161,0,161,1]]}
["COMUNA","ESTABLECIMIENTO","CUMPLIMIENTO","Indicador","META 3b: NIÑOS Y NIÑAS DE 6 AÑOS LIBRES DE CARIES"]
[{"$nulls":4},"NUMERADOR",{"$nulls":12},"DENOMINADOR"]
{"$rows_empty":7}
[{"$nulls":4},"Nº de niños(as) de 6 años con ceod igual a 0",{"$nulls":12},"Nº total de niños(as) inscritos validados de 6 años"]
[{"$nulls":3},"Resultado","ENERO","FEBRERO","MARZO","ABRIL","MAYO","JUNIO","JULIO","AGOSTO","SEPBRE","OCTUBRE","NOVBRE","DICBRE","TOTAL"]
["04101-LA SERENA","105300-CES. CARDENAL CARO",null,null,{"$f":"IFERROR(VLOOKUP($B12,'[1]Num 3B'!$G$3:$O$140,2,FALSE),0)","v":21},{"$f":"IFERROR(VLOOKUP($B12,'[1]Num 3B'!$G$3:$O$140,3,FALSE),0)","v":2},{"$f":"IFERROR(VLOOKUP($B12,'[1]Num 3B'!$G$3:$O$140,4,FALSE),0)","v":2},{"$f":"IFERROR(VLOOKUP($B12,'[1]Num 3B'!$G$3:$O$140,5,FALSE),0)","v":4},{"$f":"IFERROR(VLOOKUP($B12,'[1]Num 3B'!$G$3:$O$140,6,FALSE),0)","v":6},{"$f":"IFERROR(VLOOKUP($B12,'[1]Num 3B'!$G$3:$O$140,7,FALSE),0)","v":3},{"$f":"IFERROR(VLOOKUP($B12,'[1]Num 3B'!$G$3:$O$140,8,FALSE),0)","v":14},{"$nulls":5},{"$f":"SUM(E12:P12)","v":52}]
["04101-LA SERENA","105301-CES. LAS COMPAÑIAS",null,null,{"$f":"IFERROR(VLOOKUP($B13,'[1]Num 3B'!$G$3:$O$140,2,FALSE),0)","v":0},{"$f":"IFERROR(VLOOKUP($B13,'[1]Num 3B'!$G$3:$O$140,3,FALSE),0)","v":6},{"$f":"IFERROR(VLOOKUP($B13,'[1]Num 3B'!$G$3:$O$140,4,FALSE),0)","v":9},{"$f":"IFERROR(VLOOKUP($B13,'[1]Num 3B'!$G$3:$O$140,5,FALSE),0)","v":10},{"$f":"IFERROR(VLOOKUP($B13,'[1]Num 3B'!$G$3:$O$140,6,FALSE),0)","v":18},{"$f":"IFERROR(VLOOKUP($B13,'[1]Num 3B'!$G$3:$O$140,7,FALSE),0)","v":24},{"$f":"IFERROR(VLOOKUP($B13,'[1]Num 3B'!$G$3:$O$140,8,FALSE),0)","v":1},{"$nulls":5},68]
["04101-LA SERENA","105302-CES. PEDRO AGUIRRE C.",null,null,{"$f":"IFERROR(VLOOKUP($B14,'[1]Num 3B'!$G$3:$O$140,2,FALSE),0)","v":11},{"$f":"IFERROR(VLOOKUP($B14,'[1]Num 3B'!$G$3:$O$140,3,FALSE),0)","v":6},{"$f":"IFERROR(VLOOKUP($B14,'[1]Num 3B'!$G$3:$O$140,4,FALSE),0)","v":0},{"$f":"IFERROR(VLOOKUP($B14,'[1]Num 3B'!$G$3:$O$140,5,FALSE),0)","v":3},{"$f":"IFERROR(VLOOKUP($B14,'[1]Num 3B'!$G$3:$O$140,6,FALSE),0)","v":12},{"$f":"IFERROR(VLOOKUP($B14,'[1]Num 3B'!$G$3:$O$140,7,FALSE),0)","v":9},{"$f":"IFERROR(VLOOKUP($B14,'[1]Num 3B'!$G$3:$O$140,8,FALSE),0)","v":10},{"$nulls":5},51]
["04101-LA SERENA","105313-CES. SCHAFFHAUSER",null,null,{"$f":"IFERROR(VLOOKUP($B15,'[1]Num 3B'!$G$3:$O$140,2,FALSE),0)","v":13},{"$f":"IFERROR(VLOOKUP($B15,'[1]Num 3B'!$G$3:$O$140,3,FALSE),0)","v":9},{"$f":"IFERROR(VLOOKUP($B15,'[1]Num 3B'!$G$3:$O$140,4,FALSE),0)","v":26},{"$f":"IFERROR(VLOOKUP($B15,'[1]Num 3B'!$G$3:$O$140,5,FALSE),0)","v":33},{"$f":"IFERROR(VLOOKUP($B15,'[1]Num 3B'!$G$3:$O$140,6,FALSE),0)","v":31},{"$f":"IFERROR(VLOOKUP($B15,'[1]Num 3B'!$G$3:$O$140,7,FALSE),0)","v":9},{"$f":"IFERROR(VLOOKUP($B15,'[1]Num 3B'!$G$3:$O$140,8,FALSE),0)","v":34},{"$nulls":5},155]
["04101-LA SERENA","105319-CES. CARDENAL R.S.H.",null,null,{"$f":"IFERROR(VLOOKUP($B16,'[1]Num 3B'!$G$3:$O$140,2,FALSE),0)","v":2},{"$f":"IFERROR(VLOOKUP($B16,'[1]Num 3B'!$G$3:$O$140,3,FALSE),0)","v":8},{"$f":"IFERROR(VLOOKUP($B16,'[1]Num 3B'!$G$3:$O$140,4,FALSE),0)","v":6},{"$f":"IFERROR(VLOOKUP($B16,'[1]Num 3B'!$G$3:$O$140,5,FALSE),0)","v":25},{"$f":"IFERROR(VLOOKUP($B16,'[1]Num 3B'!$G$3:$O$140,6,FALSE),0)","v":5},{"$f":"IFERROR(VLOOKUP($B16,'[1]Num 3B'!$G$3:$O$140,7,FALSE),0)","v":3},{"$f":"IFERROR(VLOOKUP($B16,'[1]Num 3B'!$G$3:$O$140,8,FALSE),0)","v":5},{"$nulls":5},54]
["04101-LA SERENA","105325-CESFAM JUAN PABLO II",null,null,{"$f":"IFERROR(VLOOKUP($B17,'[1]Num 3B'!$G$3:$O$140,2,FALSE),0)","v":10},{"$f":"IFERROR(VLOOKUP($B17,'[1]Num 3B'!$G$3:$O$140,3,FALSE),0)","v":3},{"$f":"IFERROR(VLOOKUP($B17,'[1]Num 3B'!$G$3:$O$140,4,FALSE),0)","v":7},{"$f":"IFERROR(VLOOKUP($B17,'[1]Num 3B'!$G$3:$O$140,5,FALSE),0)","v":3},{"$f":"IFERROR(VLOOKUP($B17,'[1]Num 3B'!$G$3:$O$140,6,FALSE),0)","v":2},{"$f":"IFERROR(VLOOKUP($B17,'[1]Num 3B'!$G$3:$O$140,7,FALSE),0)","v":0},{"$f":"IFERROR(VLOOKUP($B17,'[1]Num 3B'!$G$3:$O$140,8,FALSE),0)","v":4},{"$nulls":5},29]
["04101-LA SERENA","105400-P.S.R. ALGARROBITO            ",null,null,{"$f":"IFERROR(VLOOKUP($B18,'[1]Num 3B'!$G$3:$O$140,2,FALSE),0)","v":0},{"$f":"IFERROR(VLOOKUP($B18,'[1]Num 3B'!$G$3:$O$140,3,FALSE),0)","v":0},{"$f":"IFERROR(VLOOKUP($B18,'[1]Num 3B'!$G$3:$O$140,4,FALSE),0)","v":0},{"$f":"IFERROR(VLOOKUP($B18,'[1]Num 3B'!$G$3:$O$140,5,FALSE),0)","v":0},{"$f":"IFERROR(VLOOKUP($B18,'[1]Num 3B'!$G$3:$O$140,6,FALSE),0)","v":0},{"$f":"IFERROR(VLOOKUP($B18,'[1]Num 3B'!$G$3:$O$140,7,FALSE),0)","v":0},{"$f":"IFERROR(VLOOKUP($B18,'[1]Num 3B'!$G$3:$O$140,8,FALSE),0)","v":0},{"$nulls":5},0]
["04101-LA SERENA","105401-P.S.R. LAS ROJAS",null,null,{"$f":"IFERROR(VLOOKUP($B19,'[1]Num 3B'!$G$3:$O$140,2,FALSE),0)","v":0},{"$f":"IFERROR(VLOOKUP($B19,'[1]Num 3B'!$G$3:$O$140,3,FALSE),0)","v":0},{"$f":"IFERROR(VLOOKUP($B19,'[1]Num 3B'!$G$3:$O$140,4,FALSE),0)","v":0},{"$f":"IFERROR(VLOOKUP($B19,'[1]Num 3B'!$G$3:$O$140,5,FALSE),0)","v":0},{"$f":"IFERROR(VLOOKUP($B19,'[1]Num 3B'!$G$3:$O$140,6,FALSE),0)","v":0},{"$f":"IFERROR(VLOOKUP($B19,'[1]Num 3B'!$G$3:$O$140,7,FALSE),0)","v":0},{"$f":"IFERROR(VLOOKUP($B19,'[1]Num 3B'!$G$3:$O$140,8,FALSE),0)","v":0},{"$nulls":5},0]
["04101-LA SERENA","105402-P.S.R. EL ROMERO",null,null,{"$f":"IFERROR(VLOOKUP($B20,'[1]Num 3B'!$G$3:$O$140,2,FALSE),0)","v":0},{"$f":"IFERROR(VLOOKUP($B20,'[1]Num 3B'!$G$3:$O$140,3,FALSE),0)","v":0},{"$f":"IFERROR(VLOOKUP($B20,'[1]Num 3B'!$G$3:$O$140,4,FALSE),0)","v":0},{"$f":"IFERROR(VLOOKUP($B20,'[1]Num 3B'!$G$3:$O$140,5,FALSE),0)","v":0},{"$f":"IFERROR(VLOOKUP($B20,'[1]Num 3B'!$G$3:$O$140,6,FALSE),0)","v":0},{"$f":"IFERROR(VLOOKUP($B20,'[1]Num 3B'!$G$3:$O$140,7,FALSE),0)","v":0},{"$f":"IFERROR(VLOOKUP($B20,'[1]Num 3B'!$G$3:$O$140,8,FALSE),0)","v":0},{"$nulls":5},0]
["04101-LA SERENA","105499-P.S.R. LAMBERT",null,null,{"$f":"IFERROR(VLOOKUP($B21,'[1]Num 3B'!$G$3:$O$140,2,FALSE),0)","v":0},{"$f":"IFERROR(VLOOKUP($B21,'[1]Num 3B'!$G$3:$O$140,3,FALSE),0)","v":0},{"$f":"IFERROR(VLOOKUP($B21,'[1]Num 3B'!$G$3:$O$140,4,FALSE),0)","v":0},{"$f":"IFERROR(VLOOKUP($B21,'[1]Num 3B'!$G$3:$O$140,5,FALSE),0)","v":0},{"$f":"IFERROR(VLOOKUP($B21,'[1]Num 3B'!$G$3:$O$140,6,FALSE),0)","v":0},{"$f":"IFERROR(VLOOKUP($B21,'[1]Num 3B'!$G$3:$O$140,7,FALSE),0)","v":0},{"$f":"IFERROR(VLOOKUP($B21,'[1]Num 3B'!$G$3:$O$140,8,FALSE),0)","v":0},{"$nulls":5},0]
["04101-LA SERENA","105700-CECOF VILLA EL INDIO",null,null,{"$f":"IFERROR(VLOOKUP($B22,'[1]Num 3B'!$G$3:$O$140,2,FALSE),0)","v":4},{"$f":"IFERROR(VLOOKUP($B22,'[1]Num 3B'!$G$3:$O$140,3,FALSE),0)","v":0},{"$f":"IFERROR(VLOOKUP($B22,'[1]Num 3B'!$G$3:$O$140,4,FALSE),0)","v":0},{"$f":"IFERROR(VLOOKUP($B22,'[1]Num 3B'!$G$3:$O$140,5,FALSE),0)","v":0},{"$f":"IFERROR(VLOOKUP($B22,'[1]Num 3B'!$G$3:$O$140,6,FALSE),0)","v":0},{"$f":"IFERROR(VLOOKUP($B22,'[1]Num 3B'!$G$3:$O$140,7,FALSE),0)","v":0},{"$f":"IFERROR(VLOOKUP($B22,'[1]Num 3B'!$G$3:$O$140,8,FALSE),0)","v":0},{"$nulls":5},4]
["04101-LA SERENA","105701-CECOF VILLA ALEMANIA",null,null,{"$f":"IFERROR(VLOOKUP($B23,'[1]Num 3B'!$G$3:$O$140,2,FALSE),0)","v":0},{"$f":"IFERROR(VLOOKUP($B23,'[1]Num 3B'!$G$3:$O$140,3,FALSE),0)","v":0},{"$f":"IFERROR(VLOOKUP($B23,'[1]Num 3B'!$G$3:$O$140,4,FALSE),0)","v":0},{"$f":"IFERROR(VLOOKUP($B23,'[1]Num 3B'!$G$3:$O$140,5,FALSE),0)","v":0},{"$f":"IFERROR(VLOOKUP($B23,'[1]Num 3B'!$G$3:$O$140,6,FALSE),0)","v":0},{"$f":"IFERROR(VLOOKUP($B23,'[1]Num 3B'!$G$3:$O$140,7,FALSE),0)","v":0},{"$f":"IFERROR(VLOOKUP($B23,'[1]Num 3B'!$G$3:$O$140,8,FALSE),0)","v":0},{"$nulls":5},0]
["04101-LA SERENA","105702-CECOF VILLA LAMBERT",null,null,{"$f":"IFERROR(VLOOKUP($B24,'[1]Num 3B'!$G$3:$O$140,2,FALSE),0)","v":0},{"$f":"IFERROR(VLOOKUP($B24,'[1]Num 3B'!$G$3:$O$140,3,FALSE),0)","v":2},{"$f":"IFERROR(VLOOKUP($B24,'[1]Num 3B'!$G$3:$O$140,4,FALSE),0)","v":1},{"$f":"IFERROR(VLOOKUP($B24,'[1]Num 3B'!$G$3:$O$140,5,FALSE),0)","v":0},{"$f":"IFERROR(VLOOKUP($B24,'[1]Num 3B'!$G$3:$O$140,6,FALSE),0)","v":1},{"$f":"IFERROR(VLOOKUP($B24,'[1]Num 3B'!$G$3:$O$140,7,FALSE),0)","v":0},{"$f":"IFERROR(VLOOKUP($B24,'[1]Num 3B'!$G$3:$O$140,8,FALSE),0)","v":0},{"$nulls":5},4]
["04101-LA SERENA","200402-CECOF ARCOS DE PINAMAR",null,null,{"$f":"IFERROR(VLOOKUP($B25,'[1]Num 3B'!$G$3:$O$140,2,FALSE),0)","v":0},{"$f":"IFERROR(VLOOKUP($B25,'[1]Num 3B'!$G$3:$O$140,3,FALSE),0)","v":0},{"$f":"IFERROR(VLOOKUP($B25,'[1]Num 3B'!$G$3:$O$140,4,FALSE),0)","v":0},{"$f":"IFERROR(VLOOKUP($B25,'[1]Num 3B'!$G$3:$O$140,5,FALSE),0)","v":3},{"$f":"IFERROR(VLOOKUP($B25,'[1]Num 3B'!$G$3:$O$140,6,FALSE),0)","v":34},{"$f":"IFERROR(VLOOKUP($B25,'[1]Num 3B'!$G$3:$O$140,7,FALSE),0)","v":0},{"$f":"IFERROR(VLOOKUP($B25,'[1]Num 3B'!$G$3:$O$140,8,FALSE),0)","v":0},{"$nulls":5},37]
["TOTAL LA SERENA",null,{"$f":"D26/Metas!J5","v":{"v":1.4380741210009502,"d":"143.81%"}},{"$f":"Q26/R26","v":{"v":0.15818815331010452,"d":"15.82%"}},{"$f":"SUM(E12:E25)","v":61},{"$f":"SUM(F12:F25)","v":36},51,81,109,48,68,0,0,0,0,{"$f":"SUM(P12:P25)","v":0},{"$f":"SUM(Q12:Q25)","v":454},{"v":2870,"d":"2,870"}]
["04102-COQUIMBO","105303-CES. SAN JUAN",null,null,{"$f":"IFERROR(VLOOKUP($B27,'[1]Num 3B'!$G$3:$O$140,2,FALSE),0)","v":13},{"$f":"IFERROR(VLOOKUP($B27,'[1]Num 3B'!$G$3:$O$140,3,FALSE),0)","v":7},{"$f":"IFERROR(VLOOKUP($B27,'[1]Num 3B'!$G$3:$O$140,4,FALSE),0)","v":14},{"$f":"IFERROR(VLOOKUP($B27,'[1]Num 3B'!$G$3:$O$140,5,FALSE),0)","v":4},{"$f":"IFERROR(VLOOKUP($B27,'[1]Num 3B'!$G$3:$O$140,6,FALSE),0)","v":5},{"$f":"IFERROR(VLOOKUP($B27,'[1]Num 3B'!$G$3:$O$140,7,FALSE),0)","v":7},{"$f":"IFERROR(VLOOKUP($B27,'[1]Num 3B'!$G$3:$O$140,8,FALSE),0)","v":6},{"$nulls":5},{"$f":"SUM(E27:P27)","v":56}]
["04102-COQUIMBO","105304-CES. SANTA CECILIA",null,null,{"$f":"IFERROR(VLOOKUP($B28,'[1]Num 3B'!$G$3:$O$140,2,FALSE),0)","v":1},{"$f":"IFERROR(VLOOKUP($B28,'[1]Num 3B'!$G$3:$O$140,3,FALSE),0)","v":3},{"$f":"IFERROR(VLOOKUP($B28,'[1]Num 3B'!$G$3:$O$140,4,FALSE),0)","v":7},{"$f":"IFERROR(VLOOKUP($B28,'[1]Num 3B'!$G$3:$O$140,5,FALSE),0)","v":21},{"$f":"IFERROR(VLOOKUP($B28,'[1]Num 3B'!$G$3:$O$140,6,FALSE),0)","v":12},{"$f":"IFERROR(VLOOKUP($B28,'[1]Num 3B'!$G$3:$O$140,7,FALSE),0)","v":3},{"$f":"IFERROR(VLOOKUP($B28,'[1]Num 3B'!$G$3:$O$140,8,FALSE),0)","v":3},{"$nulls":5},50]
["04102-COQUIMBO","105305-CES. TIERRAS BLANCAS",null,null,{"$f":"IFERROR(VLOOKUP($B29,'[1]Num 3B'!$G$3:$O$140,2,FALSE),0)","v":1},{"$f":"IFERROR(VLOOKUP($B29,'[1]Num 3B'!$G$3:$O$140,3,FALSE),0)","v":18},{"$f":"IFERROR(VLOOKUP($B29,'[1]Num 3B'!$G$3:$O$140,4,FALSE),0)","v":10},{"$f":"IFERROR(VLOOKUP($B29,'[1]Num 3B'!$G$3:$O$140,5,FALSE),0)","v":7},{"$f":"IFERROR(VLOOKUP($B29,'[1]Num 3B'!$G$3:$O$140,6,FALSE),0)","v":7},{"$f":"IFERROR(VLOOKUP($B29,'[1]Num 3B'!$G$3:$O$140,7,FALSE),0)","v":5},{"$f":"IFERROR(VLOOKUP($B29,'[1]Num 3B'!$G$3:$O$140,8,FALSE),0)","v":9},{"$nulls":5},57]
["04102-COQUIMBO","105321-CES. RURAL  TONGOY",null,null,{"$f":"IFERROR(VLOOKUP($B30,'[1]Num 3B'!$G$3:$O$140,2,FALSE),0)","v":0},{"$f":"IFERROR(VLOOKUP($B30,'[1]Num 3B'!$G$3:$O$140,3,FALSE),0)","v":0},{"$f":"IFERROR(VLOOKUP($B30,'[1]Num 3B'!$G$3:$O$140,4,FALSE),0)","v":0},{"$f":"IFERROR(VLOOKUP($B30,'[1]Num 3B'!$G$3:$O$140,5,FALSE),0)","v":0},{"$f":"IFERROR(VLOOKUP($B30,'[1]Num 3B'!$G$3:$O$140,6,FALSE),0)","v":6},{"$f":"IFERROR(VLOOKUP($B30,'[1]Num 3B'!$G$3:$O$140,7,FALSE),0)","v":0},{"$f":"IFERROR(VLOOKUP($B30,'[1]Num 3B'!$G$3:$O$140,8,FALSE),0)","v":0},{"$nulls":5},6]
["04102-COQUIMBO","105323-CES. DR. SERGIO AGUILAR",null,null,{"$f":"IFERROR(VLOOKUP($B31,'[1]Num 3B'!$G$3:$O$140,2,FALSE),0)","v":10},{"$f":"IFERROR(VLOOKUP($B31,'[1]Num 3B'!$G$3:$O$140,3,FALSE),0)","v":0},{"$f":"IFERROR(VLOOKUP($B31,'[1]Num 3B'!$G$3:$O$140,4,FALSE),0)","v":1},{"$f":"IFERROR(VLOOKUP($B31,'[1]Num 3B'!$G$3:$O$140,5,FALSE),0)","v":9},{"$f":"IFERROR(VLOOKUP($B31,'[1]Num 3B'!$G$3:$O$140,6,FALSE),0)","v":8},{"$f":"IFERROR(VLOOKUP($B31,'[1]Num 3B'!$G$3:$O$140,7,FALSE),0)","v":14},{"$f":"IFERROR(VLOOKUP($B31,'[1]Num 3B'!$G$3:$O$140,8,FALSE),0)","v":9},{"$nulls":5},51]
["04102-COQUIMBO","105404-P.S.R. EL TANGUE                         ",null,null,{"$f":"IFERROR(VLOOKUP($B32,'[1]Num 3B'!$G$3:$O$140,2,FALSE),0)","v":0},{"$f":"IFERROR(VLOOKUP($B32,'[1]Num 3B'!$G$3:$O$140,3,FALSE),0)","v":0},{"$f":"IFERROR(VLOOKUP($B32,'[1]Num 3B'!$G$3:$O$140,4,FALSE),0)","v":0},{"$f":"IFERROR(VLOOKUP($B32,'[1]Num 3B'!$G$3:$O$140,5,FALSE),0)","v":0},{"$f":"IFERROR(VLOOKUP($B32,'[1]Num 3B'!$G$3:$O$140,6,FALSE),0)","v":0},{"$f":"IFERROR(VLOOKUP($B32,'[1]Num 3B'!$G$3:$O$140,7,FALSE),0)","v":0},{"$f":"IFERROR(VLOOKUP($B32,'[1]Num 3B'!$G$3:$O$140,8,FALSE),0)","v":0},{"$nulls":5},0]
["04102-COQUIMBO","105405-P.S.R. GUANAQUEROS",null,null,{"$f":"IFERROR(VLOOKUP($B33,'[1]Num 3B'!$G$3:$O$140,2,FALSE),0)","v":0},{"$f":"IFERROR(VLOOKUP($B33,'[1]Num 3B'!$G$3:$O$140,3,FALSE),0)","v":0},{"$f":"IFERROR(VLOOKUP($B33,'[1]Num 3B'!$G$3:$O$140,4,FALSE),0)","v":0},{"$f":"IFERROR(VLOOKUP($B33,'[1]Num 3B'!$G$3:$O$140,5,FALSE),0)","v":0},{"$f":"IFERROR(VLOOKUP($B33,'[1]Num 3B'!$G$3:$O$140,6,FALSE),0)","v":2},{"$f":"IFERROR(VLOOKUP($B33,'[1]Num 3B'!$G$3:$O$140,7,FALSE),0)","v":3},{"$f":"IFERROR(VLOOKUP($B33,'[1]Num 3B'!$G$3:$O$140,8,FALSE),0)","v":0},{"$nulls":5},5]
["04102-COQUIMBO","105407-P.S.R. TAMBILLOS",null,null,{"$f":"IFERROR(VLOOKUP($B34,'[1]Num 3B'!$G$3:$O$140,2,FALSE),0)","v":0},{"$f":"IFERROR(VLOOKUP($B34,'[1]Num 3B'!$G$3:$O$140,3,FALSE),0)","v":0},{"$f":"IFERROR(VLOOKUP($B34,'[1]Num 3B'!$G$3:$O$140,4,FALSE),0)","v":0},{"$f":"IFERROR(VLOOKUP($B34,'[1]Num 3B'!$G$3:$O$140,5,FALSE),0)","v":0},{"$f":"IFERROR(VLOOKUP($B34,'[1]Num 3B'!$G$3:$O$140,6,FALSE),0)","v":0},{"$f":"IFERROR(VLOOKUP($B34,'[1]Num 3B'!$G$3:$O$140,7,FALSE),0)","v":0},{"$f":"IFERROR(VLOOKUP($B34,'[1]Num 3B'!$G$3:$O$140,8,FALSE),0)","v":0},{"$nulls":5},0]
["04102-COQUIMBO","200273-CECOF PUNTA MIRA",null,null,{"$f":"IFERROR(VLOOKUP($B35,'[1]Num 3B'!$G$3:$O$140,2,FALSE),0)","v":3},{"$f":"IFERROR(VLOOKUP($B35,'[1]Num 3B'!$G$3:$O$140,3,FALSE),0)","v":0},{"$f":"IFERROR(VLOOKUP($B35,'[1]Num 3B'!$G$3:$O$140,4,FALSE),0)","v":1},{"$f":"IFERROR(VLOOKUP($B35,'[1]Num 3B'!$G$3:$O$140,5,FALSE),0)","v":2},{"$f":"IFERROR(VLOOKUP($B35,'[1]Num 3B'!$G$3:$O$140,6,FALSE),0)","v":0},{"$f":"IFERROR(VLOOKUP($B35,'[1]Num 3B'!$G$3:$O$140,7,FALSE),0)","v":2},{"$f":"IFERROR(VLOOKUP($B35,'[1]Num 3B'!$G$3:$O$140,8,FALSE),0)","v":0},{"$nulls":5},8]
["04102-COQUIMBO","200494-CESFAM EL SAUCE",null,null,{"$f":"IFERROR(VLOOKUP($B36,'[1]Num 3B'!$G$3:$O$140,2,FALSE),0)","v":7},{"$f":"IFERROR(VLOOKUP($B36,'[1]Num 3B'!$G$3:$O$140,3,FALSE),0)","v":0},{"$f":"IFERROR(VLOOKUP($B36,'[1]Num 3B'!$G$3:$O$140,4,FALSE),0)","v":0},{"$f":"IFERROR(VLOOKUP($B36,'[1]Num 3B'!$G$3:$O$140,5,FALSE),0)","v":3},{"$f":"IFERROR(VLOOKUP($B36,'[1]Num 3B'!$G$3:$O$140,6,FALSE),0)","v":1},{"$f":"IFERROR(VLOOKUP($B36,'[1]Num 3B'!$G$3:$O$140,7,FALSE),0)","v":5},{"$f":"IFERROR(VLOOKUP($B36,'[1]Num 3B'!$G$3:$O$140,8,FALSE),0)","v":0},{"$nulls":5},{"$f":"SUM(E36:P36)","v":16}]
["04102-COQUIMBO","200499-CESFAM PAN DE AZÚCAR",null,null,{"$f":"IFERROR(VLOOKUP($B37,'[1]Num 3B'!$G$3:$O$140,2,FALSE),0)","v":17},{"$f":"IFERROR(VLOOKUP($B37,'[1]Num 3B'!$G$3:$O$140,3,FALSE),0)","v":10},{"$f":"IFERROR(VLOOKUP($B37,'[1]Num 3B'!$G$3:$O$140,4,FALSE),0)","v":7},{"$f":"IFERROR(VLOOKUP($B37,'[1]Num 3B'!$G$3:$O$140,5,FALSE),0)","v":29},{"$f":"IFERROR(VLOOKUP($B37,'[1]Num 3B'!$G$3:$O$140,6,FALSE),0)","v":11},{"$f":"IFERROR(VLOOKUP($B37,'[1]Num 3B'!$G$3:$O$140,7,FALSE),0)","v":0},{"$f":"IFERROR(VLOOKUP($B37,'[1]Num 3B'!$G$3:$O$140,8,FALSE),0)","v":0},{"$nulls":5},{"$f":"SUM(E37:P37)","v":74}]
["04102-COQUIMBO","200607-CESFAM LILA CORTES",null,null,{"$f":"IFERROR(VLOOKUP($B38,'[1]Num 3B'!$G$3:$O$140,2,FALSE),0)","v":3},{"$f":"IFERROR(VLOOKUP($B38,'[1]Num 3B'!$G$3:$O$140,3,FALSE),0)","v":0},{"$f":"IFERROR(VLOOKUP($B38,'[1]Num 3B'!$G$3:$O$140,4,FALSE),0)","v":0},{"$f":"IFERROR(VLOOKUP($B38,'[1]Num 3B'!$G$3:$O$140,5,FALSE),0)","v":1},{"$f":"IFERROR(VLOOKUP($B38,'[1]Num 3B'!$G$3:$O$140,6,FALSE),0)","v":2},{"$f":"IFERROR(VLOOKUP($B38,'[1]Num 3B'!$G$3:$O$140,7,FALSE),0)","v":0},{"$f":"IFERROR(VLOOKUP($B38,'[1]Num 3B'!$G$3:$O$140,8,FALSE),0)","v":1},{"$nulls":5},{"$f":"SUM(E38:P38)","v":7}]
["TOTAL COQUIMBO",null,{"$f":"D39/Metas!J6","v":{"v":0.9727626459143969,"d":"97.28%"}},{"$f":"Q39/R39","v":{"v":0.10700389105058365,"d":"10.70%"}},{"$f":"SUM(E27:E38)","v":55},38,40,76,54,39,28,0,0,0,0,0,330,{"v":3084,"d":"3,084"}]
["04104-LA HIGUERA","105314-CES. LA HIGUERA",null,null,{"$f":"IFERROR(VLOOKUP($B40,'[1]Num 3B'!$G$3:$O$140,2,FALSE),0)","v":0},{"$f":"IFERROR(VLOOKUP($B40,'[1]Num 3B'!$G$3:$O$140,3,FALSE),0)","v":0},{"$f":"IFERROR(VLOOKUP($B40,'[1]Num 3B'!$G$3:$O$140,4,FALSE),0)","v":3},{"$f":"IFERROR(VLOOKUP($B40,'[1]Num 3B'!$G$3:$O$140,5,FALSE),0)","v":1},{"$f":"IFERROR(VLOOKUP($B40,'[1]Num 3B'!$G$3:$O$140,6,FALSE),0)","v":0},{"$f":"IFERROR(VLOOKUP($B40,'[1]Num 3B'!$G$3:$O$140,7,FALSE),0)","v":1},{"$f":"IFERROR(VLOOKUP($B40,'[1]Num 3B'!$G$3:$O$140,8,FALSE),0)","v":0},{"$nulls":5},{"$f":"SUM(E40:P40)","v":5}]
["04104-LA HIGUERA","105500-P.S.R. CALETA HORNOS        ",null,null,{"$f":"IFERROR(VLOOKUP($B41,'[1]Num 3B'!$G$3:$O$140,2,FALSE),0)","v":0},{"$f":"IFERROR(VLOOKUP($B41,'[1]Num 3B'!$G$3:$O$140,3,FALSE),0)","v":1},{"$f":"IFERROR(VLOOKUP($B41,'[1]Num 3B'!$G$3:$O$140,4,FALSE),0)","v":0},{"$f":"IFERROR(VLOOKUP($B41,'[1]Num 3B'!$G$3:$O$140,5,FALSE),0)","v":1},{"$f":"IFERROR(VLOOKUP($B41,'[1]Num 3B'!$G$3:$O$140,6,FALSE),0)","v":0},{"$f":"IFERROR(VLOOKUP($B41,'[1]Num 3B'!$G$3:$O$140,7,FALSE),0)","v":0},{"$f":"IFERROR(VLOOKUP($B41,'[1]Num 3B'!$G$3:$O$140,8,FALSE),0)","v":0},{"$nulls":5},{"$f":"SUM(E41:P41)","v":2}]
["04104-LA HIGUERA","105505-P.S.R. LOS CHOROS",null,null,{"$f":"IFERROR(VLOOKUP($B42,'[1]Num 3B'!$G$3:$O$140,2,FALSE),0)","v":0},{"$f":"IFERROR(VLOOKUP($B42,'[1]Num 3B'!$G$3:$O$140,3,FALSE),0)","v":0},{"$f":"IFERROR(VLOOKUP($B42,'[1]Num 3B'!$G$3:$O$140,4,FALSE),0)","v":0},{"$f":"IFERROR(VLOOKUP($B42,'[1]Num 3B'!$G$3:$O$140,5,FALSE),0)","v":0},{"$f":"IFERROR(VLOOKUP($B42,'[1]Num 3B'!$G$3:$O$140,6,FALSE),0)","v":1},{"$f":"IFERROR(VLOOKUP($B42,'[1]Num 3B'!$G$3:$O$140,7,FALSE),0)","v":2},{"$f":"IFERROR(VLOOKUP($B42,'[1]Num 3B'!$G$3:$O$140,8,FALSE),0)","v":1},{"$nulls":5},{"$f":"SUM(E42:P42)","v":4}]
["04104-LA HIGUERA","105506-P.S.R. EL TRAPICHE",null,null,{"$f":"IFERROR(VLOOKUP($B43,'[1]Num 3B'!$G$3:$O$140,2,FALSE),0)","v":0},{"$f":"IFERROR(VLOOKUP($B43,'[1]Num 3B'!$G$3:$O$140,3,FALSE),0)","v":0},{"$f":"IFERROR(VLOOKUP($B43,'[1]Num 3B'!$G$3:$O$140,4,FALSE),0)","v":0},{"$f":"IFERROR(VLOOKUP($B43,'[1]Num 3B'!$G$3:$O$140,5,FALSE),0)","v":0},{"$f":"IFERROR(VLOOKUP($B43,'[1]Num 3B'!$G$3:$O$140,6,FALSE),0)","v":0},{"$f":"IFERROR(VLOOKUP($B43,'[1]Num 3B'!$G$3:$O$140,7,FALSE),0)","v":0},{"$f":"IFERROR(VLOOKUP($B43,'[1]Num 3B'!$G$3:$O$140,8,FALSE),0)","v":0},{"$nulls":5},{"$f":"SUM(E43:P43)","v":0}]
["TOTAL LA HIGUERA",null,{"$f":"D44/Metas!J7","v":{"v":0.7357859531772575,"d":"73.58%"}},{"$f":"Q44/R44","v":{"v":0.16923076923076924,"d":"16.92%"}},{"$f":"SUM(E40:E43)","v":0},{"$f":"SUM(F40:F43)","v":1},{"$f":"SUM(G40:G43)","v":3},{"$f":"SUM(H40:H43)","v":2},{"$f":"SUM(I40:I43)","v":1},3,1,0,0,0,{"$f":"SUM(O40:O43)","v":0},{"$f":"SUM(P40:P43)","v":0},{"$f":"SUM(Q40:Q43)","v":11},65]
["04105-PAIHUANO","105306-CES. PAIHUANO",null,null,{"$f":"IFERROR(VLOOKUP($B45,'[1]Num 3B'!$G$3:$O$140,2,FALSE),0)","v":0},{"$f":"IFERROR(VLOOKUP($B45,'[1]Num 3B'!$G$3:$O$140,3,FALSE),0)","v":0},{"$f":"IFERROR(VLOOKUP($B45,'[1]Num 3B'!$G$3:$O$140,4,FALSE),0)","v":4},{"$f":"IFERROR(VLOOKUP($B45,'[1]Num 3B'!$G$3:$O$140,5,FALSE),0)","v":3},{"$f":"IFERROR(VLOOKUP($B45,'[1]Num 3B'!$G$3:$O$140,6,FALSE),0)","v":0},{"$f":"IFERROR(VLOOKUP($B45,'[1]Num 3B'!$G$3:$O$140,7,FALSE),0)","v":1},{"$f":"IFERROR(VLOOKUP($B45,'[1]Num 3B'!$G$3:$O$140,8,FALSE),0)","v":0},{"$nulls":5},{"$f":"SUM(E45:P45)","v":8}]
["04105-PAIHUANO","105475-P.S.R. HORCON",null,null,{"$f":"IFERROR(VLOOKUP($B46,'[1]Num 3B'!$G$3:$O$140,2,FALSE),0)","v":0},{"$f":"IFERROR(VLOOKUP($B46,'[1]Num 3B'!$G$3:$O$140,3,FALSE),0)","v":0},{"$f":"IFERROR(VLOOKUP($B46,'[1]Num 3B'!$G$3:$O$140,4,FALSE),0)","v":1},{"$f":"IFERROR(VLOOKUP($B46,'[1]Num 3B'!$G$3:$O$140,5,FALSE),0)","v":3},{"$f":"IFERROR(VLOOKUP($B46,'[1]Num 3B'!$G$3:$O$140,6,FALSE),0)","v":2},{"$f":"IFERROR(VLOOKUP($B46,'[1]Num 3B'!$G$3:$O$140,7,FALSE),0)","v":0},{"$f":"IFERROR(VLOOKUP($B46,'[1]Num 3B'!$G$3:$O$140,8,FALSE),0)","v":0},{"$nulls":5},{"$f":"SUM(E46:P46)","v":6}]
["04105-PAIHUANO","105476-P.S.R. MONTE GRANDE",null,null,{"$f":"IFERROR(VLOOKUP($B47,'[1]Num 3B'!$G$3:$O$140,2,FALSE),0)","v":0},{"$f":"IFERROR(VLOOKUP($B47,'[1]Num 3B'!$G$3:$O$140,3,FALSE),0)","v":0},{"$f":"IFERROR(VLOOKUP($B47,'[1]Num 3B'!$G$3:$O$140,4,FALSE),0)","v":1},{"$f":"IFERROR(VLOOKUP($B47,'[1]Num 3B'!$G$3:$O$140,5,FALSE),0)","v":0},{"$f":"IFERROR(VLOOKUP($B47,'[1]Num 3B'!$G$3:$O$140,6,FALSE),0)","v":1},{"$f":"IFERROR(VLOOKUP($B47,'[1]Num 3B'!$G$3:$O$140,7,FALSE),0)","v":0},{"$f":"IFERROR(VLOOKUP($B47,'[1]Num 3B'!$G$3:$O$140,8,FALSE),0)","v":0},{"$nulls":5},{"$f":"SUM(E47:P47)","v":2}]
["04105-PAIHUANO","105477-P.S.R. PISCO ELQUI",null,null,{"$f":"IFERROR(VLOOKUP($B48,'[1]Num 3B'!$G$3:$O$140,2,FALSE),0)","v":1},{"$f":"IFERROR(VLOOKUP($B48,'[1]Num 3B'!$G$3:$O$140,3,FALSE),0)","v":0},{"$f":"IFERROR(VLOOKUP($B48,'[1]Num 3B'!$G$3:$O$140,4,FALSE),0)","v":5},{"$f":"IFERROR(VLOOKUP($B48,'[1]Num 3B'!$G$3:$O$140,5,FALSE),0)","v":0},{"$f":"IFERROR(VLOOKUP($B48,'[1]Num 3B'!$G$3:$O$140,6,FALSE),0)","v":1},{"$f":"IFERROR(VLOOKUP($B48,'[1]Num 3B'!$G$3:$O$140,7,FALSE),0)","v":1},{"$f":"IFERROR(VLOOKUP($B48,'[1]Num 3B'!$G$3:$O$140,8,FALSE),0)","v":0},{"$nulls":5},{"$f":"SUM(E48:P48)","v":8}]
["TOTAL PAIHUANO",null,{"$f":"D49/Metas!J8","v":{"v":4.761904761904762,"d":"476.19%"}},{"$f":"Q49/R49","v":{"v":0.8571428571428571,"d":"85.71%"}},{"$f":"SUM(E45:E48)","v":1},{"$f":"SUM(F45:F48)","v":0},{"$f":"SUM(G45:G48)","v":11},{"$f":"SUM(H45:H48)","v":6},{"$f":"SUM(I45:I48)","v":4},2,0,0,0,0,{"$f":"SUM(O45:O48)","v":0},{"$f":"SUM(P45:P48)","v":0},{"$f":"SUM(Q45:Q48)","v":24},28]
["04106-VICUÑA","105467-P.S.R. DIAGUITAS",null,null,{"$f":"IFERROR(VLOOKUP($B50,'[1]Num 3B'!$G$3:$O$140,2,FALSE),0)","v":0},{"$f":"IFERROR(VLOOKUP($B50,'[1]Num 3B'!$G$3:$O$140,3,FALSE),0)","v":0},{"$f":"IFERROR(VLOOKUP($B50,'[1]Num 3B'!$G$3:$O$140,4,FALSE),0)","v":0},{"$f":"IFERROR(VLOOKUP($B50,'[1]Num 3B'!$G$3:$O$140,5,FALSE),0)","v":0},{"$f":"IFERROR(VLOOKUP($B50,'[1]Num 3B'!$G$3:$O$140,6,FALSE),0)","v":0},{"$f":"IFERROR(VLOOKUP($B50,'[1]Num 3B'!$G$3:$O$140,7,FALSE),0)","v":0},{"$f":"IFERROR(VLOOKUP($B50,'[1]Num 3B'!$G$3:$O$140,8,FALSE),0)","v":1},{"$nulls":5},{"$f":"SUM(E50:P50)","v":1}]
["04106-VICUÑA","105468-P.S.R. EL MOLLE",null,null,{"$f":"IFERROR(VLOOKUP($B51,'[1]Num 3B'!$G$3:$O$140,2,FALSE),0)","v":0},{"$f":"IFERROR(VLOOKUP($B51,'[1]Num 3B'!$G$3:$O$140,3,FALSE),0)","v":0},{"$f":"IFERROR(VLOOKUP($B51,'[1]Num 3B'!$G$3:$O$140,4,FALSE),0)","v":0},{"$f":"IFERROR(VLOOKUP($B51,'[1]Num 3B'!$G$3:$O$140,5,FALSE),0)","v":0},{"$f":"IFERROR(VLOOKUP($B51,'[1]Num 3B'!$G$3:$O$140,6,FALSE),0)","v":0},{"$f":"IFERROR(VLOOKUP($B51,'[1]Num 3B'!$G$3:$O$140,7,FALSE),0)","v":1},{"$f":"IFERROR(VLOOKUP($B51,'[1]Num 3B'!$G$3:$O$140,8,FALSE),0)","v":0},{"$nulls":5},1]
["04106-VICUÑA","105469-P.S.R. EL TAMBO",null,null,{"$f":"IFERROR(VLOOKUP($B52,'[1]Num 3B'!$G$3:$O$140,2,FALSE),0)","v":3},{"$f":"IFERROR(VLOOKUP($B52,'[1]Num 3B'!$G$3:$O$140,3,FALSE),0)","v":2},{"$f":"IFERROR(VLOOKUP($B52,'[1]Num 3B'!$G$3:$O$140,4,FALSE),0)","v":0},{"$f":"IFERROR(VLOOKUP($B52,'[1]Num 3B'!$G$3:$O$140,5,FALSE),0)","v":1},{"$f":"IFERROR(VLOOKUP($B52,'[1]Num 3B'!$G$3:$O$140,6,FALSE),0)","v":1},{"$f":"IFERROR(VLOOKUP($B52,'[1]Num 3B'!$G$3:$O$140,7,FALSE),0)","v":1},{"$f":"IFERROR(VLOOKUP($B52,'[1]Num 3B'!$G$3:$O$140,8,FALSE),0)","v":0},{"$nulls":5},8]
["04106-VICUÑA","105470-P.S.R. HUANTA",null,null,{"$f":"IFERROR(VLOOKUP($B53,'[1]Num 3B'!$G$3:$O$140,2,FALSE),0)","v":0},{"$f":"IFERROR(VLOOKUP($B53,'[1]Num 3B'!$G$3:$O$140,3,FALSE),0)","v":0},{"$f":"IFERROR(VLOOKUP($B53,'[1]Num 3B'!$G$3:$O$140,4,FALSE),0)","v":0},{"$f":"IFERROR(VLOOKUP($B53,'[1]Num 3B'!$G$3:$O$140,5,FALSE),0)","v":0},{"$f":"IFERROR(VLOOKUP($B53,'[1]Num 3B'!$G$3:$O$140,6,FALSE),0)","v":0},{"$f":"IFERROR(VLOOKUP($B53,'[1]Num 3B'!$G$3:$O$140,7,FALSE),0)","v":0},{"$f":"IFERROR(VLOOKUP($B53,'[1]Num 3B'!$G$3:$O$140,8,FALSE),0)","v":0},{"$nulls":5},0]
["04106-VICUÑA","105471-P.S.R. PERALILLO",null,null,{"$f":"IFERROR(VLOOKUP($B54,'[1]Num 3B'!$G$3:$O$140,2,FALSE),0)","v":0},{"$f":"IFERROR(VLOOKUP($B54,'[1]Num 3B'!$G$3:$O$140,3,FALSE),0)","v":0},{"$f":"IFERROR(VLOOKUP($B54,'[1]Num 3B'!$G$3:$O$140,4,FALSE),0)","v":0},{"$f":"IFERROR(VLOOKUP($B54,'[1]Num 3B'!$G$3:$O$140,5,FALSE),0)","v":0},{"$f":"IFERROR(VLOOKUP($B54,'[1]Num 3B'!$G$3:$O$140,6,FALSE),0)","v":0},{"$f":"IFERROR(VLOOKUP($B54,'[1]Num 3B'!$G$3:$O$140,7,FALSE),0)","v":0},{"$f":"IFERROR(VLOOKUP($B54,'[1]Num 3B'!$G$3:$O$140,8,FALSE),0)","v":0},{"$nulls":5},0]
["04106-VICUÑA","105472-P.S.R. RIVADAVIA",null,null,{"$f":"IFERROR(VLOOKUP($B55,'[1]Num 3B'!$G$3:$O$140,2,FALSE),0)","v":0},{"$f":"IFERROR(VLOOKUP($B55,'[1]Num 3B'!$G$3:$O$140,3,FALSE),0)","v":0},{"$f":"IFERROR(VLOOKUP($B55,'[1]Num 3B'!$G$3:$O$140,4,FALSE),0)","v":0},{"$f":"IFERROR(VLOOKUP($B55,'[1]Num 3B'!$G$3:$O$140,5,FALSE),0)","v":1},{"$f":"IFERROR(VLOOKUP($B55,'[1]Num 3B'!$G$3:$O$140,6,FALSE),0)","v":0},{"$f":"IFERROR(VLOOKUP($B55,'[1]Num 3B'!$G$3:$O$140,7,FALSE),0)","v":0},{"$f":"IFERROR(VLOOKUP($B55,'[1]Num 3B'!$G$3:$O$140,8,FALSE),0)","v":0},{"$nulls":5},1]
["04106-VICUÑA","105473-P.S.R. TALCUNA",null,null,{"$f":"IFERROR(VLOOKUP($B56,'[1]Num 3B'!$G$3:$O$140,2,FALSE),0)","v":0},{"$f":"IFERROR(VLOOKUP($B56,'[1]Num 3B'!$G$3:$O$140,3,FALSE),0)","v":0},{"$f":"IFERROR(VLOOKUP($B56,'[1]Num 3B'!$G$3:$O$140,4,FALSE),0)","v":0},{"$f":"IFERROR(VLOOKUP($B56,'[1]Num 3B'!$G$3:$O$140,5,FALSE),0)","v":0},{"$f":"IFERROR(VLOOKUP($B56,'[1]Num 3B'!$G$3:$O$140,6,FALSE),0)","v":0},{"$f":"IFERROR(VLOOKUP($B56,'[1]Num 3B'!$G$3:$O$140,7,FALSE),0)","v":0},{"$f":"IFERROR(VLOOKUP($B56,'[1]Num 3B'!$G$3:$O$140,8,FALSE),0)","v":0},{"$nulls":5},0]
["04106-VICUÑA","105474-P.S.R. CHAPILCA",null,null,{"$f":"IFERROR(VLOOKUP($B57,'[1]Num 3B'!$G$3:$O$140,2,FALSE),0)","v":0},{"$f":"IFERROR(VLOOKUP($B57,'[1]Num 3B'!$G$3:$O$140,3,FALSE),0)","v":0},{"$f":"IFERROR(VLOOKUP($B57,'[1]Num 3B'!$G$3:$O$140,4,FALSE),0)","v":0},{"$f":"IFERROR(VLOOKUP($B57,'[1]Num 3B'!$G$3:$O$140,5,FALSE),0)","v":0},{"$f":"IFERROR(VLOOKUP($B57,'[1]Num 3B'!$G$3:$O$140,6,FALSE),0)","v":0},{"$f":"IFERROR(VLOOKUP($B57,'[1]Num 3B'!$G$3:$O$140,7,FALSE),0)","v":0},{"$f":"IFERROR(VLOOKUP($B57,'[1]Num 3B'!$G$3:$O$140,8,FALSE),0)","v":1},{"$nulls":5},1]
["04106-VICUÑA","105509-P.S.R. GUALLIGUAICA",null,null,{"$f":"IFERROR(VLOOKUP($B58,'[1]Num 3B'!$G$3:$O$140,2,FALSE),0)","v":0},{"$f":"IFERROR(VLOOKUP($B58,'[1]Num 3B'!$G$3:$O$140,3,FALSE),0)","v":0},{"$f":"IFERROR(VLOOKUP($B58,'[1]Num 3B'!$G$3:$O$140,4,FALSE),0)","v":0},{"$f":"IFERROR(VLOOKUP($B58,'[1]Num 3B'!$G$3:$O$140,5,FALSE),0)","v":0},{"$f":"IFERROR(VLOOKUP($B58,'[1]Num 3B'!$G$3:$O$140,6,FALSE),0)","v":0},{"$f":"IFERROR(VLOOKUP($B58,'[1]Num 3B'!$G$3:$O$140,7,FALSE),0)","v":0},{"$f":"IFERROR(VLOOKUP($B58,'[1]Num 3B'!$G$3:$O$140,8,FALSE),0)","v":1},{"$nulls":5},1]
["04106-VICUÑA","200538-CESFAM SAN ISIDRO CALINGASTA",null,null,{"$f":"IFERROR(VLOOKUP($B59,'[1]Num 3B'!$G$3:$O$140,2,FALSE),0)","v":1},{"$f":"IFERROR(VLOOKUP($B59,'[1]Num 3B'!$G$3:$O$140,3,FALSE),0)","v":0},{"$f":"IFERROR(VLOOKUP($B59,'[1]Num 3B'!$G$3:$O$140,4,FALSE),0)","v":0},{"$f":"IFERROR(VLOOKUP($B59,'[1]Num 3B'!$G$3:$O$140,5,FALSE),0)","v":0},{"$f":"IFERROR(VLOOKUP($B59,'[1]Num 3B'!$G$3:$O$140,6,FALSE),0)","v":0},{"$f":"IFERROR(VLOOKUP($B59,'[1]Num 3B'!$G$3:$O$140,7,FALSE),0)","v":21},{"$f":"IFERROR(VLOOKUP($B59,'[1]Num 3B'!$G$3:$O$140,8,FALSE),0)","v":1},{"$nulls":5},{"$f":"SUM(E59:P59)","v":23}]
["TOTAL VICUÑA",null,{"$f":"D60/Metas!J9","v":{"v":0.7912087912087912,"d":"79.12%"}},{"$f":"Q60/R60","v":{"v":0.1978021978021978,"d":"19.78%"}},{"$f":"SUM(E50:E59)","v":4},2,0,2,1,23,4,0,0,0,0,0,36,182]
["04201-ILLAPEL","105326-CESFAM SAN RAFAEL",null,null,{"$f":"IFERROR(VLOOKUP($B61,'[1]Num 3B'!$G$3:$O$140,2,FALSE),0)","v":3},{"$f":"IFERROR(VLOOKUP($B61,'[1]Num 3B'!$G$3:$O$140,3,FALSE),0)","v":0},{"$f":"IFERROR(VLOOKUP($B61,'[1]Num 3B'!$G$3:$O$140,4,FALSE),0)","v":0},{"$f":"IFERROR(VLOOKUP($B61,'[1]Num 3B'!$G$3:$O$140,5,FALSE),0)","v":3},{"$f":"IFERROR(VLOOKUP($B61,'[1]Num 3B'!$G$3:$O$140,6,FALSE),0)","v":6},{"$f":"IFERROR(VLOOKUP($B61,'[1]Num 3B'!$G$3:$O$140,7,FALSE),0)","v":1},{"$f":"IFERROR(VLOOKUP($B61,'[1]Num 3B'!$G$3:$O$140,8,FALSE),0)","v":1},{"$nulls":5},14]
["04201-ILLAPEL","105443-P.S.R. CARCAMO                   ",null,null,{"$f":"IFERROR(VLOOKUP($B62,'[1]Num 3B'!$G$3:$O$140,2,FALSE),0)","v":0},{"$f":"IFERROR(VLOOKUP($B62,'[1]Num 3B'!$G$3:$O$140,3,FALSE),0)","v":1},{"$f":"IFERROR(VLOOKUP($B62,'[1]Num 3B'!$G$3:$O$140,4,FALSE),0)","v":2},{"$f":"IFERROR(VLOOKUP($B62,'[1]Num 3B'!$G$3:$O$140,5,FALSE),0)","v":0},{"$f":"IFERROR(VLOOKUP($B62,'[1]Num 3B'!$G$3:$O$140,6,FALSE),0)","v":0},{"$f":"IFERROR(VLOOKUP($B62,'[1]Num 3B'!$G$3:$O$140,7,FALSE),0)","v":0},{"$f":"IFERROR(VLOOKUP($B62,'[1]Num 3B'!$G$3:$O$140,8,FALSE),0)","v":0},{"$nulls":5},3]
["04201-ILLAPEL","105444-P.S.R. HUINTIL",null,null,{"$f":"IFERROR(VLOOKUP($B63,'[1]Num 3B'!$G$3:$O$140,2,FALSE),0)","v":0},{"$f":"IFERROR(VLOOKUP($B63,'[1]Num 3B'!$G$3:$O$140,3,FALSE),0)","v":1},{"$f":"IFERROR(VLOOKUP($B63,'[1]Num 3B'!$G$3:$O$140,4,FALSE),0)","v":0},{"$f":"IFERROR(VLOOKUP($B63,'[1]Num 3B'!$G$3:$O$140,5,FALSE),0)","v":1},{"$f":"IFERROR(VLOOKUP($B63,'[1]Num 3B'!$G$3:$O$140,6,FALSE),0)","v":0},{"$f":"IFERROR(VLOOKUP($B63,'[1]Num 3B'!$G$3:$O$140,7,FALSE),0)","v":0},{"$f":"IFERROR(VLOOKUP($B63,'[1]Num 3B'!$G$3:$O$140,8,FALSE),0)","v":0},{"$nulls":5},2]
["04201-ILLAPEL","105445-P.S.R. LIMAHUIDA",null,null,{"$f":"IFERROR(VLOOKUP($B64,'[1]Num 3B'!$G$3:$O$140,2,FALSE),0)","v":2},{"$f":"IFERROR(VLOOKUP($B64,'[1]Num 3B'!$G$3:$O$140,3,FALSE),0)","v":0},{"$f":"IFERROR(VLOOKUP($B64,'[1]Num 3B'!$G$3:$O$140,4,FALSE),0)","v":0},{"$f":"IFERROR(VLOOKUP($B64,'[1]Num 3B'!$G$3:$O$140,5,FALSE),0)","v":2},{"$f":"IFERROR(VLOOKUP($B64,'[1]Num 3B'!$G$3:$O$140,6,FALSE),0)","v":2},{"$f":"IFERROR(VLOOKUP($B64,'[1]Num 3B'!$G$3:$O$140,7,FALSE),0)","v":0},{"$f":"IFERROR(VLOOKUP($B64,'[1]Num 3B'!$G$3:$O$140,8,FALSE),0)","v":0},{"$nulls":5},6]
["04201-ILLAPEL","105446-P.S.R. MATANCILLA",null,null,{"$f":"IFERROR(VLOOKUP($B65,'[1]Num 3B'!$G$3:$O$140,2,FALSE),0)","v":0},{"$f":"IFERROR(VLOOKUP($B65,'[1]Num 3B'!$G$3:$O$140,3,FALSE),0)","v":0},{"$f":"IFERROR(VLOOKUP($B65,'[1]Num 3B'!$G$3:$O$140,4,FALSE),0)","v":0},{"$f":"IFERROR(VLOOKUP($B65,'[1]Num 3B'!$G$3:$O$140,5,FALSE),0)","v":0},{"$f":"IFERROR(VLOOKUP($B65,'[1]Num 3B'!$G$3:$O$140,6,FALSE),0)","v":0},{"$f":"IFERROR(VLOOKUP($B65,'[1]Num 3B'!$G$3:$O$140,7,FALSE),0)","v":0},{"$f":"IFERROR(VLOOKUP($B65,'[1]Num 3B'!$G$3:$O$140,8,FALSE),0)","v":0},{"$nulls":5},0]
["04201-ILLAPEL","105447-P.S.R. PERALILLO",null,null,{"$f":"IFERROR(VLOOKUP($B66,'[1]Num 3B'!$G$3:$O$140,2,FALSE),0)","v":2},{"$f":"IFERROR(VLOOKUP($B66,'[1]Num 3B'!$G$3:$O$140,3,FALSE),0)","v":0},{"$f":"IFERROR(VLOOKUP($B66,'[1]Num 3B'!$G$3:$O$140,4,FALSE),0)","v":0},{"$f":"IFERROR(VLOOKUP($B66,'[1]Num 3B'!$G$3:$O$140,5,FALSE),0)","v":2},{"$f":"IFERROR(VLOOKUP($B66,'[1]Num 3B'!$G$3:$O$140,6,FALSE),0)","v":0},{"$f":"IFERROR(VLOOKUP($B66,'[1]Num 3B'!$G$3:$O$140,7,FALSE),0)","v":1},{"$f":"IFERROR(VLOOKUP($B66,'[1]Num 3B'!$G$3:$O$140,8,FALSE),0)","v":0},{"$nulls":5},5]
["04201-ILLAPEL","105448-P.S.R. SANTA VIRGINIA",null,null,{"$f":"IFERROR(VLOOKUP($B67,'[1]Num 3B'!$G$3:$O$140,2,FALSE),0)","v":0},{"$f":"IFERROR(VLOOKUP($B67,'[1]Num 3B'!$G$3:$O$140,3,FALSE),0)","v":0},{"$f":"IFERROR(VLOOKUP($B67,'[1]Num 3B'!$G$3:$O$140,4,FALSE),0)","v":0},{"$f":"IFERROR(VLOOKUP($B67,'[1]Num 3B'!$G$3:$O$140,5,FALSE),0)","v":0},{"$f":"IFERROR(VLOOKUP($B67,'[1]Num 3B'!$G$3:$O$140,6,FALSE),0)","v":0},{"$f":"IFERROR(VLOOKUP($B67,'[1]Num 3B'!$G$3:$O$140,7,FALSE),0)","v":0},{"$f":"IFERROR(VLOOKUP($B67,'[1]Num 3B'!$G$3:$O$140,8,FALSE),0)","v":1},{"$nulls":5},1]
["04201-ILLAPEL","105449-P.S.R. TUNGA NORTE",null,null,{"$f":"IFERROR(VLOOKUP($B68,'[1]Num 3B'!$G$3:$O$140,2,FALSE),0)","v":0},{"$f":"IFERROR(VLOOKUP($B68,'[1]Num 3B'!$G$3:$O$140,3,FALSE),0)","v":0},{"$f":"IFERROR(VLOOKUP($B68,'[1]Num 3B'!$G$3:$O$140,4,FALSE),0)","v":0},{"$f":"IFERROR(VLOOKUP($B68,'[1]Num 3B'!$G$3:$O$140,5,FALSE),0)","v":0},{"$f":"IFERROR(VLOOKUP($B68,'[1]Num 3B'!$G$3:$O$140,6,FALSE),0)","v":0},{"$f":"IFERROR(VLOOKUP($B68,'[1]Num 3B'!$G$3:$O$140,7,FALSE),0)","v":0},{"$f":"IFERROR(VLOOKUP($B68,'[1]Num 3B'!$G$3:$O$140,8,FALSE),0)","v":0},{"$nulls":5},0]
["04201-ILLAPEL","105485-P.S.R. PLAN DE HORNOS",null,null,{"$f":"IFERROR(VLOOKUP($B69,'[1]Num 3B'!$G$3:$O$140,2,FALSE),0)","v":1},{"$f":"IFERROR(VLOOKUP($B69,'[1]Num 3B'!$G$3:$O$140,3,FALSE),0)","v":1},{"$f":"IFERROR(VLOOKUP($B69,'[1]Num 3B'!$G$3:$O$140,4,FALSE),0)","v":0},{"$f":"IFERROR(VLOOKUP($B69,'[1]Num 3B'!$G$3:$O$140,5,FALSE),0)","v":0},{"$f":"IFERROR(VLOOKUP($B69,'[1]Num 3B'!$G$3:$O$140,6,FALSE),0)","v":0},{"$f":"IFERROR(VLOOKUP($B69,'[1]Num 3B'!$G$3:$O$140,7,FALSE),0)","v":0},{"$f":"IFERROR(VLOOKUP($B69,'[1]Num 3B'!$G$3:$O$140,8,FALSE),0)","v":0},{"$nulls":5},2]
["04201-ILLAPEL","105486-P.S.R. TUNGA SUR",null,null,{"$f":"IFERROR(VLOOKUP($B70,'[1]Num 3B'!$G$3:$O$140,2,FALSE),0)","v":0},{"$f":"IFERROR(VLOOKUP($B70,'[1]Num 3B'!$G$3:$O$140,3,FALSE),0)","v":0},{"$f":"IFERROR(VLOOKUP($B70,'[1]Num 3B'!$G$3:$O$140,4,FALSE),0)","v":0},{"$f":"IFERROR(VLOOKUP($B70,'[1]Num 3B'!$G$3:$O$140,5,FALSE),0)","v":0},{"$f":"IFERROR(VLOOKUP($B70,'[1]Num 3B'!$G$3:$O$140,6,FALSE),0)","v":0},{"$f":"IFERROR(VLOOKUP($B70,'[1]Num 3B'!$G$3:$O$140,7,FALSE),0)","v":0},{"$f":"IFERROR(VLOOKUP($B70,'[1]Num 3B'!$G$3:$O$140,8,FALSE),0)","v":0},{"$nulls":5},0]
["04201-ILLAPEL","105487-P.S.R. CAÑAS UNO",null,null,{"$f":"IFERROR(VLOOKUP($B71,'[1]Num 3B'!$G$3:$O$140,2,FALSE),0)","v":2},{"$f":"IFERROR(VLOOKUP($B71,'[1]Num 3B'!$G$3:$O$140,3,FALSE),0)","v":0},{"$f":"IFERROR(VLOOKUP($B71,'[1]Num 3B'!$G$3:$O$140,4,FALSE),0)","v":0},{"$f":"IFERROR(VLOOKUP($B71,'[1]Num 3B'!$G$3:$O$140,5,FALSE),0)","v":2},{"$f":"IFERROR(VLOOKUP($B71,'[1]Num 3B'!$G$3:$O$140,6,FALSE),0)","v":0},{"$f":"IFERROR(VLOOKUP($B71,'[1]Num 3B'!$G$3:$O$140,7,FALSE),0)","v":0},{"$f":"IFERROR(VLOOKUP($B71,'[1]Num 3B'!$G$3:$O$140,8,FALSE),0)","v":0},{"$nulls":5},4]
["04201-ILLAPEL","105496-P.S.R. PINTACURA SUR",null,null,{"$f":"IFERROR(VLOOKUP($B72,'[1]Num 3B'!$G$3:$O$140,2,FALSE),0)","v":0},{"$f":"IFERROR(VLOOKUP($B72,'[1]Num 3B'!$G$3:$O$140,3,FALSE),0)","v":0},{"$f":"IFERROR(VLOOKUP($B72,'[1]Num 3B'!$G$3:$O$140,4,FALSE),0)","v":2},{"$f":"IFERROR(VLOOKUP($B72,'[1]Num 3B'!$G$3:$O$140,5,FALSE),0)","v":0},{"$f":"IFERROR(VLOOKUP($B72,'[1]Num 3B'!$G$3:$O$140,6,FALSE),0)","v":0},{"$f":"IFERROR(VLOOKUP($B72,'[1]Num 3B'!$G$3:$O$140,7,FALSE),0)","v":0},{"$f":"IFERROR(VLOOKUP($B72,'[1]Num 3B'!$G$3:$O$140,8,FALSE),0)","v":0},{"$nulls":5},2]
["04201-ILLAPEL","105504-P.S.R. SOCAVON",null,null,{"$f":"IFERROR(VLOOKUP($B73,'[1]Num 3B'!$G$3:$O$140,2,FALSE),0)","v":0},{"$f":"IFERROR(VLOOKUP($B73,'[1]Num 3B'!$G$3:$O$140,3,FALSE),0)","v":0},{"$f":"IFERROR(VLOOKUP($B73,'[1]Num 3B'!$G$3:$O$140,4,FALSE),0)","v":0},{"$f":"IFERROR(VLOOKUP($B73,'[1]Num 3B'!$G$3:$O$140,5,FALSE),0)","v":0},{"$f":"IFERROR(VLOOKUP($B73,'[1]Num 3B'!$G$3:$O$140,6,FALSE),0)","v":0},{"$f":"IFERROR(VLOOKUP($B73,'[1]Num 3B'!$G$3:$O$140,7,FALSE),0)","v":0},{"$f":"IFERROR(VLOOKUP($B73,'[1]Num 3B'!$G$3:$O$140,8,FALSE),0)","v":0},{"$nulls":5},0]
["04201-ILLAPEL","200366-CESFAM URBANO II",null,null,{"$f":"IFERROR(VLOOKUP($B74,'[1]Num 3B'!$G$3:$O$140,2,FALSE),0)","v":5},{"$f":"IFERROR(VLOOKUP($B74,'[1]Num 3B'!$G$3:$O$140,3,FALSE),0)","v":8},{"$f":"IFERROR(VLOOKUP($B74,'[1]Num 3B'!$G$3:$O$140,4,FALSE),0)","v":4},{"$f":"IFERROR(VLOOKUP($B74,'[1]Num 3B'!$G$3:$O$140,5,FALSE),0)","v":4},{"$f":"IFERROR(VLOOKUP($B74,'[1]Num 3B'!$G$3:$O$140,6,FALSE),0)","v":7},{"$f":"IFERROR(VLOOKUP($B74,'[1]Num 3B'!$G$3:$O$140,7,FALSE),0)","v":8},{"$f":"IFERROR(VLOOKUP($B74,'[1]Num 3B'!$G$3:$O$140,8,FALSE),0)","v":1},{"$nulls":5},37]
["TOTAL ILLAPEL",null,{"$f":"D75/Metas!J10","v":{"v":1.1878712097530477,"d":"118.79%"}},{"$f":"Q75/R75","v":{"v":0.16630196936542668,"d":"16.63%"}},{"$f":"SUM(E61:E74)","v":15},{"$f":"SUM(F61:F74)","v":11},8,14,15,10,3,0,0,0,0,0,{"$f":"SUM(Q61:Q74)","v":76},457]
["04202-CANELA","105309-CES. RURAL CANELA",null,null,{"$f":"IFERROR(VLOOKUP($B76,'[1]Num 3B'!$G$3:$O$140,2,FALSE),0)","v":1},{"$f":"IFERROR(VLOOKUP($B76,'[1]Num 3B'!$G$3:$O$140,3,FALSE),0)","v":0},{"$f":"IFERROR(VLOOKUP($B76,'[1]Num 3B'!$G$3:$O$140,4,FALSE),0)","v":3},{"$f":"IFERROR(VLOOKUP($B76,'[1]Num 3B'!$G$3:$O$140,5,FALSE),0)","v":2},{"$f":"IFERROR(VLOOKUP($B76,'[1]Num 3B'!$G$3:$O$140,6,FALSE),0)","v":12},{"$f":"IFERROR(VLOOKUP($B76,'[1]Num 3B'!$G$3:$O$140,7,FALSE),0)","v":3},{"$f":"IFERROR(VLOOKUP($B76,'[1]Num 3B'!$G$3:$O$140,8,FALSE),0)","v":7},{"$nulls":5},28]
["04202-CANELA","105450-P.S.R. MINCHA NORTE            ",null,null,{"$f":"IFERROR(VLOOKUP($B77,'[1]Num 3B'!$G$3:$O$140,2,FALSE),0)","v":0},{"$f":"IFERROR(VLOOKUP($B77,'[1]Num 3B'!$G$3:$O$140,3,FALSE),0)","v":0},{"$f":"IFERROR(VLOOKUP($B77,'[1]Num 3B'!$G$3:$O$140,4,FALSE),0)","v":0},{"$f":"IFERROR(VLOOKUP($B77,'[1]Num 3B'!$G$3:$O$140,5,FALSE),0)","v":0},{"$f":"IFERROR(VLOOKUP($B77,'[1]Num 3B'!$G$3:$O$140,6,FALSE),0)","v":0},{"$f":"IFERROR(VLOOKUP($B77,'[1]Num 3B'!$G$3:$O$140,7,FALSE),0)","v":0},{"$f":"IFERROR(VLOOKUP($B77,'[1]Num 3B'!$G$3:$O$140,8,FALSE),0)","v":0},{"$nulls":5},0]
["04202-CANELA","105451-P.S.R. AGUA FRIA",null,null,{"$f":"IFERROR(VLOOKUP($B78,'[1]Num 3B'!$G$3:$O$140,2,FALSE),0)","v":0},{"$f":"IFERROR(VLOOKUP($B78,'[1]Num 3B'!$G$3:$O$140,3,FALSE),0)","v":0},{"$f":"IFERROR(VLOOKUP($B78,'[1]Num 3B'!$G$3:$O$140,4,FALSE),0)","v":0},{"$f":"IFERROR(VLOOKUP($B78,'[1]Num 3B'!$G$3:$O$140,5,FALSE),0)","v":0},{"$f":"IFERROR(VLOOKUP($B78,'[1]Num 3B'!$G$3:$O$140,6,FALSE),0)","v":0},{"$f":"IFERROR(VLOOKUP($B78,'[1]Num 3B'!$G$3:$O$140,7,FALSE),0)","v":0},{"$f":"IFERROR(VLOOKUP($B78,'[1]Num 3B'!$G$3:$O$140,8,FALSE),0)","v":0},{"$nulls":5},0]
["04202-CANELA","105482-P.S.R. CANELA ALTA",null,null,{"$f":"IFERROR(VLOOKUP($B79,'[1]Num 3B'!$G$3:$O$140,2,FALSE),0)","v":0},{"$f":"IFERROR(VLOOKUP($B79,'[1]Num 3B'!$G$3:$O$140,3,FALSE),0)","v":0},{"$f":"IFERROR(VLOOKUP($B79,'[1]Num 3B'!$G$3:$O$140,4,FALSE),0)","v":1},{"$f":"IFERROR(VLOOKUP($B79,'[1]Num 3B'!$G$3:$O$140,5,FALSE),0)","v":0},{"$f":"IFERROR(VLOOKUP($B79,'[1]Num 3B'!$G$3:$O$140,6,FALSE),0)","v":2},{"$f":"IFERROR(VLOOKUP($B79,'[1]Num 3B'!$G$3:$O$140,7,FALSE),0)","v":0},{"$f":"IFERROR(VLOOKUP($B79,'[1]Num 3B'!$G$3:$O$140,8,FALSE),0)","v":3},{"$nulls":5},6]
["04202-CANELA","105483-P.S.R. LOS RULOS",null,null,{"$f":"IFERROR(VLOOKUP($B80,'[1]Num 3B'!$G$3:$O$140,2,FALSE),0)","v":0},{"$f":"IFERROR(VLOOKUP($B80,'[1]Num 3B'!$G$3:$O$140,3,FALSE),0)","v":0},{"$f":"IFERROR(VLOOKUP($B80,'[1]Num 3B'!$G$3:$O$140,4,FALSE),0)","v":0},{"$f":"IFERROR(VLOOKUP($B80,'[1]Num 3B'!$G$3:$O$140,5,FALSE),0)","v":0},{"$f":"IFERROR(VLOOKUP($B80,'[1]Num 3B'!$G$3:$O$140,6,FALSE),0)","v":0},{"$f":"IFERROR(VLOOKUP($B80,'[1]Num 3B'!$G$3:$O$140,7,FALSE),0)","v":0},{"$f":"IFERROR(VLOOKUP($B80,'[1]Num 3B'!$G$3:$O$140,8,FALSE),0)","v":0},{"$nulls":5},0]
["04202-CANELA","105484-P.S.R. HUENTELAUQUEN",null,null,{"$f":"IFERROR(VLOOKUP($B81,'[1]Num 3B'!$G$3:$O$140,2,FALSE),0)","v":0},{"$f":"IFERROR(VLOOKUP($B81,'[1]Num 3B'!$G$3:$O$140,3,FALSE),0)","v":0},{"$f":"IFERROR(VLOOKUP($B81,'[1]Num 3B'!$G$3:$O$140,4,FALSE),0)","v":1},{"$f":"IFERROR(VLOOKUP($B81,'[1]Num 3B'!$G$3:$O$140,5,FALSE),0)","v":0},{"$f":"IFERROR(VLOOKUP($B81,'[1]Num 3B'!$G$3:$O$140,6,FALSE),0)","v":0},{"$f":"IFERROR(VLOOKUP($B81,'[1]Num 3B'!$G$3:$O$140,7,FALSE),0)","v":0},{"$f":"IFERROR(VLOOKUP($B81,'[1]Num 3B'!$G$3:$O$140,8,FALSE),0)","v":3},{"$nulls":5},4]
["04202-CANELA","105488-P.S.R. ESPIRITU SANTO",null,null,{"$f":"IFERROR(VLOOKUP($B82,'[1]Num 3B'!$G$3:$O$140,2,FALSE),0)","v":0},{"$f":"IFERROR(VLOOKUP($B82,'[1]Num 3B'!$G$3:$O$140,3,FALSE),0)","v":0},{"$f":"IFERROR(VLOOKUP($B82,'[1]Num 3B'!$G$3:$O$140,4,FALSE),0)","v":0},{"$f":"IFERROR(VLOOKUP($B82,'[1]Num 3B'!$G$3:$O$140,5,FALSE),0)","v":0},{"$f":"IFERROR(VLOOKUP($B82,'[1]Num 3B'!$G$3:$O$140,6,FALSE),0)","v":0},{"$f":"IFERROR(VLOOKUP($B82,'[1]Num 3B'!$G$3:$O$140,7,FALSE),0)","v":0},{"$f":"IFERROR(VLOOKUP($B82,'[1]Num 3B'!$G$3:$O$140,8,FALSE),0)","v":0},{"$nulls":5},0]
["04202-CANELA","105493-P.S.R. MINCHA SUR",null,null,{"$f":"IFERROR(VLOOKUP($B83,'[1]Num 3B'!$G$3:$O$140,2,FALSE),0)","v":0},{"$f":"IFERROR(VLOOKUP($B83,'[1]Num 3B'!$G$3:$O$140,3,FALSE),0)","v":0},{"$f":"IFERROR(VLOOKUP($B83,'[1]Num 3B'!$G$3:$O$140,4,FALSE),0)","v":0},{"$f":"IFERROR(VLOOKUP($B83,'[1]Num 3B'!$G$3:$O$140,5,FALSE),0)","v":0},{"$f":"IFERROR(VLOOKUP($B83,'[1]Num 3B'!$G$3:$O$140,6,FALSE),0)","v":0},{"$f":"IFERROR(VLOOKUP($B83,'[1]Num 3B'!$G$3:$O$140,7,FALSE),0)","v":0},{"$f":"IFERROR(VLOOKUP($B83,'[1]Num 3B'!$G$3:$O$140,8,FALSE),0)","v":0},{"$nulls":5},0]
["04202-CANELA","105497-P.S.R. JABONERIA",null,null,{"$f":"IFERROR(VLOOKUP($B84,'[1]Num 3B'!$G$3:$O$140,2,FALSE),0)","v":0},{"$f":"IFERROR(VLOOKUP($B84,'[1]Num 3B'!$G$3:$O$140,3,FALSE),0)","v":0},{"$f":"IFERROR(VLOOKUP($B84,'[1]Num 3B'!$G$3:$O$140,4,FALSE),0)","v":0},{"$f":"IFERROR(VLOOKUP($B84,'[1]Num 3B'!$G$3:$O$140,5,FALSE),0)","v":0},{"$f":"IFERROR(VLOOKUP($B84,'[1]Num 3B'!$G$3:$O$140,6,FALSE),0)","v":0},{"$f":"IFERROR(VLOOKUP($B84,'[1]Num 3B'!$G$3:$O$140,7,FALSE),0)","v":0},{"$f":"IFERROR(VLOOKUP($B84,'[1]Num 3B'!$G$3:$O$140,8,FALSE),0)","v":0},{"$nulls":5},0]
["04202-CANELA","105498-P.S.R. QUEBRADA DE LINARES",null,null,{"$f":"IFERROR(VLOOKUP($B85,'[1]Num 3B'!$G$3:$O$140,2,FALSE),0)","v":0},{"$f":"IFERROR(VLOOKUP($B85,'[1]Num 3B'!$G$3:$O$140,3,FALSE),0)","v":0},{"$f":"IFERROR(VLOOKUP($B85,'[1]Num 3B'!$G$3:$O$140,4,FALSE),0)","v":0},{"$f":"IFERROR(VLOOKUP($B85,'[1]Num 3B'!$G$3:$O$140,5,FALSE),0)","v":0},{"$f":"IFERROR(VLOOKUP($B85,'[1]Num 3B'!$G$3:$O$140,6,FALSE),0)","v":0},{"$f":"IFERROR(VLOOKUP($B85,'[1]Num 3B'!$G$3:$O$140,7,FALSE),0)","v":0},{"$f":"IFERROR(VLOOKUP($B85,'[1]Num 3B'!$G$3:$O$140,8,FALSE),0)","v":0},{"$nulls":5},0]
["TOTAL CANELA",null,{"$f":"D86/Metas!J11","v":{"v":0.5434782608695652,"d":"54.35%"}},{"$f":"Q86/R86","v":{"v":0.41304347826086957,"d":"41.30%"}},{"$f":"SUM(E76:E85)","v":1},{"$f":"SUM(F76:F85)","v":0},{"$f":"SUM(G76:G85)","v":5},{"$f":"SUM(H76:H85)","v":2},{"$f":"SUM(I76:I85)","v":14},3,13,0,0,0,{"$f":"SUM(O76:O85)","v":0},{"$f":"SUM(P76:P85)","v":0},{"$f":"SUM(Q76:Q85)","v":38},92]
["04203-LOS VILOS","105478-P.S.R. CAIMANES                   ",null,null,{"$f":"IFERROR(VLOOKUP($B87,'[1]Num 3B'!$G$3:$O$140,2,FALSE),0)","v":1},{"$f":"IFERROR(VLOOKUP($B87,'[1]Num 3B'!$G$3:$O$140,3,FALSE),0)","v":3},{"$f":"IFERROR(VLOOKUP($B87,'[1]Num 3B'!$G$3:$O$140,4,FALSE),0)","v":0},{"$f":"IFERROR(VLOOKUP($B87,'[1]Num 3B'!$G$3:$O$140,5,FALSE),0)","v":0},{"$f":"IFERROR(VLOOKUP($B87,'[1]Num 3B'!$G$3:$O$140,6,FALSE),0)","v":0},{"$f":"IFERROR(VLOOKUP($B87,'[1]Num 3B'!$G$3:$O$140,7,FALSE),0)","v":0},{"$f":"IFERROR(VLOOKUP($B87,'[1]Num 3B'!$G$3:$O$140,8,FALSE),0)","v":0},{"$nulls":5},4]
["04203-LOS VILOS","105479-P.S.R. GUANGUALI",null,null,{"$f":"IFERROR(VLOOKUP($B88,'[1]Num 3B'!$G$3:$O$140,2,FALSE),0)","v":0},{"$f":"IFERROR(VLOOKUP($B88,'[1]Num 3B'!$G$3:$O$140,3,FALSE),0)","v":0},{"$f":"IFERROR(VLOOKUP($B88,'[1]Num 3B'!$G$3:$O$140,4,FALSE),0)","v":0},{"$f":"IFERROR(VLOOKUP($B88,'[1]Num 3B'!$G$3:$O$140,5,FALSE),0)","v":1},{"$f":"IFERROR(VLOOKUP($B88,'[1]Num 3B'!$G$3:$O$140,6,FALSE),0)","v":0},{"$f":"IFERROR(VLOOKUP($B88,'[1]Num 3B'!$G$3:$O$140,7,FALSE),0)","v":0},{"$f":"IFERROR(VLOOKUP($B88,'[1]Num 3B'!$G$3:$O$140,8,FALSE),0)","v":0},{"$nulls":5},1]
["04203-LOS VILOS","105480-P.S.R. QUILIMARI",null,null,{"$f":"IFERROR(VLOOKUP($B89,'[1]Num 3B'!$G$3:$O$140,2,FALSE),0)","v":0},{"$f":"IFERROR(VLOOKUP($B89,'[1]Num 3B'!$G$3:$O$140,3,FALSE),0)","v":0},{"$f":"IFERROR(VLOOKUP($B89,'[1]Num 3B'!$G$3:$O$140,4,FALSE),0)","v":0},{"$f":"IFERROR(VLOOKUP($B89,'[1]Num 3B'!$G$3:$O$140,5,FALSE),0)","v":1},{"$f":"IFERROR(VLOOKUP($B89,'[1]Num 3B'!$G$3:$O$140,6,FALSE),0)","v":3},{"$f":"IFERROR(VLOOKUP($B89,'[1]Num 3B'!$G$3:$O$140,7,FALSE),0)","v":0},{"$f":"IFERROR(VLOOKUP($B89,'[1]Num 3B'!$G$3:$O$140,8,FALSE),0)","v":0},{"$nulls":5},4]
["04203-LOS VILOS","105481-P.S.R. TILAMA",null,null,{"$f":"IFERROR(VLOOKUP($B90,'[1]Num 3B'!$G$3:$O$140,2,FALSE),0)","v":0},{"$f":"IFERROR(VLOOKUP($B90,'[1]Num 3B'!$G$3:$O$140,3,FALSE),0)","v":0},{"$f":"IFERROR(VLOOKUP($B90,'[1]Num 3B'!$G$3:$O$140,4,FALSE),0)","v":0},{"$f":"IFERROR(VLOOKUP($B90,'[1]Num 3B'!$G$3:$O$140,5,FALSE),0)","v":1},{"$f":"IFERROR(VLOOKUP($B90,'[1]Num 3B'!$G$3:$O$140,6,FALSE),0)","v":0},{"$f":"IFERROR(VLOOKUP($B90,'[1]Num 3B'!$G$3:$O$140,7,FALSE),0)","v":0},{"$f":"IFERROR(VLOOKUP($B90,'[1]Num 3B'!$G$3:$O$140,8,FALSE),0)","v":0},{"$nulls":5},1]
["04203-LOS VILOS","105511-P.S.R. LOS CONDORES",null,null,{"$f":"IFERROR(VLOOKUP($B91,'[1]Num 3B'!$G$3:$O$140,2,FALSE),0)","v":0},{"$f":"IFERROR(VLOOKUP($B91,'[1]Num 3B'!$G$3:$O$140,3,FALSE),0)","v":0},{"$f":"IFERROR(VLOOKUP($B91,'[1]Num 3B'!$G$3:$O$140,4,FALSE),0)","v":0},{"$f":"IFERROR(VLOOKUP($B91,'[1]Num 3B'!$G$3:$O$140,5,FALSE),0)","v":0},{"$f":"IFERROR(VLOOKUP($B91,'[1]Num 3B'!$G$3:$O$140,6,FALSE),0)","v":0},{"$f":"IFERROR(VLOOKUP($B91,'[1]Num 3B'!$G$3:$O$140,7,FALSE),0)","v":0},{"$f":"IFERROR(VLOOKUP($B91,'[1]Num 3B'!$G$3:$O$140,8,FALSE),0)","v":0},{"$nulls":5},0]
["TOTAL LOS VILOS",null,{"$f":"D92/Metas!J12","v":{"v":0.5973715651135006,"d":"59.74%"}},{"$f":"Q92/R92","v":{"v":0.10752688172043011,"d":"10.75%"}},{"$f":"SUM(E87:E91)","v":1},{"$f":"SUM(F87:F91)","v":3},{"$f":"SUM(G87:G91)","v":0},{"$f":"SUM(H87:H91)","v":3},{"$f":"SUM(I87:I91)","v":3},0,0,0,0,0,{"$f":"SUM(O87:O91)","v":0},{"$f":"SUM(P87:P91)","v":0},{"$f":"SUM(Q87:Q91)","v":10},93]
["04204-SALAMANCA","105452-P.S.R. CUNCUMEN                 ",null,null,{"$f":"IFERROR(VLOOKUP($B93,'[1]Num 3B'!$G$3:$O$140,2,FALSE),0)","v":0},{"$f":"IFERROR(VLOOKUP($B93,'[1]Num 3B'!$G$3:$O$140,3,FALSE),0)","v":0},{"$f":"IFERROR(VLOOKUP($B93,'[1]Num 3B'!$G$3:$O$140,4,FALSE),0)","v":0},{"$f":"IFERROR(VLOOKUP($B93,'[1]Num 3B'!$G$3:$O$140,5,FALSE),0)","v":0},{"$f":"IFERROR(VLOOKUP($B93,'[1]Num 3B'!$G$3:$O$140,6,FALSE),0)","v":0},{"$f":"IFERROR(VLOOKUP($B93,'[1]Num 3B'!$G$3:$O$140,7,FALSE),0)","v":0},{"$f":"IFERROR(VLOOKUP($B93,'[1]Num 3B'!$G$3:$O$140,8,FALSE),0)","v":0},{"$nulls":5},0]
["04204-SALAMANCA","105453-P.S.R. TRANQUILLA",null,null,{"$f":"IFERROR(VLOOKUP($B94,'[1]Num 3B'!$G$3:$O$140,2,FALSE),0)","v":0},{"$f":"IFERROR(VLOOKUP($B94,'[1]Num 3B'!$G$3:$O$140,3,FALSE),0)","v":0},{"$f":"IFERROR(VLOOKUP($B94,'[1]Num 3B'!$G$3:$O$140,4,FALSE),0)","v":6},{"$f":"IFERROR(VLOOKUP($B94,'[1]Num 3B'!$G$3:$O$140,5,FALSE),0)","v":0},{"$f":"IFERROR(VLOOKUP($B94,'[1]Num 3B'!$G$3:$O$140,6,FALSE),0)","v":0},{"$f":"IFERROR(VLOOKUP($B94,'[1]Num 3B'!$G$3:$O$140,7,FALSE),0)","v":0},{"$f":"IFERROR(VLOOKUP($B94,'[1]Num 3B'!$G$3:$O$140,8,FALSE),0)","v":0},{"$nulls":5},6]
["04204-SALAMANCA","105454-P.S.R. CUNLAGUA",null,null,{"$f":"IFERROR(VLOOKUP($B95,'[1]Num 3B'!$G$3:$O$140,2,FALSE),0)","v":0},{"$f":"IFERROR(VLOOKUP($B95,'[1]Num 3B'!$G$3:$O$140,3,FALSE),0)","v":0},{"$f":"IFERROR(VLOOKUP($B95,'[1]Num 3B'!$G$3:$O$140,4,FALSE),0)","v":0},{"$f":"IFERROR(VLOOKUP($B95,'[1]Num 3B'!$G$3:$O$140,5,FALSE),0)","v":0},{"$f":"IFERROR(VLOOKUP($B95,'[1]Num 3B'!$G$3:$O$140,6,FALSE),0)","v":0},{"$f":"IFERROR(VLOOKUP($B95,'[1]Num 3B'!$G$3:$O$140,7,FALSE),0)","v":0},{"$f":"IFERROR(VLOOKUP($B95,'[1]Num 3B'!$G$3:$O$140,8,FALSE),0)","v":0},{"$nulls":5},0]
["04204-SALAMANCA","105455-P.S.R. CHILLEPIN",null,null,{"$f":"IFERROR(VLOOKUP($B96,'[1]Num 3B'!$G$3:$O$140,2,FALSE),0)","v":0},{"$f":"IFERROR(VLOOKUP($B96,'[1]Num 3B'!$G$3:$O$140,3,FALSE),0)","v":0},{"$f":"IFERROR(VLOOKUP($B96,'[1]Num 3B'!$G$3:$O$140,4,FALSE),0)","v":0},{"$f":"IFERROR(VLOOKUP($B96,'[1]Num 3B'!$G$3:$O$140,5,FALSE),0)","v":0},{"$f":"IFERROR(VLOOKUP($B96,'[1]Num 3B'!$G$3:$O$140,6,FALSE),0)","v":0},{"$f":"IFERROR(VLOOKUP($B96,'[1]Num 3B'!$G$3:$O$140,7,FALSE),0)","v":0},{"$f":"IFERROR(VLOOKUP($B96,'[1]Num 3B'!$G$3:$O$140,8,FALSE),0)","v":0},{"$nulls":5},0]
["04204-SALAMANCA","105456-P.S.R. LLIMPO",null,null,{"$f":"IFERROR(VLOOKUP($B97,'[1]Num 3B'!$G$3:$O$140,2,FALSE),0)","v":0},{"$f":"IFERROR(VLOOKUP($B97,'[1]Num 3B'!$G$3:$O$140,3,FALSE),0)","v":0},{"$f":"IFERROR(VLOOKUP($B97,'[1]Num 3B'!$G$3:$O$140,4,FALSE),0)","v":0},{"$f":"IFERROR(VLOOKUP($B97,'[1]Num 3B'!$G$3:$O$140,5,FALSE),0)","v":1},{"$f":"IFERROR(VLOOKUP($B97,'[1]Num 3B'!$G$3:$O$140,6,FALSE),0)","v":0},{"$f":"IFERROR(VLOOKUP($B97,'[1]Num 3B'!$G$3:$O$140,7,FALSE),0)","v":0},{"$f":"IFERROR(VLOOKUP($B97,'[1]Num 3B'!$G$3:$O$140,8,FALSE),0)","v":0},{"$nulls":5},1]
["04204-SALAMANCA","105457-P.S.R. SAN AGUSTIN",null,null,{"$f":"IFERROR(VLOOKUP($B98,'[1]Num 3B'!$G$3:$O$140,2,FALSE),0)","v":0},{"$f":"IFERROR(VLOOKUP($B98,'[1]Num 3B'!$G$3:$O$140,3,FALSE),0)","v":0},{"$f":"IFERROR(VLOOKUP($B98,'[1]Num 3B'!$G$3:$O$140,4,FALSE),0)","v":1},{"$f":"IFERROR(VLOOKUP($B98,'[1]Num 3B'!$G$3:$O$140,5,FALSE),0)","v":0},{"$f":"IFERROR(VLOOKUP($B98,'[1]Num 3B'!$G$3:$O$140,6,FALSE),0)","v":0},{"$f":"IFERROR(VLOOKUP($B98,'[1]Num 3B'!$G$3:$O$140,7,FALSE),0)","v":0},{"$f":"IFERROR(VLOOKUP($B98,'[1]Num 3B'!$G$3:$O$140,8,FALSE),0)","v":0},{"$nulls":5},1]
["04204-SALAMANCA","105458-P.S.R. TAHUINCO",null,null,{"$f":"IFERROR(VLOOKUP($B99,'[1]Num 3B'!$G$3:$O$140,2,FALSE),0)","v":0},{"$f":"IFERROR(VLOOKUP($B99,'[1]Num 3B'!$G$3:$O$140,3,FALSE),0)","v":0},{"$f":"IFERROR(VLOOKUP($B99,'[1]Num 3B'!$G$3:$O$140,4,FALSE),0)","v":1},{"$f":"IFERROR(VLOOKUP($B99,'[1]Num 3B'!$G$3:$O$140,5,FALSE),0)","v":0},{"$f":"IFERROR(VLOOKUP($B99,'[1]Num 3B'!$G$3:$O$140,6,FALSE),0)","v":0},{"$f":"IFERROR(VLOOKUP($B99,'[1]Num 3B'!$G$3:$O$140,7,FALSE),0)","v":0},{"$f":"IFERROR(VLOOKUP($B99,'[1]Num 3B'!$G$3:$O$140,8,FALSE),0)","v":0},{"$nulls":5},1]
["04204-SALAMANCA","105491-P.S.R. QUELEN BAJO",null,null,{"$f":"IFERROR(VLOOKUP($B100,'[1]Num 3B'!$G$3:$O$140,2,FALSE),0)","v":0},{"$f":"IFERROR(VLOOKUP($B100,'[1]Num 3B'!$G$3:$O$140,3,FALSE),0)","v":0},{"$f":"IFERROR(VLOOKUP($B100,'[1]Num 3B'!$G$3:$O$140,4,FALSE),0)","v":0},{"$f":"IFERROR(VLOOKUP($B100,'[1]Num 3B'!$G$3:$O$140,5,FALSE),0)","v":1},{"$f":"IFERROR(VLOOKUP($B100,'[1]Num 3B'!$G$3:$O$140,6,FALSE),0)","v":0},{"$f":"IFERROR(VLOOKUP($B100,'[1]Num 3B'!$G$3:$O$140,7,FALSE),0)","v":1},{"$f":"IFERROR(VLOOKUP($B100,'[1]Num 3B'!$G$3:$O$140,8,FALSE),0)","v":0},{"$nulls":5},2]
["04204-SALAMANCA","105492-P.S.R. CAMISA",null,null,{"$f":"IFERROR(VLOOKUP($B101,'[1]Num 3B'!$G$3:$O$140,2,FALSE),0)","v":0},{"$f":"IFERROR(VLOOKUP($B101,'[1]Num 3B'!$G$3:$O$140,3,FALSE),0)","v":0},{"$f":"IFERROR(VLOOKUP($B101,'[1]Num 3B'!$G$3:$O$140,4,FALSE),0)","v":0},{"$f":"IFERROR(VLOOKUP($B101,'[1]Num 3B'!$G$3:$O$140,5,FALSE),0)","v":0},{"$f":"IFERROR(VLOOKUP($B101,'[1]Num 3B'!$G$3:$O$140,6,FALSE),0)","v":3},{"$f":"IFERROR(VLOOKUP($B101,'[1]Num 3B'!$G$3:$O$140,7,FALSE),0)","v":0},{"$f":"IFERROR(VLOOKUP($B101,'[1]Num 3B'!$G$3:$O$140,8,FALSE),0)","v":0},{"$nulls":5},3]
["04204-SALAMANCA","105501-P.S.R. ARBOLEDA GRANDE",null,null,{"$f":"IFERROR(VLOOKUP($B102,'[1]Num 3B'!$G$3:$O$140,2,FALSE),0)","v":0},{"$f":"IFERROR(VLOOKUP($B102,'[1]Num 3B'!$G$3:$O$140,3,FALSE),0)","v":0},{"$f":"IFERROR(VLOOKUP($B102,'[1]Num 3B'!$G$3:$O$140,4,FALSE),0)","v":0},{"$f":"IFERROR(VLOOKUP($B102,'[1]Num 3B'!$G$3:$O$140,5,FALSE),0)","v":0},{"$f":"IFERROR(VLOOKUP($B102,'[1]Num 3B'!$G$3:$O$140,6,FALSE),0)","v":0},{"$f":"IFERROR(VLOOKUP($B102,'[1]Num 3B'!$G$3:$O$140,7,FALSE),0)","v":0},{"$f":"IFERROR(VLOOKUP($B102,'[1]Num 3B'!$G$3:$O$140,8,FALSE),0)","v":0},{"$nulls":5},0]
["TOTAL SALAMANCA",null,{"$f":"D103/Metas!J13","v":{"v":0.4784688995215311,"d":"47.85%"}},{"$f":"Q103/R103","v":{"v":0.10526315789473684,"d":"10.53%"}},{"$f":"SUM(E93:E102)","v":0},{"$f":"SUM(F93:F102)","v":0},{"$f":"SUM(G93:G102)","v":8},{"$f":"SUM(H93:H102)","v":2},{"$f":"SUM(I93:I102)","v":3},1,0,0,0,0,{"$f":"SUM(O93:O102)","v":0},{"$f":"SUM(P93:P102)","v":0},{"$f":"SUM(Q93:Q102)","v":14},133]
["04301-OVALLE","105315-CES. RURAL C. DE TAMAYA",null,null,{"$f":"IFERROR(VLOOKUP($B104,'[1]Num 3B'!$G$3:$O$140,2,FALSE),0)","v":0},{"$f":"IFERROR(VLOOKUP($B104,'[1]Num 3B'!$G$3:$O$140,3,FALSE),0)","v":0},{"$f":"IFERROR(VLOOKUP($B104,'[1]Num 3B'!$G$3:$O$140,4,FALSE),0)","v":2},{"$f":"IFERROR(VLOOKUP($B104,'[1]Num 3B'!$G$3:$O$140,5,FALSE),0)","v":13},{"$f":"IFERROR(VLOOKUP($B104,'[1]Num 3B'!$G$3:$O$140,6,FALSE),0)","v":4},{"$f":"IFERROR(VLOOKUP($B104,'[1]Num 3B'!$G$3:$O$140,7,FALSE),0)","v":1},{"$f":"IFERROR(VLOOKUP($B104,'[1]Num 3B'!$G$3:$O$140,8,FALSE),0)","v":2},{"$nulls":5},{"$f":"SUM(E104:P104)","v":22}]
["04301-OVALLE","105317-CES. JORGE JORDAN D.",null,null,{"$f":"IFERROR(VLOOKUP($B105,'[1]Num 3B'!$G$3:$O$140,2,FALSE),0)","v":2},{"$f":"IFERROR(VLOOKUP($B105,'[1]Num 3B'!$G$3:$O$140,3,FALSE),0)","v":1},{"$f":"IFERROR(VLOOKUP($B105,'[1]Num 3B'!$G$3:$O$140,4,FALSE),0)","v":1},{"$f":"IFERROR(VLOOKUP($B105,'[1]Num 3B'!$G$3:$O$140,5,FALSE),0)","v":1},{"$f":"IFERROR(VLOOKUP($B105,'[1]Num 3B'!$G$3:$O$140,6,FALSE),0)","v":6},{"$f":"IFERROR(VLOOKUP($B105,'[1]Num 3B'!$G$3:$O$140,7,FALSE),0)","v":6},{"$f":"IFERROR(VLOOKUP($B105,'[1]Num 3B'!$G$3:$O$140,8,FALSE),0)","v":5},{"$nulls":5},22]
["04301-OVALLE","105322-CES. MARCOS MACUADA",null,null,{"$f":"IFERROR(VLOOKUP($B106,'[1]Num 3B'!$G$3:$O$140,2,FALSE),0)","v":0},{"$f":"IFERROR(VLOOKUP($B106,'[1]Num 3B'!$G$3:$O$140,3,FALSE),0)","v":5},{"$f":"IFERROR(VLOOKUP($B106,'[1]Num 3B'!$G$3:$O$140,4,FALSE),0)","v":4},{"$f":"IFERROR(VLOOKUP($B106,'[1]Num 3B'!$G$3:$O$140,5,FALSE),0)","v":2},{"$f":"IFERROR(VLOOKUP($B106,'[1]Num 3B'!$G$3:$O$140,6,FALSE),0)","v":0},{"$f":"IFERROR(VLOOKUP($B106,'[1]Num 3B'!$G$3:$O$140,7,FALSE),0)","v":7},{"$f":"IFERROR(VLOOKUP($B106,'[1]Num 3B'!$G$3:$O$140,8,FALSE),0)","v":4},{"$nulls":5},22]
["04301-OVALLE","105324-CES. SOTAQUI",null,null,{"$f":"IFERROR(VLOOKUP($B107,'[1]Num 3B'!$G$3:$O$140,2,FALSE),0)","v":0},{"$f":"IFERROR(VLOOKUP($B107,'[1]Num 3B'!$G$3:$O$140,3,FALSE),0)","v":4},{"$f":"IFERROR(VLOOKUP($B107,'[1]Num 3B'!$G$3:$O$140,4,FALSE),0)","v":2},{"$f":"IFERROR(VLOOKUP($B107,'[1]Num 3B'!$G$3:$O$140,5,FALSE),0)","v":2},{"$f":"IFERROR(VLOOKUP($B107,'[1]Num 3B'!$G$3:$O$140,6,FALSE),0)","v":0},{"$f":"IFERROR(VLOOKUP($B107,'[1]Num 3B'!$G$3:$O$140,7,FALSE),0)","v":1},{"$f":"IFERROR(VLOOKUP($B107,'[1]Num 3B'!$G$3:$O$140,8,FALSE),0)","v":1},{"$nulls":5},10]
["04301-OVALLE","105415-P.S.R. BARRAZA",null,null,{"$f":"IFERROR(VLOOKUP($B108,'[1]Num 3B'!$G$3:$O$140,2,FALSE),0)","v":1},{"$f":"IFERROR(VLOOKUP($B108,'[1]Num 3B'!$G$3:$O$140,3,FALSE),0)","v":0},{"$f":"IFERROR(VLOOKUP($B108,'[1]Num 3B'!$G$3:$O$140,4,FALSE),0)","v":0},{"$f":"IFERROR(VLOOKUP($B108,'[1]Num 3B'!$G$3:$O$140,5,FALSE),0)","v":1},{"$f":"IFERROR(VLOOKUP($B108,'[1]Num 3B'!$G$3:$O$140,6,FALSE),0)","v":0},{"$f":"IFERROR(VLOOKUP($B108,'[1]Num 3B'!$G$3:$O$140,7,FALSE),0)","v":0},{"$f":"IFERROR(VLOOKUP($B108,'[1]Num 3B'!$G$3:$O$140,8,FALSE),0)","v":0},{"$nulls":5},2]
["04301-OVALLE","105416-P.S.R. CAMARICO                  ",null,null,{"$f":"IFERROR(VLOOKUP($B109,'[1]Num 3B'!$G$3:$O$140,2,FALSE),0)","v":0},{"$f":"IFERROR(VLOOKUP($B109,'[1]Num 3B'!$G$3:$O$140,3,FALSE),0)","v":1},{"$f":"IFERROR(VLOOKUP($B109,'[1]Num 3B'!$G$3:$O$140,4,FALSE),0)","v":2},{"$f":"IFERROR(VLOOKUP($B109,'[1]Num 3B'!$G$3:$O$140,5,FALSE),0)","v":0},{"$f":"IFERROR(VLOOKUP($B109,'[1]Num 3B'!$G$3:$O$140,6,FALSE),0)","v":6},{"$f":"IFERROR(VLOOKUP($B109,'[1]Num 3B'!$G$3:$O$140,7,FALSE),0)","v":0},{"$f":"IFERROR(VLOOKUP($B109,'[1]Num 3B'!$G$3:$O$140,8,FALSE),0)","v":0},{"$nulls":5},9]
["04301-OVALLE","105417-P.S.R. ALCONES BAJOS",null,null,{"$f":"IFERROR(VLOOKUP($B110,'[1]Num 3B'!$G$3:$O$140,2,FALSE),0)","v":0},{"$f":"IFERROR(VLOOKUP($B110,'[1]Num 3B'!$G$3:$O$140,3,FALSE),0)","v":1},{"$f":"IFERROR(VLOOKUP($B110,'[1]Num 3B'!$G$3:$O$140,4,FALSE),0)","v":4},{"$f":"IFERROR(VLOOKUP($B110,'[1]Num 3B'!$G$3:$O$140,5,FALSE),0)","v":1},{"$f":"IFERROR(VLOOKUP($B110,'[1]Num 3B'!$G$3:$O$140,6,FALSE),0)","v":0},{"$f":"IFERROR(VLOOKUP($B110,'[1]Num 3B'!$G$3:$O$140,7,FALSE),0)","v":0},{"$f":"IFERROR(VLOOKUP($B110,'[1]Num 3B'!$G$3:$O$140,8,FALSE),0)","v":0},{"$nulls":5},6]
["04301-OVALLE","105419-P.S.R. LAS SOSSAS",null,null,{"$f":"IFERROR(VLOOKUP($B111,'[1]Num 3B'!$G$3:$O$140,2,FALSE),0)","v":0},{"$f":"IFERROR(VLOOKUP($B111,'[1]Num 3B'!$G$3:$O$140,3,FALSE),0)","v":0},{"$f":"IFERROR(VLOOKUP($B111,'[1]Num 3B'!$G$3:$O$140,4,FALSE),0)","v":0},{"$f":"IFERROR(VLOOKUP($B111,'[1]Num 3B'!$G$3:$O$140,5,FALSE),0)","v":0},{"$f":"IFERROR(VLOOKUP($B111,'[1]Num 3B'!$G$3:$O$140,6,FALSE),0)","v":0},{"$f":"IFERROR(VLOOKUP($B111,'[1]Num 3B'!$G$3:$O$140,7,FALSE),0)","v":2},{"$f":"IFERROR(VLOOKUP($B111,'[1]Num 3B'!$G$3:$O$140,8,FALSE),0)","v":0},{"$nulls":5},2]
["04301-OVALLE","105422-P.S.R. HORNILLOS",null,null,{"$f":"IFERROR(VLOOKUP($B112,'[1]Num 3B'!$G$3:$O$140,2,FALSE),0)","v":0},{"$f":"IFERROR(VLOOKUP($B112,'[1]Num 3B'!$G$3:$O$140,3,FALSE),0)","v":0},{"$f":"IFERROR(VLOOKUP($B112,'[1]Num 3B'!$G$3:$O$140,4,FALSE),0)","v":0},{"$f":"IFERROR(VLOOKUP($B112,'[1]Num 3B'!$G$3:$O$140,5,FALSE),0)","v":0},{"$f":"IFERROR(VLOOKUP($B112,'[1]Num 3B'!$G$3:$O$140,6,FALSE),0)","v":0},{"$f":"IFERROR(VLOOKUP($B112,'[1]Num 3B'!$G$3:$O$140,7,FALSE),0)","v":0},{"$f":"IFERROR(VLOOKUP($B112,'[1]Num 3B'!$G$3:$O$140,8,FALSE),0)","v":0},{"$nulls":5},0]
["04301-OVALLE","105437-P.S.R. CHALINGA",null,null,{"$f":"IFERROR(VLOOKUP($B113,'[1]Num 3B'!$G$3:$O$140,2,FALSE),0)","v":0},{"$f":"IFERROR(VLOOKUP($B113,'[1]Num 3B'!$G$3:$O$140,3,FALSE),0)","v":0},{"$f":"IFERROR(VLOOKUP($B113,'[1]Num 3B'!$G$3:$O$140,4,FALSE),0)","v":4},{"$f":"IFERROR(VLOOKUP($B113,'[1]Num 3B'!$G$3:$O$140,5,FALSE),0)","v":0},{"$f":"IFERROR(VLOOKUP($B113,'[1]Num 3B'!$G$3:$O$140,6,FALSE),0)","v":0},{"$f":"IFERROR(VLOOKUP($B113,'[1]Num 3B'!$G$3:$O$140,7,FALSE),0)","v":0},{"$f":"IFERROR(VLOOKUP($B113,'[1]Num 3B'!$G$3:$O$140,8,FALSE),0)","v":0},{"$nulls":5},4]
["04301-OVALLE","105439-P.S.R. CERRO BLANCO",null,null,{"$f":"IFERROR(VLOOKUP($B114,'[1]Num 3B'!$G$3:$O$140,2,FALSE),0)","v":0},{"$f":"IFERROR(VLOOKUP($B114,'[1]Num 3B'!$G$3:$O$140,3,FALSE),0)","v":0},{"$f":"IFERROR(VLOOKUP($B114,'[1]Num 3B'!$G$3:$O$140,4,FALSE),0)","v":0},{"$f":"IFERROR(VLOOKUP($B114,'[1]Num 3B'!$G$3:$O$140,5,FALSE),0)","v":0},{"$f":"IFERROR(VLOOKUP($B114,'[1]Num 3B'!$G$3:$O$140,6,FALSE),0)","v":0},{"$f":"IFERROR(VLOOKUP($B114,'[1]Num 3B'!$G$3:$O$140,7,FALSE),0)","v":0},{"$f":"IFERROR(VLOOKUP($B114,'[1]Num 3B'!$G$3:$O$140,8,FALSE),0)","v":0},{"$nulls":5},0]
["04301-OVALLE","105507-P.S.R. HUAMALATA",null,null,{"$f":"IFERROR(VLOOKUP($B115,'[1]Num 3B'!$G$3:$O$140,2,FALSE),0)","v":2},{"$f":"IFERROR(VLOOKUP($B115,'[1]Num 3B'!$G$3:$O$140,3,FALSE),0)","v":0},{"$f":"IFERROR(VLOOKUP($B115,'[1]Num 3B'!$G$3:$O$140,4,FALSE),0)","v":8},{"$f":"IFERROR(VLOOKUP($B115,'[1]Num 3B'!$G$3:$O$140,5,FALSE),0)","v":0},{"$f":"IFERROR(VLOOKUP($B115,'[1]Num 3B'!$G$3:$O$140,6,FALSE),0)","v":0},{"$f":"IFERROR(VLOOKUP($B115,'[1]Num 3B'!$G$3:$O$140,7,FALSE),0)","v":0},{"$f":"IFERROR(VLOOKUP($B115,'[1]Num 3B'!$G$3:$O$140,8,FALSE),0)","v":0},{"$nulls":5},10]
["04301-OVALLE","105510-P.S.R. RECOLETA",null,null,{"$f":"IFERROR(VLOOKUP($B116,'[1]Num 3B'!$G$3:$O$140,2,FALSE),0)","v":1},{"$f":"IFERROR(VLOOKUP($B116,'[1]Num 3B'!$G$3:$O$140,3,FALSE),0)","v":3},{"$f":"IFERROR(VLOOKUP($B116,'[1]Num 3B'!$G$3:$O$140,4,FALSE),0)","v":0},{"$f":"IFERROR(VLOOKUP($B116,'[1]Num 3B'!$G$3:$O$140,5,FALSE),0)","v":0},{"$f":"IFERROR(VLOOKUP($B116,'[1]Num 3B'!$G$3:$O$140,6,FALSE),0)","v":5},{"$f":"IFERROR(VLOOKUP($B116,'[1]Num 3B'!$G$3:$O$140,7,FALSE),0)","v":0},{"$f":"IFERROR(VLOOKUP($B116,'[1]Num 3B'!$G$3:$O$140,8,FALSE),0)","v":0},{"$nulls":5},9]
["04301-OVALLE","105722-CECOF SAN JOSE DE LA DEHESA",null,null,{"$f":"IFERROR(VLOOKUP($B117,'[1]Num 3B'!$G$3:$O$140,2,FALSE),0)","v":0},{"$f":"IFERROR(VLOOKUP($B117,'[1]Num 3B'!$G$3:$O$140,3,FALSE),0)","v":0},{"$f":"IFERROR(VLOOKUP($B117,'[1]Num 3B'!$G$3:$O$140,4,FALSE),0)","v":2},{"$f":"IFERROR(VLOOKUP($B117,'[1]Num 3B'!$G$3:$O$140,5,FALSE),0)","v":1},{"$f":"IFERROR(VLOOKUP($B117,'[1]Num 3B'!$G$3:$O$140,6,FALSE),0)","v":3},{"$f":"IFERROR(VLOOKUP($B117,'[1]Num 3B'!$G$3:$O$140,7,FALSE),0)","v":1},{"$f":"IFERROR(VLOOKUP($B117,'[1]Num 3B'!$G$3:$O$140,8,FALSE),0)","v":0},{"$nulls":5},7]
["04301-OVALLE","105723-CECOF LIMARI",null,null,{"$f":"IFERROR(VLOOKUP($B118,'[1]Num 3B'!$G$3:$O$140,2,FALSE),0)","v":0},{"$f":"IFERROR(VLOOKUP($B118,'[1]Num 3B'!$G$3:$O$140,3,FALSE),0)","v":0},{"$f":"IFERROR(VLOOKUP($B118,'[1]Num 3B'!$G$3:$O$140,4,FALSE),0)","v":1},{"$f":"IFERROR(VLOOKUP($B118,'[1]Num 3B'!$G$3:$O$140,5,FALSE),0)","v":1},{"$f":"IFERROR(VLOOKUP($B118,'[1]Num 3B'!$G$3:$O$140,6,FALSE),0)","v":1},{"$f":"IFERROR(VLOOKUP($B118,'[1]Num 3B'!$G$3:$O$140,7,FALSE),0)","v":0},{"$f":"IFERROR(VLOOKUP($B118,'[1]Num 3B'!$G$3:$O$140,8,FALSE),0)","v":0},{"$nulls":5},3]
["04301-OVALLE","200258-CECOF LOS COPIHUES",null,null,{"$f":"IFERROR(VLOOKUP($B119,'[1]Num 3B'!$G$3:$O$140,2,FALSE),0)","v":1},{"$f":"IFERROR(VLOOKUP($B119,'[1]Num 3B'!$G$3:$O$140,3,FALSE),0)","v":0},{"$f":"IFERROR(VLOOKUP($B119,'[1]Num 3B'!$G$3:$O$140,4,FALSE),0)","v":1},{"$f":"IFERROR(VLOOKUP($B119,'[1]Num 3B'!$G$3:$O$140,5,FALSE),0)","v":1},{"$f":"IFERROR(VLOOKUP($B119,'[1]Num 3B'!$G$3:$O$140,6,FALSE),0)","v":0},{"$f":"IFERROR(VLOOKUP($B119,'[1]Num 3B'!$G$3:$O$140,7,FALSE),0)","v":0},{"$f":"IFERROR(VLOOKUP($B119,'[1]Num 3B'!$G$3:$O$140,8,FALSE),0)","v":0},{"$nulls":5},3]
["04301-OVALLE","200367-CECOF COLONIA LIMARÍ",null,null,{"$f":"IFERROR(VLOOKUP($B120,'[1]Num 3B'!$G$3:$O$140,2,FALSE),0)","v":0},{"$f":"IFERROR(VLOOKUP($B120,'[1]Num 3B'!$G$3:$O$140,3,FALSE),0)","v":0},{"$f":"IFERROR(VLOOKUP($B120,'[1]Num 3B'!$G$3:$O$140,4,FALSE),0)","v":1},{"$f":"IFERROR(VLOOKUP($B120,'[1]Num 3B'!$G$3:$O$140,5,FALSE),0)","v":1},{"$f":"IFERROR(VLOOKUP($B120,'[1]Num 3B'!$G$3:$O$140,6,FALSE),0)","v":2},{"$f":"IFERROR(VLOOKUP($B120,'[1]Num 3B'!$G$3:$O$140,7,FALSE),0)","v":1},{"$f":"IFERROR(VLOOKUP($B120,'[1]Num 3B'!$G$3:$O$140,8,FALSE),0)","v":3},{"$nulls":5},8]
["04301-OVALLE","200569-CESFAM FRAY JORGE",null,null,{"$f":"IFERROR(VLOOKUP($B121,'[1]Num 3B'!$G$3:$O$140,2,FALSE),0)","v":4},{"$f":"IFERROR(VLOOKUP($B121,'[1]Num 3B'!$G$3:$O$140,3,FALSE),0)","v":6},{"$f":"IFERROR(VLOOKUP($B121,'[1]Num 3B'!$G$3:$O$140,4,FALSE),0)","v":6},{"$f":"IFERROR(VLOOKUP($B121,'[1]Num 3B'!$G$3:$O$140,5,FALSE),0)","v":6},{"$f":"IFERROR(VLOOKUP($B121,'[1]Num 3B'!$G$3:$O$140,6,FALSE),0)","v":6},{"$f":"IFERROR(VLOOKUP($B121,'[1]Num 3B'!$G$3:$O$140,7,FALSE),0)","v":4},{"$f":"IFERROR(VLOOKUP($B121,'[1]Num 3B'!$G$3:$O$140,8,FALSE),0)","v":11},{"$nulls":5},43]
["TOTAL OVALLE",null,{"$f":"D122/Metas!J14","v":{"v":1.0458567980691875,"d":"104.59%"}},{"$f":"Q122/R122","v":{"v":0.11504424778761062,"d":"11.50%"}},{"$f":"SUM(E104:E121)","v":11},21,38,30,33,23,26,0,0,0,0,0,182,{"v":1582,"d":"1,582"}]
["04302-COMBARBALÁ","105433-P.S.R. SAN LORENZO",null,null,{"$f":"IFERROR(VLOOKUP($B123,'[1]Num 3B'!$G$3:$O$140,2,FALSE),0)","v":0},{"$f":"IFERROR(VLOOKUP($B123,'[1]Num 3B'!$G$3:$O$140,3,FALSE),0)","v":0},{"$f":"IFERROR(VLOOKUP($B123,'[1]Num 3B'!$G$3:$O$140,4,FALSE),0)","v":0},{"$f":"IFERROR(VLOOKUP($B123,'[1]Num 3B'!$G$3:$O$140,5,FALSE),0)","v":0},{"$f":"IFERROR(VLOOKUP($B123,'[1]Num 3B'!$G$3:$O$140,6,FALSE),0)","v":0},{"$f":"IFERROR(VLOOKUP($B123,'[1]Num 3B'!$G$3:$O$140,7,FALSE),0)","v":0},{"$f":"IFERROR(VLOOKUP($B123,'[1]Num 3B'!$G$3:$O$140,8,FALSE),0)","v":0},{"$nulls":5},{"$f":"SUM(E123:P123)","v":0}]
["04302-COMBARBALÁ","105434-P.S.R. SAN MARCOS",null,null,{"$f":"IFERROR(VLOOKUP($B124,'[1]Num 3B'!$G$3:$O$140,2,FALSE),0)","v":0},{"$f":"IFERROR(VLOOKUP($B124,'[1]Num 3B'!$G$3:$O$140,3,FALSE),0)","v":0},{"$f":"IFERROR(VLOOKUP($B124,'[1]Num 3B'!$G$3:$O$140,4,FALSE),0)","v":0},{"$f":"IFERROR(VLOOKUP($B124,'[1]Num 3B'!$G$3:$O$140,5,FALSE),0)","v":0},{"$f":"IFERROR(VLOOKUP($B124,'[1]Num 3B'!$G$3:$O$140,6,FALSE),0)","v":0},{"$f":"IFERROR(VLOOKUP($B124,'[1]Num 3B'!$G$3:$O$140,7,FALSE),0)","v":0},{"$f":"IFERROR(VLOOKUP($B124,'[1]Num 3B'!$G$3:$O$140,8,FALSE),0)","v":0},{"$nulls":5},0]
["04302-COMBARBALÁ","105441-P.S.R. MANQUEHUA",null,null,{"$f":"IFERROR(VLOOKUP($B125,'[1]Num 3B'!$G$3:$O$140,2,FALSE),0)","v":0},{"$f":"IFERROR(VLOOKUP($B125,'[1]Num 3B'!$G$3:$O$140,3,FALSE),0)","v":0},{"$f":"IFERROR(VLOOKUP($B125,'[1]Num 3B'!$G$3:$O$140,4,FALSE),0)","v":0},{"$f":"IFERROR(VLOOKUP($B125,'[1]Num 3B'!$G$3:$O$140,5,FALSE),0)","v":0},{"$f":"IFERROR(VLOOKUP($B125,'[1]Num 3B'!$G$3:$O$140,6,FALSE),0)","v":0},{"$f":"IFERROR(VLOOKUP($B125,'[1]Num 3B'!$G$3:$O$140,7,FALSE),0)","v":0},{"$f":"IFERROR(VLOOKUP($B125,'[1]Num 3B'!$G$3:$O$140,8,FALSE),0)","v":0},{"$nulls":5},0]
["04302-COMBARBALÁ","105459-P.S.R. BARRANCAS                ",null,null,{"$f":"IFERROR(VLOOKUP($B126,'[1]Num 3B'!$G$3:$O$140,2,FALSE),0)","v":0},{"$f":"IFERROR(VLOOKUP($B126,'[1]Num 3B'!$G$3:$O$140,3,FALSE),0)","v":0},{"$f":"IFERROR(VLOOKUP($B126,'[1]Num 3B'!$G$3:$O$140,4,FALSE),0)","v":0},{"$f":"IFERROR(VLOOKUP($B126,'[1]Num 3B'!$G$3:$O$140,5,FALSE),0)","v":0},{"$f":"IFERROR(VLOOKUP($B126,'[1]Num 3B'!$G$3:$O$140,6,FALSE),0)","v":0},{"$f":"IFERROR(VLOOKUP($B126,'[1]Num 3B'!$G$3:$O$140,7,FALSE),0)","v":0},{"$f":"IFERROR(VLOOKUP($B126,'[1]Num 3B'!$G$3:$O$140,8,FALSE),0)","v":0},{"$nulls":5},0]
["04302-COMBARBALÁ","105460-P.S.R. COGOTI 18",null,null,{"$f":"IFERROR(VLOOKUP($B127,'[1]Num 3B'!$G$3:$O$140,2,FALSE),0)","v":0},{"$f":"IFERROR(VLOOKUP($B127,'[1]Num 3B'!$G$3:$O$140,3,FALSE),0)","v":0},{"$f":"IFERROR(VLOOKUP($B127,'[1]Num 3B'!$G$3:$O$140,4,FALSE),0)","v":0},{"$f":"IFERROR(VLOOKUP($B127,'[1]Num 3B'!$G$3:$O$140,5,FALSE),0)","v":6},{"$f":"IFERROR(VLOOKUP($B127,'[1]Num 3B'!$G$3:$O$140,6,FALSE),0)","v":0},{"$f":"IFERROR(VLOOKUP($B127,'[1]Num 3B'!$G$3:$O$140,7,FALSE),0)","v":0},{"$f":"IFERROR(VLOOKUP($B127,'[1]Num 3B'!$G$3:$O$140,8,FALSE),0)","v":1},{"$nulls":5},7]
["04302-COMBARBALÁ","105461-P.S.R. EL HUACHO",null,null,{"$f":"IFERROR(VLOOKUP($B128,'[1]Num 3B'!$G$3:$O$140,2,FALSE),0)","v":0},{"$f":"IFERROR(VLOOKUP($B128,'[1]Num 3B'!$G$3:$O$140,3,FALSE),0)","v":0},{"$f":"IFERROR(VLOOKUP($B128,'[1]Num 3B'!$G$3:$O$140,4,FALSE),0)","v":0},{"$f":"IFERROR(VLOOKUP($B128,'[1]Num 3B'!$G$3:$O$140,5,FALSE),0)","v":0},{"$f":"IFERROR(VLOOKUP($B128,'[1]Num 3B'!$G$3:$O$140,6,FALSE),0)","v":0},{"$f":"IFERROR(VLOOKUP($B128,'[1]Num 3B'!$G$3:$O$140,7,FALSE),0)","v":0},{"$f":"IFERROR(VLOOKUP($B128,'[1]Num 3B'!$G$3:$O$140,8,FALSE),0)","v":0},{"$nulls":5},0]
["04302-COMBARBALÁ","105462-P.S.R. EL SAUCE",null,null,{"$f":"IFERROR(VLOOKUP($B129,'[1]Num 3B'!$G$3:$O$140,2,FALSE),0)","v":0},{"$f":"IFERROR(VLOOKUP($B129,'[1]Num 3B'!$G$3:$O$140,3,FALSE),0)","v":0},{"$f":"IFERROR(VLOOKUP($B129,'[1]Num 3B'!$G$3:$O$140,4,FALSE),0)","v":0},{"$f":"IFERROR(VLOOKUP($B129,'[1]Num 3B'!$G$3:$O$140,5,FALSE),0)","v":0},{"$f":"IFERROR(VLOOKUP($B129,'[1]Num 3B'!$G$3:$O$140,6,FALSE),0)","v":0},{"$f":"IFERROR(VLOOKUP($B129,'[1]Num 3B'!$G$3:$O$140,7,FALSE),0)","v":0},{"$f":"IFERROR(VLOOKUP($B129,'[1]Num 3B'!$G$3:$O$140,8,FALSE),0)","v":0},{"$nulls":5},0]
["04302-COMBARBALÁ","105463-P.S.R. QUILITAPIA",null,null,{"$f":"IFERROR(VLOOKUP($B130,'[1]Num 3B'!$G$3:$O$140,2,FALSE),0)","v":0},{"$f":"IFERROR(VLOOKUP($B130,'[1]Num 3B'!$G$3:$O$140,3,FALSE),0)","v":1},{"$f":"IFERROR(VLOOKUP($B130,'[1]Num 3B'!$G$3:$O$140,4,FALSE),0)","v":0},{"$f":"IFERROR(VLOOKUP($B130,'[1]Num 3B'!$G$3:$O$140,5,FALSE),0)","v":0},{"$f":"IFERROR(VLOOKUP($B130,'[1]Num 3B'!$G$3:$O$140,6,FALSE),0)","v":0},{"$f":"IFERROR(VLOOKUP($B130,'[1]Num 3B'!$G$3:$O$140,7,FALSE),0)","v":0},{"$f":"IFERROR(VLOOKUP($B130,'[1]Num 3B'!$G$3:$O$140,8,FALSE),0)","v":0},{"$nulls":5},1]
["04302-COMBARBALÁ","105464-P.S.R. LA LIGUA",null,null,{"$f":"IFERROR(VLOOKUP($B131,'[1]Num 3B'!$G$3:$O$140,2,FALSE),0)","v":0},{"$f":"IFERROR(VLOOKUP($B131,'[1]Num 3B'!$G$3:$O$140,3,FALSE),0)","v":0},{"$f":"IFERROR(VLOOKUP($B131,'[1]Num 3B'!$G$3:$O$140,4,FALSE),0)","v":0},{"$f":"IFERROR(VLOOKUP($B131,'[1]Num 3B'!$G$3:$O$140,5,FALSE),0)","v":0},{"$f":"IFERROR(VLOOKUP($B131,'[1]Num 3B'!$G$3:$O$140,6,FALSE),0)","v":0},{"$f":"IFERROR(VLOOKUP($B131,'[1]Num 3B'!$G$3:$O$140,7,FALSE),0)","v":0},{"$f":"IFERROR(VLOOKUP($B131,'[1]Num 3B'!$G$3:$O$140,8,FALSE),0)","v":0},{"$nulls":5},0]
["04302-COMBARBALÁ","105465-P.S.R. RAMADILLA",null,null,{"$f":"IFERROR(VLOOKUP($B132,'[1]Num 3B'!$G$3:$O$140,2,FALSE),0)","v":0},{"$f":"IFERROR(VLOOKUP($B132,'[1]Num 3B'!$G$3:$O$140,3,FALSE),0)","v":0},{"$f":"IFERROR(VLOOKUP($B132,'[1]Num 3B'!$G$3:$O$140,4,FALSE),0)","v":0},{"$f":"IFERROR(VLOOKUP($B132,'[1]Num 3B'!$G$3:$O$140,5,FALSE),0)","v":0},{"$f":"IFERROR(VLOOKUP($B132,'[1]Num 3B'!$G$3:$O$140,6,FALSE),0)","v":0},{"$f":"IFERROR(VLOOKUP($B132,'[1]Num 3B'!$G$3:$O$140,7,FALSE),0)","v":0},{"$f":"IFERROR(VLOOKUP($B132,'[1]Num 3B'!$G$3:$O$140,8,FALSE),0)","v":0},{"$nulls":5},0]
["04302-COMBARBALÁ","105466-P.S.R. VALLE HERMOSO",null,null,{"$f":"IFERROR(VLOOKUP($B133,'[1]Num 3B'!$G$3:$O$140,2,FALSE),0)","v":0},{"$f":"IFERROR(VLOOKUP($B133,'[1]Num 3B'!$G$3:$O$140,3,FALSE),0)","v":0},{"$f":"IFERROR(VLOOKUP($B133,'[1]Num 3B'!$G$3:$O$140,4,FALSE),0)","v":0},{"$f":"IFERROR(VLOOKUP($B133,'[1]Num 3B'!$G$3:$O$140,5,FALSE),0)","v":0},{"$f":"IFERROR(VLOOKUP($B133,'[1]Num 3B'!$G$3:$O$140,6,FALSE),0)","v":0},{"$f":"IFERROR(VLOOKUP($B133,'[1]Num 3B'!$G$3:$O$140,7,FALSE),0)","v":0},{"$f":"IFERROR(VLOOKUP($B133,'[1]Num 3B'!$G$3:$O$140,8,FALSE),0)","v":0},{"$nulls":5},0]
["04302-COMBARBALÁ","105490-P.S.R. EL DURAZNO",null,null,{"$f":"IFERROR(VLOOKUP($B134,'[1]Num 3B'!$G$3:$O$140,2,FALSE),0)","v":0},{"$f":"IFERROR(VLOOKUP($B134,'[1]Num 3B'!$G$3:$O$140,3,FALSE),0)","v":0},{"$f":"IFERROR(VLOOKUP($B134,'[1]Num 3B'!$G$3:$O$140,4,FALSE),0)","v":0},{"$f":"IFERROR(VLOOKUP($B134,'[1]Num 3B'!$G$3:$O$140,5,FALSE),0)","v":0},{"$f":"IFERROR(VLOOKUP($B134,'[1]Num 3B'!$G$3:$O$140,6,FALSE),0)","v":0},{"$f":"IFERROR(VLOOKUP($B134,'[1]Num 3B'!$G$3:$O$140,7,FALSE),0)","v":0},{"$f":"IFERROR(VLOOKUP($B134,'[1]Num 3B'!$G$3:$O$140,8,FALSE),0)","v":0},{"$nulls":5},0]
["TOTAL COMBARBALÁ",null,{"$f":"D135/Metas!J15","v":{"v":0.27453671928620454,"d":"27.45%"}},{"$f":"Q135/R135","v":{"v":0.1702127659574468,"d":"17.02%"}},{"$f":"SUM(E123:E134)","v":0},{"$f":"SUM(F123:F134)","v":1},{"$f":"SUM(G123:G134)","v":0},{"$f":"SUM(H123:H134)","v":6},{"$f":"SUM(I123:I134)","v":0},0,1,0,0,0,{"$f":"SUM(O123:O134)","v":0},{"$f":"SUM(P123:P134)","v":0},{"$f":"SUM(Q123:Q134)","v":8},47]
["04304-MONTE PATRIA","105307-CES. RURAL MONTE PATRIA",null,null,{"$f":"IFERROR(VLOOKUP($B136,'[1]Num 3B'!$G$3:$O$140,2,FALSE),0)","v":7},{"$f":"IFERROR(VLOOKUP($B136,'[1]Num 3B'!$G$3:$O$140,3,FALSE),0)","v":4},{"$f":"IFERROR(VLOOKUP($B136,'[1]Num 3B'!$G$3:$O$140,4,FALSE),0)","v":5},{"$f":"IFERROR(VLOOKUP($B136,'[1]Num 3B'!$G$3:$O$140,5,FALSE),0)","v":4},{"$f":"IFERROR(VLOOKUP($B136,'[1]Num 3B'!$G$3:$O$140,6,FALSE),0)","v":8},{"$f":"IFERROR(VLOOKUP($B136,'[1]Num 3B'!$G$3:$O$140,7,FALSE),0)","v":10},{"$f":"IFERROR(VLOOKUP($B136,'[1]Num 3B'!$G$3:$O$140,8,FALSE),0)","v":7},{"$nulls":5},{"$f":"SUM(E136:P136)","v":45}]
["04304-MONTE PATRIA","105311-CES. RURAL CHAÑARAL ALTO",null,null,{"$f":"IFERROR(VLOOKUP($B137,'[1]Num 3B'!$G$3:$O$140,2,FALSE),0)","v":1},{"$f":"IFERROR(VLOOKUP($B137,'[1]Num 3B'!$G$3:$O$140,3,FALSE),0)","v":0},{"$f":"IFERROR(VLOOKUP($B137,'[1]Num 3B'!$G$3:$O$140,4,FALSE),0)","v":3},{"$f":"IFERROR(VLOOKUP($B137,'[1]Num 3B'!$G$3:$O$140,5,FALSE),0)","v":4},{"$f":"IFERROR(VLOOKUP($B137,'[1]Num 3B'!$G$3:$O$140,6,FALSE),0)","v":3},{"$f":"IFERROR(VLOOKUP($B137,'[1]Num 3B'!$G$3:$O$140,7,FALSE),0)","v":0},{"$f":"IFERROR(VLOOKUP($B137,'[1]Num 3B'!$G$3:$O$140,8,FALSE),0)","v":0},{"$nulls":5},11]
["04304-MONTE PATRIA","105312-CES. RURAL CAREN",null,null,{"$f":"IFERROR(VLOOKUP($B138,'[1]Num 3B'!$G$3:$O$140,2,FALSE),0)","v":0},{"$f":"IFERROR(VLOOKUP($B138,'[1]Num 3B'!$G$3:$O$140,3,FALSE),0)","v":4},{"$f":"IFERROR(VLOOKUP($B138,'[1]Num 3B'!$G$3:$O$140,4,FALSE),0)","v":0},{"$f":"IFERROR(VLOOKUP($B138,'[1]Num 3B'!$G$3:$O$140,5,FALSE),0)","v":0},{"$f":"IFERROR(VLOOKUP($B138,'[1]Num 3B'!$G$3:$O$140,6,FALSE),0)","v":3},{"$f":"IFERROR(VLOOKUP($B138,'[1]Num 3B'!$G$3:$O$140,7,FALSE),0)","v":1},{"$f":"IFERROR(VLOOKUP($B138,'[1]Num 3B'!$G$3:$O$140,8,FALSE),0)","v":0},{"$nulls":5},8]
["04304-MONTE PATRIA","105318-CES. RURAL EL PALQUI",null,null,{"$f":"IFERROR(VLOOKUP($B139,'[1]Num 3B'!$G$3:$O$140,2,FALSE),0)","v":3},{"$f":"IFERROR(VLOOKUP($B139,'[1]Num 3B'!$G$3:$O$140,3,FALSE),0)","v":3},{"$f":"IFERROR(VLOOKUP($B139,'[1]Num 3B'!$G$3:$O$140,4,FALSE),0)","v":10},{"$f":"IFERROR(VLOOKUP($B139,'[1]Num 3B'!$G$3:$O$140,5,FALSE),0)","v":11},{"$f":"IFERROR(VLOOKUP($B139,'[1]Num 3B'!$G$3:$O$140,6,FALSE),0)","v":11},{"$f":"IFERROR(VLOOKUP($B139,'[1]Num 3B'!$G$3:$O$140,7,FALSE),0)","v":18},{"$f":"IFERROR(VLOOKUP($B139,'[1]Num 3B'!$G$3:$O$140,8,FALSE),0)","v":11},{"$nulls":5},67]
["04304-MONTE PATRIA","105425-P.S.R. CHILECITO",null,null,{"$f":"IFERROR(VLOOKUP($B140,'[1]Num 3B'!$G$3:$O$140,2,FALSE),0)","v":0},{"$f":"IFERROR(VLOOKUP($B140,'[1]Num 3B'!$G$3:$O$140,3,FALSE),0)","v":0},{"$f":"IFERROR(VLOOKUP($B140,'[1]Num 3B'!$G$3:$O$140,4,FALSE),0)","v":0},{"$f":"IFERROR(VLOOKUP($B140,'[1]Num 3B'!$G$3:$O$140,5,FALSE),0)","v":0},{"$f":"IFERROR(VLOOKUP($B140,'[1]Num 3B'!$G$3:$O$140,6,FALSE),0)","v":0},{"$f":"IFERROR(VLOOKUP($B140,'[1]Num 3B'!$G$3:$O$140,7,FALSE),0)","v":0},{"$f":"IFERROR(VLOOKUP($B140,'[1]Num 3B'!$G$3:$O$140,8,FALSE),0)","v":0},{"$nulls":5},0]
["04304-MONTE PATRIA","105427-P.S.R. HACIENDA VALDIVIA",null,null,{"$f":"IFERROR(VLOOKUP($B141,'[1]Num 3B'!$G$3:$O$140,2,FALSE),0)","v":0},{"$f":"IFERROR(VLOOKUP($B141,'[1]Num 3B'!$G$3:$O$140,3,FALSE),0)","v":0},{"$f":"IFERROR(VLOOKUP($B141,'[1]Num 3B'!$G$3:$O$140,4,FALSE),0)","v":0},{"$f":"IFERROR(VLOOKUP($B141,'[1]Num 3B'!$G$3:$O$140,5,FALSE),0)","v":0},{"$f":"IFERROR(VLOOKUP($B141,'[1]Num 3B'!$G$3:$O$140,6,FALSE),0)","v":0},{"$f":"IFERROR(VLOOKUP($B141,'[1]Num 3B'!$G$3:$O$140,7,FALSE),0)","v":0},{"$f":"IFERROR(VLOOKUP($B141,'[1]Num 3B'!$G$3:$O$140,8,FALSE),0)","v":0},{"$nulls":5},0]
["04304-MONTE PATRIA","105428-P.S.R. HUATULAME",null,null,{"$f":"IFERROR(VLOOKUP($B142,'[1]Num 3B'!$G$3:$O$140,2,FALSE),0)","v":0},{"$f":"IFERROR(VLOOKUP($B142,'[1]Num 3B'!$G$3:$O$140,3,FALSE),0)","v":0},{"$f":"IFERROR(VLOOKUP($B142,'[1]Num 3B'!$G$3:$O$140,4,FALSE),0)","v":0},{"$f":"IFERROR(VLOOKUP($B142,'[1]Num 3B'!$G$3:$O$140,5,FALSE),0)","v":2},{"$f":"IFERROR(VLOOKUP($B142,'[1]Num 3B'!$G$3:$O$140,6,FALSE),0)","v":0},{"$f":"IFERROR(VLOOKUP($B142,'[1]Num 3B'!$G$3:$O$140,7,FALSE),0)","v":0},{"$f":"IFERROR(VLOOKUP($B142,'[1]Num 3B'!$G$3:$O$140,8,FALSE),0)","v":0},{"$nulls":5},2]
["04304-MONTE PATRIA","105430-P.S.R. MIALQUI",null,null,{"$f":"IFERROR(VLOOKUP($B143,'[1]Num 3B'!$G$3:$O$140,2,FALSE),0)","v":0},{"$f":"IFERROR(VLOOKUP($B143,'[1]Num 3B'!$G$3:$O$140,3,FALSE),0)","v":0},{"$f":"IFERROR(VLOOKUP($B143,'[1]Num 3B'!$G$3:$O$140,4,FALSE),0)","v":0},{"$f":"IFERROR(VLOOKUP($B143,'[1]Num 3B'!$G$3:$O$140,5,FALSE),0)","v":0},{"$f":"IFERROR(VLOOKUP($B143,'[1]Num 3B'!$G$3:$O$140,6,FALSE),0)","v":0},{"$f":"IFERROR(VLOOKUP($B143,'[1]Num 3B'!$G$3:$O$140,7,FALSE),0)","v":0},{"$f":"IFERROR(VLOOKUP($B143,'[1]Num 3B'!$G$3:$O$140,8,FALSE),0)","v":0},{"$nulls":5},0]
["04304-MONTE PATRIA","105431-P.S.R. PEDREGAL",null,null,{"$f":"IFERROR(VLOOKUP($B144,'[1]Num 3B'!$G$3:$O$140,2,FALSE),0)","v":0},{"$f":"IFERROR(VLOOKUP($B144,'[1]Num 3B'!$G$3:$O$140,3,FALSE),0)","v":0},{"$f":"IFERROR(VLOOKUP($B144,'[1]Num 3B'!$G$3:$O$140,4,FALSE),0)","v":0},{"$f":"IFERROR(VLOOKUP($B144,'[1]Num 3B'!$G$3:$O$140,5,FALSE),0)","v":0},{"$f":"IFERROR(VLOOKUP($B144,'[1]Num 3B'!$G$3:$O$140,6,FALSE),0)","v":0},{"$f":"IFERROR(VLOOKUP($B144,'[1]Num 3B'!$G$3:$O$140,7,FALSE),0)","v":0},{"$f":"IFERROR(VLOOKUP($B144,'[1]Num 3B'!$G$3:$O$140,8,FALSE),0)","v":0},{"$nulls":5},0]
["04304-MONTE PATRIA","105432-P.S.R. RAPEL",null,null,{"$f":"IFERROR(VLOOKUP($B145,'[1]Num 3B'!$G$3:$O$140,2,FALSE),0)","v":0},{"$f":"IFERROR(VLOOKUP($B145,'[1]Num 3B'!$G$3:$O$140,3,FALSE),0)","v":0},{"$f":"IFERROR(VLOOKUP($B145,'[1]Num 3B'!$G$3:$O$140,4,FALSE),0)","v":1},{"$f":"IFERROR(VLOOKUP($B145,'[1]Num 3B'!$G$3:$O$140,5,FALSE),0)","v":0},{"$f":"IFERROR(VLOOKUP($B145,'[1]Num 3B'!$G$3:$O$140,6,FALSE),0)","v":0},{"$f":"IFERROR(VLOOKUP($B145,'[1]Num 3B'!$G$3:$O$140,7,FALSE),0)","v":1},{"$f":"IFERROR(VLOOKUP($B145,'[1]Num 3B'!$G$3:$O$140,8,FALSE),0)","v":1},{"$nulls":5},3]
["04304-MONTE PATRIA","105435-P.S.R. TULAHUEN",null,null,{"$f":"IFERROR(VLOOKUP($B146,'[1]Num 3B'!$G$3:$O$140,2,FALSE),0)","v":0},{"$f":"IFERROR(VLOOKUP($B146,'[1]Num 3B'!$G$3:$O$140,3,FALSE),0)","v":0},{"$f":"IFERROR(VLOOKUP($B146,'[1]Num 3B'!$G$3:$O$140,4,FALSE),0)","v":0},{"$f":"IFERROR(VLOOKUP($B146,'[1]Num 3B'!$G$3:$O$140,5,FALSE),0)","v":1},{"$f":"IFERROR(VLOOKUP($B146,'[1]Num 3B'!$G$3:$O$140,6,FALSE),0)","v":4},{"$f":"IFERROR(VLOOKUP($B146,'[1]Num 3B'!$G$3:$O$140,7,FALSE),0)","v":0},{"$f":"IFERROR(VLOOKUP($B146,'[1]Num 3B'!$G$3:$O$140,8,FALSE),0)","v":0},{"$nulls":5},5]
["04304-MONTE PATRIA","105436-P.S.R. EL MAITEN",null,null,{"$f":"IFERROR(VLOOKUP($B147,'[1]Num 3B'!$G$3:$O$140,2,FALSE),0)","v":0},{"$f":"IFERROR(VLOOKUP($B147,'[1]Num 3B'!$G$3:$O$140,3,FALSE),0)","v":0},{"$f":"IFERROR(VLOOKUP($B147,'[1]Num 3B'!$G$3:$O$140,4,FALSE),0)","v":0},{"$f":"IFERROR(VLOOKUP($B147,'[1]Num 3B'!$G$3:$O$140,5,FALSE),0)","v":0},{"$f":"IFERROR(VLOOKUP($B147,'[1]Num 3B'!$G$3:$O$140,6,FALSE),0)","v":0},{"$f":"IFERROR(VLOOKUP($B147,'[1]Num 3B'!$G$3:$O$140,7,FALSE),0)","v":0},{"$f":"IFERROR(VLOOKUP($B147,'[1]Num 3B'!$G$3:$O$140,8,FALSE),0)","v":0},{"$nulls":5},0]
["04304-MONTE PATRIA","105489-P.S.R. RAMADAS DE TULAHUEN",null,null,{"$f":"IFERROR(VLOOKUP($B148,'[1]Num 3B'!$G$3:$O$140,2,FALSE),0)","v":0},{"$f":"IFERROR(VLOOKUP($B148,'[1]Num 3B'!$G$3:$O$140,3,FALSE),0)","v":0},{"$f":"IFERROR(VLOOKUP($B148,'[1]Num 3B'!$G$3:$O$140,4,FALSE),0)","v":0},{"$f":"IFERROR(VLOOKUP($B148,'[1]Num 3B'!$G$3:$O$140,5,FALSE),0)","v":0},{"$f":"IFERROR(VLOOKUP($B148,'[1]Num 3B'!$G$3:$O$140,6,FALSE),0)","v":1},{"$f":"IFERROR(VLOOKUP($B148,'[1]Num 3B'!$G$3:$O$140,7,FALSE),0)","v":0},{"$f":"IFERROR(VLOOKUP($B148,'[1]Num 3B'!$G$3:$O$140,8,FALSE),0)","v":0},{"$nulls":5},1]
["TOTAL MONTE PATRIA",null,{"$f":"D149/Metas!J16","v":{"v":0.7585470085470084,"d":"75.85%"}},{"$f":"Q149/R149","v":{"v":0.3034188034188034,"d":"30.34%"}},{"$f":"SUM(E136:E148)","v":11},{"$f":"SUM(F136:F148)","v":11},{"$f":"SUM(G136:G148)","v":19},{"$f":"SUM(H136:H148)","v":22},{"$f":"SUM(I136:I148)","v":30},30,19,0,0,0,0,0,142,468]
["04304-PUNITAQUI","105308-CES. RURAL PUNITAQUI",null,null,{"$f":"IFERROR(VLOOKUP($B150,'[1]Num 3B'!$G$3:$O$140,2,FALSE),0)","v":10},{"$f":"IFERROR(VLOOKUP($B150,'[1]Num 3B'!$G$3:$O$140,3,FALSE),0)","v":2},{"$f":"IFERROR(VLOOKUP($B150,'[1]Num 3B'!$G$3:$O$140,4,FALSE),0)","v":19},{"$f":"IFERROR(VLOOKUP($B150,'[1]Num 3B'!$G$3:$O$140,5,FALSE),0)","v":15},{"$f":"IFERROR(VLOOKUP($B150,'[1]Num 3B'!$G$3:$O$140,6,FALSE),0)","v":5},{"$f":"IFERROR(VLOOKUP($B150,'[1]Num 3B'!$G$3:$O$140,7,FALSE),0)","v":1},{"$f":"IFERROR(VLOOKUP($B150,'[1]Num 3B'!$G$3:$O$140,8,FALSE),0)","v":0},{"$nulls":5},52]
["04304-PUNITAQUI","105440-P.S.R. DIVISADERO",null,null,{"$f":"IFERROR(VLOOKUP($B151,'[1]Num 3B'!$G$3:$O$140,2,FALSE),0)","v":0},{"$f":"IFERROR(VLOOKUP($B151,'[1]Num 3B'!$G$3:$O$140,3,FALSE),0)","v":0},{"$f":"IFERROR(VLOOKUP($B151,'[1]Num 3B'!$G$3:$O$140,4,FALSE),0)","v":0},{"$f":"IFERROR(VLOOKUP($B151,'[1]Num 3B'!$G$3:$O$140,5,FALSE),0)","v":0},{"$f":"IFERROR(VLOOKUP($B151,'[1]Num 3B'!$G$3:$O$140,6,FALSE),0)","v":0},{"$f":"IFERROR(VLOOKUP($B151,'[1]Num 3B'!$G$3:$O$140,7,FALSE),0)","v":0},{"$f":"IFERROR(VLOOKUP($B151,'[1]Num 3B'!$G$3:$O$140,8,FALSE),0)","v":0},{"$nulls":5},0]
["04304-PUNITAQUI","105442-P.S.R. SAN PEDRO DE QUILES",null,null,{"$f":"IFERROR(VLOOKUP($B152,'[1]Num 3B'!$G$3:$O$140,2,FALSE),0)","v":0},{"$f":"IFERROR(VLOOKUP($B152,'[1]Num 3B'!$G$3:$O$140,3,FALSE),0)","v":0},{"$f":"IFERROR(VLOOKUP($B152,'[1]Num 3B'!$G$3:$O$140,4,FALSE),0)","v":0},{"$f":"IFERROR(VLOOKUP($B152,'[1]Num 3B'!$G$3:$O$140,5,FALSE),0)","v":0},{"$f":"IFERROR(VLOOKUP($B152,'[1]Num 3B'!$G$3:$O$140,6,FALSE),0)","v":0},{"$f":"IFERROR(VLOOKUP($B152,'[1]Num 3B'!$G$3:$O$140,7,FALSE),0)","v":0},{"$f":"IFERROR(VLOOKUP($B152,'[1]Num 3B'!$G$3:$O$140,8,FALSE),0)","v":0},{"$nulls":5},0]
["04304-PUNITAQUI","105508-P.S.R. EL PARRAL DE QUILES  ",null,null,{"$f":"IFERROR(VLOOKUP($B153,'[1]Num 3B'!$G$3:$O$140,2,FALSE),0)","v":0},{"$f":"IFERROR(VLOOKUP($B153,'[1]Num 3B'!$G$3:$O$140,3,FALSE),0)","v":0},{"$f":"IFERROR(VLOOKUP($B153,'[1]Num 3B'!$G$3:$O$140,4,FALSE),0)","v":0},{"$f":"IFERROR(VLOOKUP($B153,'[1]Num 3B'!$G$3:$O$140,5,FALSE),0)","v":1},{"$f":"IFERROR(VLOOKUP($B153,'[1]Num 3B'!$G$3:$O$140,6,FALSE),0)","v":0},{"$f":"IFERROR(VLOOKUP($B153,'[1]Num 3B'!$G$3:$O$140,7,FALSE),0)","v":0},{"$f":"IFERROR(VLOOKUP($B153,'[1]Num 3B'!$G$3:$O$140,8,FALSE),0)","v":0},{"$nulls":5},1]
["TOTAL PUNITAQUI",null,{"$f":"D154/Metas!J17","v":{"v":0.701058201058201,"d":"70.11%"}},{"$f":"Q154/R154","v":{"v":0.31547619047619047,"d":"31.55%"}},{"$f":"SUM(E150:E153)","v":10},{"$f":"SUM(F150:F153)","v":2},{"$f":"SUM(G150:G153)","v":19},{"$f":"SUM(H150:H153)","v":16},{"$f":"SUM(I150:I153)","v":5},1,0,0,0,0,{"$f":"SUM(O150:O153)","v":0},{"$f":"SUM(P150:P153)","v":0},{"$f":"SUM(Q150:Q153)","v":53},168]
["04305-RIO HURTADO","105310-CES. RURAL PICHASCA",null,null,{"$f":"IFERROR(VLOOKUP($B155,'[1]Num 3B'!$G$3:$O$140,2,FALSE),0)","v":0},{"$f":"IFERROR(VLOOKUP($B155,'[1]Num 3B'!$G$3:$O$140,3,FALSE),0)","v":0},{"$f":"IFERROR(VLOOKUP($B155,'[1]Num 3B'!$G$3:$O$140,4,FALSE),0)","v":1},{"$f":"IFERROR(VLOOKUP($B155,'[1]Num 3B'!$G$3:$O$140,5,FALSE),0)","v":0},{"$f":"IFERROR(VLOOKUP($B155,'[1]Num 3B'!$G$3:$O$140,6,FALSE),0)","v":1},{"$f":"IFERROR(VLOOKUP($B155,'[1]Num 3B'!$G$3:$O$140,7,FALSE),0)","v":0},{"$f":"IFERROR(VLOOKUP($B155,'[1]Num 3B'!$G$3:$O$140,8,FALSE),0)","v":0},{"$nulls":5},2]
["04305-RIO HURTADO","105409-P.S.R. EL CHAÑAR",null,null,{"$f":"IFERROR(VLOOKUP($B156,'[1]Num 3B'!$G$3:$O$140,2,FALSE),0)","v":0},{"$f":"IFERROR(VLOOKUP($B156,'[1]Num 3B'!$G$3:$O$140,3,FALSE),0)","v":0},{"$f":"IFERROR(VLOOKUP($B156,'[1]Num 3B'!$G$3:$O$140,4,FALSE),0)","v":0},{"$f":"IFERROR(VLOOKUP($B156,'[1]Num 3B'!$G$3:$O$140,5,FALSE),0)","v":0},{"$f":"IFERROR(VLOOKUP($B156,'[1]Num 3B'!$G$3:$O$140,6,FALSE),0)","v":0},{"$f":"IFERROR(VLOOKUP($B156,'[1]Num 3B'!$G$3:$O$140,7,FALSE),0)","v":0},{"$f":"IFERROR(VLOOKUP($B156,'[1]Num 3B'!$G$3:$O$140,8,FALSE),0)","v":0},{"$nulls":5},0]
["04305-RIO HURTADO","105410-P.S.R. HURTADO",null,null,{"$f":"IFERROR(VLOOKUP($B157,'[1]Num 3B'!$G$3:$O$140,2,FALSE),0)","v":0},{"$f":"IFERROR(VLOOKUP($B157,'[1]Num 3B'!$G$3:$O$140,3,FALSE),0)","v":0},{"$f":"IFERROR(VLOOKUP($B157,'[1]Num 3B'!$G$3:$O$140,4,FALSE),0)","v":0},{"$f":"IFERROR(VLOOKUP($B157,'[1]Num 3B'!$G$3:$O$140,5,FALSE),0)","v":0},{"$f":"IFERROR(VLOOKUP($B157,'[1]Num 3B'!$G$3:$O$140,6,FALSE),0)","v":0},{"$f":"IFERROR(VLOOKUP($B157,'[1]Num 3B'!$G$3:$O$140,7,FALSE),0)","v":0},{"$f":"IFERROR(VLOOKUP($B157,'[1]Num 3B'!$G$3:$O$140,8,FALSE),0)","v":0},{"$nulls":5},0]
["04305-RIO HURTADO","105411-P.S.R. LAS BREAS",null,null,{"$f":"IFERROR(VLOOKUP($B158,'[1]Num 3B'!$G$3:$O$140,2,FALSE),0)","v":0},{"$f":"IFERROR(VLOOKUP($B158,'[1]Num 3B'!$G$3:$O$140,3,FALSE),0)","v":0},{"$f":"IFERROR(VLOOKUP($B158,'[1]Num 3B'!$G$3:$O$140,4,FALSE),0)","v":0},{"$f":"IFERROR(VLOOKUP($B158,'[1]Num 3B'!$G$3:$O$140,5,FALSE),0)","v":0},{"$f":"IFERROR(VLOOKUP($B158,'[1]Num 3B'!$G$3:$O$140,6,FALSE),0)","v":0},{"$f":"IFERROR(VLOOKUP($B158,'[1]Num 3B'!$G$3:$O$140,7,FALSE),0)","v":0},{"$f":"IFERROR(VLOOKUP($B158,'[1]Num 3B'!$G$3:$O$140,8,FALSE),0)","v":0},{"$nulls":5},0]
["04305-RIO HURTADO","105413-P.S.R. SAMO ALTO",null,null,{"$f":"IFERROR(VLOOKUP($B159,'[1]Num 3B'!$G$3:$O$140,2,FALSE),0)","v":0},{"$f":"IFERROR(VLOOKUP($B159,'[1]Num 3B'!$G$3:$O$140,3,FALSE),0)","v":0},{"$f":"IFERROR(VLOOKUP($B159,'[1]Num 3B'!$G$3:$O$140,4,FALSE),0)","v":0},{"$f":"IFERROR(VLOOKUP($B159,'[1]Num 3B'!$G$3:$O$140,5,FALSE),0)","v":0},{"$f":"IFERROR(VLOOKUP($B159,'[1]Num 3B'!$G$3:$O$140,6,FALSE),0)","v":0},{"$f":"IFERROR(VLOOKUP($B159,'[1]Num 3B'!$G$3:$O$140,7,FALSE),0)","v":0},{"$f":"IFERROR(VLOOKUP($B159,'[1]Num 3B'!$G$3:$O$140,8,FALSE),0)","v":0},{"$nulls":5},0]
["04305-RIO HURTADO","105414-P.S.R. SERON",null,null,{"$f":"IFERROR(VLOOKUP($B160,'[1]Num 3B'!$G$3:$O$140,2,FALSE),0)","v":0},{"$f":"IFERROR(VLOOKUP($B160,'[1]Num 3B'!$G$3:$O$140,3,FALSE),0)","v":0},{"$f":"IFERROR(VLOOKUP($B160,'[1]Num 3B'!$G$3:$O$140,4,FALSE),0)","v":0},{"$f":"IFERROR(VLOOKUP($B160,'[1]Num 3B'!$G$3:$O$140,5,FALSE),0)","v":0},{"$f":"IFERROR(VLOOKUP($B160,'[1]Num 3B'!$G$3:$O$140,6,FALSE),0)","v":0},{"$f":"IFERROR(VLOOKUP($B160,'[1]Num 3B'!$G$3:$O$140,7,FALSE),0)","v":0},{"$f":"IFERROR(VLOOKUP($B160,'[1]Num 3B'!$G$3:$O$140,8,FALSE),0)","v":0},{"$nulls":5},0]
["04305-RIO HURTADO","105503-P.S.R. TABAQUEROS",null,null,{"$f":"IFERROR(VLOOKUP($B161,'[1]Num 3B'!$G$3:$O$140,2,FALSE),0)","v":0},{"$f":"IFERROR(VLOOKUP($B161,'[1]Num 3B'!$G$3:$O$140,3,FALSE),0)","v":0},{"$f":"IFERROR(VLOOKUP($B161,'[1]Num 3B'!$G$3:$O$140,4,FALSE),0)","v":0},{"$f":"IFERROR(VLOOKUP($B161,'[1]Num 3B'!$G$3:$O$140,5,FALSE),0)","v":0},{"$f":"IFERROR(VLOOKUP($B161,'[1]Num 3B'!$G$3:$O$140,6,FALSE),0)","v":0},{"$f":"IFERROR(VLOOKUP($B161,'[1]Num 3B'!$G$3:$O$140,7,FALSE),0)","v":0},{"$f":"IFERROR(VLOOKUP($B161,'[1]Num 3B'!$G$3:$O$140,8,FALSE),0)","v":0},{"$nulls":5},{"$f":"SUM(E161:P161)","v":0}]
["TOTAL RIO HURTADO",null,{"$f":"D162/Metas!J18","v":{"v":0.18181818181818182,"d":"18.18%"}},{"$f":"Q162/R162","v":{"v":0.045454545454545456,"d":"4.55%"}},{"$f":"SUM(E155:E161)","v":0},{"$f":"SUM(F155:F161)","v":0},{"$f":"SUM(G155:G161)","v":1},{"$f":"SUM(H155:H161)","v":0},{"$f":"SUM(I155:I161)","v":1},0,0,0,0,0,{"$f":"SUM(O155:O161)","v":0},{"$f":"SUM(P155:P161)","v":0},{"$f":"SUM(Q155:Q161)","v":2},44]

{"sheet":"Meta 4A","index":5,"n_rows":162,"n_cols":11,"rows_kept":162,"merged":[[0,0,9,0],[0,1,9,1],[0,2,10,2],[0,3,9,3],[0,4,0,10],[1,4,8,9],[1,10,8,10],[9,4,9,5],[9,6,9,7],[9,8,9,9],[9,10,10,10],[25,0,25,1],[38,0,38,1],[43,0,43,1],[48,0,48,1],[59,0,59,1],[74,0,74,1],[85,0,85,1],[91,0,91,1],[102,0,102,1],[121,0,121,1],[134,0,134,1],[148,0,148,1],[153,0,153,1],[161,0,161,1]]}
["COMUNA","ESTABLECIMIENTO","CUMPLIMIENTO","Indicador","META 4a: COBERTURA EFECTIVA DE DIABETES TIPO 2 (DM2) EN PERSONAS DE 15 Y MÁS AÑOS"]
[{"$nulls":4},"NUMERADOR",{"$nulls":5},"DENOMINADOR"]
{"$rows_empty":7}
[{"$nulls":4},"Nº de personas bajo control por Diabetes Mellitus",null,"Nº de personas con DM 2 de 15 a 79 años con Hb A1c bajo 7%",null,"Nº de personas con DM 2 de 80 y más años con  Hb A1c bajo 8%",null,"Nº total de personas egún prevalencia"]
[{"$nulls":3},"Resultado","A JUNIO","A DICBRE","A JUNIO","A DICBRE","A JUNIO","A DICBRE"]
["04101-LA SERENA","105300-CES. CARDENAL CARO",null,null,{"$f":"G12+I12","v":753},{"$f":"H12+J12","v":0},{"$f":"IFERROR(VLOOKUP($B12,'[1]Num 4A'!$G$3:$I$163,2,FALSE),0)","v":571},null,{"$f":"IFERROR(VLOOKUP($B12,'[1]Num 4A'!$Q$3:$S$145,2,FALSE),0)","v":182}]
["04101-LA SERENA","105301-CES. LAS COMPAÑIAS",null,null,{"$f":"G13+I13","v":375},{"$f":"H13+J13","v":0},{"$f":"IFERROR(VLOOKUP($B13,'[1]Num 4A'!$G$3:$I$163,2,FALSE),0)","v":299},null,{"$f":"IFERROR(VLOOKUP($B13,'[1]Num 4A'!$Q$3:$S$145,2,FALSE),0)","v":76}]
["04101-LA SERENA","105302-CES. PEDRO AGUIRRE C.",null,null,838,0,{"$f":"IFERROR(VLOOKUP($B14,'[1]Num 4A'!$G$3:$I$163,2,FALSE),0)","v":719},null,{"$f":"IFERROR(VLOOKUP($B14,'[1]Num 4A'!$Q$3:$S$145,2,FALSE),0)","v":119}]
["04101-LA SERENA","105313-CES. SCHAFFHAUSER",null,null,486,0,{"$f":"IFERROR(VLOOKUP($B15,'[1]Num 4A'!$G$3:$I$163,2,FALSE),0)","v":398},null,{"$f":"IFERROR(VLOOKUP($B15,'[1]Num 4A'!$Q$3:$S$145,2,FALSE),0)","v":88}]
["04101-LA SERENA","105319-CES. CARDENAL R.S.H.",null,null,260,0,{"$f":"IFERROR(VLOOKUP($B16,'[1]Num 4A'!$G$3:$I$163,2,FALSE),0)","v":241},null,{"$f":"IFERROR(VLOOKUP($B16,'[1]Num 4A'!$Q$3:$S$145,2,FALSE),0)","v":19}]
["04101-LA SERENA","105325-CESFAM JUAN PABLO II",null,null,380,0,{"$f":"IFERROR(VLOOKUP($B17,'[1]Num 4A'!$G$3:$I$163,2,FALSE),0)","v":327},null,{"$f":"IFERROR(VLOOKUP($B17,'[1]Num 4A'!$Q$3:$S$145,2,FALSE),0)","v":53}]
["04101-LA SERENA","105400-P.S.R. ALGARROBITO            ",null,null,42,0,{"$f":"IFERROR(VLOOKUP($B18,'[1]Num 4A'!$G$3:$I$163,2,FALSE),0)","v":32},null,{"$f":"IFERROR(VLOOKUP($B18,'[1]Num 4A'!$Q$3:$S$145,2,FALSE),0)","v":10}]
["04101-LA SERENA","105401-P.S.R. LAS ROJAS",null,null,11,0,{"$f":"IFERROR(VLOOKUP($B19,'[1]Num 4A'!$G$3:$I$163,2,FALSE),0)","v":11},null,{"$f":"IFERROR(VLOOKUP($B19,'[1]Num 4A'!$Q$3:$S$145,2,FALSE),0)","v":0}]
["04101-LA SERENA","105402-P.S.R. EL ROMERO",null,null,10,0,{"$f":"IFERROR(VLOOKUP($B20,'[1]Num 4A'!$G$3:$I$163,2,FALSE),0)","v":8},null,{"$f":"IFERROR(VLOOKUP($B20,'[1]Num 4A'!$Q$3:$S$145,2,FALSE),0)","v":2}]
["04101-LA SERENA","105499-P.S.R. LAMBERT",null,null,8,0,{"$f":"IFERROR(VLOOKUP($B21,'[1]Num 4A'!$G$3:$I$163,2,FALSE),0)","v":7},null,{"$f":"IFERROR(VLOOKUP($B21,'[1]Num 4A'!$Q$3:$S$145,2,FALSE),0)","v":1}]
["04101-LA SERENA","105700-CECOF VILLA EL INDIO",null,null,127,0,{"$f":"IFERROR(VLOOKUP($B22,'[1]Num 4A'!$G$3:$I$163,2,FALSE),0)","v":104},null,{"$f":"IFERROR(VLOOKUP($B22,'[1]Num 4A'!$Q$3:$S$145,2,FALSE),0)","v":23}]
["04101-LA SERENA","105701-CECOF VILLA ALEMANIA",null,null,27,0,{"$f":"IFERROR(VLOOKUP($B23,'[1]Num 4A'!$G$3:$I$163,2,FALSE),0)","v":27},null,{"$f":"IFERROR(VLOOKUP($B23,'[1]Num 4A'!$Q$3:$S$145,2,FALSE),0)","v":0}]
["04101-LA SERENA","105702-CECOF VILLA LAMBERT",null,null,110,0,{"$f":"IFERROR(VLOOKUP($B24,'[1]Num 4A'!$G$3:$I$163,2,FALSE),0)","v":101},null,{"$f":"IFERROR(VLOOKUP($B24,'[1]Num 4A'!$Q$3:$S$145,2,FALSE),0)","v":9}]
["04101-LA SERENA","200402-CECOF ARCOS DE PINAMAR",null,null,{"$f":"G25+I25","v":62},0,{"$f":"IFERROR(VLOOKUP($B25,'[1]Num 4A'!$G$3:$I$163,2,FALSE),0)","v":58},null,{"$f":"IFERROR(VLOOKUP($B25,'[1]Num 4A'!$Q$3:$S$145,2,FALSE),0)","v":4}]
["TOTAL LA SERENA",null,{"$f":"D26/Metas!K5","v":{"v":1.116951800440506,"d":"111.70%"}},{"$f":"E26/K26","v":{"v":0.15637325206167085,"d":"15.64%"}},{"$f":"SUM(E12:E25)","v":{"v":3489,"d":"3,489"}},{"$f":"SUM(F12:F25)","v":0},{"$f":"SUM(G12:G25)","v":{"v":2903,"d":"2,903"}},0,586,0,{"v":22312,"d":"22,312"}]
["04102-COQUIMBO","105303-CES. SAN JUAN",null,null,{"$f":"G27+I27","v":800},{"$f":"H27+J27","v":0},{"$f":"IFERROR(VLOOKUP($B27,'[1]Num 4A'!$G$3:$I$163,2,FALSE),0)","v":633},null,{"$f":"IFERROR(VLOOKUP($B27,'[1]Num 4A'!$Q$3:$S$145,2,FALSE),0)","v":167}]
["04102-COQUIMBO","105304-CES. SANTA CECILIA",null,null,362,0,{"$f":"IFERROR(VLOOKUP($B28,'[1]Num 4A'!$G$3:$I$163,2,FALSE),0)","v":324},null,{"$f":"IFERROR(VLOOKUP($B28,'[1]Num 4A'!$Q$3:$S$145,2,FALSE),0)","v":38}]
["04102-COQUIMBO","105305-CES. TIERRAS BLANCAS",null,null,793,0,{"$f":"IFERROR(VLOOKUP($B29,'[1]Num 4A'!$G$3:$I$163,2,FALSE),0)","v":632},null,{"$f":"IFERROR(VLOOKUP($B29,'[1]Num 4A'!$Q$3:$S$145,2,FALSE),0)","v":161}]
["04102-COQUIMBO","105321-CES. RURAL  TONGOY",null,null,259,0,{"$f":"IFERROR(VLOOKUP($B30,'[1]Num 4A'!$G$3:$I$163,2,FALSE),0)","v":232},null,{"$f":"IFERROR(VLOOKUP($B30,'[1]Num 4A'!$Q$3:$S$145,2,FALSE),0)","v":27}]
["04102-COQUIMBO","105323-CES. DR. SERGIO AGUILAR",null,null,968,0,{"$f":"IFERROR(VLOOKUP($B31,'[1]Num 4A'!$G$3:$I$163,2,FALSE),0)","v":901},null,{"$f":"IFERROR(VLOOKUP($B31,'[1]Num 4A'!$Q$3:$S$145,2,FALSE),0)","v":67}]
["04102-COQUIMBO","105404-P.S.R. EL TANGUE                         ",null,null,10,0,{"$f":"IFERROR(VLOOKUP($B32,'[1]Num 4A'!$G$3:$I$163,2,FALSE),0)","v":6},null,{"$f":"IFERROR(VLOOKUP($B32,'[1]Num 4A'!$Q$3:$S$145,2,FALSE),0)","v":4}]
["04102-COQUIMBO","105405-P.S.R. GUANAQUEROS",null,null,81,0,{"$f":"IFERROR(VLOOKUP($B33,'[1]Num 4A'!$G$3:$I$163,2,FALSE),0)","v":76},null,{"$f":"IFERROR(VLOOKUP($B33,'[1]Num 4A'!$Q$3:$S$145,2,FALSE),0)","v":5}]
["04102-COQUIMBO","105407-P.S.R. TAMBILLOS",null,null,24,0,{"$f":"IFERROR(VLOOKUP($B34,'[1]Num 4A'!$G$3:$I$163,2,FALSE),0)","v":24},null,{"$f":"IFERROR(VLOOKUP($B34,'[1]Num 4A'!$Q$3:$S$145,2,FALSE),0)","v":0}]
["04102-COQUIMBO","200273-CECOF PUNTA MIRA",null,null,1,0,{"$f":"IFERROR(VLOOKUP($B35,'[1]Num 4A'!$G$3:$I$163,2,FALSE),0)","v":1},null,{"$f":"IFERROR(VLOOKUP($B35,'[1]Num 4A'!$Q$3:$S$145,2,FALSE),0)","v":0}]
["04102-COQUIMBO","200494-CESFAM EL SAUCE",null,null,352,0,{"$f":"IFERROR(VLOOKUP($B36,'[1]Num 4A'!$G$3:$I$163,2,FALSE),0)","v":306},null,{"$f":"IFERROR(VLOOKUP($B36,'[1]Num 4A'!$Q$3:$S$145,2,FALSE),0)","v":46}]
["04102-COQUIMBO","200607-CESFAM LILA CORTES",null,null,247,0,{"$f":"IFERROR(VLOOKUP($B37,'[1]Num 4A'!$G$3:$I$163,2,FALSE),0)","v":222},null,{"$f":"IFERROR(VLOOKUP($B37,'[1]Num 4A'!$Q$3:$S$145,2,FALSE),0)","v":25}]
["04102-COQUIMBO","200499-CESFAM PAN DE AZÚCAR",null,null,412,0,{"$f":"IFERROR(VLOOKUP($B38,'[1]Num 4A'!$G$3:$I$163,2,FALSE),0)","v":364},null,{"$f":"IFERROR(VLOOKUP($B38,'[1]Num 4A'!$Q$3:$S$145,2,FALSE),0)","v":48}]
["TOTAL COQUIMBO",null,{"$f":"D39/Metas!K6","v":{"v":1.463833892731448,"d":"146.38%"}},{"$f":"E39/K39","v":{"v":0.20493674498240275,"d":"20.49%"}},{"$f":"SUM(E27:E38)","v":{"v":4309,"d":"4,309"}},0,{"v":3721,"d":"3,721"},0,588,0,{"v":21026,"d":"21,026"}]
["04104-LA HIGUERA","105314-CES. LA HIGUERA",null,null,{"$f":"G40+I40","v":45},{"$f":"H40+J40","v":0},{"$f":"IFERROR(VLOOKUP($B40,'[1]Num 4A'!$G$3:$I$163,2,FALSE),0)","v":40},null,{"$f":"IFERROR(VLOOKUP($B40,'[1]Num 4A'!$Q$3:$S$145,2,FALSE),0)","v":5}]
["04104-LA HIGUERA","105500-P.S.R. CALETA HORNOS        ",null,null,18,0,{"$f":"IFERROR(VLOOKUP($B41,'[1]Num 4A'!$G$3:$I$163,2,FALSE),0)","v":18},null,{"$f":"IFERROR(VLOOKUP($B41,'[1]Num 4A'!$Q$3:$S$145,2,FALSE),0)","v":0}]
["04104-LA HIGUERA","105505-P.S.R. LOS CHOROS",null,null,16,0,{"$f":"IFERROR(VLOOKUP($B42,'[1]Num 4A'!$G$3:$I$163,2,FALSE),0)","v":15},null,{"$f":"IFERROR(VLOOKUP($B42,'[1]Num 4A'!$Q$3:$S$145,2,FALSE),0)","v":1}]
["04104-LA HIGUERA","105506-P.S.R. EL TRAPICHE",null,null,9,0,{"$f":"IFERROR(VLOOKUP($B43,'[1]Num 4A'!$G$3:$I$163,2,FALSE),0)","v":9},null,{"$f":"IFERROR(VLOOKUP($B43,'[1]Num 4A'!$Q$3:$S$145,2,FALSE),0)","v":0}]
["TOTAL LA HIGUERA",null,{"$f":"D44/Metas!K7","v":{"v":1.1327069120864977,"d":"113.27%"}},{"$f":"E44/K44","v":{"v":0.1925601750547046,"d":"19.26%"}},{"$f":"SUM(E40:E43)","v":88},0,82,0,6,0,457]
["04105-PAIHUANO","105306-CES. PAIHUANO",null,null,{"$f":"G45+I45","v":73},{"$f":"H45+J45","v":0},{"$f":"IFERROR(VLOOKUP($B45,'[1]Num 4A'!$G$3:$I$163,2,FALSE),0)","v":60},null,{"$f":"IFERROR(VLOOKUP($B45,'[1]Num 4A'!$Q$3:$S$145,2,FALSE),0)","v":13}]
["04105-PAIHUANO","105475-P.S.R. HORCON",null,null,24,0,{"$f":"IFERROR(VLOOKUP($B46,'[1]Num 4A'!$G$3:$I$163,2,FALSE),0)","v":21},null,{"$f":"IFERROR(VLOOKUP($B46,'[1]Num 4A'!$Q$3:$S$145,2,FALSE),0)","v":3}]
["04105-PAIHUANO","105476-P.S.R. MONTE GRANDE",null,null,11,0,{"$f":"IFERROR(VLOOKUP($B47,'[1]Num 4A'!$G$3:$I$163,2,FALSE),0)","v":10},null,{"$f":"IFERROR(VLOOKUP($B47,'[1]Num 4A'!$Q$3:$S$145,2,FALSE),0)","v":1}]
["04105-PAIHUANO","105477-P.S.R. PISCO ELQUI",null,null,41,0,{"$f":"IFERROR(VLOOKUP($B48,'[1]Num 4A'!$G$3:$I$163,2,FALSE),0)","v":31},null,{"$f":"IFERROR(VLOOKUP($B48,'[1]Num 4A'!$Q$3:$S$145,2,FALSE),0)","v":10}]
["TOTAL PAIHUANO",null,{"$f":"D49/Metas!K8","v":{"v":1.3777161349976885,"d":"137.77%"}},{"$f":"E49/K49","v":{"v":0.28932038834951457,"d":"28.93%"}},{"$f":"SUM(E45:E48)","v":149},0,122,0,27,0,515]
["04106-VICUÑA","105467-P.S.R. DIAGUITAS",null,null,{"$f":"G50+I50","v":46},{"$f":"H50+J50","v":0},{"$f":"IFERROR(VLOOKUP($B50,'[1]Num 4A'!$G$3:$I$163,2,FALSE),0)","v":42},null,{"$f":"IFERROR(VLOOKUP($B50,'[1]Num 4A'!$Q$3:$S$145,2,FALSE),0)","v":4}]
["04106-VICUÑA","105468-P.S.R. EL MOLLE",null,null,28,0,{"$f":"IFERROR(VLOOKUP($B51,'[1]Num 4A'!$G$3:$I$163,2,FALSE),0)","v":24},null,{"$f":"IFERROR(VLOOKUP($B51,'[1]Num 4A'!$Q$3:$S$145,2,FALSE),0)","v":4}]
["04106-VICUÑA","105469-P.S.R. EL TAMBO",null,null,30,0,{"$f":"IFERROR(VLOOKUP($B52,'[1]Num 4A'!$G$3:$I$163,2,FALSE),0)","v":27},null,{"$f":"IFERROR(VLOOKUP($B52,'[1]Num 4A'!$Q$3:$S$145,2,FALSE),0)","v":3}]
["04106-VICUÑA","105470-P.S.R. HUANTA",null,null,8,0,{"$f":"IFERROR(VLOOKUP($B53,'[1]Num 4A'!$G$3:$I$163,2,FALSE),0)","v":7},null,{"$f":"IFERROR(VLOOKUP($B53,'[1]Num 4A'!$Q$3:$S$145,2,FALSE),0)","v":1}]
["04106-VICUÑA","105471-P.S.R. PERALILLO",null,null,71,0,{"$f":"IFERROR(VLOOKUP($B54,'[1]Num 4A'!$G$3:$I$163,2,FALSE),0)","v":59},null,{"$f":"IFERROR(VLOOKUP($B54,'[1]Num 4A'!$Q$3:$S$145,2,FALSE),0)","v":12}]
["04106-VICUÑA","105472-P.S.R. RIVADAVIA",null,null,31,0,{"$f":"IFERROR(VLOOKUP($B55,'[1]Num 4A'!$G$3:$I$163,2,FALSE),0)","v":21},null,{"$f":"IFERROR(VLOOKUP($B55,'[1]Num 4A'!$Q$3:$S$145,2,FALSE),0)","v":10}]
["04106-VICUÑA","105473-P.S.R. TALCUNA",null,null,26,0,{"$f":"IFERROR(VLOOKUP($B56,'[1]Num 4A'!$G$3:$I$163,2,FALSE),0)","v":21},null,{"$f":"IFERROR(VLOOKUP($B56,'[1]Num 4A'!$Q$3:$S$145,2,FALSE),0)","v":5}]
["04106-VICUÑA","105474-P.S.R. CHAPILCA",null,null,16,0,{"$f":"IFERROR(VLOOKUP($B57,'[1]Num 4A'!$G$3:$I$163,2,FALSE),0)","v":15},null,{"$f":"IFERROR(VLOOKUP($B57,'[1]Num 4A'!$Q$3:$S$145,2,FALSE),0)","v":1}]
["04106-VICUÑA","105509-P.S.R. GUALLIGUAICA",null,null,13,0,{"$f":"IFERROR(VLOOKUP($B58,'[1]Num 4A'!$G$3:$I$163,2,FALSE),0)","v":10},null,{"$f":"IFERROR(VLOOKUP($B58,'[1]Num 4A'!$Q$3:$S$145,2,FALSE),0)","v":3}]
["04106-VICUÑA","200538-CESFAM SAN ISIDRO CALINGASTA",null,null,153,0,{"$f":"IFERROR(VLOOKUP($B59,'[1]Num 4A'!$G$3:$I$163,2,FALSE),0)","v":140},null,{"$f":"IFERROR(VLOOKUP($B59,'[1]Num 4A'!$Q$3:$S$145,2,FALSE),0)","v":13}]
["TOTAL VICUÑA",null,{"$f":"D60/Metas!K9","v":{"v":1.2404467960023515,"d":"124.04%"}},{"$f":"E60/K60","v":{"v":0.24808935920047032,"d":"24.81%"}},{"$f":"SUM(E50:E59)","v":422},0,366,0,56,0,{"v":1701,"d":"1,701"}]
["04201-ILLAPEL","105326-CESFAM SAN RAFAEL",null,null,{"$f":"G61+I61","v":222},{"$f":"H61+J61","v":0},{"$f":"IFERROR(VLOOKUP($B61,'[1]Num 4A'!$G$3:$I$163,2,FALSE),0)","v":202},null,{"$f":"IFERROR(VLOOKUP($B61,'[1]Num 4A'!$Q$3:$S$145,2,FALSE),0)","v":20}]
["04201-ILLAPEL","105443-P.S.R. CARCAMO                   ",null,null,20,0,{"$f":"IFERROR(VLOOKUP($B62,'[1]Num 4A'!$G$3:$I$163,2,FALSE),0)","v":15},null,{"$f":"IFERROR(VLOOKUP($B62,'[1]Num 4A'!$Q$3:$S$145,2,FALSE),0)","v":5}]
["04201-ILLAPEL","105444-P.S.R. HUINTIL",null,null,13,0,{"$f":"IFERROR(VLOOKUP($B63,'[1]Num 4A'!$G$3:$I$163,2,FALSE),0)","v":7},null,{"$f":"IFERROR(VLOOKUP($B63,'[1]Num 4A'!$Q$3:$S$145,2,FALSE),0)","v":6}]
["04201-ILLAPEL","105445-P.S.R. LIMAHUIDA",null,null,12,0,{"$f":"IFERROR(VLOOKUP($B64,'[1]Num 4A'!$G$3:$I$163,2,FALSE),0)","v":9},null,{"$f":"IFERROR(VLOOKUP($B64,'[1]Num 4A'!$Q$3:$S$145,2,FALSE),0)","v":3}]
["04201-ILLAPEL","105446-P.S.R. MATANCILLA",null,null,0,0,{"$f":"IFERROR(VLOOKUP($B65,'[1]Num 4A'!$G$3:$I$163,2,FALSE),0)","v":0},null,{"$f":"IFERROR(VLOOKUP($B65,'[1]Num 4A'!$Q$3:$S$145,2,FALSE),0)","v":0}]
["04201-ILLAPEL","105447-P.S.R. PERALILLO",null,null,15,0,{"$f":"IFERROR(VLOOKUP($B66,'[1]Num 4A'!$G$3:$I$163,2,FALSE),0)","v":9},null,{"$f":"IFERROR(VLOOKUP($B66,'[1]Num 4A'!$Q$3:$S$145,2,FALSE),0)","v":6}]
["04201-ILLAPEL","105448-P.S.R. SANTA VIRGINIA",null,null,16,0,{"$f":"IFERROR(VLOOKUP($B67,'[1]Num 4A'!$G$3:$I$163,2,FALSE),0)","v":14},null,{"$f":"IFERROR(VLOOKUP($B67,'[1]Num 4A'!$Q$3:$S$145,2,FALSE),0)","v":2}]
["04201-ILLAPEL","105449-P.S.R. TUNGA NORTE",null,null,3,0,{"$f":"IFERROR(VLOOKUP($B68,'[1]Num 4A'!$G$3:$I$163,2,FALSE),0)","v":3},null,{"$f":"IFERROR(VLOOKUP($B68,'[1]Num 4A'!$Q$3:$S$145,2,FALSE),0)","v":0}]
["04201-ILLAPEL","105485-P.S.R. PLAN DE HORNOS",null,null,17,0,{"$f":"IFERROR(VLOOKUP($B69,'[1]Num 4A'!$G$3:$I$163,2,FALSE),0)","v":13},null,{"$f":"IFERROR(VLOOKUP($B69,'[1]Num 4A'!$Q$3:$S$145,2,FALSE),0)","v":4}]
["04201-ILLAPEL","105486-P.S.R. TUNGA SUR",null,null,9,0,{"$f":"IFERROR(VLOOKUP($B70,'[1]Num 4A'!$G$3:$I$163,2,FALSE),0)","v":5},null,{"$f":"IFERROR(VLOOKUP($B70,'[1]Num 4A'!$Q$3:$S$145,2,FALSE),0)","v":4}]
["04201-ILLAPEL","105487-P.S.R. CAÑAS UNO",null,null,26,0,{"$f":"IFERROR(VLOOKUP($B71,'[1]Num 4A'!$G$3:$I$163,2,FALSE),0)","v":20},null,{"$f":"IFERROR(VLOOKUP($B71,'[1]Num 4A'!$Q$3:$S$145,2,FALSE),0)","v":6}]
["04201-ILLAPEL","105496-P.S.R. PINTACURA SUR",null,null,12,0,{"$f":"IFERROR(VLOOKUP($B72,'[1]Num 4A'!$G$3:$I$163,2,FALSE),0)","v":10},null,{"$f":"IFERROR(VLOOKUP($B72,'[1]Num 4A'!$Q$3:$S$145,2,FALSE),0)","v":2}]
["04201-ILLAPEL","105504-P.S.R. SOCAVON",null,null,6,0,{"$f":"IFERROR(VLOOKUP($B73,'[1]Num 4A'!$G$3:$I$163,2,FALSE),0)","v":3},null,{"$f":"IFERROR(VLOOKUP($B73,'[1]Num 4A'!$Q$3:$S$145,2,FALSE),0)","v":3}]
["04201-ILLAPEL","200366-CESFAM URBANO II",null,null,673,0,{"$f":"IFERROR(VLOOKUP($B74,'[1]Num 4A'!$G$3:$I$163,2,FALSE),0)","v":555},null,{"$f":"IFERROR(VLOOKUP($B74,'[1]Num 4A'!$Q$3:$S$145,2,FALSE),0)","v":118}]
["TOTAL ILLAPEL",null,{"$f":"D75/Metas!K10","v":{"v":1.2510485320551228,"d":"125.10%"}},{"$f":"E75/K75","v":{"v":0.3127621330137807,"d":"31.28%"}},{"$f":"SUM(E61:E74)","v":{"v":1044,"d":"1,044"}},0,865,0,179,0,{"v":3338,"d":"3,338"}]
["04202-CANELA","105309-CES. RURAL CANELA",null,null,{"$f":"G76+I76","v":168},{"$f":"H76+J76","v":0},{"$f":"IFERROR(VLOOKUP($B76,'[1]Num 4A'!$G$3:$I$163,2,FALSE),0)","v":130},null,{"$f":"IFERROR(VLOOKUP($B76,'[1]Num 4A'!$Q$3:$S$145,2,FALSE),0)","v":38}]
["04202-CANELA","105450-P.S.R. MINCHA NORTE            ",null,null,61,0,{"$f":"IFERROR(VLOOKUP($B77,'[1]Num 4A'!$G$3:$I$163,2,FALSE),0)","v":41},null,{"$f":"IFERROR(VLOOKUP($B77,'[1]Num 4A'!$Q$3:$S$145,2,FALSE),0)","v":20}]
["04202-CANELA","105451-P.S.R. AGUA FRIA",null,null,12,0,{"$f":"IFERROR(VLOOKUP($B78,'[1]Num 4A'!$G$3:$I$163,2,FALSE),0)","v":10},null,{"$f":"IFERROR(VLOOKUP($B78,'[1]Num 4A'!$Q$3:$S$145,2,FALSE),0)","v":2}]
["04202-CANELA","105482-P.S.R. CANELA ALTA",null,null,25,0,{"$f":"IFERROR(VLOOKUP($B79,'[1]Num 4A'!$G$3:$I$163,2,FALSE),0)","v":22},null,{"$f":"IFERROR(VLOOKUP($B79,'[1]Num 4A'!$Q$3:$S$145,2,FALSE),0)","v":3}]
["04202-CANELA","105483-P.S.R. LOS RULOS",null,null,6,0,{"$f":"IFERROR(VLOOKUP($B80,'[1]Num 4A'!$G$3:$I$163,2,FALSE),0)","v":4},null,{"$f":"IFERROR(VLOOKUP($B80,'[1]Num 4A'!$Q$3:$S$145,2,FALSE),0)","v":2}]
["04202-CANELA","105484-P.S.R. HUENTELAUQUEN",null,null,25,0,{"$f":"IFERROR(VLOOKUP($B81,'[1]Num 4A'!$G$3:$I$163,2,FALSE),0)","v":22},null,{"$f":"IFERROR(VLOOKUP($B81,'[1]Num 4A'!$Q$3:$S$145,2,FALSE),0)","v":3}]
["04202-CANELA","105488-P.S.R. ESPIRITU SANTO",null,null,2,0,{"$f":"IFERROR(VLOOKUP($B82,'[1]Num 4A'!$G$3:$I$163,2,FALSE),0)","v":1},null,{"$f":"IFERROR(VLOOKUP($B82,'[1]Num 4A'!$Q$3:$S$145,2,FALSE),0)","v":1}]
["04202-CANELA","105493-P.S.R. MINCHA SUR",null,null,5,0,{"$f":"IFERROR(VLOOKUP($B83,'[1]Num 4A'!$G$3:$I$163,2,FALSE),0)","v":4},null,{"$f":"IFERROR(VLOOKUP($B83,'[1]Num 4A'!$Q$3:$S$145,2,FALSE),0)","v":1}]
["04202-CANELA","105497-P.S.R. JABONERIA",null,null,5,0,{"$f":"IFERROR(VLOOKUP($B84,'[1]Num 4A'!$G$3:$I$163,2,FALSE),0)","v":4},null,{"$f":"IFERROR(VLOOKUP($B84,'[1]Num 4A'!$Q$3:$S$145,2,FALSE),0)","v":1}]
["04202-CANELA","105498-P.S.R. QUEBRADA DE LINARES",null,null,0,0,{"$f":"IFERROR(VLOOKUP($B85,'[1]Num 4A'!$G$3:$I$163,2,FALSE),0)","v":0},null,{"$f":"IFERROR(VLOOKUP($B85,'[1]Num 4A'!$Q$3:$S$145,2,FALSE),0)","v":0}]
["TOTAL CANELA",null,{"$f":"D86/Metas!K11","v":{"v":1.1428360085805163,"d":"114.28%"}},{"$f":"E86/K86","v":{"v":0.25142392188771356,"d":"25.14%"}},{"$f":"SUM(E76:E85)","v":309},0,238,0,71,0,{"v":1229,"d":"1,229"}]
["04203-LOS VILOS","105478-P.S.R. CAIMANES                   ",null,null,{"$f":"G87+I87","v":50},{"$f":"H87+J87","v":0},{"$f":"IFERROR(VLOOKUP($B87,'[1]Num 4A'!$G$3:$I$163,2,FALSE),0)","v":43},null,{"$f":"IFERROR(VLOOKUP($B87,'[1]Num 4A'!$Q$3:$S$145,2,FALSE),0)","v":7}]
["04203-LOS VILOS","105479-P.S.R. GUANGUALI",null,null,19,0,{"$f":"IFERROR(VLOOKUP($B88,'[1]Num 4A'!$G$3:$I$163,2,FALSE),0)","v":14},null,{"$f":"IFERROR(VLOOKUP($B88,'[1]Num 4A'!$Q$3:$S$145,2,FALSE),0)","v":5}]
["04203-LOS VILOS","105480-P.S.R. QUILIMARI",null,null,138,0,{"$f":"IFERROR(VLOOKUP($B89,'[1]Num 4A'!$G$3:$I$163,2,FALSE),0)","v":121},null,{"$f":"IFERROR(VLOOKUP($B89,'[1]Num 4A'!$Q$3:$S$145,2,FALSE),0)","v":17}]
["04203-LOS VILOS","105481-P.S.R. TILAMA",null,null,11,0,{"$f":"IFERROR(VLOOKUP($B90,'[1]Num 4A'!$G$3:$I$163,2,FALSE),0)","v":9},null,{"$f":"IFERROR(VLOOKUP($B90,'[1]Num 4A'!$Q$3:$S$145,2,FALSE),0)","v":2}]
["04203-LOS VILOS","105511-P.S.R. LOS CONDORES",null,null,16,0,{"$f":"IFERROR(VLOOKUP($B91,'[1]Num 4A'!$G$3:$I$163,2,FALSE),0)","v":10},null,{"$f":"IFERROR(VLOOKUP($B91,'[1]Num 4A'!$Q$3:$S$145,2,FALSE),0)","v":6}]
["TOTAL LOS VILOS",null,{"$f":"D92/Metas!K12","v":{"v":1.4838300570703866,"d":"148.38%"}},{"$f":"E92/K92","v":{"v":0.2819277108433735,"d":"28.19%"}},{"$f":"SUM(E87:E91)","v":234},0,197,0,37,0,830]
["04204-SALAMANCA","105452-P.S.R. CUNCUMEN                 ",null,null,{"$f":"G93+I93","v":20},{"$f":"H93+J93","v":0},{"$f":"IFERROR(VLOOKUP($B93,'[1]Num 4A'!$G$3:$I$163,2,FALSE),0)","v":18},null,{"$f":"IFERROR(VLOOKUP($B93,'[1]Num 4A'!$Q$3:$S$145,2,FALSE),0)","v":2}]
["04204-SALAMANCA","105453-P.S.R. TRANQUILLA",null,null,65,0,{"$f":"IFERROR(VLOOKUP($B94,'[1]Num 4A'!$G$3:$I$163,2,FALSE),0)","v":57},null,{"$f":"IFERROR(VLOOKUP($B94,'[1]Num 4A'!$Q$3:$S$145,2,FALSE),0)","v":8}]
["04204-SALAMANCA","105454-P.S.R. CUNLAGUA",null,null,9,0,{"$f":"IFERROR(VLOOKUP($B95,'[1]Num 4A'!$G$3:$I$163,2,FALSE),0)","v":9},null,{"$f":"IFERROR(VLOOKUP($B95,'[1]Num 4A'!$Q$3:$S$145,2,FALSE),0)","v":0}]
["04204-SALAMANCA","105455-P.S.R. CHILLEPIN",null,null,39,0,{"$f":"IFERROR(VLOOKUP($B96,'[1]Num 4A'!$G$3:$I$163,2,FALSE),0)","v":32},null,{"$f":"IFERROR(VLOOKUP($B96,'[1]Num 4A'!$Q$3:$S$145,2,FALSE),0)","v":7}]
["04204-SALAMANCA","105456-P.S.R. LLIMPO",null,null,28,0,{"$f":"IFERROR(VLOOKUP($B97,'[1]Num 4A'!$G$3:$I$163,2,FALSE),0)","v":25},null,{"$f":"IFERROR(VLOOKUP($B97,'[1]Num 4A'!$Q$3:$S$145,2,FALSE),0)","v":3}]
["04204-SALAMANCA","105457-P.S.R. SAN AGUSTIN",null,null,16,0,{"$f":"IFERROR(VLOOKUP($B98,'[1]Num 4A'!$G$3:$I$163,2,FALSE),0)","v":16},null,{"$f":"IFERROR(VLOOKUP($B98,'[1]Num 4A'!$Q$3:$S$145,2,FALSE),0)","v":0}]
["04204-SALAMANCA","105458-P.S.R. TAHUINCO",null,null,88,0,{"$f":"IFERROR(VLOOKUP($B99,'[1]Num 4A'!$G$3:$I$163,2,FALSE),0)","v":69},null,{"$f":"IFERROR(VLOOKUP($B99,'[1]Num 4A'!$Q$3:$S$145,2,FALSE),0)","v":19}]
["04204-SALAMANCA","105491-P.S.R. QUELEN BAJO",null,null,77,0,{"$f":"IFERROR(VLOOKUP($B100,'[1]Num 4A'!$G$3:$I$163,2,FALSE),0)","v":62},null,{"$f":"IFERROR(VLOOKUP($B100,'[1]Num 4A'!$Q$3:$S$145,2,FALSE),0)","v":15}]
["04204-SALAMANCA","105492-P.S.R. CAMISA",null,null,16,0,{"$f":"IFERROR(VLOOKUP($B101,'[1]Num 4A'!$G$3:$I$163,2,FALSE),0)","v":13},null,{"$f":"IFERROR(VLOOKUP($B101,'[1]Num 4A'!$Q$3:$S$145,2,FALSE),0)","v":3}]
["04204-SALAMANCA","105501-P.S.R. ARBOLEDA GRANDE",null,null,40,0,{"$f":"IFERROR(VLOOKUP($B102,'[1]Num 4A'!$G$3:$I$163,2,FALSE),0)","v":38},null,{"$f":"IFERROR(VLOOKUP($B102,'[1]Num 4A'!$Q$3:$S$145,2,FALSE),0)","v":2}]
["TOTAL SALAMANCA",null,{"$f":"D103/Metas!K13","v":{"v":1.063716057301689,"d":"106.37%"}},{"$f":"E103/K103","v":{"v":0.2552918537524054,"d":"25.53%"}},{"$f":"SUM(E93:E102)","v":398},0,339,0,59,0,{"v":1559,"d":"1,559"}]
["04301-OVALLE","105315-CES. RURAL C. DE TAMAYA",null,null,{"$f":"G104+I104","v":210},{"$f":"H104+J104","v":0},{"$f":"IFERROR(VLOOKUP($B104,'[1]Num 4A'!$G$3:$I$163,2,FALSE),0)","v":180},null,{"$f":"IFERROR(VLOOKUP($B104,'[1]Num 4A'!$Q$3:$S$145,2,FALSE),0)","v":30}]
["04301-OVALLE","105317-CES. JORGE JORDAN D.",null,null,290,0,{"$f":"IFERROR(VLOOKUP($B105,'[1]Num 4A'!$G$3:$I$163,2,FALSE),0)","v":244},null,{"$f":"IFERROR(VLOOKUP($B105,'[1]Num 4A'!$Q$3:$S$145,2,FALSE),0)","v":46}]
["04301-OVALLE","105322-CES. MARCOS MACUADA",null,null,634,0,{"$f":"IFERROR(VLOOKUP($B106,'[1]Num 4A'!$G$3:$I$163,2,FALSE),0)","v":491},null,{"$f":"IFERROR(VLOOKUP($B106,'[1]Num 4A'!$Q$3:$S$145,2,FALSE),0)","v":143}]
["04301-OVALLE","105324-CES. SOTAQUI",null,null,170,0,{"$f":"IFERROR(VLOOKUP($B107,'[1]Num 4A'!$G$3:$I$163,2,FALSE),0)","v":140},null,{"$f":"IFERROR(VLOOKUP($B107,'[1]Num 4A'!$Q$3:$S$145,2,FALSE),0)","v":30}]
["04301-OVALLE","105415-P.S.R. BARRAZA",null,null,50,0,{"$f":"IFERROR(VLOOKUP($B108,'[1]Num 4A'!$G$3:$I$163,2,FALSE),0)","v":36},null,{"$f":"IFERROR(VLOOKUP($B108,'[1]Num 4A'!$Q$3:$S$145,2,FALSE),0)","v":14}]
["04301-OVALLE","105416-P.S.R. CAMARICO                  ",null,null,30,0,{"$f":"IFERROR(VLOOKUP($B109,'[1]Num 4A'!$G$3:$I$163,2,FALSE),0)","v":26},null,{"$f":"IFERROR(VLOOKUP($B109,'[1]Num 4A'!$Q$3:$S$145,2,FALSE),0)","v":4}]
["04301-OVALLE","105417-P.S.R. ALCONES BAJOS",null,null,10,0,{"$f":"IFERROR(VLOOKUP($B110,'[1]Num 4A'!$G$3:$I$163,2,FALSE),0)","v":5},null,{"$f":"IFERROR(VLOOKUP($B110,'[1]Num 4A'!$Q$3:$S$145,2,FALSE),0)","v":5}]
["04301-OVALLE","105419-P.S.R. LAS SOSSAS",null,null,21,0,{"$f":"IFERROR(VLOOKUP($B111,'[1]Num 4A'!$G$3:$I$163,2,FALSE),0)","v":16},null,{"$f":"IFERROR(VLOOKUP($B111,'[1]Num 4A'!$Q$3:$S$145,2,FALSE),0)","v":5}]
["04301-OVALLE","105422-P.S.R. HORNILLOS",null,null,4,0,{"$f":"IFERROR(VLOOKUP($B112,'[1]Num 4A'!$G$3:$I$163,2,FALSE),0)","v":4},null,{"$f":"IFERROR(VLOOKUP($B112,'[1]Num 4A'!$Q$3:$S$145,2,FALSE),0)","v":0}]
["04301-OVALLE","105437-P.S.R. CHALINGA",null,null,29,0,{"$f":"IFERROR(VLOOKUP($B113,'[1]Num 4A'!$G$3:$I$163,2,FALSE),0)","v":22},null,{"$f":"IFERROR(VLOOKUP($B113,'[1]Num 4A'!$Q$3:$S$145,2,FALSE),0)","v":7}]
["04301-OVALLE","105439-P.S.R. CERRO BLANCO",null,null,11,0,{"$f":"IFERROR(VLOOKUP($B114,'[1]Num 4A'!$G$3:$I$163,2,FALSE),0)","v":9},null,{"$f":"IFERROR(VLOOKUP($B114,'[1]Num 4A'!$Q$3:$S$145,2,FALSE),0)","v":2}]
["04301-OVALLE","105507-P.S.R. HUAMALATA",null,null,33,0,{"$f":"IFERROR(VLOOKUP($B115,'[1]Num 4A'!$G$3:$I$163,2,FALSE),0)","v":26},null,{"$f":"IFERROR(VLOOKUP($B115,'[1]Num 4A'!$Q$3:$S$145,2,FALSE),0)","v":7}]
["04301-OVALLE","105510-P.S.R. RECOLETA",null,null,28,0,{"$f":"IFERROR(VLOOKUP($B116,'[1]Num 4A'!$G$3:$I$163,2,FALSE),0)","v":25},null,{"$f":"IFERROR(VLOOKUP($B116,'[1]Num 4A'!$Q$3:$S$145,2,FALSE),0)","v":3}]
["04301-OVALLE","105722-CECOF SAN JOSE DE LA DEHESA",null,null,119,0,{"$f":"IFERROR(VLOOKUP($B117,'[1]Num 4A'!$G$3:$I$163,2,FALSE),0)","v":102},null,{"$f":"IFERROR(VLOOKUP($B117,'[1]Num 4A'!$Q$3:$S$145,2,FALSE),0)","v":17}]
["04301-OVALLE","105723-CECOF LIMARI",null,null,103,0,{"$f":"IFERROR(VLOOKUP($B118,'[1]Num 4A'!$G$3:$I$163,2,FALSE),0)","v":70},null,{"$f":"IFERROR(VLOOKUP($B118,'[1]Num 4A'!$Q$3:$S$145,2,FALSE),0)","v":33}]
["04301-OVALLE","200258-CECOF LOS COPIHUES",null,null,40,0,{"$f":"IFERROR(VLOOKUP($B119,'[1]Num 4A'!$G$3:$I$163,2,FALSE),0)","v":25},null,{"$f":"IFERROR(VLOOKUP($B119,'[1]Num 4A'!$Q$3:$S$145,2,FALSE),0)","v":15}]
["04301-OVALLE","200367-CECOF COLONIA LIMARÍ",null,null,72,0,{"$f":"IFERROR(VLOOKUP($B120,'[1]Num 4A'!$G$3:$I$163,2,FALSE),0)","v":58},null,{"$f":"IFERROR(VLOOKUP($B120,'[1]Num 4A'!$Q$3:$S$145,2,FALSE),0)","v":14}]
["04301-OVALLE","200569-CESFAM FRAY JORGE",null,null,216,0,{"$f":"IFERROR(VLOOKUP($B121,'[1]Num 4A'!$G$3:$I$163,2,FALSE),0)","v":171},null,{"$f":"IFERROR(VLOOKUP($B121,'[1]Num 4A'!$Q$3:$S$145,2,FALSE),0)","v":45}]
["TOTAL OVALLE",null,{"$f":"D122/Metas!K14","v":{"v":1.1250978345943126,"d":"112.51%"}},{"$f":"E122/K122","v":{"v":0.18001565353509,"d":"18.00%"}},{"$f":"SUM(E104:E121)","v":{"v":2070,"d":"2,070"}},0,{"v":1650,"d":"1,650"},0,420,0,{"v":11499,"d":"11,499"}]
["04302-COMBARBALÁ","105433-P.S.R. SAN LORENZO",null,null,{"$f":"G123+I123","v":6},{"$f":"H123+J123","v":0},{"$f":"IFERROR(VLOOKUP($B123,'[1]Num 4A'!$G$3:$I$163,2,FALSE),0)","v":3},null,{"$f":"IFERROR(VLOOKUP($B123,'[1]Num 4A'!$Q$3:$S$145,2,FALSE),0)","v":3}]
["04302-COMBARBALÁ","105434-P.S.R. SAN MARCOS",null,null,18,0,{"$f":"IFERROR(VLOOKUP($B124,'[1]Num 4A'!$G$3:$I$163,2,FALSE),0)","v":14},null,{"$f":"IFERROR(VLOOKUP($B124,'[1]Num 4A'!$Q$3:$S$145,2,FALSE),0)","v":4}]
["04302-COMBARBALÁ","105441-P.S.R. MANQUEHUA",null,null,25,0,{"$f":"IFERROR(VLOOKUP($B125,'[1]Num 4A'!$G$3:$I$163,2,FALSE),0)","v":19},null,{"$f":"IFERROR(VLOOKUP($B125,'[1]Num 4A'!$Q$3:$S$145,2,FALSE),0)","v":6}]
["04302-COMBARBALÁ","105459-P.S.R. BARRANCAS                ",null,null,25,0,{"$f":"IFERROR(VLOOKUP($B126,'[1]Num 4A'!$G$3:$I$163,2,FALSE),0)","v":23},null,{"$f":"IFERROR(VLOOKUP($B126,'[1]Num 4A'!$Q$3:$S$145,2,FALSE),0)","v":2}]
["04302-COMBARBALÁ","105460-P.S.R. COGOTI 18",null,null,22,0,{"$f":"IFERROR(VLOOKUP($B127,'[1]Num 4A'!$G$3:$I$163,2,FALSE),0)","v":21},null,{"$f":"IFERROR(VLOOKUP($B127,'[1]Num 4A'!$Q$3:$S$145,2,FALSE),0)","v":1}]
["04302-COMBARBALÁ","105461-P.S.R. EL HUACHO",null,null,13,0,{"$f":"IFERROR(VLOOKUP($B128,'[1]Num 4A'!$G$3:$I$163,2,FALSE),0)","v":12},null,{"$f":"IFERROR(VLOOKUP($B128,'[1]Num 4A'!$Q$3:$S$145,2,FALSE),0)","v":1}]
["04302-COMBARBALÁ","105462-P.S.R. EL SAUCE",null,null,8,0,{"$f":"IFERROR(VLOOKUP($B129,'[1]Num 4A'!$G$3:$I$163,2,FALSE),0)","v":7},null,{"$f":"IFERROR(VLOOKUP($B129,'[1]Num 4A'!$Q$3:$S$145,2,FALSE),0)","v":1}]
["04302-COMBARBALÁ","105463-P.S.R. QUILITAPIA",null,null,37,0,{"$f":"IFERROR(VLOOKUP($B130,'[1]Num 4A'!$G$3:$I$163,2,FALSE),0)","v":30},null,{"$f":"IFERROR(VLOOKUP($B130,'[1]Num 4A'!$Q$3:$S$145,2,FALSE),0)","v":7}]
["04302-COMBARBALÁ","105464-P.S.R. LA LIGUA",null,null,7,0,{"$f":"IFERROR(VLOOKUP($B131,'[1]Num 4A'!$G$3:$I$163,2,FALSE),0)","v":5},null,{"$f":"IFERROR(VLOOKUP($B131,'[1]Num 4A'!$Q$3:$S$145,2,FALSE),0)","v":2}]
["04302-COMBARBALÁ","105465-P.S.R. RAMADILLA",null,null,19,0,{"$f":"IFERROR(VLOOKUP($B132,'[1]Num 4A'!$G$3:$I$163,2,FALSE),0)","v":16},null,{"$f":"IFERROR(VLOOKUP($B132,'[1]Num 4A'!$Q$3:$S$145,2,FALSE),0)","v":3}]
["04302-COMBARBALÁ","105466-P.S.R. VALLE HERMOSO",null,null,6,0,{"$f":"IFERROR(VLOOKUP($B133,'[1]Num 4A'!$G$3:$I$163,2,FALSE),0)","v":6},null,{"$f":"IFERROR(VLOOKUP($B133,'[1]Num 4A'!$Q$3:$S$145,2,FALSE),0)","v":0}]
["04302-COMBARBALÁ","105490-P.S.R. EL DURAZNO",null,null,3,0,{"$f":"IFERROR(VLOOKUP($B134,'[1]Num 4A'!$G$3:$I$163,2,FALSE),0)","v":3},null,{"$f":"IFERROR(VLOOKUP($B134,'[1]Num 4A'!$Q$3:$S$145,2,FALSE),0)","v":0}]
["TOTAL COMBARBALÁ",null,{"$f":"D135/Metas!K15","v":{"v":1.0146561443066515,"d":"101.47%"}},{"$f":"E135/K135","v":{"v":0.21307779030439683,"d":"21.31%"}},{"$f":"SUM(E123:E134)","v":189},0,159,0,30,0,887]
["04304-MONTE PATRIA","105307-CES. RURAL MONTE PATRIA",null,null,{"$f":"G136+I136","v":260},{"$f":"H136+J136","v":0},{"$f":"IFERROR(VLOOKUP($B136,'[1]Num 4A'!$G$3:$I$163,2,FALSE),0)","v":217},null,{"$f":"IFERROR(VLOOKUP($B136,'[1]Num 4A'!$Q$3:$S$145,2,FALSE),0)","v":43}]
["04304-MONTE PATRIA","105311-CES. RURAL CHAÑARAL ALTO",null,null,130,0,{"$f":"IFERROR(VLOOKUP($B137,'[1]Num 4A'!$G$3:$I$163,2,FALSE),0)","v":105},null,{"$f":"IFERROR(VLOOKUP($B137,'[1]Num 4A'!$Q$3:$S$145,2,FALSE),0)","v":25}]
["04304-MONTE PATRIA","105312-CES. RURAL CAREN",null,null,85,0,{"$f":"IFERROR(VLOOKUP($B138,'[1]Num 4A'!$G$3:$I$163,2,FALSE),0)","v":73},null,{"$f":"IFERROR(VLOOKUP($B138,'[1]Num 4A'!$Q$3:$S$145,2,FALSE),0)","v":12}]
["04304-MONTE PATRIA","105318-CES. RURAL EL PALQUI",null,null,109,0,{"$f":"IFERROR(VLOOKUP($B139,'[1]Num 4A'!$G$3:$I$163,2,FALSE),0)","v":97},null,{"$f":"IFERROR(VLOOKUP($B139,'[1]Num 4A'!$Q$3:$S$145,2,FALSE),0)","v":12}]
["04304-MONTE PATRIA","105425-P.S.R. CHILECITO",null,null,18,0,{"$f":"IFERROR(VLOOKUP($B140,'[1]Num 4A'!$G$3:$I$163,2,FALSE),0)","v":17},null,{"$f":"IFERROR(VLOOKUP($B140,'[1]Num 4A'!$Q$3:$S$145,2,FALSE),0)","v":1}]
["04304-MONTE PATRIA","105427-P.S.R. HACIENDA VALDIVIA",null,null,2,0,{"$f":"IFERROR(VLOOKUP($B141,'[1]Num 4A'!$G$3:$I$163,2,FALSE),0)","v":2},null,{"$f":"IFERROR(VLOOKUP($B141,'[1]Num 4A'!$Q$3:$S$145,2,FALSE),0)","v":0}]
["04304-MONTE PATRIA","105428-P.S.R. HUATULAME",null,null,35,0,{"$f":"IFERROR(VLOOKUP($B142,'[1]Num 4A'!$G$3:$I$163,2,FALSE),0)","v":32},null,{"$f":"IFERROR(VLOOKUP($B142,'[1]Num 4A'!$Q$3:$S$145,2,FALSE),0)","v":3}]
["04304-MONTE PATRIA","105430-P.S.R. MIALQUI",null,null,3,0,{"$f":"IFERROR(VLOOKUP($B143,'[1]Num 4A'!$G$3:$I$163,2,FALSE),0)","v":2},null,{"$f":"IFERROR(VLOOKUP($B143,'[1]Num 4A'!$Q$3:$S$145,2,FALSE),0)","v":1}]
["04304-MONTE PATRIA","105431-P.S.R. PEDREGAL",null,null,19,0,{"$f":"IFERROR(VLOOKUP($B144,'[1]Num 4A'!$G$3:$I$163,2,FALSE),0)","v":16},null,{"$f":"IFERROR(VLOOKUP($B144,'[1]Num 4A'!$Q$3:$S$145,2,FALSE),0)","v":3}]
["04304-MONTE PATRIA","105432-P.S.R. RAPEL",null,null,2,0,{"$f":"IFERROR(VLOOKUP($B145,'[1]Num 4A'!$G$3:$I$163,2,FALSE),0)","v":2},null,{"$f":"IFERROR(VLOOKUP($B145,'[1]Num 4A'!$Q$3:$S$145,2,FALSE),0)","v":0}]
["04304-MONTE PATRIA","105435-P.S.R. TULAHUEN",null,null,40,0,{"$f":"IFERROR(VLOOKUP($B146,'[1]Num 4A'!$G$3:$I$163,2,FALSE),0)","v":35},null,{"$f":"IFERROR(VLOOKUP($B146,'[1]Num 4A'!$Q$3:$S$145,2,FALSE),0)","v":5}]
["04304-MONTE PATRIA","105436-P.S.R. EL MAITEN",null,null,11,0,{"$f":"IFERROR(VLOOKUP($B147,'[1]Num 4A'!$G$3:$I$163,2,FALSE),0)","v":9},null,{"$f":"IFERROR(VLOOKUP($B147,'[1]Num 4A'!$Q$3:$S$145,2,FALSE),0)","v":2}]
["04304-MONTE PATRIA","105489-P.S.R. RAMADAS DE TULAHUEN",null,null,3,0,{"$f":"IFERROR(VLOOKUP($B148,'[1]Num 4A'!$G$3:$I$163,2,FALSE),0)","v":3},null,{"$f":"IFERROR(VLOOKUP($B148,'[1]Num 4A'!$Q$3:$S$145,2,FALSE),0)","v":0}]
["TOTAL MONTE PATRIA",null,{"$f":"D149/Metas!K16","v":{"v":1.0307796259290674,"d":"103.08%"}},{"$f":"E149/K149","v":{"v":0.1958481289265228,"d":"19.58%"}},{"$f":"SUM(E136:E148)","v":717},0,{"$f":"SUM(G136:G148)","v":610},0,107,0,{"v":3661,"d":"3,661"}]
["04304-PUNITAQUI","105308-CES. RURAL PUNITAQUI",null,null,{"$f":"G150+I150","v":396},{"$f":"H150+J150","v":0},{"$f":"IFERROR(VLOOKUP($B150,'[1]Num 4A'!$G$3:$I$163,2,FALSE),0)","v":326},null,{"$f":"IFERROR(VLOOKUP($B150,'[1]Num 4A'!$Q$3:$S$145,2,FALSE),0)","v":70}]
["04304-PUNITAQUI","105440-P.S.R. DIVISADERO",null,null,16,0,{"$f":"IFERROR(VLOOKUP($B151,'[1]Num 4A'!$G$3:$I$163,2,FALSE),0)","v":11},null,{"$f":"IFERROR(VLOOKUP($B151,'[1]Num 4A'!$Q$3:$S$145,2,FALSE),0)","v":5}]
["04304-PUNITAQUI","105442-P.S.R. SAN PEDRO DE QUILES",null,null,5,0,{"$f":"IFERROR(VLOOKUP($B152,'[1]Num 4A'!$G$3:$I$163,2,FALSE),0)","v":4},null,{"$f":"IFERROR(VLOOKUP($B152,'[1]Num 4A'!$Q$3:$S$145,2,FALSE),0)","v":1}]
["04304-PUNITAQUI","105508-P.S.R. EL PARRAL DE QUILES  ",null,null,7,0,{"$f":"IFERROR(VLOOKUP($B153,'[1]Num 4A'!$G$3:$I$163,2,FALSE),0)","v":7},null,{"$f":"IFERROR(VLOOKUP($B153,'[1]Num 4A'!$Q$3:$S$145,2,FALSE),0)","v":0}]
["TOTAL PUNITAQUI",null,{"$f":"D154/Metas!K17","v":{"v":1.2268518518518519,"d":"122.69%"}},{"$f":"E154/K154","v":{"v":0.29444444444444445,"d":"29.44%"}},{"$f":"SUM(E150:E153)","v":424},{"$f":"SUM(F150:F153)","v":0},348,0,76,0,{"v":1440,"d":"1,440"}]
["04305-RIO HURTADO","105310-CES. RURAL PICHASCA",null,null,{"$f":"G155+I155","v":75},{"$f":"H155+J155","v":0},{"$f":"IFERROR(VLOOKUP($B155,'[1]Num 4A'!$G$3:$I$163,2,FALSE),0)","v":61},null,{"$f":"IFERROR(VLOOKUP($B155,'[1]Num 4A'!$Q$3:$S$145,2,FALSE),0)","v":14}]
["04305-RIO HURTADO","105409-P.S.R. EL CHAÑAR",null,null,13,0,{"$f":"IFERROR(VLOOKUP($B156,'[1]Num 4A'!$G$3:$I$163,2,FALSE),0)","v":7},null,{"$f":"IFERROR(VLOOKUP($B156,'[1]Num 4A'!$Q$3:$S$145,2,FALSE),0)","v":6}]
["04305-RIO HURTADO","105410-P.S.R. HURTADO",null,null,14,0,{"$f":"IFERROR(VLOOKUP($B157,'[1]Num 4A'!$G$3:$I$163,2,FALSE),0)","v":9},null,{"$f":"IFERROR(VLOOKUP($B157,'[1]Num 4A'!$Q$3:$S$145,2,FALSE),0)","v":5}]
["04305-RIO HURTADO","105411-P.S.R. LAS BREAS",null,null,4,0,{"$f":"IFERROR(VLOOKUP($B158,'[1]Num 4A'!$G$3:$I$163,2,FALSE),0)","v":4},null,{"$f":"IFERROR(VLOOKUP($B158,'[1]Num 4A'!$Q$3:$S$145,2,FALSE),0)","v":0}]
["04305-RIO HURTADO","105413-P.S.R. SAMO ALTO",null,null,29,0,{"$f":"IFERROR(VLOOKUP($B159,'[1]Num 4A'!$G$3:$I$163,2,FALSE),0)","v":25},null,{"$f":"IFERROR(VLOOKUP($B159,'[1]Num 4A'!$Q$3:$S$145,2,FALSE),0)","v":4}]
["04305-RIO HURTADO","105414-P.S.R. SERON",null,null,17,0,{"$f":"IFERROR(VLOOKUP($B160,'[1]Num 4A'!$G$3:$I$163,2,FALSE),0)","v":13},null,{"$f":"IFERROR(VLOOKUP($B160,'[1]Num 4A'!$Q$3:$S$145,2,FALSE),0)","v":4}]
["04305-RIO HURTADO","105503-P.S.R. TABAQUEROS",null,null,11,0,{"$f":"IFERROR(VLOOKUP($B161,'[1]Num 4A'!$G$3:$I$163,2,FALSE),0)","v":10},null,{"$f":"IFERROR(VLOOKUP($B161,'[1]Num 4A'!$Q$3:$S$145,2,FALSE),0)","v":1}]
["TOTAL RIO HURTADO",null,{"$f":"D162/Metas!K18","v":{"v":1.4370096094507625,"d":"143.70%"}},{"$f":"E162/K162","v":{"v":0.2730318257956449,"d":"27.30%"}},{"$f":"SUM(E155:E161)","v":163},0,129,0,34,0,597]

{"sheet":"Meta 4B","index":6,"n_rows":162,"n_cols":8,"rows_kept":162,"merged":[[0,0,9,0],[0,1,9,1],[0,2,10,2],[0,3,9,3],[0,4,0,7],[1,4,8,5],[1,6,8,7],[9,4,9,5],[9,6,9,7],[25,0,25,1],[38,0,38,1],[43,0,43,1],[48,0,48,1],[59,0,59,1],[74,0,74,1],[85,0,85,1],[91,0,91,1],[102,0,102,1],[121,0,121,1],[134,0,134,1],[148,0,148,1],[153,0,153,1],[161,0,161,1]]}
["COMUNA","ESTABLECIMIENTO","CUMPLIMIENTO","Indicador","META 4b : EVALUACIÓN ANUAL DE LOS PIES EN PERSONAS CON DIABETES BAJO CONTROL DE 15 AÑOS Y MÁS"]
[{"$nulls":4},"NUMERADOR",null,"DENOMINADOR"]
{"$rows_empty":7}
[{"$nulls":4},"Nº de personas con diabetes bajo control de 15 y más años con una evaluación de pie vigente ",null,"Total de personas diabéticas de 15 y más años con DM2 bajo control"]
[{"$nulls":3},"Resultado","A JUNIO","A DICBRE","A JUNIO","A DICBRE"]
["04101-LA SERENA","105300-CES. CARDENAL CARO",null,null,{"$f":"IFERROR(VLOOKUP($B12,'[1]Num 4B'!$G$3:$I$164,2,FALSE),0)","v":334},null,{"$f":"IFERROR(VLOOKUP($B12,'[1]Den 4B'!$G$3:$I$165,2,FALSE),0)","v":{"v":1999,"d":"1,999"}}]
["04101-LA SERENA","105301-CES. LAS COMPAÑIAS",null,null,{"$f":"IFERROR(VLOOKUP($B13,'[1]Num 4B'!$G$3:$I$164,2,FALSE),0)","v":423},null,{"$f":"IFERROR(VLOOKUP($B13,'[1]Den 4B'!$G$3:$I$165,2,FALSE),0)","v":{"v":1510,"d":"1,510"}}]
["04101-LA SERENA","105302-CES. PEDRO AGUIRRE C.",null,null,{"$f":"IFERROR(VLOOKUP($B14,'[1]Num 4B'!$G$3:$I$164,2,FALSE),0)","v":549},null,{"$f":"IFERROR(VLOOKUP($B14,'[1]Den 4B'!$G$3:$I$165,2,FALSE),0)","v":{"v":1556,"d":"1,556"}}]
["04101-LA SERENA","105313-CES. SCHAFFHAUSER",null,null,{"$f":"IFERROR(VLOOKUP($B15,'[1]Num 4B'!$G$3:$I$164,2,FALSE),0)","v":414},null,{"$f":"IFERROR(VLOOKUP($B15,'[1]Den 4B'!$G$3:$I$165,2,FALSE),0)","v":{"v":1592,"d":"1,592"}}]
["04101-LA SERENA","105319-CES. CARDENAL R.S.H.",null,null,{"$f":"IFERROR(VLOOKUP($B16,'[1]Num 4B'!$G$3:$I$164,2,FALSE),0)","v":317},null,{"$f":"IFERROR(VLOOKUP($B16,'[1]Den 4B'!$G$3:$I$165,2,FALSE),0)","v":{"v":1308,"d":"1,308"}}]
["04101-LA SERENA","105325-CESFAM JUAN PABLO II",null,null,{"$f":"IFERROR(VLOOKUP($B17,'[1]Num 4B'!$G$3:$I$164,2,FALSE),0)","v":341},null,{"$f":"IFERROR(VLOOKUP($B17,'[1]Den 4B'!$G$3:$I$165,2,FALSE),0)","v":964}]
["04101-LA SERENA","105400-P.S.R. ALGARROBITO            ",null,null,{"$f":"IFERROR(VLOOKUP($B18,'[1]Num 4B'!$G$3:$I$164,2,FALSE),0)","v":34},null,{"$f":"IFERROR(VLOOKUP($B18,'[1]Den 4B'!$G$3:$I$165,2,FALSE),0)","v":222}]
["04101-LA SERENA","105401-P.S.R. LAS ROJAS",null,null,{"$f":"IFERROR(VLOOKUP($B19,'[1]Num 4B'!$G$3:$I$164,2,FALSE),0)","v":7},null,{"$f":"IFERROR(VLOOKUP($B19,'[1]Den 4B'!$G$3:$I$165,2,FALSE),0)","v":39}]
["04101-LA SERENA","105402-P.S.R. EL ROMERO",null,null,{"$f":"IFERROR(VLOOKUP($B20,'[1]Num 4B'!$G$3:$I$164,2,FALSE),0)","v":12},null,{"$f":"IFERROR(VLOOKUP($B20,'[1]Den 4B'!$G$3:$I$165,2,FALSE),0)","v":65}]
["04101-LA SERENA","105499-P.S.R. LAMBERT",null,null,{"$f":"IFERROR(VLOOKUP($B21,'[1]Num 4B'!$G$3:$I$164,2,FALSE),0)","v":7},null,{"$f":"IFERROR(VLOOKUP($B21,'[1]Den 4B'!$G$3:$I$165,2,FALSE),0)","v":43}]
["04101-LA SERENA","105700-CECOF VILLA EL INDIO",null,null,{"$f":"IFERROR(VLOOKUP($B22,'[1]Num 4B'!$G$3:$I$164,2,FALSE),0)","v":25},null,{"$f":"IFERROR(VLOOKUP($B22,'[1]Den 4B'!$G$3:$I$165,2,FALSE),0)","v":188}]
["04101-LA SERENA","105701-CECOF VILLA ALEMANIA",null,null,{"$f":"IFERROR(VLOOKUP($B23,'[1]Num 4B'!$G$3:$I$164,2,FALSE),0)","v":31},null,{"$f":"IFERROR(VLOOKUP($B23,'[1]Den 4B'!$G$3:$I$165,2,FALSE),0)","v":67}]
["04101-LA SERENA","105702-CECOF VILLA LAMBERT",null,null,{"$f":"IFERROR(VLOOKUP($B24,'[1]Num 4B'!$G$3:$I$164,2,FALSE),0)","v":55},null,{"$f":"IFERROR(VLOOKUP($B24,'[1]Den 4B'!$G$3:$I$165,2,FALSE),0)","v":255}]
["04101-LA SERENA","200402-CECOF ARCOS DE PINAMAR",null,null,{"$f":"IFERROR(VLOOKUP($B25,'[1]Num 4B'!$G$3:$I$164,2,FALSE),0)","v":31},null,{"$f":"IFERROR(VLOOKUP($B25,'[1]Den 4B'!$G$3:$I$165,2,FALSE),0)","v":133}]
["TOTAL LA SERENA",null,{"$f":"D26/Metas!L5","v":{"v":0.432552057137109,"d":"43.26%"}},{"$f":"E26/G26","v":{"v":0.2595312342822654,"d":"25.95%"}},{"$f":"SUM(E12:E25)","v":{"v":2580,"d":"2,580"}},{"$f":"SUM(F12:F25)","v":0},{"$f":"SUM(G12:G25)","v":{"v":9941,"d":"9,941"}},{"$f":"SUM(H12:H25)","v":0}]
["04102-COQUIMBO","105303-CES. SAN JUAN",null,null,{"$f":"IFERROR(VLOOKUP($B27,'[1]Num 4B'!$G$3:$I$164,2,FALSE),0)","v":776},null,{"$f":"IFERROR(VLOOKUP($B27,'[1]Den 4B'!$G$3:$I$165,2,FALSE),0)","v":{"v":1584,"d":"1,584"}}]
["04102-COQUIMBO","105304-CES. SANTA CECILIA",null,null,{"$f":"IFERROR(VLOOKUP($B28,'[1]Num 4B'!$G$3:$I$164,2,FALSE),0)","v":557},null,{"$f":"IFERROR(VLOOKUP($B28,'[1]Den 4B'!$G$3:$I$165,2,FALSE),0)","v":{"v":1403,"d":"1,403"}}]
["04102-COQUIMBO","105305-CES. TIERRAS BLANCAS",null,null,{"$f":"IFERROR(VLOOKUP($B29,'[1]Num 4B'!$G$3:$I$164,2,FALSE),0)","v":{"v":1555,"d":"1,555"}},null,{"$f":"IFERROR(VLOOKUP($B29,'[1]Den 4B'!$G$3:$I$165,2,FALSE),0)","v":{"v":1909,"d":"1,909"}}]
["04102-COQUIMBO","105321-CES. RURAL  TONGOY",null,null,{"$f":"IFERROR(VLOOKUP($B30,'[1]Num 4B'!$G$3:$I$164,2,FALSE),0)","v":170},null,{"$f":"IFERROR(VLOOKUP($B30,'[1]Den 4B'!$G$3:$I$165,2,FALSE),0)","v":454}]
["04102-COQUIMBO","105323-CES. DR. SERGIO AGUILAR",null,null,{"$f":"IFERROR(VLOOKUP($B31,'[1]Num 4B'!$G$3:$I$164,2,FALSE),0)","v":529},null,{"$f":"IFERROR(VLOOKUP($B31,'[1]Den 4B'!$G$3:$I$165,2,FALSE),0)","v":{"v":1894,"d":"1,894"}}]
["04102-COQUIMBO","105404-P.S.R. EL TANGUE                         ",null,null,{"$f":"IFERROR(VLOOKUP($B32,'[1]Num 4B'!$G$3:$I$164,2,FALSE),0)","v":4},null,{"$f":"IFERROR(VLOOKUP($B32,'[1]Den 4B'!$G$3:$I$165,2,FALSE),0)","v":16}]
["04102-COQUIMBO","105405-P.S.R. GUANAQUEROS",null,null,{"$f":"IFERROR(VLOOKUP($B33,'[1]Num 4B'!$G$3:$I$164,2,FALSE),0)","v":80},null,{"$f":"IFERROR(VLOOKUP($B33,'[1]Den 4B'!$G$3:$I$165,2,FALSE),0)","v":155}]
["04102-COQUIMBO","105407-P.S.R. TAMBILLOS",null,null,{"$f":"IFERROR(VLOOKUP($B34,'[1]Num 4B'!$G$3:$I$164,2,FALSE),0)","v":14},null,{"$f":"IFERROR(VLOOKUP($B34,'[1]Den 4B'!$G$3:$I$165,2,FALSE),0)","v":51}]
["04102-COQUIMBO","200273-CECOF PUNTA MIRA",null,null,{"$f":"IFERROR(VLOOKUP($B35,'[1]Num 4B'!$G$3:$I$164,2,FALSE),0)","v":113},null,{"$f":"IFERROR(VLOOKUP($B35,'[1]Den 4B'!$G$3:$I$165,2,FALSE),0)","v":136}]
["04102-COQUIMBO","200494-CESFAM EL SAUCE",null,null,{"$f":"IFERROR(VLOOKUP($B36,'[1]Num 4B'!$G$3:$I$164,2,FALSE),0)","v":458},null,{"$f":"IFERROR(VLOOKUP($B36,'[1]Den 4B'!$G$3:$I$165,2,FALSE),0)","v":940}]
["04102-COQUIMBO","200607-CESFAM LILA CORTES",null,null,{"$f":"IFERROR(VLOOKUP($B37,'[1]Num 4B'!$G$3:$I$164,2,FALSE),0)","v":541},null,{"$f":"IFERROR(VLOOKUP($B37,'[1]Den 4B'!$G$3:$I$165,2,FALSE),0)","v":856}]
["04102-COQUIMBO","200499-CESFAM PAN DE AZÚCAR",null,null,{"$f":"IFERROR(VLOOKUP($B38,'[1]Num 4B'!$G$3:$I$164,2,FALSE),0)","v":470},null,{"$f":"IFERROR(VLOOKUP($B38,'[1]Den 4B'!$G$3:$I$165,2,FALSE),0)","v":940}]
["TOTAL COQUIMBO",null,{"$f":"D39/Metas!L6","v":{"v":0.8491326497710711,"d":"84.91%"}},{"$f":"E39/G39","v":{"v":0.5094795898626426,"d":"50.95%"}},{"$f":"SUM(E27:E38)","v":{"v":5267,"d":"5,267"}},{"$f":"SUM(F27:F38)","v":0},{"$f":"SUM(G27:G38)","v":{"v":10338,"d":"10,338"}},{"$f":"SUM(H27:H38)","v":0}]
["04104-LA HIGUERA","105314-CES. LA HIGUERA",null,null,{"$f":"IFERROR(VLOOKUP($B40,'[1]Num 4B'!$G$3:$I$164,2,FALSE),0)","v":64},null,{"$f":"IFERROR(VLOOKUP($B40,'[1]Den 4B'!$G$3:$I$165,2,FALSE),0)","v":104}]
["04104-LA HIGUERA","105500-P.S.R. CALETA HORNOS        ",null,null,{"$f":"IFERROR(VLOOKUP($B41,'[1]Num 4B'!$G$3:$I$164,2,FALSE),0)","v":21},null,{"$f":"IFERROR(VLOOKUP($B41,'[1]Den 4B'!$G$3:$I$165,2,FALSE),0)","v":42}]
["04104-LA HIGUERA","105505-P.S.R. LOS CHOROS",null,null,{"$f":"IFERROR(VLOOKUP($B42,'[1]Num 4B'!$G$3:$I$164,2,FALSE),0)","v":22},null,{"$f":"IFERROR(VLOOKUP($B42,'[1]Den 4B'!$G$3:$I$165,2,FALSE),0)","v":45}]
["04104-LA HIGUERA","105506-P.S.R. EL TRAPICHE",null,null,{"$f":"IFERROR(VLOOKUP($B43,'[1]Num 4B'!$G$3:$I$164,2,FALSE),0)","v":17},null,{"$f":"IFERROR(VLOOKUP($B43,'[1]Den 4B'!$G$3:$I$165,2,FALSE),0)","v":26}]
["TOTAL LA HIGUERA",null,{"$f":"D44/Metas!L7","v":{"v":0.9523809523809523,"d":"95.24%"}},{"$f":"E44/G44","v":{"v":0.5714285714285714,"d":"57.14%"}},{"$f":"SUM(E40:E43)","v":124},{"$f":"SUM(F40:F43)","v":0},{"$f":"SUM(G40:G43)","v":217},{"$f":"SUM(H40:H43)","v":0}]
["04105-PAIHUANO","105306-CES. PAIHUANO",null,null,{"$f":"IFERROR(VLOOKUP($B45,'[1]Num 4B'!$G$3:$I$164,2,FALSE),0)","v":116},null,{"$f":"IFERROR(VLOOKUP($B45,'[1]Den 4B'!$G$3:$I$165,2,FALSE),0)","v":159}]
["04105-PAIHUANO","105475-P.S.R. HORCON",null,null,{"$f":"IFERROR(VLOOKUP($B46,'[1]Num 4B'!$G$3:$I$164,2,FALSE),0)","v":45},null,{"$f":"IFERROR(VLOOKUP($B46,'[1]Den 4B'!$G$3:$I$165,2,FALSE),0)","v":61}]
["04105-PAIHUANO","105476-P.S.R. MONTE GRANDE",null,null,{"$f":"IFERROR(VLOOKUP($B47,'[1]Num 4B'!$G$3:$I$164,2,FALSE),0)","v":21},null,{"$f":"IFERROR(VLOOKUP($B47,'[1]Den 4B'!$G$3:$I$165,2,FALSE),0)","v":24}]
["04105-PAIHUANO","105477-P.S.R. PISCO ELQUI",null,null,{"$f":"IFERROR(VLOOKUP($B48,'[1]Num 4B'!$G$3:$I$164,2,FALSE),0)","v":65},null,{"$f":"IFERROR(VLOOKUP($B48,'[1]Den 4B'!$G$3:$I$165,2,FALSE),0)","v":81}]
["TOTAL PAIHUANO",null,{"$f":"D49/Metas!L8","v":{"v":1.2666666666666668,"d":"126.67%"}},{"$f":"E49/G49","v":{"v":0.76,"d":"76.00%"}},{"$f":"SUM(E45:E48)","v":247},{"$f":"SUM(F45:F48)","v":0},{"$f":"SUM(G45:G48)","v":325},{"$f":"SUM(H45:H48)","v":0}]
["04106-VICUÑA","105467-P.S.R. DIAGUITAS",null,null,{"$f":"IFERROR(VLOOKUP($B50,'[1]Num 4B'!$G$3:$I$164,2,FALSE),0)","v":44},null,{"$f":"IFERROR(VLOOKUP($B50,'[1]Den 4B'!$G$3:$I$165,2,FALSE),0)","v":109}]
["04106-VICUÑA","105468-P.S.R. EL MOLLE",null,null,{"$f":"IFERROR(VLOOKUP($B51,'[1]Num 4B'!$G$3:$I$164,2,FALSE),0)","v":32},null,{"$f":"IFERROR(VLOOKUP($B51,'[1]Den 4B'!$G$3:$I$165,2,FALSE),0)","v":60}]
["04106-VICUÑA","105469-P.S.R. EL TAMBO",null,null,{"$f":"IFERROR(VLOOKUP($B52,'[1]Num 4B'!$G$3:$I$164,2,FALSE),0)","v":34},null,{"$f":"IFERROR(VLOOKUP($B52,'[1]Den 4B'!$G$3:$I$165,2,FALSE),0)","v":68}]
["04106-VICUÑA","105470-P.S.R. HUANTA",null,null,{"$f":"IFERROR(VLOOKUP($B53,'[1]Num 4B'!$G$3:$I$164,2,FALSE),0)","v":11},null,{"$f":"IFERROR(VLOOKUP($B53,'[1]Den 4B'!$G$3:$I$165,2,FALSE),0)","v":15}]
["04106-VICUÑA","105471-P.S.R. PERALILLO",null,null,{"$f":"IFERROR(VLOOKUP($B54,'[1]Num 4B'!$G$3:$I$164,2,FALSE),0)","v":79},null,{"$f":"IFERROR(VLOOKUP($B54,'[1]Den 4B'!$G$3:$I$165,2,FALSE),0)","v":143}]
["04106-VICUÑA","105472-P.S.R. RIVADAVIA",null,null,{"$f":"IFERROR(VLOOKUP($B55,'[1]Num 4B'!$G$3:$I$164,2,FALSE),0)","v":33},null,{"$f":"IFERROR(VLOOKUP($B55,'[1]Den 4B'!$G$3:$I$165,2,FALSE),0)","v":68}]
["04106-VICUÑA","105473-P.S.R. TALCUNA",null,null,{"$f":"IFERROR(VLOOKUP($B56,'[1]Num 4B'!$G$3:$I$164,2,FALSE),0)","v":29},null,{"$f":"IFERROR(VLOOKUP($B56,'[1]Den 4B'!$G$3:$I$165,2,FALSE),0)","v":50}]
["04106-VICUÑA","105474-P.S.R. CHAPILCA",null,null,{"$f":"IFERROR(VLOOKUP($B57,'[1]Num 4B'!$G$3:$I$164,2,FALSE),0)","v":19},null,{"$f":"IFERROR(VLOOKUP($B57,'[1]Den 4B'!$G$3:$I$165,2,FALSE),0)","v":29}]
["04106-VICUÑA","105509-P.S.R. GUALLIGUAICA",null,null,{"$f":"IFERROR(VLOOKUP($B58,'[1]Num 4B'!$G$3:$I$164,2,FALSE),0)","v":17},null,{"$f":"IFERROR(VLOOKUP($B58,'[1]Den 4B'!$G$3:$I$165,2,FALSE),0)","v":25}]
["04106-VICUÑA","200538-CESFAM SAN ISIDRO CALINGASTA",null,null,{"$f":"IFERROR(VLOOKUP($B59,'[1]Num 4B'!$G$3:$I$164,2,FALSE),0)","v":130},null,{"$f":"IFERROR(VLOOKUP($B59,'[1]Den 4B'!$G$3:$I$165,2,FALSE),0)","v":234}]
["TOTAL VICUÑA",null,{"$f":"D60/Metas!L9","v":{"v":0.8905534748231377,"d":"89.06%"}},{"$f":"E60/G60","v":{"v":0.5343320848938826,"d":"53.43%"}},{"$f":"SUM(E50:E59)","v":428},{"$f":"SUM(F50:F59)","v":0},{"$f":"SUM(G50:G59)","v":801},{"$f":"SUM(H50:H59)","v":0}]
["04201-ILLAPEL","105326-CESFAM SAN RAFAEL",null,null,{"$f":"IFERROR(VLOOKUP($B61,'[1]Num 4B'!$G$3:$I$164,2,FALSE),0)","v":241},null,{"$f":"IFERROR(VLOOKUP($B61,'[1]Den 4B'!$G$3:$I$165,2,FALSE),0)","v":377}]
["04201-ILLAPEL","105443-P.S.R. CARCAMO                   ",null,null,{"$f":"IFERROR(VLOOKUP($B62,'[1]Num 4B'!$G$3:$I$164,2,FALSE),0)","v":42},null,{"$f":"IFERROR(VLOOKUP($B62,'[1]Den 4B'!$G$3:$I$165,2,FALSE),0)","v":68}]
["04201-ILLAPEL","105444-P.S.R. HUINTIL",null,null,{"$f":"IFERROR(VLOOKUP($B63,'[1]Num 4B'!$G$3:$I$164,2,FALSE),0)","v":24},null,{"$f":"IFERROR(VLOOKUP($B63,'[1]Den 4B'!$G$3:$I$165,2,FALSE),0)","v":36}]
["04201-ILLAPEL","105445-P.S.R. LIMAHUIDA",null,null,{"$f":"IFERROR(VLOOKUP($B64,'[1]Num 4B'!$G$3:$I$164,2,FALSE),0)","v":13},null,{"$f":"IFERROR(VLOOKUP($B64,'[1]Den 4B'!$G$3:$I$165,2,FALSE),0)","v":34}]
["04201-ILLAPEL","105446-P.S.R. MATANCILLA",null,null,{"$f":"IFERROR(VLOOKUP($B65,'[1]Num 4B'!$G$3:$I$164,2,FALSE),0)","v":3},null,{"$f":"IFERROR(VLOOKUP($B65,'[1]Den 4B'!$G$3:$I$165,2,FALSE),0)","v":6}]
["04201-ILLAPEL","105447-P.S.R. PERALILLO",null,null,{"$f":"IFERROR(VLOOKUP($B66,'[1]Num 4B'!$G$3:$I$164,2,FALSE),0)","v":14},null,{"$f":"IFERROR(VLOOKUP($B66,'[1]Den 4B'!$G$3:$I$165,2,FALSE),0)","v":51}]
["04201-ILLAPEL","105448-P.S.R. SANTA VIRGINIA",null,null,{"$f":"IFERROR(VLOOKUP($B67,'[1]Num 4B'!$G$3:$I$164,2,FALSE),0)","v":12},null,{"$f":"IFERROR(VLOOKUP($B67,'[1]Den 4B'!$G$3:$I$165,2,FALSE),0)","v":45}]
["04201-ILLAPEL","105449-P.S.R. TUNGA NORTE",null,null,{"$f":"IFERROR(VLOOKUP($B68,'[1]Num 4B'!$G$3:$I$164,2,FALSE),0)","v":9},null,{"$f":"IFERROR(VLOOKUP($B68,'[1]Den 4B'!$G$3:$I$165,2,FALSE),0)","v":11}]
["04201-ILLAPEL","105485-P.S.R. PLAN DE HORNOS",null,null,{"$f":"IFERROR(VLOOKUP($B69,'[1]Num 4B'!$G$3:$I$164,2,FALSE),0)","v":24},null,{"$f":"IFERROR(VLOOKUP($B69,'[1]Den 4B'!$G$3:$I$165,2,FALSE),0)","v":50}]
["04201-ILLAPEL","105486-P.S.R. TUNGA SUR",null,null,{"$f":"IFERROR(VLOOKUP($B70,'[1]Num 4B'!$G$3:$I$164,2,FALSE),0)","v":16},null,{"$f":"IFERROR(VLOOKUP($B70,'[1]Den 4B'!$G$3:$I$165,2,FALSE),0)","v":24}]
["04201-ILLAPEL","105487-P.S.R. CAÑAS UNO",null,null,{"$f":"IFERROR(VLOOKUP($B71,'[1]Num 4B'!$G$3:$I$164,2,FALSE),0)","v":65},null,{"$f":"IFERROR(VLOOKUP($B71,'[1]Den 4B'!$G$3:$I$165,2,FALSE),0)","v":128}]
["04201-ILLAPEL","105496-P.S.R. PINTACURA SUR",null,null,{"$f":"IFERROR(VLOOKUP($B72,'[1]Num 4B'!$G$3:$I$164,2,FALSE),0)","v":13},null,{"$f":"IFERROR(VLOOKUP($B72,'[1]Den 4B'!$G$3:$I$165,2,FALSE),0)","v":27}]
["04201-ILLAPEL","105504-P.S.R. SOCAVON",null,null,{"$f":"IFERROR(VLOOKUP($B73,'[1]Num 4B'!$G$3:$I$164,2,FALSE),0)","v":12},null,{"$f":"IFERROR(VLOOKUP($B73,'[1]Den 4B'!$G$3:$I$165,2,FALSE),0)","v":28}]
["04201-ILLAPEL","200366-CESFAM URBANO II",null,null,{"$f":"IFERROR(VLOOKUP($B74,'[1]Num 4B'!$G$3:$I$164,2,FALSE),0)","v":689},null,{"$f":"IFERROR(VLOOKUP($B74,'[1]Den 4B'!$G$3:$I$165,2,FALSE),0)","v":{"v":1053,"d":"1,053"}}]
["TOTAL ILLAPEL",null,{"$f":"D75/Metas!L10","v":{"v":1.0122119023047815,"d":"101.22%"}},{"$f":"E75/G75","v":{"v":0.6073271413828689,"d":"60.73%"}},{"$f":"SUM(E61:E74)","v":{"v":1177,"d":"1,177"}},{"$f":"SUM(F61:F74)","v":0},{"$f":"SUM(G61:G74)","v":{"v":1938,"d":"1,938"}},{"$f":"SUM(H61:H74)","v":0}]
["04202-CANELA","105309-CES. RURAL CANELA",null,null,{"$f":"IFERROR(VLOOKUP($B76,'[1]Num 4B'!$G$3:$I$164,2,FALSE),0)","v":212},null,{"$f":"IFERROR(VLOOKUP($B76,'[1]Den 4B'!$G$3:$I$165,2,FALSE),0)","v":285}]
["04202-CANELA","105450-P.S.R. MINCHA NORTE            ",null,null,{"$f":"IFERROR(VLOOKUP($B77,'[1]Num 4B'!$G$3:$I$164,2,FALSE),0)","v":78},null,{"$f":"IFERROR(VLOOKUP($B77,'[1]Den 4B'!$G$3:$I$165,2,FALSE),0)","v":95}]
["04202-CANELA","105451-P.S.R. AGUA FRIA",null,null,{"$f":"IFERROR(VLOOKUP($B78,'[1]Num 4B'!$G$3:$I$164,2,FALSE),0)","v":17},null,{"$f":"IFERROR(VLOOKUP($B78,'[1]Den 4B'!$G$3:$I$165,2,FALSE),0)","v":21}]
["04202-CANELA","105482-P.S.R. CANELA ALTA",null,null,{"$f":"IFERROR(VLOOKUP($B79,'[1]Num 4B'!$G$3:$I$164,2,FALSE),0)","v":41},null,{"$f":"IFERROR(VLOOKUP($B79,'[1]Den 4B'!$G$3:$I$165,2,FALSE),0)","v":53}]
["04202-CANELA","105483-P.S.R. LOS RULOS",null,null,{"$f":"IFERROR(VLOOKUP($B80,'[1]Num 4B'!$G$3:$I$164,2,FALSE),0)","v":8},null,{"$f":"IFERROR(VLOOKUP($B80,'[1]Den 4B'!$G$3:$I$165,2,FALSE),0)","v":8}]
["04202-CANELA","105484-P.S.R. HUENTELAUQUEN",null,null,{"$f":"IFERROR(VLOOKUP($B81,'[1]Num 4B'!$G$3:$I$164,2,FALSE),0)","v":44},null,{"$f":"IFERROR(VLOOKUP($B81,'[1]Den 4B'!$G$3:$I$165,2,FALSE),0)","v":47}]
["04202-CANELA","105488-P.S.R. ESPIRITU SANTO",null,null,{"$f":"IFERROR(VLOOKUP($B82,'[1]Num 4B'!$G$3:$I$164,2,FALSE),0)","v":4},null,{"$f":"IFERROR(VLOOKUP($B82,'[1]Den 4B'!$G$3:$I$165,2,FALSE),0)","v":6}]
["04202-CANELA","105493-P.S.R. MINCHA SUR",null,null,{"$f":"IFERROR(VLOOKUP($B83,'[1]Num 4B'!$G$3:$I$164,2,FALSE),0)","v":5},null,{"$f":"IFERROR(VLOOKUP($B83,'[1]Den 4B'!$G$3:$I$165,2,FALSE),0)","v":6}]
["04202-CANELA","105497-P.S.R. JABONERIA",null,null,{"$f":"IFERROR(VLOOKUP($B84,'[1]Num 4B'!$G$3:$I$164,2,FALSE),0)","v":8},null,{"$f":"IFERROR(VLOOKUP($B84,'[1]Den 4B'!$G$3:$I$165,2,FALSE),0)","v":10}]
["04202-CANELA","105498-P.S.R. QUEBRADA DE LINARES",null,null,{"$f":"IFERROR(VLOOKUP($B85,'[1]Num 4B'!$G$3:$I$164,2,FALSE),0)","v":1},null,{"$f":"IFERROR(VLOOKUP($B85,'[1]Den 4B'!$G$3:$I$165,2,FALSE),0)","v":1}]
["TOTAL CANELA",null,{"$f":"D86/Metas!L11","v":{"v":1.3095238095238095,"d":"130.95%"}},{"$f":"E86/G86","v":{"v":0.7857142857142857,"d":"78.57%"}},{"$f":"SUM(E76:E85)","v":418},{"$f":"SUM(F76:F85)","v":0},{"$f":"SUM(G76:G85)","v":532},{"$f":"SUM(H76:H85)","v":0}]
["04203-LOS VILOS","105478-P.S.R. CAIMANES                   ",null,null,{"$f":"IFERROR(VLOOKUP($B87,'[1]Num 4B'!$G$3:$I$164,2,FALSE),0)","v":62},null,{"$f":"IFERROR(VLOOKUP($B87,'[1]Den 4B'!$G$3:$I$165,2,FALSE),0)","v":83}]
["04203-LOS VILOS","105479-P.S.R. GUANGUALI",null,null,{"$f":"IFERROR(VLOOKUP($B88,'[1]Num 4B'!$G$3:$I$164,2,FALSE),0)","v":22},null,{"$f":"IFERROR(VLOOKUP($B88,'[1]Den 4B'!$G$3:$I$165,2,FALSE),0)","v":43}]
["04203-LOS VILOS","105480-P.S.R. QUILIMARI",null,null,{"$f":"IFERROR(VLOOKUP($B89,'[1]Num 4B'!$G$3:$I$164,2,FALSE),0)","v":168},null,{"$f":"IFERROR(VLOOKUP($B89,'[1]Den 4B'!$G$3:$I$165,2,FALSE),0)","v":246}]
["04203-LOS VILOS","105481-P.S.R. TILAMA",null,null,{"$f":"IFERROR(VLOOKUP($B90,'[1]Num 4B'!$G$3:$I$164,2,FALSE),0)","v":10},null,{"$f":"IFERROR(VLOOKUP($B90,'[1]Den 4B'!$G$3:$I$165,2,FALSE),0)","v":15}]
["04203-LOS VILOS","105511-P.S.R. LOS CONDORES",null,null,{"$f":"IFERROR(VLOOKUP($B91,'[1]Num 4B'!$G$3:$I$164,2,FALSE),0)","v":21},null,{"$f":"IFERROR(VLOOKUP($B91,'[1]Den 4B'!$G$3:$I$165,2,FALSE),0)","v":36}]
["TOTAL LOS VILOS",null,{"$f":"D92/Metas!L12","v":{"v":1.1150512214342,"d":"111.51%"}},{"$f":"E92/G92","v":{"v":0.6690307328605201,"d":"66.90%"}},{"$f":"SUM(E87:E91)","v":283},{"$f":"SUM(F87:F91)","v":0},{"$f":"SUM(G87:G91)","v":423},{"$f":"SUM(H87:H91)","v":0}]
["04204-SALAMANCA","105452-P.S.R. CUNCUMEN                 ",null,null,{"$f":"IFERROR(VLOOKUP($B93,'[1]Num 4B'!$G$3:$I$164,2,FALSE),0)","v":51},null,{"$f":"IFERROR(VLOOKUP($B93,'[1]Den 4B'!$G$3:$I$165,2,FALSE),0)","v":51}]
["04204-SALAMANCA","105453-P.S.R. TRANQUILLA",null,null,{"$f":"IFERROR(VLOOKUP($B94,'[1]Num 4B'!$G$3:$I$164,2,FALSE),0)","v":138},null,{"$f":"IFERROR(VLOOKUP($B94,'[1]Den 4B'!$G$3:$I$165,2,FALSE),0)","v":149}]
["04204-SALAMANCA","105454-P.S.R. CUNLAGUA",null,null,{"$f":"IFERROR(VLOOKUP($B95,'[1]Num 4B'!$G$3:$I$164,2,FALSE),0)","v":19},null,{"$f":"IFERROR(VLOOKUP($B95,'[1]Den 4B'!$G$3:$I$165,2,FALSE),0)","v":20}]
["04204-SALAMANCA","105455-P.S.R. CHILLEPIN",null,null,{"$f":"IFERROR(VLOOKUP($B96,'[1]Num 4B'!$G$3:$I$164,2,FALSE),0)","v":2},null,{"$f":"IFERROR(VLOOKUP($B96,'[1]Den 4B'!$G$3:$I$165,2,FALSE),0)","v":100}]
["04204-SALAMANCA","105456-P.S.R. LLIMPO",null,null,{"$f":"IFERROR(VLOOKUP($B97,'[1]Num 4B'!$G$3:$I$164,2,FALSE),0)","v":42},null,{"$f":"IFERROR(VLOOKUP($B97,'[1]Den 4B'!$G$3:$I$165,2,FALSE),0)","v":69}]
["04204-SALAMANCA","105457-P.S.R. SAN AGUSTIN",null,null,{"$f":"IFERROR(VLOOKUP($B98,'[1]Num 4B'!$G$3:$I$164,2,FALSE),0)","v":38},null,{"$f":"IFERROR(VLOOKUP($B98,'[1]Den 4B'!$G$3:$I$165,2,FALSE),0)","v":40}]
["04204-SALAMANCA","105458-P.S.R. TAHUINCO",null,null,{"$f":"IFERROR(VLOOKUP($B99,'[1]Num 4B'!$G$3:$I$164,2,FALSE),0)","v":130},null,{"$f":"IFERROR(VLOOKUP($B99,'[1]Den 4B'!$G$3:$I$165,2,FALSE),0)","v":210}]
["04204-SALAMANCA","105491-P.S.R. QUELEN BAJO",null,null,{"$f":"IFERROR(VLOOKUP($B100,'[1]Num 4B'!$G$3:$I$164,2,FALSE),0)","v":168},null,{"$f":"IFERROR(VLOOKUP($B100,'[1]Den 4B'!$G$3:$I$165,2,FALSE),0)","v":197}]
["04204-SALAMANCA","105492-P.S.R. CAMISA",null,null,{"$f":"IFERROR(VLOOKUP($B101,'[1]Num 4B'!$G$3:$I$164,2,FALSE),0)","v":28},null,{"$f":"IFERROR(VLOOKUP($B101,'[1]Den 4B'!$G$3:$I$165,2,FALSE),0)","v":33}]
["04204-SALAMANCA","105501-P.S.R. ARBOLEDA GRANDE",null,null,{"$f":"IFERROR(VLOOKUP($B102,'[1]Num 4B'!$G$3:$I$164,2,FALSE),0)","v":89},null,{"$f":"IFERROR(VLOOKUP($B102,'[1]Den 4B'!$G$3:$I$165,2,FALSE),0)","v":115}]
["TOTAL SALAMANCA",null,{"$f":"D103/Metas!L13","v":{"v":1.1941056910569106,"d":"119.41%"}},{"$f":"E103/G103","v":{"v":0.7164634146341463,"d":"71.65%"}},{"$f":"SUM(E93:E102)","v":705},{"$f":"SUM(F93:F102)","v":0},{"$f":"SUM(G93:G102)","v":984},{"$f":"SUM(H93:H102)","v":0}]
["04301-OVALLE","105315-CES. RURAL C. DE TAMAYA",null,null,{"$f":"IFERROR(VLOOKUP($B104,'[1]Num 4B'!$G$3:$I$164,2,FALSE),0)","v":264},null,{"$f":"IFERROR(VLOOKUP($B104,'[1]Den 4B'!$G$3:$I$165,2,FALSE),0)","v":394}]
["04301-OVALLE","105317-CES. JORGE JORDAN D.",null,null,{"$f":"IFERROR(VLOOKUP($B105,'[1]Num 4B'!$G$3:$I$164,2,FALSE),0)","v":455},null,{"$f":"IFERROR(VLOOKUP($B105,'[1]Den 4B'!$G$3:$I$165,2,FALSE),0)","v":{"v":1051,"d":"1,051"}}]
["04301-OVALLE","105322-CES. MARCOS MACUADA",null,null,{"$f":"IFERROR(VLOOKUP($B106,'[1]Num 4B'!$G$3:$I$164,2,FALSE),0)","v":{"v":1026,"d":"1,026"}},null,{"$f":"IFERROR(VLOOKUP($B106,'[1]Den 4B'!$G$3:$I$165,2,FALSE),0)","v":{"v":1782,"d":"1,782"}}]
["04301-OVALLE","105324-CES. SOTAQUI",null,null,{"$f":"IFERROR(VLOOKUP($B107,'[1]Num 4B'!$G$3:$I$164,2,FALSE),0)","v":271},null,{"$f":"IFERROR(VLOOKUP($B107,'[1]Den 4B'!$G$3:$I$165,2,FALSE),0)","v":379}]
["04301-OVALLE","105415-P.S.R. BARRAZA",null,null,{"$f":"IFERROR(VLOOKUP($B108,'[1]Num 4B'!$G$3:$I$164,2,FALSE),0)","v":103},null,{"$f":"IFERROR(VLOOKUP($B108,'[1]Den 4B'!$G$3:$I$165,2,FALSE),0)","v":104}]
["04301-OVALLE","105416-P.S.R. CAMARICO                  ",null,null,{"$f":"IFERROR(VLOOKUP($B109,'[1]Num 4B'!$G$3:$I$164,2,FALSE),0)","v":52},null,{"$f":"IFERROR(VLOOKUP($B109,'[1]Den 4B'!$G$3:$I$165,2,FALSE),0)","v":88}]
["04301-OVALLE","105417-P.S.R. ALCONES BAJOS",null,null,{"$f":"IFERROR(VLOOKUP($B110,'[1]Num 4B'!$G$3:$I$164,2,FALSE),0)","v":15},null,{"$f":"IFERROR(VLOOKUP($B110,'[1]Den 4B'!$G$3:$I$165,2,FALSE),0)","v":27}]
["04301-OVALLE","105419-P.S.R. LAS SOSSAS",null,null,{"$f":"IFERROR(VLOOKUP($B111,'[1]Num 4B'!$G$3:$I$164,2,FALSE),0)","v":30},null,{"$f":"IFERROR(VLOOKUP($B111,'[1]Den 4B'!$G$3:$I$165,2,FALSE),0)","v":40}]
["04301-OVALLE","105422-P.S.R. HORNILLOS",null,null,{"$f":"IFERROR(VLOOKUP($B112,'[1]Num 4B'!$G$3:$I$164,2,FALSE),0)","v":13},null,{"$f":"IFERROR(VLOOKUP($B112,'[1]Den 4B'!$G$3:$I$165,2,FALSE),0)","v":21}]
["04301-OVALLE","105437-P.S.R. CHALINGA",null,null,{"$f":"IFERROR(VLOOKUP($B113,'[1]Num 4B'!$G$3:$I$164,2,FALSE),0)","v":39},null,{"$f":"IFERROR(VLOOKUP($B113,'[1]Den 4B'!$G$3:$I$165,2,FALSE),0)","v":55}]
["04301-OVALLE","105439-P.S.R. CERRO BLANCO",null,null,{"$f":"IFERROR(VLOOKUP($B114,'[1]Num 4B'!$G$3:$I$164,2,FALSE),0)","v":10},null,{"$f":"IFERROR(VLOOKUP($B114,'[1]Den 4B'!$G$3:$I$165,2,FALSE),0)","v":20}]
["04301-OVALLE","105507-P.S.R. HUAMALATA",null,null,{"$f":"IFERROR(VLOOKUP($B115,'[1]Num 4B'!$G$3:$I$164,2,FALSE),0)","v":37},null,{"$f":"IFERROR(VLOOKUP($B115,'[1]Den 4B'!$G$3:$I$165,2,FALSE),0)","v":100}]
["04301-OVALLE","105510-P.S.R. RECOLETA",null,null,{"$f":"IFERROR(VLOOKUP($B116,'[1]Num 4B'!$G$3:$I$164,2,FALSE),0)","v":65},null,{"$f":"IFERROR(VLOOKUP($B116,'[1]Den 4B'!$G$3:$I$165,2,FALSE),0)","v":89}]
["04301-OVALLE","105722-CECOF SAN JOSE DE LA DEHESA",null,null,{"$f":"IFERROR(VLOOKUP($B117,'[1]Num 4B'!$G$3:$I$164,2,FALSE),0)","v":122},null,{"$f":"IFERROR(VLOOKUP($B117,'[1]Den 4B'!$G$3:$I$165,2,FALSE),0)","v":271}]
["04301-OVALLE","105723-CECOF LIMARI",null,null,{"$f":"IFERROR(VLOOKUP($B118,'[1]Num 4B'!$G$3:$I$164,2,FALSE),0)","v":98},null,{"$f":"IFERROR(VLOOKUP($B118,'[1]Den 4B'!$G$3:$I$165,2,FALSE),0)","v":210}]
["04301-OVALLE","200258-CECOF LOS COPIHUES",null,null,{"$f":"IFERROR(VLOOKUP($B119,'[1]Num 4B'!$G$3:$I$164,2,FALSE),0)","v":54},null,{"$f":"IFERROR(VLOOKUP($B119,'[1]Den 4B'!$G$3:$I$165,2,FALSE),0)","v":132}]
["04301-OVALLE","200367-CECOF COLONIA LIMARÍ",null,null,{"$f":"IFERROR(VLOOKUP($B120,'[1]Num 4B'!$G$3:$I$164,2,FALSE),0)","v":127},null,{"$f":"IFERROR(VLOOKUP($B120,'[1]Den 4B'!$G$3:$I$165,2,FALSE),0)","v":203}]
["04301-OVALLE","200569-CESFAM FRAY JORGE",null,null,{"$f":"IFERROR(VLOOKUP($B121,'[1]Num 4B'!$G$3:$I$164,2,FALSE),0)","v":377},null,{"$f":"IFERROR(VLOOKUP($B121,'[1]Den 4B'!$G$3:$I$165,2,FALSE),0)","v":658}]
["TOTAL OVALLE",null,{"$f":"D122/Metas!L14","v":{"v":0.9358700806069228,"d":"93.59%"}},{"$f":"E122/G122","v":{"v":0.5615220483641536,"d":"56.15%"}},{"$f":"SUM(E104:E121)","v":{"v":3158,"d":"3,158"}},{"$f":"SUM(F104:F121)","v":0},{"$f":"SUM(G104:G121)","v":{"v":5624,"d":"5,624"}},{"$f":"SUM(H104:H121)","v":0}]
["04302-COMBARBALÁ","105433-P.S.R. SAN LORENZO",null,null,{"$f":"IFERROR(VLOOKUP($B123,'[1]Num 4B'!$G$3:$I$164,2,FALSE),0)","v":8},null,{"$f":"IFERROR(VLOOKUP($B123,'[1]Den 4B'!$G$3:$I$165,2,FALSE),0)","v":8}]
["04302-COMBARBALÁ","105434-P.S.R. SAN MARCOS",null,null,{"$f":"IFERROR(VLOOKUP($B124,'[1]Num 4B'!$G$3:$I$164,2,FALSE),0)","v":31},null,{"$f":"IFERROR(VLOOKUP($B124,'[1]Den 4B'!$G$3:$I$165,2,FALSE),0)","v":40}]
["04302-COMBARBALÁ","105441-P.S.R. MANQUEHUA",null,null,{"$f":"IFERROR(VLOOKUP($B125,'[1]Num 4B'!$G$3:$I$164,2,FALSE),0)","v":22},null,{"$f":"IFERROR(VLOOKUP($B125,'[1]Den 4B'!$G$3:$I$165,2,FALSE),0)","v":43}]
["04302-COMBARBALÁ","105459-P.S.R. BARRANCAS                ",null,null,{"$f":"IFERROR(VLOOKUP($B126,'[1]Num 4B'!$G$3:$I$164,2,FALSE),0)","v":32},null,{"$f":"IFERROR(VLOOKUP($B126,'[1]Den 4B'!$G$3:$I$165,2,FALSE),0)","v":35}]
["04302-COMBARBALÁ","105460-P.S.R. COGOTI 18",null,null,{"$f":"IFERROR(VLOOKUP($B127,'[1]Num 4B'!$G$3:$I$164,2,FALSE),0)","v":17},null,{"$f":"IFERROR(VLOOKUP($B127,'[1]Den 4B'!$G$3:$I$165,2,FALSE),0)","v":75}]
["04302-COMBARBALÁ","105461-P.S.R. EL HUACHO",null,null,{"$f":"IFERROR(VLOOKUP($B128,'[1]Num 4B'!$G$3:$I$164,2,FALSE),0)","v":5},null,{"$f":"IFERROR(VLOOKUP($B128,'[1]Den 4B'!$G$3:$I$165,2,FALSE),0)","v":20}]
["04302-COMBARBALÁ","105462-P.S.R. EL SAUCE",null,null,{"$f":"IFERROR(VLOOKUP($B129,'[1]Num 4B'!$G$3:$I$164,2,FALSE),0)","v":12},null,{"$f":"IFERROR(VLOOKUP($B129,'[1]Den 4B'!$G$3:$I$165,2,FALSE),0)","v":15}]
["04302-COMBARBALÁ","105463-P.S.R. QUILITAPIA",null,null,{"$f":"IFERROR(VLOOKUP($B130,'[1]Num 4B'!$G$3:$I$164,2,FALSE),0)","v":57},null,{"$f":"IFERROR(VLOOKUP($B130,'[1]Den 4B'!$G$3:$I$165,2,FALSE),0)","v":69}]
["04302-COMBARBALÁ","105464-P.S.R. LA LIGUA",null,null,{"$f":"IFERROR(VLOOKUP($B131,'[1]Num 4B'!$G$3:$I$164,2,FALSE),0)","v":15},null,{"$f":"IFERROR(VLOOKUP($B131,'[1]Den 4B'!$G$3:$I$165,2,FALSE),0)","v":28}]
["04302-COMBARBALÁ","105465-P.S.R. RAMADILLA",null,null,{"$f":"IFERROR(VLOOKUP($B132,'[1]Num 4B'!$G$3:$I$164,2,FALSE),0)","v":34},null,{"$f":"IFERROR(VLOOKUP($B132,'[1]Den 4B'!$G$3:$I$165,2,FALSE),0)","v":39}]
["04302-COMBARBALÁ","105466-P.S.R. VALLE HERMOSO",null,null,{"$f":"IFERROR(VLOOKUP($B133,'[1]Num 4B'!$G$3:$I$164,2,FALSE),0)","v":22},null,{"$f":"IFERROR(VLOOKUP($B133,'[1]Den 4B'!$G$3:$I$165,2,FALSE),0)","v":23}]
["04302-COMBARBALÁ","105490-P.S.R. EL DURAZNO",null,null,{"$f":"IFERROR(VLOOKUP($B134,'[1]Num 4B'!$G$3:$I$164,2,FALSE),0)","v":8},null,{"$f":"IFERROR(VLOOKUP($B134,'[1]Den 4B'!$G$3:$I$165,2,FALSE),0)","v":8}]
["TOTAL COMBARBALÁ",null,{"$f":"D135/Metas!L15","v":{"v":1.08767576509512,"d":"108.77%"}},{"$f":"E135/G135","v":{"v":0.652605459057072,"d":"65.26%"}},{"$f":"SUM(E123:E134)","v":263},{"$f":"SUM(F123:F134)","v":0},{"$f":"SUM(G123:G134)","v":403},{"$f":"SUM(H123:H134)","v":0}]
["04304-MONTE PATRIA","105307-CES. RURAL MONTE PATRIA",null,null,{"$f":"IFERROR(VLOOKUP($B136,'[1]Num 4B'!$G$3:$I$164,2,FALSE),0)","v":342},null,{"$f":"IFERROR(VLOOKUP($B136,'[1]Den 4B'!$G$3:$I$165,2,FALSE),0)","v":548}]
["04304-MONTE PATRIA","105311-CES. RURAL CHAÑARAL ALTO",null,null,{"$f":"IFERROR(VLOOKUP($B137,'[1]Num 4B'!$G$3:$I$164,2,FALSE),0)","v":195},null,{"$f":"IFERROR(VLOOKUP($B137,'[1]Den 4B'!$G$3:$I$165,2,FALSE),0)","v":261}]
["04304-MONTE PATRIA","105312-CES. RURAL CAREN",null,null,{"$f":"IFERROR(VLOOKUP($B138,'[1]Num 4B'!$G$3:$I$164,2,FALSE),0)","v":91},null,{"$f":"IFERROR(VLOOKUP($B138,'[1]Den 4B'!$G$3:$I$165,2,FALSE),0)","v":182}]
["04304-MONTE PATRIA","105318-CES. RURAL EL PALQUI",null,null,{"$f":"IFERROR(VLOOKUP($B139,'[1]Num 4B'!$G$3:$I$164,2,FALSE),0)","v":232},null,{"$f":"IFERROR(VLOOKUP($B139,'[1]Den 4B'!$G$3:$I$165,2,FALSE),0)","v":381}]
["04304-MONTE PATRIA","105425-P.S.R. CHILECITO",null,null,{"$f":"IFERROR(VLOOKUP($B140,'[1]Num 4B'!$G$3:$I$164,2,FALSE),0)","v":16},null,{"$f":"IFERROR(VLOOKUP($B140,'[1]Den 4B'!$G$3:$I$165,2,FALSE),0)","v":40}]
["04304-MONTE PATRIA","105427-P.S.R. HACIENDA VALDIVIA",null,null,{"$f":"IFERROR(VLOOKUP($B141,'[1]Num 4B'!$G$3:$I$164,2,FALSE),0)","v":18},null,{"$f":"IFERROR(VLOOKUP($B141,'[1]Den 4B'!$G$3:$I$165,2,FALSE),0)","v":33}]
["04304-MONTE PATRIA","105428-P.S.R. HUATULAME",null,null,{"$f":"IFERROR(VLOOKUP($B142,'[1]Num 4B'!$G$3:$I$164,2,FALSE),0)","v":67},null,{"$f":"IFERROR(VLOOKUP($B142,'[1]Den 4B'!$G$3:$I$165,2,FALSE),0)","v":70}]
["04304-MONTE PATRIA","105430-P.S.R. MIALQUI",null,null,{"$f":"IFERROR(VLOOKUP($B143,'[1]Num 4B'!$G$3:$I$164,2,FALSE),0)","v":22},null,{"$f":"IFERROR(VLOOKUP($B143,'[1]Den 4B'!$G$3:$I$165,2,FALSE),0)","v":42}]
["04304-MONTE PATRIA","105431-P.S.R. PEDREGAL",null,null,{"$f":"IFERROR(VLOOKUP($B144,'[1]Num 4B'!$G$3:$I$164,2,FALSE),0)","v":32},null,{"$f":"IFERROR(VLOOKUP($B144,'[1]Den 4B'!$G$3:$I$165,2,FALSE),0)","v":41}]
["04304-MONTE PATRIA","105432-P.S.R. RAPEL",null,null,{"$f":"IFERROR(VLOOKUP($B145,'[1]Num 4B'!$G$3:$I$164,2,FALSE),0)","v":30},null,{"$f":"IFERROR(VLOOKUP($B145,'[1]Den 4B'!$G$3:$I$165,2,FALSE),0)","v":60}]
["04304-MONTE PATRIA","105435-P.S.R. TULAHUEN",null,null,{"$f":"IFERROR(VLOOKUP($B146,'[1]Num 4B'!$G$3:$I$164,2,FALSE),0)","v":23},null,{"$f":"IFERROR(VLOOKUP($B146,'[1]Den 4B'!$G$3:$I$165,2,FALSE),0)","v":61}]
["04304-MONTE PATRIA","105436-P.S.R. EL MAITEN",null,null,{"$f":"IFERROR(VLOOKUP($B147,'[1]Num 4B'!$G$3:$I$164,2,FALSE),0)","v":7},null,{"$f":"IFERROR(VLOOKUP($B147,'[1]Den 4B'!$G$3:$I$165,2,FALSE),0)","v":25}]
["04304-MONTE PATRIA","105489-P.S.R. RAMADAS DE TULAHUEN",null,null,{"$f":"IFERROR(VLOOKUP($B148,'[1]Num 4B'!$G$3:$I$164,2,FALSE),0)","v":2},null,{"$f":"IFERROR(VLOOKUP($B148,'[1]Den 4B'!$G$3:$I$165,2,FALSE),0)","v":5}]
["TOTAL MONTE PATRIA",null,{"$f":"D149/Metas!L16","v":{"v":1.0263007432818754,"d":"102.63%"}},{"$f":"E149/G149","v":{"v":0.6157804459691252,"d":"61.58%"}},{"$f":"SUM(E136:E148)","v":{"v":1077,"d":"1,077"}},{"$f":"SUM(F136:F148)","v":0},{"$f":"SUM(G136:G148)","v":{"v":1749,"d":"1,749"}},{"$f":"SUM(H136:H148)","v":0}]
["04304-PUNITAQUI","105308-CES. RURAL PUNITAQUI",null,null,{"$f":"IFERROR(VLOOKUP($B150,'[1]Num 4B'!$G$3:$I$164,2,FALSE),0)","v":720},null,{"$f":"IFERROR(VLOOKUP($B150,'[1]Den 4B'!$G$3:$I$165,2,FALSE),0)","v":825}]
["04304-PUNITAQUI","105440-P.S.R. DIVISADERO",null,null,{"$f":"IFERROR(VLOOKUP($B151,'[1]Num 4B'!$G$3:$I$164,2,FALSE),0)","v":29},null,{"$f":"IFERROR(VLOOKUP($B151,'[1]Den 4B'!$G$3:$I$165,2,FALSE),0)","v":39}]
["04304-PUNITAQUI","105442-P.S.R. SAN PEDRO DE QUILES",null,null,{"$f":"IFERROR(VLOOKUP($B152,'[1]Num 4B'!$G$3:$I$164,2,FALSE),0)","v":3},null,{"$f":"IFERROR(VLOOKUP($B152,'[1]Den 4B'!$G$3:$I$165,2,FALSE),0)","v":7}]
["04304-PUNITAQUI","105508-P.S.R. EL PARRAL DE QUILES  ",null,null,{"$f":"IFERROR(VLOOKUP($B153,'[1]Num 4B'!$G$3:$I$164,2,FALSE),0)","v":16},null,{"$f":"IFERROR(VLOOKUP($B153,'[1]Den 4B'!$G$3:$I$165,2,FALSE),0)","v":27}]
["TOTAL PUNITAQUI",null,{"$f":"D154/Metas!L17","v":{"v":1.4253897550111359,"d":"142.54%"}},{"$f":"E154/G154","v":{"v":0.8552338530066815,"d":"85.52%"}},{"$f":"SUM(E150:E153)","v":768},{"$f":"SUM(F150:F153)","v":0},{"$f":"SUM(G150:G153)","v":898},{"$f":"SUM(H150:H153)","v":0}]
["04305-RIO HURTADO","105310-CES. RURAL PICHASCA",null,null,{"$f":"IFERROR(VLOOKUP($B155,'[1]Num 4B'!$G$3:$I$164,2,FALSE),0)","v":149},null,{"$f":"IFERROR(VLOOKUP($B155,'[1]Den 4B'!$G$3:$I$165,2,FALSE),0)","v":196}]
["04305-RIO HURTADO","105409-P.S.R. EL CHAÑAR",null,null,{"$f":"IFERROR(VLOOKUP($B156,'[1]Num 4B'!$G$3:$I$164,2,FALSE),0)","v":27},null,{"$f":"IFERROR(VLOOKUP($B156,'[1]Den 4B'!$G$3:$I$165,2,FALSE),0)","v":30}]
["04305-RIO HURTADO","105410-P.S.R. HURTADO",null,null,{"$f":"IFERROR(VLOOKUP($B157,'[1]Num 4B'!$G$3:$I$164,2,FALSE),0)","v":23},null,{"$f":"IFERROR(VLOOKUP($B157,'[1]Den 4B'!$G$3:$I$165,2,FALSE),0)","v":29}]
["04305-RIO HURTADO","105411-P.S.R. LAS BREAS",null,null,{"$f":"IFERROR(VLOOKUP($B158,'[1]Num 4B'!$G$3:$I$164,2,FALSE),0)","v":6},null,{"$f":"IFERROR(VLOOKUP($B158,'[1]Den 4B'!$G$3:$I$165,2,FALSE),0)","v":9}]
["04305-RIO HURTADO","105413-P.S.R. SAMO ALTO",null,null,{"$f":"IFERROR(VLOOKUP($B159,'[1]Num 4B'!$G$3:$I$164,2,FALSE),0)","v":61},null,{"$f":"IFERROR(VLOOKUP($B159,'[1]Den 4B'!$G$3:$I$165,2,FALSE),0)","v":61}]
["04305-RIO HURTADO","105414-P.S.R. SERON",null,null,{"$f":"IFERROR(VLOOKUP($B160,'[1]Num 4B'!$G$3:$I$164,2,FALSE),0)","v":42},null,{"$f":"IFERROR(VLOOKUP($B160,'[1]Den 4B'!$G$3:$I$165,2,FALSE),0)","v":48}]
["04305-RIO HURTADO","105503-P.S.R. TABAQUEROS",null,null,{"$f":"IFERROR(VLOOKUP($B161,'[1]Num 4B'!$G$3:$I$164,2,FALSE),0)","v":25},null,{"$f":"IFERROR(VLOOKUP($B161,'[1]Den 4B'!$G$3:$I$165,2,FALSE),0)","v":25}]
["TOTAL RIO HURTADO",null,{"$f":"D162/Metas!L18","v":{"v":1.3944723618090453,"d":"139.45%"}},{"$f":"E162/G162","v":{"v":0.8366834170854272,"d":"83.67%"}},{"$f":"SUM(E155:E161)","v":333},{"$f":"SUM(F155:F161)","v":0},{"$f":"SUM(G155:G161)","v":398},{"$f":"SUM(H155:H161)","v":0}]

{"sheet":"Meta 05","index":7,"n_rows":162,"n_cols":11,"rows_kept":162,"merged":[[0,0,9,0],[0,1,9,1],[0,2,10,2],[0,3,9,3],[0,4,0,10],[1,4,8,9],[1,10,8,10],[9,4,9,5],[9,6,9,7],[9,8,9,9],[9,10,10,10],[25,0,25,1],[38,0,38,1],[43,0,43,1],[48,0,48,1],[59,0,59,1],[74,0,74,1],[85,0,85,1],[91,0,91,1],[102,0,102,1],[121,0,121,1],[134,0,134,1],[148,0,148,1],[153,0,153,1],[161,0,161,1]]}
["COMUNA","ESTABLECIMIENTO","CUMPLIMIENTO","Indicador","META 5: COBERTURA EFECTIVA DE HIPERTENSIÓN ARTERIAL (HTA) EN PERSONAS DE 15 AÑOS Y MÁS"]
[{"$nulls":4},"NUMERADOR",{"$nulls":5},"DENOMINADOR"]
{"$rows_empty":7}
[{"$nulls":4},"Personas bajo control por hipertensión",null,"Nº de personas hipertensas de 15 a 79 años con PA< 140/90 mm Hg",null,"Nº de personas hipertensas de 80 y más años con PA< 150/90 mm Hg",null,"Total de personas hipertensas de 15 y más años estimadas según prevalencia"]
[{"$nulls":3},"Resultado","A JUNIO","A DICBRE","A JUNIO","A DICBRE","A JUNIO","A DICBRE"]
["04101-LA SERENA","105300-CES. CARDENAL CARO",null,null,{"$f":"G12+I12","v":{"v":2119,"d":"2,119"}},{"$f":"H12+J12","v":0},{"$f":"IFERROR(VLOOKUP($B12,'[1]Num 5'!$G$3:$I$164,2,FALSE),0)","v":{"v":1578,"d":"1,578"}},null,{"$f":"IFERROR(VLOOKUP($B12,'[1]Num 5'!$Q$3:$S$163,2,FALSE),0)","v":541}]
["04101-LA SERENA","105301-CES. LAS COMPAÑIAS",null,null,{"$f":"G13+I13","v":{"v":2080,"d":"2,080"}},{"$f":"H13+J13","v":0},{"$f":"IFERROR(VLOOKUP($B13,'[1]Num 5'!$G$3:$I$164,2,FALSE),0)","v":{"v":1705,"d":"1,705"}},null,{"$f":"IFERROR(VLOOKUP($B13,'[1]Num 5'!$Q$3:$S$163,2,FALSE),0)","v":375}]
["04101-LA SERENA","105302-CES. PEDRO AGUIRRE C.",null,null,{"v":1550,"d":"1,550"},0,{"$f":"IFERROR(VLOOKUP($B14,'[1]Num 5'!$G$3:$I$164,2,FALSE),0)","v":{"v":1205,"d":"1,205"}},null,{"$f":"IFERROR(VLOOKUP($B14,'[1]Num 5'!$Q$3:$S$163,2,FALSE),0)","v":345}]
["04101-LA SERENA","105313-CES. SCHAFFHAUSER",null,null,{"v":1637,"d":"1,637"},0,{"$f":"IFERROR(VLOOKUP($B15,'[1]Num 5'!$G$3:$I$164,2,FALSE),0)","v":{"v":1355,"d":"1,355"}},null,{"$f":"IFERROR(VLOOKUP($B15,'[1]Num 5'!$Q$3:$S$163,2,FALSE),0)","v":282}]
["04101-LA SERENA","105319-CES. CARDENAL R.S.H.",null,null,{"v":1032,"d":"1,032"},0,{"$f":"IFERROR(VLOOKUP($B16,'[1]Num 5'!$G$3:$I$164,2,FALSE),0)","v":982},null,{"$f":"IFERROR(VLOOKUP($B16,'[1]Num 5'!$Q$3:$S$163,2,FALSE),0)","v":50}]
["04101-LA SERENA","105325-CESFAM JUAN PABLO II",null,null,{"v":1105,"d":"1,105"},0,{"$f":"IFERROR(VLOOKUP($B17,'[1]Num 5'!$G$3:$I$164,2,FALSE),0)","v":986},null,{"$f":"IFERROR(VLOOKUP($B17,'[1]Num 5'!$Q$3:$S$163,2,FALSE),0)","v":119}]
["04101-LA SERENA","105400-P.S.R. ALGARROBITO            ",null,null,326,0,{"$f":"IFERROR(VLOOKUP($B18,'[1]Num 5'!$G$3:$I$164,2,FALSE),0)","v":281},null,{"$f":"IFERROR(VLOOKUP($B18,'[1]Num 5'!$Q$3:$S$163,2,FALSE),0)","v":45}]
["04101-LA SERENA","105401-P.S.R. LAS ROJAS",null,null,59,0,{"$f":"IFERROR(VLOOKUP($B19,'[1]Num 5'!$G$3:$I$164,2,FALSE),0)","v":51},null,{"$f":"IFERROR(VLOOKUP($B19,'[1]Num 5'!$Q$3:$S$163,2,FALSE),0)","v":8}]
["04101-LA SERENA","105402-P.S.R. EL ROMERO",null,null,63,0,{"$f":"IFERROR(VLOOKUP($B20,'[1]Num 5'!$G$3:$I$164,2,FALSE),0)","v":51},null,{"$f":"IFERROR(VLOOKUP($B20,'[1]Num 5'!$Q$3:$S$163,2,FALSE),0)","v":12}]
["04101-LA SERENA","105499-P.S.R. LAMBERT",null,null,45,0,{"$f":"IFERROR(VLOOKUP($B21,'[1]Num 5'!$G$3:$I$164,2,FALSE),0)","v":38},null,{"$f":"IFERROR(VLOOKUP($B21,'[1]Num 5'!$Q$3:$S$163,2,FALSE),0)","v":7}]
["04101-LA SERENA","105700-CECOF VILLA EL INDIO",null,null,350,0,{"$f":"IFERROR(VLOOKUP($B22,'[1]Num 5'!$G$3:$I$164,2,FALSE),0)","v":281},null,{"$f":"IFERROR(VLOOKUP($B22,'[1]Num 5'!$Q$3:$S$163,2,FALSE),0)","v":69}]
["04101-LA SERENA","105701-CECOF VILLA ALEMANIA",null,null,85,0,{"$f":"IFERROR(VLOOKUP($B23,'[1]Num 5'!$G$3:$I$164,2,FALSE),0)","v":85},null,{"$f":"IFERROR(VLOOKUP($B23,'[1]Num 5'!$Q$3:$S$163,2,FALSE),0)","v":0}]
["04101-LA SERENA","105702-CECOF VILLA LAMBERT",null,null,250,0,{"$f":"IFERROR(VLOOKUP($B24,'[1]Num 5'!$G$3:$I$164,2,FALSE),0)","v":225},null,{"$f":"IFERROR(VLOOKUP($B24,'[1]Num 5'!$Q$3:$S$163,2,FALSE),0)","v":25}]
["04101-LA SERENA","200402-CECOF ARCOS DE PINAMAR",null,null,167,0,{"$f":"IFERROR(VLOOKUP($B25,'[1]Num 5'!$G$3:$I$164,2,FALSE),0)","v":150},null,{"$f":"IFERROR(VLOOKUP($B25,'[1]Num 5'!$Q$3:$S$163,2,FALSE),0)","v":17}]
["TOTAL LA SERENA",null,{"$f":"D26/Metas!M5","v":{"v":0.940753641654923,"d":"94.08%"}},{"$f":"E26/K26","v":{"v":0.21637333758063232,"d":"21.64%"}},{"$f":"SUM(E12:E25)","v":{"v":10868,"d":"10,868"}},{"$f":"SUM(F12:F25)","v":0},{"$f":"SUM(G12:G25)","v":{"v":8973,"d":"8,973"}},0,{"v":1895,"d":"1,895"},0,{"v":50228,"d":"50,228"}]
["04102-COQUIMBO","105303-CES. SAN JUAN",null,null,{"$f":"G27+I27","v":{"v":1293,"d":"1,293"}},{"$f":"H27+J27","v":0},{"$f":"IFERROR(VLOOKUP($B27,'[1]Num 5'!$G$3:$I$164,2,FALSE),0)","v":979},null,{"$f":"IFERROR(VLOOKUP($B27,'[1]Num 5'!$Q$3:$S$163,2,FALSE),0)","v":314}]
["04102-COQUIMBO","105304-CES. SANTA CECILIA",null,null,{"v":1271,"d":"1,271"},0,{"$f":"IFERROR(VLOOKUP($B28,'[1]Num 5'!$G$3:$I$164,2,FALSE),0)","v":{"v":1012,"d":"1,012"}},null,{"$f":"IFERROR(VLOOKUP($B28,'[1]Num 5'!$Q$3:$S$163,2,FALSE),0)","v":259}]
["04102-COQUIMBO","105305-CES. TIERRAS BLANCAS",null,null,{"v":2301,"d":"2,301"},0,{"$f":"IFERROR(VLOOKUP($B29,'[1]Num 5'!$G$3:$I$164,2,FALSE),0)","v":{"v":1718,"d":"1,718"}},null,{"$f":"IFERROR(VLOOKUP($B29,'[1]Num 5'!$Q$3:$S$163,2,FALSE),0)","v":583}]
["04102-COQUIMBO","105321-CES. RURAL  TONGOY",null,null,449,0,{"$f":"IFERROR(VLOOKUP($B30,'[1]Num 5'!$G$3:$I$164,2,FALSE),0)","v":386},null,{"$f":"IFERROR(VLOOKUP($B30,'[1]Num 5'!$Q$3:$S$163,2,FALSE),0)","v":63}]
["04102-COQUIMBO","105323-CES. DR. SERGIO AGUILAR",null,null,{"v":1474,"d":"1,474"},0,{"$f":"IFERROR(VLOOKUP($B31,'[1]Num 5'!$G$3:$I$164,2,FALSE),0)","v":{"v":1298,"d":"1,298"}},null,{"$f":"IFERROR(VLOOKUP($B31,'[1]Num 5'!$Q$3:$S$163,2,FALSE),0)","v":176}]
["04102-COQUIMBO","105404-P.S.R. EL TANGUE                         ",null,null,20,0,{"$f":"IFERROR(VLOOKUP($B32,'[1]Num 5'!$G$3:$I$164,2,FALSE),0)","v":12},null,{"$f":"IFERROR(VLOOKUP($B32,'[1]Num 5'!$Q$3:$S$163,2,FALSE),0)","v":8}]
["04102-COQUIMBO","105405-P.S.R. GUANAQUEROS",null,null,210,0,{"$f":"IFERROR(VLOOKUP($B33,'[1]Num 5'!$G$3:$I$164,2,FALSE),0)","v":189},null,{"$f":"IFERROR(VLOOKUP($B33,'[1]Num 5'!$Q$3:$S$163,2,FALSE),0)","v":21}]
["04102-COQUIMBO","105407-P.S.R. TAMBILLOS",null,null,43,0,{"$f":"IFERROR(VLOOKUP($B34,'[1]Num 5'!$G$3:$I$164,2,FALSE),0)","v":37},null,{"$f":"IFERROR(VLOOKUP($B34,'[1]Num 5'!$Q$3:$S$163,2,FALSE),0)","v":6}]
["04102-COQUIMBO","200273-CECOF PUNTA MIRA",null,null,87,0,{"$f":"IFERROR(VLOOKUP($B35,'[1]Num 5'!$G$3:$I$164,2,FALSE),0)","v":85},null,{"$f":"IFERROR(VLOOKUP($B35,'[1]Num 5'!$Q$3:$S$163,2,FALSE),0)","v":2}]
["04102-COQUIMBO","200494-CESFAM EL SAUCE",null,null,710,0,{"$f":"IFERROR(VLOOKUP($B36,'[1]Num 5'!$G$3:$I$164,2,FALSE),0)","v":612},null,{"$f":"IFERROR(VLOOKUP($B36,'[1]Num 5'!$Q$3:$S$163,2,FALSE),0)","v":98}]
["04102-COQUIMBO","200607-CESFAM LILA CORTES",null,null,814,0,{"$f":"IFERROR(VLOOKUP($B37,'[1]Num 5'!$G$3:$I$164,2,FALSE),0)","v":728},null,{"$f":"IFERROR(VLOOKUP($B37,'[1]Num 5'!$Q$3:$S$163,2,FALSE),0)","v":86}]
["04102-COQUIMBO","200499-CESFAM PAN DE AZÚCAR",null,null,764,0,{"$f":"IFERROR(VLOOKUP($B38,'[1]Num 5'!$G$3:$I$164,2,FALSE),0)","v":633},null,{"$f":"IFERROR(VLOOKUP($B38,'[1]Num 5'!$Q$3:$S$163,2,FALSE),0)","v":131}]
["TOTAL COQUIMBO",null,{"$f":"D39/Metas!M6","v":{"v":0.9967044110190976,"d":"99.67%"}},{"$f":"E39/K39","v":{"v":0.1993408822038195,"d":"19.93%"}},{"$f":"SUM(E27:E38)","v":{"v":9436,"d":"9,436"}},0,{"v":7689,"d":"7,689"},0,{"v":1747,"d":"1,747"},0,{"v":47336,"d":"47,336"}]
["04104-LA HIGUERA","105314-CES. LA HIGUERA",null,null,{"$f":"G40+I40","v":126},{"$f":"H40+J40","v":0},{"$f":"IFERROR(VLOOKUP($B40,'[1]Num 5'!$G$3:$I$164,2,FALSE),0)","v":114},null,{"$f":"IFERROR(VLOOKUP($B40,'[1]Num 5'!$Q$3:$S$163,2,FALSE),0)","v":12}]
["04104-LA HIGUERA","105500-P.S.R. CALETA HORNOS        ",null,null,63,0,{"$f":"IFERROR(VLOOKUP($B41,'[1]Num 5'!$G$3:$I$164,2,FALSE),0)","v":59},null,{"$f":"IFERROR(VLOOKUP($B41,'[1]Num 5'!$Q$3:$S$163,2,FALSE),0)","v":4}]
["04104-LA HIGUERA","105505-P.S.R. LOS CHOROS",null,null,46,0,{"$f":"IFERROR(VLOOKUP($B42,'[1]Num 5'!$G$3:$I$164,2,FALSE),0)","v":40},null,{"$f":"IFERROR(VLOOKUP($B42,'[1]Num 5'!$Q$3:$S$163,2,FALSE),0)","v":6}]
["04104-LA HIGUERA","105506-P.S.R. EL TRAPICHE",null,null,29,0,{"$f":"IFERROR(VLOOKUP($B43,'[1]Num 5'!$G$3:$I$164,2,FALSE),0)","v":26},null,{"$f":"IFERROR(VLOOKUP($B43,'[1]Num 5'!$Q$3:$S$163,2,FALSE),0)","v":3}]
["TOTAL LA HIGUERA",null,{"$f":"D44/Metas!M7","v":{"v":1.149425287356322,"d":"114.94%"}},{"$f":"E44/K44","v":{"v":0.25287356321839083,"d":"25.29%"}},{"$f":"SUM(E40:E43)","v":264},0,239,0,25,0,{"v":1044,"d":"1,044"}]
["04105-PAIHUANO","105306-CES. PAIHUANO",null,null,{"$f":"G45+I45","v":152},{"$f":"H45+J45","v":0},{"$f":"IFERROR(VLOOKUP($B45,'[1]Num 5'!$G$3:$I$164,2,FALSE),0)","v":111},null,{"$f":"IFERROR(VLOOKUP($B45,'[1]Num 5'!$Q$3:$S$163,2,FALSE),0)","v":41}]
["04105-PAIHUANO","105475-P.S.R. HORCON",null,null,77,0,{"$f":"IFERROR(VLOOKUP($B46,'[1]Num 5'!$G$3:$I$164,2,FALSE),0)","v":63},null,{"$f":"IFERROR(VLOOKUP($B46,'[1]Num 5'!$Q$3:$S$163,2,FALSE),0)","v":14}]
["04105-PAIHUANO","105476-P.S.R. MONTE GRANDE",null,null,43,0,{"$f":"IFERROR(VLOOKUP($B47,'[1]Num 5'!$G$3:$I$164,2,FALSE),0)","v":38},null,{"$f":"IFERROR(VLOOKUP($B47,'[1]Num 5'!$Q$3:$S$163,2,FALSE),0)","v":5}]
["04105-PAIHUANO","105477-P.S.R. PISCO ELQUI",null,null,88,0,{"$f":"IFERROR(VLOOKUP($B48,'[1]Num 5'!$G$3:$I$164,2,FALSE),0)","v":64},null,{"$f":"IFERROR(VLOOKUP($B48,'[1]Num 5'!$Q$3:$S$163,2,FALSE),0)","v":24}]
["TOTAL PAIHUANO",null,{"$f":"D49/Metas!M8","v":{"v":1.2224108658743633,"d":"122.24%"}},{"$f":"E49/K49","v":{"v":0.30560271646859083,"d":"30.56%"}},{"$f":"SUM(E45:E48)","v":360},0,276,0,84,0,{"v":1178,"d":"1,178"}]
["04106-VICUÑA","105467-P.S.R. DIAGUITAS",null,null,{"$f":"G50+I50","v":132},{"$f":"H50+J50","v":0},{"$f":"IFERROR(VLOOKUP($B50,'[1]Num 5'!$G$3:$I$164,2,FALSE),0)","v":116},null,{"$f":"IFERROR(VLOOKUP($B50,'[1]Num 5'!$Q$3:$S$163,2,FALSE),0)","v":16}]
["04106-VICUÑA","105468-P.S.R. EL MOLLE",null,null,60,0,{"$f":"IFERROR(VLOOKUP($B51,'[1]Num 5'!$G$3:$I$164,2,FALSE),0)","v":51},null,{"$f":"IFERROR(VLOOKUP($B51,'[1]Num 5'!$Q$3:$S$163,2,FALSE),0)","v":9}]
["04106-VICUÑA","105469-P.S.R. EL TAMBO",null,null,66,0,{"$f":"IFERROR(VLOOKUP($B52,'[1]Num 5'!$G$3:$I$164,2,FALSE),0)","v":59},null,{"$f":"IFERROR(VLOOKUP($B52,'[1]Num 5'!$Q$3:$S$163,2,FALSE),0)","v":7}]
["04106-VICUÑA","105470-P.S.R. HUANTA",null,null,15,0,{"$f":"IFERROR(VLOOKUP($B53,'[1]Num 5'!$G$3:$I$164,2,FALSE),0)","v":14},null,{"$f":"IFERROR(VLOOKUP($B53,'[1]Num 5'!$Q$3:$S$163,2,FALSE),0)","v":1}]
["04106-VICUÑA","105471-P.S.R. PERALILLO",null,null,150,0,{"$f":"IFERROR(VLOOKUP($B54,'[1]Num 5'!$G$3:$I$164,2,FALSE),0)","v":123},null,{"$f":"IFERROR(VLOOKUP($B54,'[1]Num 5'!$Q$3:$S$163,2,FALSE),0)","v":27}]
["04106-VICUÑA","105472-P.S.R. RIVADAVIA",null,null,100,0,{"$f":"IFERROR(VLOOKUP($B55,'[1]Num 5'!$G$3:$I$164,2,FALSE),0)","v":74},null,{"$f":"IFERROR(VLOOKUP($B55,'[1]Num 5'!$Q$3:$S$163,2,FALSE),0)","v":26}]
["04106-VICUÑA","105473-P.S.R. TALCUNA",null,null,65,0,{"$f":"IFERROR(VLOOKUP($B56,'[1]Num 5'!$G$3:$I$164,2,FALSE),0)","v":53},null,{"$f":"IFERROR(VLOOKUP($B56,'[1]Num 5'!$Q$3:$S$163,2,FALSE),0)","v":12}]
["04106-VICUÑA","105474-P.S.R. CHAPILCA",null,null,48,0,{"$f":"IFERROR(VLOOKUP($B57,'[1]Num 5'!$G$3:$I$164,2,FALSE),0)","v":38},null,{"$f":"IFERROR(VLOOKUP($B57,'[1]Num 5'!$Q$3:$S$163,2,FALSE),0)","v":10}]
["04106-VICUÑA","105509-P.S.R. GUALLIGUAICA",null,null,29,0,{"$f":"IFERROR(VLOOKUP($B58,'[1]Num 5'!$G$3:$I$164,2,FALSE),0)","v":17},null,{"$f":"IFERROR(VLOOKUP($B58,'[1]Num 5'!$Q$3:$S$163,2,FALSE),0)","v":12}]
["04106-VICUÑA","200538-CESFAM SAN ISIDRO CALINGASTA",null,null,363,0,{"$f":"IFERROR(VLOOKUP($B59,'[1]Num 5'!$G$3:$I$164,2,FALSE),0)","v":310},null,{"$f":"IFERROR(VLOOKUP($B59,'[1]Num 5'!$Q$3:$S$163,2,FALSE),0)","v":53}]
["TOTAL VICUÑA",null,{"$f":"D60/Metas!M9","v":{"v":0.8918965816415063,"d":"89.19%"}},{"$f":"E60/K60","v":{"v":0.26756897449245187,"d":"26.76%"}},{"$f":"SUM(E50:E59)","v":{"v":1028,"d":"1,028"}},0,855,0,173,0,{"v":3842,"d":"3,842"}]
["04201-ILLAPEL","105326-CESFAM SAN RAFAEL",null,null,{"$f":"G61+I61","v":683},{"$f":"H61+J61","v":0},{"$f":"IFERROR(VLOOKUP($B61,'[1]Num 5'!$G$3:$I$164,2,FALSE),0)","v":609},null,{"$f":"IFERROR(VLOOKUP($B61,'[1]Num 5'!$Q$3:$S$163,2,FALSE),0)","v":74}]
["04201-ILLAPEL","105443-P.S.R. CARCAMO                   ",null,null,128,0,{"$f":"IFERROR(VLOOKUP($B62,'[1]Num 5'!$G$3:$I$164,2,FALSE),0)","v":96},null,{"$f":"IFERROR(VLOOKUP($B62,'[1]Num 5'!$Q$3:$S$163,2,FALSE),0)","v":32}]
["04201-ILLAPEL","105444-P.S.R. HUINTIL",null,null,69,0,{"$f":"IFERROR(VLOOKUP($B63,'[1]Num 5'!$G$3:$I$164,2,FALSE),0)","v":55},null,{"$f":"IFERROR(VLOOKUP($B63,'[1]Num 5'!$Q$3:$S$163,2,FALSE),0)","v":14}]
["04201-ILLAPEL","105445-P.S.R. LIMAHUIDA",null,null,50,0,{"$f":"IFERROR(VLOOKUP($B64,'[1]Num 5'!$G$3:$I$164,2,FALSE),0)","v":44},null,{"$f":"IFERROR(VLOOKUP($B64,'[1]Num 5'!$Q$3:$S$163,2,FALSE),0)","v":6}]
["04201-ILLAPEL","105446-P.S.R. MATANCILLA",null,null,12,0,{"$f":"IFERROR(VLOOKUP($B65,'[1]Num 5'!$G$3:$I$164,2,FALSE),0)","v":11},null,{"$f":"IFERROR(VLOOKUP($B65,'[1]Num 5'!$Q$3:$S$163,2,FALSE),0)","v":1}]
["04201-ILLAPEL","105447-P.S.R. PERALILLO",null,null,49,0,{"$f":"IFERROR(VLOOKUP($B66,'[1]Num 5'!$G$3:$I$164,2,FALSE),0)","v":41},null,{"$f":"IFERROR(VLOOKUP($B66,'[1]Num 5'!$Q$3:$S$163,2,FALSE),0)","v":8}]
["04201-ILLAPEL","105448-P.S.R. SANTA VIRGINIA",null,null,83,0,{"$f":"IFERROR(VLOOKUP($B67,'[1]Num 5'!$G$3:$I$164,2,FALSE),0)","v":72},null,{"$f":"IFERROR(VLOOKUP($B67,'[1]Num 5'!$Q$3:$S$163,2,FALSE),0)","v":11}]
["04201-ILLAPEL","105449-P.S.R. TUNGA NORTE",null,null,27,0,{"$f":"IFERROR(VLOOKUP($B68,'[1]Num 5'!$G$3:$I$164,2,FALSE),0)","v":20},null,{"$f":"IFERROR(VLOOKUP($B68,'[1]Num 5'!$Q$3:$S$163,2,FALSE),0)","v":7}]
["04201-ILLAPEL","105485-P.S.R. PLAN DE HORNOS",null,null,114,0,{"$f":"IFERROR(VLOOKUP($B69,'[1]Num 5'!$G$3:$I$164,2,FALSE),0)","v":96},null,{"$f":"IFERROR(VLOOKUP($B69,'[1]Num 5'!$Q$3:$S$163,2,FALSE),0)","v":18}]
["04201-ILLAPEL","105486-P.S.R. TUNGA SUR",null,null,56,0,{"$f":"IFERROR(VLOOKUP($B70,'[1]Num 5'!$G$3:$I$164,2,FALSE),0)","v":45},null,{"$f":"IFERROR(VLOOKUP($B70,'[1]Num 5'!$Q$3:$S$163,2,FALSE),0)","v":11}]
["04201-ILLAPEL","105487-P.S.R. CAÑAS UNO",null,null,159,0,{"$f":"IFERROR(VLOOKUP($B71,'[1]Num 5'!$G$3:$I$164,2,FALSE),0)","v":130},null,{"$f":"IFERROR(VLOOKUP($B71,'[1]Num 5'!$Q$3:$S$163,2,FALSE),0)","v":29}]
["04201-ILLAPEL","105496-P.S.R. PINTACURA SUR",null,null,49,0,{"$f":"IFERROR(VLOOKUP($B72,'[1]Num 5'!$G$3:$I$164,2,FALSE),0)","v":39},null,{"$f":"IFERROR(VLOOKUP($B72,'[1]Num 5'!$Q$3:$S$163,2,FALSE),0)","v":10}]
["04201-ILLAPEL","105504-P.S.R. SOCAVON",null,null,40,0,{"$f":"IFERROR(VLOOKUP($B73,'[1]Num 5'!$G$3:$I$164,2,FALSE),0)","v":32},null,{"$f":"IFERROR(VLOOKUP($B73,'[1]Num 5'!$Q$3:$S$163,2,FALSE),0)","v":8}]
["04201-ILLAPEL","200366-CESFAM URBANO II",null,null,{"v":1877,"d":"1,877"},0,{"$f":"IFERROR(VLOOKUP($B74,'[1]Num 5'!$G$3:$I$164,2,FALSE),0)","v":{"v":1475,"d":"1,475"}},null,{"$f":"IFERROR(VLOOKUP($B74,'[1]Num 5'!$Q$3:$S$163,2,FALSE),0)","v":402}]
["TOTAL ILLAPEL",null,{"$f":"D75/Metas!M10","v":{"v":1.2428634167764603,"d":"124.29%"}},{"$f":"E75/K75","v":{"v":0.4474308300395257,"d":"44.74%"}},{"$f":"SUM(E61:E74)","v":{"v":3396,"d":"3,396"}},0,{"v":2765,"d":"2,765"},0,631,0,{"v":7590,"d":"7,590"}]
["04202-CANELA","105309-CES. RURAL CANELA",null,null,{"$f":"G76+I76","v":511},{"$f":"H76+J76","v":0},{"$f":"IFERROR(VLOOKUP($B76,'[1]Num 5'!$G$3:$I$164,2,FALSE),0)","v":401},null,{"$f":"IFERROR(VLOOKUP($B76,'[1]Num 5'!$Q$3:$S$163,2,FALSE),0)","v":110}]
["04202-CANELA","105450-P.S.R. MINCHA NORTE            ",null,null,234,0,{"$f":"IFERROR(VLOOKUP($B77,'[1]Num 5'!$G$3:$I$164,2,FALSE),0)","v":165},null,{"$f":"IFERROR(VLOOKUP($B77,'[1]Num 5'!$Q$3:$S$163,2,FALSE),0)","v":69}]
["04202-CANELA","105451-P.S.R. AGUA FRIA",null,null,83,0,{"$f":"IFERROR(VLOOKUP($B78,'[1]Num 5'!$G$3:$I$164,2,FALSE),0)","v":63},null,{"$f":"IFERROR(VLOOKUP($B78,'[1]Num 5'!$Q$3:$S$163,2,FALSE),0)","v":20}]
["04202-CANELA","105482-P.S.R. CANELA ALTA",null,null,20,0,{"$f":"IFERROR(VLOOKUP($B79,'[1]Num 5'!$G$3:$I$164,2,FALSE),0)","v":15},null,{"$f":"IFERROR(VLOOKUP($B79,'[1]Num 5'!$Q$3:$S$163,2,FALSE),0)","v":5}]
["04202-CANELA","105483-P.S.R. LOS RULOS",null,null,35,0,{"$f":"IFERROR(VLOOKUP($B80,'[1]Num 5'!$G$3:$I$164,2,FALSE),0)","v":25},null,{"$f":"IFERROR(VLOOKUP($B80,'[1]Num 5'!$Q$3:$S$163,2,FALSE),0)","v":10}]
["04202-CANELA","105484-P.S.R. HUENTELAUQUEN",null,null,74,0,{"$f":"IFERROR(VLOOKUP($B81,'[1]Num 5'!$G$3:$I$164,2,FALSE),0)","v":57},null,{"$f":"IFERROR(VLOOKUP($B81,'[1]Num 5'!$Q$3:$S$163,2,FALSE),0)","v":17}]
["04202-CANELA","105488-P.S.R. ESPIRITU SANTO",null,null,19,0,{"$f":"IFERROR(VLOOKUP($B82,'[1]Num 5'!$G$3:$I$164,2,FALSE),0)","v":13},null,{"$f":"IFERROR(VLOOKUP($B82,'[1]Num 5'!$Q$3:$S$163,2,FALSE),0)","v":6}]
["04202-CANELA","105493-P.S.R. MINCHA SUR",null,null,27,0,{"$f":"IFERROR(VLOOKUP($B83,'[1]Num 5'!$G$3:$I$164,2,FALSE),0)","v":21},null,{"$f":"IFERROR(VLOOKUP($B83,'[1]Num 5'!$Q$3:$S$163,2,FALSE),0)","v":6}]
["04202-CANELA","105497-P.S.R. JABONERIA",null,null,16,0,{"$f":"IFERROR(VLOOKUP($B84,'[1]Num 5'!$G$3:$I$164,2,FALSE),0)","v":11},null,{"$f":"IFERROR(VLOOKUP($B84,'[1]Num 5'!$Q$3:$S$163,2,FALSE),0)","v":5}]
["04202-CANELA","105498-P.S.R. QUEBRADA DE LINARES",null,null,9,0,{"$f":"IFERROR(VLOOKUP($B85,'[1]Num 5'!$G$3:$I$164,2,FALSE),0)","v":7},null,{"$f":"IFERROR(VLOOKUP($B85,'[1]Num 5'!$Q$3:$S$163,2,FALSE),0)","v":2}]
["TOTAL CANELA",null,{"$f":"D86/Metas!M11","v":{"v":0.9582937151593117,"d":"95.83%"}},{"$f":"E86/K86","v":{"v":0.36415161176053845,"d":"36.42%"}},{"$f":"SUM(E76:E85)","v":{"v":1028,"d":"1,028"}},0,778,0,250,0,{"v":2823,"d":"2,823"}]
["04203-LOS VILOS","105478-P.S.R. CAIMANES                   ",null,null,{"$f":"G87+I87","v":180},{"$f":"H87+J87","v":0},{"$f":"IFERROR(VLOOKUP($B87,'[1]Num 5'!$G$3:$I$164,2,FALSE),0)","v":148},null,{"$f":"IFERROR(VLOOKUP($B87,'[1]Num 5'!$Q$3:$S$163,2,FALSE),0)","v":32}]
["04203-LOS VILOS","105479-P.S.R. GUANGUALI",null,null,156,0,{"$f":"IFERROR(VLOOKUP($B88,'[1]Num 5'!$G$3:$I$164,2,FALSE),0)","v":123},null,{"$f":"IFERROR(VLOOKUP($B88,'[1]Num 5'!$Q$3:$S$163,2,FALSE),0)","v":33}]
["04203-LOS VILOS","105480-P.S.R. QUILIMARI",null,null,473,0,{"$f":"IFERROR(VLOOKUP($B89,'[1]Num 5'!$G$3:$I$164,2,FALSE),0)","v":399},null,{"$f":"IFERROR(VLOOKUP($B89,'[1]Num 5'!$Q$3:$S$163,2,FALSE),0)","v":74}]
["04203-LOS VILOS","105481-P.S.R. TILAMA",null,null,58,0,{"$f":"IFERROR(VLOOKUP($B90,'[1]Num 5'!$G$3:$I$164,2,FALSE),0)","v":50},null,{"$f":"IFERROR(VLOOKUP($B90,'[1]Num 5'!$Q$3:$S$163,2,FALSE),0)","v":8}]
["04203-LOS VILOS","105511-P.S.R. LOS CONDORES",null,null,118,0,{"$f":"IFERROR(VLOOKUP($B91,'[1]Num 5'!$G$3:$I$164,2,FALSE),0)","v":86},null,{"$f":"IFERROR(VLOOKUP($B91,'[1]Num 5'!$Q$3:$S$163,2,FALSE),0)","v":32}]
["TOTAL LOS VILOS",null,{"$f":"D92/Metas!M12","v":{"v":1.628637566137566,"d":"162.86%"}},{"$f":"E92/K92","v":{"v":0.5211640211640212,"d":"52.12%"}},{"$f":"SUM(E87:E91)","v":985},0,806,0,179,0,{"v":1890,"d":"1,890"}]
["04204-SALAMANCA","105452-P.S.R. CUNCUMEN                 ",null,null,{"$f":"G93+I93","v":153},{"$f":"H93+J93","v":0},{"$f":"IFERROR(VLOOKUP($B93,'[1]Num 5'!$G$3:$I$164,2,FALSE),0)","v":68},null,{"$f":"IFERROR(VLOOKUP($B93,'[1]Num 5'!$Q$3:$S$163,2,FALSE),0)","v":85}]
["04204-SALAMANCA","105453-P.S.R. TRANQUILLA",null,null,262,0,{"$f":"IFERROR(VLOOKUP($B94,'[1]Num 5'!$G$3:$I$164,2,FALSE),0)","v":239},null,{"$f":"IFERROR(VLOOKUP($B94,'[1]Num 5'!$Q$3:$S$163,2,FALSE),0)","v":23}]
["04204-SALAMANCA","105454-P.S.R. CUNLAGUA",null,null,48,0,{"$f":"IFERROR(VLOOKUP($B95,'[1]Num 5'!$G$3:$I$164,2,FALSE),0)","v":36},null,{"$f":"IFERROR(VLOOKUP($B95,'[1]Num 5'!$Q$3:$S$163,2,FALSE),0)","v":12}]
["04204-SALAMANCA","105455-P.S.R. CHILLEPIN",null,null,132,0,{"$f":"IFERROR(VLOOKUP($B96,'[1]Num 5'!$G$3:$I$164,2,FALSE),0)","v":113},null,{"$f":"IFERROR(VLOOKUP($B96,'[1]Num 5'!$Q$3:$S$163,2,FALSE),0)","v":19}]
["04204-SALAMANCA","105456-P.S.R. LLIMPO",null,null,129,0,{"$f":"IFERROR(VLOOKUP($B97,'[1]Num 5'!$G$3:$I$164,2,FALSE),0)","v":111},null,{"$f":"IFERROR(VLOOKUP($B97,'[1]Num 5'!$Q$3:$S$163,2,FALSE),0)","v":18}]
["04204-SALAMANCA","105457-P.S.R. SAN AGUSTIN",null,null,86,0,{"$f":"IFERROR(VLOOKUP($B98,'[1]Num 5'!$G$3:$I$164,2,FALSE),0)","v":61},null,{"$f":"IFERROR(VLOOKUP($B98,'[1]Num 5'!$Q$3:$S$163,2,FALSE),0)","v":25}]
["04204-SALAMANCA","105458-P.S.R. TAHUINCO",null,null,280,0,{"$f":"IFERROR(VLOOKUP($B99,'[1]Num 5'!$G$3:$I$164,2,FALSE),0)","v":271},null,{"$f":"IFERROR(VLOOKUP($B99,'[1]Num 5'!$Q$3:$S$163,2,FALSE),0)","v":9}]
["04204-SALAMANCA","105491-P.S.R. QUELEN BAJO",null,null,310,0,{"$f":"IFERROR(VLOOKUP($B100,'[1]Num 5'!$G$3:$I$164,2,FALSE),0)","v":262},null,{"$f":"IFERROR(VLOOKUP($B100,'[1]Num 5'!$Q$3:$S$163,2,FALSE),0)","v":48}]
["04204-SALAMANCA","105492-P.S.R. CAMISA",null,null,85,0,{"$f":"IFERROR(VLOOKUP($B101,'[1]Num 5'!$G$3:$I$164,2,FALSE),0)","v":77},null,{"$f":"IFERROR(VLOOKUP($B101,'[1]Num 5'!$Q$3:$S$163,2,FALSE),0)","v":8}]
["04204-SALAMANCA","105501-P.S.R. ARBOLEDA GRANDE",null,null,190,0,{"$f":"IFERROR(VLOOKUP($B102,'[1]Num 5'!$G$3:$I$164,2,FALSE),0)","v":171},null,{"$f":"IFERROR(VLOOKUP($B102,'[1]Num 5'!$Q$3:$S$163,2,FALSE),0)","v":19}]
["TOTAL SALAMANCA",null,{"$f":"D103/Metas!M13","v":{"v":0.9618366198477141,"d":"96.18%"}},{"$f":"E103/K103","v":{"v":0.47129994372537987,"d":"47.13%"}},{"$f":"SUM(E93:E102)","v":{"v":1675,"d":"1,675"}},0,{"v":1409,"d":"1,409"},0,266,0,{"v":3554,"d":"3,554"}]
["04301-OVALLE","105315-CES. RURAL C. DE TAMAYA",null,null,{"$f":"G104+I104","v":613},{"$f":"H104+J104","v":0},{"$f":"IFERROR(VLOOKUP($B104,'[1]Num 5'!$G$3:$I$164,2,FALSE),0)","v":518},null,{"$f":"IFERROR(VLOOKUP($B104,'[1]Num 5'!$Q$3:$S$163,2,FALSE),0)","v":95}]
["04301-OVALLE","105317-CES. JORGE JORDAN D.",null,null,{"v":1010,"d":"1,010"},0,{"$f":"IFERROR(VLOOKUP($B105,'[1]Num 5'!$G$3:$I$164,2,FALSE),0)","v":877},null,{"$f":"IFERROR(VLOOKUP($B105,'[1]Num 5'!$Q$3:$S$163,2,FALSE),0)","v":133}]
["04301-OVALLE","105322-CES. MARCOS MACUADA",null,null,{"v":1689,"d":"1,689"},0,{"$f":"IFERROR(VLOOKUP($B106,'[1]Num 5'!$G$3:$I$164,2,FALSE),0)","v":{"v":1346,"d":"1,346"}},null,{"$f":"IFERROR(VLOOKUP($B106,'[1]Num 5'!$Q$3:$S$163,2,FALSE),0)","v":343}]
["04301-OVALLE","105324-CES. SOTAQUI",null,null,401,0,{"$f":"IFERROR(VLOOKUP($B107,'[1]Num 5'!$G$3:$I$164,2,FALSE),0)","v":320},null,{"$f":"IFERROR(VLOOKUP($B107,'[1]Num 5'!$Q$3:$S$163,2,FALSE),0)","v":81}]
["04301-OVALLE","105415-P.S.R. BARRAZA",null,null,154,0,{"$f":"IFERROR(VLOOKUP($B108,'[1]Num 5'!$G$3:$I$164,2,FALSE),0)","v":117},null,{"$f":"IFERROR(VLOOKUP($B108,'[1]Num 5'!$Q$3:$S$163,2,FALSE),0)","v":37}]
["04301-OVALLE","105416-P.S.R. CAMARICO                  ",null,null,93,0,{"$f":"IFERROR(VLOOKUP($B109,'[1]Num 5'!$G$3:$I$164,2,FALSE),0)","v":81},null,{"$f":"IFERROR(VLOOKUP($B109,'[1]Num 5'!$Q$3:$S$163,2,FALSE),0)","v":12}]
["04301-OVALLE","105417-P.S.R. ALCONES BAJOS",null,null,45,0,{"$f":"IFERROR(VLOOKUP($B110,'[1]Num 5'!$G$3:$I$164,2,FALSE),0)","v":38},null,{"$f":"IFERROR(VLOOKUP($B110,'[1]Num 5'!$Q$3:$S$163,2,FALSE),0)","v":7}]
["04301-OVALLE","105419-P.S.R. LAS SOSSAS",null,null,64,0,{"$f":"IFERROR(VLOOKUP($B111,'[1]Num 5'!$G$3:$I$164,2,FALSE),0)","v":53},null,{"$f":"IFERROR(VLOOKUP($B111,'[1]Num 5'!$Q$3:$S$163,2,FALSE),0)","v":11}]
["04301-OVALLE","105422-P.S.R. HORNILLOS",null,null,33,0,{"$f":"IFERROR(VLOOKUP($B112,'[1]Num 5'!$G$3:$I$164,2,FALSE),0)","v":27},null,{"$f":"IFERROR(VLOOKUP($B112,'[1]Num 5'!$Q$3:$S$163,2,FALSE),0)","v":6}]
["04301-OVALLE","105437-P.S.R. CHALINGA",null,null,92,0,{"$f":"IFERROR(VLOOKUP($B113,'[1]Num 5'!$G$3:$I$164,2,FALSE),0)","v":65},null,{"$f":"IFERROR(VLOOKUP($B113,'[1]Num 5'!$Q$3:$S$163,2,FALSE),0)","v":27}]
["04301-OVALLE","105439-P.S.R. CERRO BLANCO",null,null,36,0,{"$f":"IFERROR(VLOOKUP($B114,'[1]Num 5'!$G$3:$I$164,2,FALSE),0)","v":27},null,{"$f":"IFERROR(VLOOKUP($B114,'[1]Num 5'!$Q$3:$S$163,2,FALSE),0)","v":9}]
["04301-OVALLE","105507-P.S.R. HUAMALATA",null,null,142,0,{"$f":"IFERROR(VLOOKUP($B115,'[1]Num 5'!$G$3:$I$164,2,FALSE),0)","v":111},null,{"$f":"IFERROR(VLOOKUP($B115,'[1]Num 5'!$Q$3:$S$163,2,FALSE),0)","v":31}]
["04301-OVALLE","105510-P.S.R. RECOLETA",null,null,103,0,{"$f":"IFERROR(VLOOKUP($B116,'[1]Num 5'!$G$3:$I$164,2,FALSE),0)","v":93},null,{"$f":"IFERROR(VLOOKUP($B116,'[1]Num 5'!$Q$3:$S$163,2,FALSE),0)","v":10}]
["04301-OVALLE","105722-CECOF SAN JOSE DE LA DEHESA",null,null,357,0,{"$f":"IFERROR(VLOOKUP($B117,'[1]Num 5'!$G$3:$I$164,2,FALSE),0)","v":306},null,{"$f":"IFERROR(VLOOKUP($B117,'[1]Num 5'!$Q$3:$S$163,2,FALSE),0)","v":51}]
["04301-OVALLE","105723-CECOF LIMARI",null,null,211,0,{"$f":"IFERROR(VLOOKUP($B118,'[1]Num 5'!$G$3:$I$164,2,FALSE),0)","v":137},null,{"$f":"IFERROR(VLOOKUP($B118,'[1]Num 5'!$Q$3:$S$163,2,FALSE),0)","v":74}]
["04301-OVALLE","200258-CECOF LOS COPIHUES",null,null,158,0,{"$f":"IFERROR(VLOOKUP($B119,'[1]Num 5'!$G$3:$I$164,2,FALSE),0)","v":154},null,{"$f":"IFERROR(VLOOKUP($B119,'[1]Num 5'!$Q$3:$S$163,2,FALSE),0)","v":4}]
["04301-OVALLE","200367-CECOF COLONIA LIMARÍ",null,null,331,0,{"$f":"IFERROR(VLOOKUP($B120,'[1]Num 5'!$G$3:$I$164,2,FALSE),0)","v":266},null,{"$f":"IFERROR(VLOOKUP($B120,'[1]Num 5'!$Q$3:$S$163,2,FALSE),0)","v":65}]
["04301-OVALLE","200569-CESFAM FRAY JORGE",{"$nulls":3},0,{"$f":"IFERROR(VLOOKUP($B121,'[1]Num 5'!$G$3:$I$164,2,FALSE),0)","v":549},null,{"$f":"IFERROR(VLOOKUP($B121,'[1]Num 5'!$Q$3:$S$163,2,FALSE),0)","v":151}]
["TOTAL OVALLE",null,{"$f":"D122/Metas!M14","v":{"v":0.9697063185166228,"d":"96.97%"}},{"$f":"E122/K122","v":{"v":0.213335390073657,"d":"21.33%"}},{"$f":"SUM(E104:E121)","v":{"v":5532,"d":"5,532"}},0,{"v":5085,"d":"5,085"},0,{"v":1147,"d":"1,147"},0,{"v":25931,"d":"25,931"}]
["04302-COMBARBALÁ","105433-P.S.R. SAN LORENZO",null,null,{"$f":"G123+I123","v":18},{"$f":"H123+J123","v":0},{"$f":"IFERROR(VLOOKUP($B123,'[1]Num 5'!$G$3:$I$164,2,FALSE),0)","v":12},null,{"$f":"IFERROR(VLOOKUP($B123,'[1]Num 5'!$Q$3:$S$163,2,FALSE),0)","v":6}]
["04302-COMBARBALÁ","105434-P.S.R. SAN MARCOS",null,null,90,0,{"$f":"IFERROR(VLOOKUP($B124,'[1]Num 5'!$G$3:$I$164,2,FALSE),0)","v":73},null,{"$f":"IFERROR(VLOOKUP($B124,'[1]Num 5'!$Q$3:$S$163,2,FALSE),0)","v":17}]
["04302-COMBARBALÁ","105441-P.S.R. MANQUEHUA",null,null,95,0,{"$f":"IFERROR(VLOOKUP($B125,'[1]Num 5'!$G$3:$I$164,2,FALSE),0)","v":58},null,{"$f":"IFERROR(VLOOKUP($B125,'[1]Num 5'!$Q$3:$S$163,2,FALSE),0)","v":37}]
["04302-COMBARBALÁ","105459-P.S.R. BARRANCAS                ",null,null,53,0,{"$f":"IFERROR(VLOOKUP($B126,'[1]Num 5'!$G$3:$I$164,2,FALSE),0)","v":44},null,{"$f":"IFERROR(VLOOKUP($B126,'[1]Num 5'!$Q$3:$S$163,2,FALSE),0)","v":9}]
["04302-COMBARBALÁ","105460-P.S.R. COGOTI 18",null,null,95,0,{"$f":"IFERROR(VLOOKUP($B127,'[1]Num 5'!$G$3:$I$164,2,FALSE),0)","v":71},null,{"$f":"IFERROR(VLOOKUP($B127,'[1]Num 5'!$Q$3:$S$163,2,FALSE),0)","v":24}]
["04302-COMBARBALÁ","105461-P.S.R. EL HUACHO",null,null,41,0,{"$f":"IFERROR(VLOOKUP($B128,'[1]Num 5'!$G$3:$I$164,2,FALSE),0)","v":27},null,{"$f":"IFERROR(VLOOKUP($B128,'[1]Num 5'!$Q$3:$S$163,2,FALSE),0)","v":14}]
["04302-COMBARBALÁ","105462-P.S.R. EL SAUCE",null,null,27,0,{"$f":"IFERROR(VLOOKUP($B129,'[1]Num 5'!$G$3:$I$164,2,FALSE),0)","v":22},null,{"$f":"IFERROR(VLOOKUP($B129,'[1]Num 5'!$Q$3:$S$163,2,FALSE),0)","v":5}]
["04302-COMBARBALÁ","105463-P.S.R. QUILITAPIA",null,null,128,0,{"$f":"IFERROR(VLOOKUP($B130,'[1]Num 5'!$G$3:$I$164,2,FALSE),0)","v":93},null,{"$f":"IFERROR(VLOOKUP($B130,'[1]Num 5'!$Q$3:$S$163,2,FALSE),0)","v":35}]
["04302-COMBARBALÁ","105464-P.S.R. LA LIGUA",null,null,67,0,{"$f":"IFERROR(VLOOKUP($B131,'[1]Num 5'!$G$3:$I$164,2,FALSE),0)","v":50},null,{"$f":"IFERROR(VLOOKUP($B131,'[1]Num 5'!$Q$3:$S$163,2,FALSE),0)","v":17}]
["04302-COMBARBALÁ","105465-P.S.R. RAMADILLA",null,null,76,0,{"$f":"IFERROR(VLOOKUP($B132,'[1]Num 5'!$G$3:$I$164,2,FALSE),0)","v":58},null,{"$f":"IFERROR(VLOOKUP($B132,'[1]Num 5'!$Q$3:$S$163,2,FALSE),0)","v":18}]
["04302-COMBARBALÁ","105466-P.S.R. VALLE HERMOSO",null,null,11,0,{"$f":"IFERROR(VLOOKUP($B133,'[1]Num 5'!$G$3:$I$164,2,FALSE),0)","v":9},null,{"$f":"IFERROR(VLOOKUP($B133,'[1]Num 5'!$Q$3:$S$163,2,FALSE),0)","v":2}]
["04302-COMBARBALÁ","105490-P.S.R. EL DURAZNO",null,null,42,0,{"$f":"IFERROR(VLOOKUP($B134,'[1]Num 5'!$G$3:$I$164,2,FALSE),0)","v":31},null,{"$f":"IFERROR(VLOOKUP($B134,'[1]Num 5'!$Q$3:$S$163,2,FALSE),0)","v":11}]
["TOTAL COMBARBALÁ",null,{"$f":"D135/Metas!M15","v":{"v":1.0067750677506775,"d":"100.68%"}},{"$f":"E135/K135","v":{"v":0.3624390243902439,"d":"36.24%"}},{"$f":"SUM(E123:E134)","v":743},0,548,0,195,0,{"v":2050,"d":"2,050"}]
["04304-MONTE PATRIA","105307-CES. RURAL MONTE PATRIA",null,null,{"$f":"G136+I136","v":791},{"$f":"H136+J136","v":0},{"$f":"IFERROR(VLOOKUP($B136,'[1]Num 5'!$G$3:$I$164,2,FALSE),0)","v":588},null,{"$f":"IFERROR(VLOOKUP($B136,'[1]Num 5'!$Q$3:$S$163,2,FALSE),0)","v":203}]
["04304-MONTE PATRIA","105311-CES. RURAL CHAÑARAL ALTO",null,null,379,0,{"$f":"IFERROR(VLOOKUP($B137,'[1]Num 5'!$G$3:$I$164,2,FALSE),0)","v":286},null,{"$f":"IFERROR(VLOOKUP($B137,'[1]Num 5'!$Q$3:$S$163,2,FALSE),0)","v":93}]
["04304-MONTE PATRIA","105312-CES. RURAL CAREN",null,null,271,0,{"$f":"IFERROR(VLOOKUP($B138,'[1]Num 5'!$G$3:$I$164,2,FALSE),0)","v":225},null,{"$f":"IFERROR(VLOOKUP($B138,'[1]Num 5'!$Q$3:$S$163,2,FALSE),0)","v":46}]
["04304-MONTE PATRIA","105318-CES. RURAL EL PALQUI",null,null,425,0,{"$f":"IFERROR(VLOOKUP($B139,'[1]Num 5'!$G$3:$I$164,2,FALSE),0)","v":349},null,{"$f":"IFERROR(VLOOKUP($B139,'[1]Num 5'!$Q$3:$S$163,2,FALSE),0)","v":76}]
["04304-MONTE PATRIA","105425-P.S.R. CHILECITO",null,null,48,0,{"$f":"IFERROR(VLOOKUP($B140,'[1]Num 5'!$G$3:$I$164,2,FALSE),0)","v":40},null,{"$f":"IFERROR(VLOOKUP($B140,'[1]Num 5'!$Q$3:$S$163,2,FALSE),0)","v":8}]
["04304-MONTE PATRIA","105427-P.S.R. HACIENDA VALDIVIA",null,null,40,0,{"$f":"IFERROR(VLOOKUP($B141,'[1]Num 5'!$G$3:$I$164,2,FALSE),0)","v":34},null,{"$f":"IFERROR(VLOOKUP($B141,'[1]Num 5'!$Q$3:$S$163,2,FALSE),0)","v":6}]
["04304-MONTE PATRIA","105428-P.S.R. HUATULAME",null,null,99,0,{"$f":"IFERROR(VLOOKUP($B142,'[1]Num 5'!$G$3:$I$164,2,FALSE),0)","v":72},null,{"$f":"IFERROR(VLOOKUP($B142,'[1]Num 5'!$Q$3:$S$163,2,FALSE),0)","v":27}]
["04304-MONTE PATRIA","105430-P.S.R. MIALQUI",null,null,66,0,{"$f":"IFERROR(VLOOKUP($B143,'[1]Num 5'!$G$3:$I$164,2,FALSE),0)","v":46},null,{"$f":"IFERROR(VLOOKUP($B143,'[1]Num 5'!$Q$3:$S$163,2,FALSE),0)","v":20}]
["04304-MONTE PATRIA","105431-P.S.R. PEDREGAL",null,null,69,0,{"$f":"IFERROR(VLOOKUP($B144,'[1]Num 5'!$G$3:$I$164,2,FALSE),0)","v":56},null,{"$f":"IFERROR(VLOOKUP($B144,'[1]Num 5'!$Q$3:$S$163,2,FALSE),0)","v":13}]
["04304-MONTE PATRIA","105432-P.S.R. RAPEL",null,null,114,0,{"$f":"IFERROR(VLOOKUP($B145,'[1]Num 5'!$G$3:$I$164,2,FALSE),0)","v":88},null,{"$f":"IFERROR(VLOOKUP($B145,'[1]Num 5'!$Q$3:$S$163,2,FALSE),0)","v":26}]
["04304-MONTE PATRIA","105435-P.S.R. TULAHUEN",null,null,70,0,{"$f":"IFERROR(VLOOKUP($B146,'[1]Num 5'!$G$3:$I$164,2,FALSE),0)","v":56},null,{"$f":"IFERROR(VLOOKUP($B146,'[1]Num 5'!$Q$3:$S$163,2,FALSE),0)","v":14}]
["04304-MONTE PATRIA","105436-P.S.R. EL MAITEN",null,null,33,0,{"$f":"IFERROR(VLOOKUP($B147,'[1]Num 5'!$G$3:$I$164,2,FALSE),0)","v":27},null,{"$f":"IFERROR(VLOOKUP($B147,'[1]Num 5'!$Q$3:$S$163,2,FALSE),0)","v":6}]
["04304-MONTE PATRIA","105489-P.S.R. RAMADAS DE TULAHUEN",null,null,17,0,{"$f":"IFERROR(VLOOKUP($B148,'[1]Num 5'!$G$3:$I$164,2,FALSE),0)","v":14},null,{"$f":"IFERROR(VLOOKUP($B148,'[1]Num 5'!$Q$3:$S$163,2,FALSE),0)","v":3}]
["TOTAL MONTE PATRIA",null,{"$f":"D149/Metas!M16","v":{"v":1.124638973244551,"d":"112.46%"}},{"$f":"E149/K149","v":{"v":0.29240613304358326,"d":"29.24%"}},{"$f":"SUM(E136:E148)","v":{"v":2422,"d":"2,422"}},0,{"v":1881,"d":"1,881"},0,541,0,{"v":8283,"d":"8,283"}]
["04304-PUNITAQUI","105308-CES. RURAL PUNITAQUI",null,null,{"$f":"G150+I150","v":809},{"$f":"H150+J150","v":0},{"$f":"IFERROR(VLOOKUP($B150,'[1]Num 5'!$G$3:$I$164,2,FALSE),0)","v":620},null,{"$f":"IFERROR(VLOOKUP($B150,'[1]Num 5'!$Q$3:$S$163,2,FALSE),0)","v":189}]
["04304-PUNITAQUI","105440-P.S.R. DIVISADERO",null,null,42,0,{"$f":"IFERROR(VLOOKUP($B151,'[1]Num 5'!$G$3:$I$164,2,FALSE),0)","v":29},null,{"$f":"IFERROR(VLOOKUP($B151,'[1]Num 5'!$Q$3:$S$163,2,FALSE),0)","v":13}]
["04304-PUNITAQUI","105442-P.S.R. SAN PEDRO DE QUILES",null,null,26,0,{"$f":"IFERROR(VLOOKUP($B152,'[1]Num 5'!$G$3:$I$164,2,FALSE),0)","v":20},null,{"$f":"IFERROR(VLOOKUP($B152,'[1]Num 5'!$Q$3:$S$163,2,FALSE),0)","v":6}]
["04304-PUNITAQUI","105508-P.S.R. EL PARRAL DE QUILES  ",null,null,11,0,{"$f":"IFERROR(VLOOKUP($B153,'[1]Num 5'!$G$3:$I$164,2,FALSE),0)","v":9},null,{"$f":"IFERROR(VLOOKUP($B153,'[1]Num 5'!$Q$3:$S$163,2,FALSE),0)","v":2}]
["TOTAL PUNITAQUI",null,{"$f":"D154/Metas!M17","v":{"v":0.9068627450980392,"d":"90.69%"}},{"$f":"E154/K154","v":{"v":0.27205882352941174,"d":"27.21%"}},{"$f":"SUM(E150:E153)","v":888},0,678,0,210,0,{"v":3264,"d":"3,264"}]
["04305-RIO HURTADO","105310-CES. RURAL PICHASCA",null,null,{"$f":"G155+I155","v":178},{"$f":"H155+J155","v":0},{"$f":"IFERROR(VLOOKUP($B155,'[1]Num 5'!$G$3:$I$164,2,FALSE),0)","v":140},null,{"$f":"IFERROR(VLOOKUP($B155,'[1]Num 5'!$Q$3:$S$163,2,FALSE),0)","v":38}]
["04305-RIO HURTADO","105409-P.S.R. EL CHAÑAR",null,null,46,{"$f":"H156+J156","v":0},{"$f":"IFERROR(VLOOKUP($B156,'[1]Num 5'!$G$3:$I$164,2,FALSE),0)","v":32},null,{"$f":"IFERROR(VLOOKUP($B156,'[1]Num 5'!$Q$3:$S$163,2,FALSE),0)","v":14}]
["04305-RIO HURTADO","105410-P.S.R. HURTADO",null,null,57,0,{"$f":"IFERROR(VLOOKUP($B157,'[1]Num 5'!$G$3:$I$164,2,FALSE),0)","v":47},null,{"$f":"IFERROR(VLOOKUP($B157,'[1]Num 5'!$Q$3:$S$163,2,FALSE),0)","v":10}]
["04305-RIO HURTADO","105411-P.S.R. LAS BREAS",null,null,34,0,{"$f":"IFERROR(VLOOKUP($B158,'[1]Num 5'!$G$3:$I$164,2,FALSE),0)","v":25},null,{"$f":"IFERROR(VLOOKUP($B158,'[1]Num 5'!$Q$3:$S$163,2,FALSE),0)","v":9}]
["04305-RIO HURTADO","105413-P.S.R. SAMO ALTO",null,null,70,0,{"$f":"IFERROR(VLOOKUP($B159,'[1]Num 5'!$G$3:$I$164,2,FALSE),0)","v":50},null,{"$f":"IFERROR(VLOOKUP($B159,'[1]Num 5'!$Q$3:$S$163,2,FALSE),0)","v":20}]
["04305-RIO HURTADO","105414-P.S.R. SERON",null,null,67,0,{"$f":"IFERROR(VLOOKUP($B160,'[1]Num 5'!$G$3:$I$164,2,FALSE),0)","v":51},null,{"$f":"IFERROR(VLOOKUP($B160,'[1]Num 5'!$Q$3:$S$163,2,FALSE),0)","v":16}]
["04305-RIO HURTADO","105503-P.S.R. TABAQUEROS",null,null,27,0,{"$f":"IFERROR(VLOOKUP($B161,'[1]Num 5'!$G$3:$I$164,2,FALSE),0)","v":18},null,{"$f":"IFERROR(VLOOKUP($B161,'[1]Num 5'!$Q$3:$S$163,2,FALSE),0)","v":9}]
["TOTAL RIO HURTADO",null,{"$f":"D162/Metas!M18","v":{"v":1.1270323051222324,"d":"112.70%"}},{"$f":"E162/K162","v":{"v":0.34938001458789203,"d":"34.94%"}},{"$f":"SUM(E155:E161)","v":479},0,363,0,116,0,{"v":1371,"d":"1,371"}]

{"sheet":"Meta 06","index":8,"n_rows":162,"n_cols":30,"rows_kept":162,"merged":[[0,0,9,0],[0,1,9,1],[0,2,10,2],[0,3,9,3],[0,4,0,29],[1,4,8,16],[1,17,8,29],[9,4,9,16],[9,17,9,29],[25,0,25,1],[38,0,38,1],[43,0,43,1],[48,0,48,1],[59,0,59,1],[74,0,74,1],[85,0,85,1],[91,0,91,1],[102,0,102,1],[121,0,121,1],[134,0,134,1],[148,0,148,1],[153,0,153,1],[161,0,161,1]]}
["COMUNA","ESTABLECIMIENTO","CUMPLIMIENTO","Indicador","META 6: LACTANCIA MATERNA EXCLUSIVA (LME) EN MENORES DE 6 MESES DE VIDA"]
[{"$nulls":4},"NUMERADOR",{"$nulls":12},"DENOMINADOR"]
{"$rows_empty":7}
[{"$nulls":4},"Nº de niños y niñas que al control de salud del sexto mes recibieorn LME ",{"$nulls":12},"Nº de menores con control de salud del sexto mes "]
[{"$nulls":3},"Resultado","ENERO","FEBRERO","MARZO","ABRIL","MAYO","JUNIO","JULIO","AGOSTO","SEPBRE","OCTUBRE","NOVBRE","DICBRE","TOTAL","ENERO","FEBRERO","MARZO","ABRIL","MAYO","JUNIO","JULIO","AGOSTO","SEPBRE","OCTUBRE","NOVBRE","DICBRE","TOTAL"]
["04101-LA SERENA","105300-CES. CARDENAL CARO",null,null,{"$f":"IFERROR(VLOOKUP($B12,'[1]Num 6'!$G$3:$O$130,2,FALSE),0)","v":4},{"$f":"IFERROR(VLOOKUP($B12,'[1]Num 6'!$G$3:$O$130,3,FALSE),0)","v":6},{"$f":"IFERROR(VLOOKUP($B12,'[1]Num 6'!$G$3:$O$130,4,FALSE),0)","v":10},{"$f":"IFERROR(VLOOKUP($B12,'[1]Num 6'!$G$3:$O$130,5,FALSE),0)","v":11},{"$f":"IFERROR(VLOOKUP($B12,'[1]Num 6'!$G$3:$O$130,6,FALSE),0)","v":10},{"$f":"IFERROR(VLOOKUP($B12,'[1]Num 6'!$G$3:$O$130,7,FALSE),0)","v":8},{"$f":"IFERROR(VLOOKUP($B12,'[1]Num 6'!$G$3:$O$130,8,FALSE),0)","v":7},{"$nulls":5},{"$f":"SUM(E12:P12)","v":56},{"$f":"IFERROR(VLOOKUP($B12,'[1]Den 6'!$G$3:$O$138,2,FALSE),0)","v":5},{"$f":"IFERROR(VLOOKUP($B12,'[1]Den 6'!$G$3:$O$138,3,FALSE),0)","v":11},{"$f":"IFERROR(VLOOKUP($B12,'[1]Den 6'!$G$3:$O$138,4,FALSE),0)","v":18},{"$f":"IFERROR(VLOOKUP($B12,'[1]Den 6'!$G$3:$O$138,5,FALSE),0)","v":17},{"$f":"IFERROR(VLOOKUP($B12,'[1]Den 6'!$G$3:$O$138,6,FALSE),0)","v":14},{"$f":"IFERROR(VLOOKUP($B12,'[1]Den 6'!$G$3:$O$138,7,FALSE),0)","v":9},{"$f":"IFERROR(VLOOKUP($B12,'[1]Den 6'!$G$3:$O$138,8,FALSE),0)","v":12},{"$nulls":5},{"$f":"SUM(R12:AC12)","v":86}]
["04101-LA SERENA","105301-CES. LAS COMPAÑIAS",null,null,{"$f":"IFERROR(VLOOKUP($B13,'[1]Num 6'!$G$3:$O$130,2,FALSE),0)","v":8},{"$f":"IFERROR(VLOOKUP($B13,'[1]Num 6'!$G$3:$O$130,3,FALSE),0)","v":0},{"$f":"IFERROR(VLOOKUP($B13,'[1]Num 6'!$G$3:$O$130,4,FALSE),0)","v":8},{"$f":"IFERROR(VLOOKUP($B13,'[1]Num 6'!$G$3:$O$130,5,FALSE),0)","v":3},{"$f":"IFERROR(VLOOKUP($B13,'[1]Num 6'!$G$3:$O$130,6,FALSE),0)","v":7},{"$f":"IFERROR(VLOOKUP($B13,'[1]Num 6'!$G$3:$O$130,7,FALSE),0)","v":6},{"$f":"IFERROR(VLOOKUP($B13,'[1]Num 6'!$G$3:$O$130,8,FALSE),0)","v":7},{"$nulls":5},39,{"$f":"IFERROR(VLOOKUP($B13,'[1]Den 6'!$G$3:$O$138,2,FALSE),0)","v":10},{"$f":"IFERROR(VLOOKUP($B13,'[1]Den 6'!$G$3:$O$138,3,FALSE),0)","v":2},{"$f":"IFERROR(VLOOKUP($B13,'[1]Den 6'!$G$3:$O$138,4,FALSE),0)","v":16},{"$f":"IFERROR(VLOOKUP($B13,'[1]Den 6'!$G$3:$O$138,5,FALSE),0)","v":3},{"$f":"IFERROR(VLOOKUP($B13,'[1]Den 6'!$G$3:$O$138,6,FALSE),0)","v":15},{"$f":"IFERROR(VLOOKUP($B13,'[1]Den 6'!$G$3:$O$138,7,FALSE),0)","v":9},{"$f":"IFERROR(VLOOKUP($B13,'[1]Den 6'!$G$3:$O$138,8,FALSE),0)","v":7},{"$nulls":5},62]
["04101-LA SERENA","105302-CES. PEDRO AGUIRRE C.",null,null,{"$f":"IFERROR(VLOOKUP($B14,'[1]Num 6'!$G$3:$O$130,2,FALSE),0)","v":9},{"$f":"IFERROR(VLOOKUP($B14,'[1]Num 6'!$G$3:$O$130,3,FALSE),0)","v":5},{"$f":"IFERROR(VLOOKUP($B14,'[1]Num 6'!$G$3:$O$130,4,FALSE),0)","v":11},{"$f":"IFERROR(VLOOKUP($B14,'[1]Num 6'!$G$3:$O$130,5,FALSE),0)","v":13},{"$f":"IFERROR(VLOOKUP($B14,'[1]Num 6'!$G$3:$O$130,6,FALSE),0)","v":13},{"$f":"IFERROR(VLOOKUP($B14,'[1]Num 6'!$G$3:$O$130,7,FALSE),0)","v":11},{"$f":"IFERROR(VLOOKUP($B14,'[1]Num 6'!$G$3:$O$130,8,FALSE),0)","v":12},{"$nulls":5},74,{"$f":"IFERROR(VLOOKUP($B14,'[1]Den 6'!$G$3:$O$138,2,FALSE),0)","v":15},{"$f":"IFERROR(VLOOKUP($B14,'[1]Den 6'!$G$3:$O$138,3,FALSE),0)","v":8},{"$f":"IFERROR(VLOOKUP($B14,'[1]Den 6'!$G$3:$O$138,4,FALSE),0)","v":17},{"$f":"IFERROR(VLOOKUP($B14,'[1]Den 6'!$G$3:$O$138,5,FALSE),0)","v":21},{"$f":"IFERROR(VLOOKUP($B14,'[1]Den 6'!$G$3:$O$138,6,FALSE),0)","v":19},{"$f":"IFERROR(VLOOKUP($B14,'[1]Den 6'!$G$3:$O$138,7,FALSE),0)","v":17},{"$f":"IFERROR(VLOOKUP($B14,'[1]Den 6'!$G$3:$O$138,8,FALSE),0)","v":20},{"$nulls":5},117]
["04101-LA SERENA","105313-CES. SCHAFFHAUSER",null,null,{"$f":"IFERROR(VLOOKUP($B15,'[1]Num 6'!$G$3:$O$130,2,FALSE),0)","v":8},{"$f":"IFERROR(VLOOKUP($B15,'[1]Num 6'!$G$3:$O$130,3,FALSE),0)","v":9},{"$f":"IFERROR(VLOOKUP($B15,'[1]Num 6'!$G$3:$O$130,4,FALSE),0)","v":11},{"$f":"IFERROR(VLOOKUP($B15,'[1]Num 6'!$G$3:$O$130,5,FALSE),0)","v":8},{"$f":"IFERROR(VLOOKUP($B15,'[1]Num 6'!$G$3:$O$130,6,FALSE),0)","v":18},{"$f":"IFERROR(VLOOKUP($B15,'[1]Num 6'!$G$3:$O$130,7,FALSE),0)","v":19},{"$f":"IFERROR(VLOOKUP($B15,'[1]Num 6'!$G$3:$O$130,8,FALSE),0)","v":7},{"$nulls":5},80,{"$f":"IFERROR(VLOOKUP($B15,'[1]Den 6'!$G$3:$O$138,2,FALSE),0)","v":14},{"$f":"IFERROR(VLOOKUP($B15,'[1]Den 6'!$G$3:$O$138,3,FALSE),0)","v":12},{"$f":"IFERROR(VLOOKUP($B15,'[1]Den 6'!$G$3:$O$138,4,FALSE),0)","v":14},{"$f":"IFERROR(VLOOKUP($B15,'[1]Den 6'!$G$3:$O$138,5,FALSE),0)","v":16},{"$f":"IFERROR(VLOOKUP($B15,'[1]Den 6'!$G$3:$O$138,6,FALSE),0)","v":27},{"$f":"IFERROR(VLOOKUP($B15,'[1]Den 6'!$G$3:$O$138,7,FALSE),0)","v":22},{"$f":"IFERROR(VLOOKUP($B15,'[1]Den 6'!$G$3:$O$138,8,FALSE),0)","v":9},{"$nulls":5},114]
["04101-LA SERENA","105319-CES. CARDENAL R.S.H.",null,null,{"$f":"IFERROR(VLOOKUP($B16,'[1]Num 6'!$G$3:$O$130,2,FALSE),0)","v":9},{"$f":"IFERROR(VLOOKUP($B16,'[1]Num 6'!$G$3:$O$130,3,FALSE),0)","v":13},{"$f":"IFERROR(VLOOKUP($B16,'[1]Num 6'!$G$3:$O$130,4,FALSE),0)","v":10},{"$f":"IFERROR(VLOOKUP($B16,'[1]Num 6'!$G$3:$O$130,5,FALSE),0)","v":14},{"$f":"IFERROR(VLOOKUP($B16,'[1]Num 6'!$G$3:$O$130,6,FALSE),0)","v":9},{"$f":"IFERROR(VLOOKUP($B16,'[1]Num 6'!$G$3:$O$130,7,FALSE),0)","v":7},{"$f":"IFERROR(VLOOKUP($B16,'[1]Num 6'!$G$3:$O$130,8,FALSE),0)","v":5},{"$nulls":5},67,{"$f":"IFERROR(VLOOKUP($B16,'[1]Den 6'!$G$3:$O$138,2,FALSE),0)","v":12},{"$f":"IFERROR(VLOOKUP($B16,'[1]Den 6'!$G$3:$O$138,3,FALSE),0)","v":17},{"$f":"IFERROR(VLOOKUP($B16,'[1]Den 6'!$G$3:$O$138,4,FALSE),0)","v":11},{"$f":"IFERROR(VLOOKUP($B16,'[1]Den 6'!$G$3:$O$138,5,FALSE),0)","v":16},{"$f":"IFERROR(VLOOKUP($B16,'[1]Den 6'!$G$3:$O$138,6,FALSE),0)","v":16},{"$f":"IFERROR(VLOOKUP($B16,'[1]Den 6'!$G$3:$O$138,7,FALSE),0)","v":18},{"$f":"IFERROR(VLOOKUP($B16,'[1]Den 6'!$G$3:$O$138,8,FALSE),0)","v":8},{"$nulls":5},98]
["04101-LA SERENA","105325-CESFAM JUAN PABLO II",null,null,{"$f":"IFERROR(VLOOKUP($B17,'[1]Num 6'!$G$3:$O$130,2,FALSE),0)","v":6},{"$f":"IFERROR(VLOOKUP($B17,'[1]Num 6'!$G$3:$O$130,3,FALSE),0)","v":10},{"$f":"IFERROR(VLOOKUP($B17,'[1]Num 6'!$G$3:$O$130,4,FALSE),0)","v":5},{"$f":"IFERROR(VLOOKUP($B17,'[1]Num 6'!$G$3:$O$130,5,FALSE),0)","v":13},{"$f":"IFERROR(VLOOKUP($B17,'[1]Num 6'!$G$3:$O$130,6,FALSE),0)","v":10},{"$f":"IFERROR(VLOOKUP($B17,'[1]Num 6'!$G$3:$O$130,7,FALSE),0)","v":2},{"$f":"IFERROR(VLOOKUP($B17,'[1]Num 6'!$G$3:$O$130,8,FALSE),0)","v":12},{"$nulls":5},58,{"$f":"IFERROR(VLOOKUP($B17,'[1]Den 6'!$G$3:$O$138,2,FALSE),0)","v":14},{"$f":"IFERROR(VLOOKUP($B17,'[1]Den 6'!$G$3:$O$138,3,FALSE),0)","v":15},{"$f":"IFERROR(VLOOKUP($B17,'[1]Den 6'!$G$3:$O$138,4,FALSE),0)","v":21},{"$f":"IFERROR(VLOOKUP($B17,'[1]Den 6'!$G$3:$O$138,5,FALSE),0)","v":29},{"$f":"IFERROR(VLOOKUP($B17,'[1]Den 6'!$G$3:$O$138,6,FALSE),0)","v":18},{"$f":"IFERROR(VLOOKUP($B17,'[1]Den 6'!$G$3:$O$138,7,FALSE),0)","v":12},{"$f":"IFERROR(VLOOKUP($B17,'[1]Den 6'!$G$3:$O$138,8,FALSE),0)","v":22},{"$nulls":5},131]
["04101-LA SERENA","105400-P.S.R. ALGARROBITO            ",null,null,{"$f":"IFERROR(VLOOKUP($B18,'[1]Num 6'!$G$3:$O$130,2,FALSE),0)","v":0},{"$f":"IFERROR(VLOOKUP($B18,'[1]Num 6'!$G$3:$O$130,3,FALSE),0)","v":0},{"$f":"IFERROR(VLOOKUP($B18,'[1]Num 6'!$G$3:$O$130,4,FALSE),0)","v":1},{"$f":"IFERROR(VLOOKUP($B18,'[1]Num 6'!$G$3:$O$130,5,FALSE),0)","v":0},{"$f":"IFERROR(VLOOKUP($B18,'[1]Num 6'!$G$3:$O$130,6,FALSE),0)","v":0},{"$f":"IFERROR(VLOOKUP($B18,'[1]Num 6'!$G$3:$O$130,7,FALSE),0)","v":0},{"$f":"IFERROR(VLOOKUP($B18,'[1]Num 6'!$G$3:$O$130,8,FALSE),0)","v":0},{"$nulls":5},1,{"$f":"IFERROR(VLOOKUP($B18,'[1]Den 6'!$G$3:$O$138,2,FALSE),0)","v":0},{"$f":"IFERROR(VLOOKUP($B18,'[1]Den 6'!$G$3:$O$138,3,FALSE),0)","v":0},{"$f":"IFERROR(VLOOKUP($B18,'[1]Den 6'!$G$3:$O$138,4,FALSE),0)","v":1},{"$f":"IFERROR(VLOOKUP($B18,'[1]Den 6'!$G$3:$O$138,5,FALSE),0)","v":0},{"$f":"IFERROR(VLOOKUP($B18,'[1]Den 6'!$G$3:$O$138,6,FALSE),0)","v":0},{"$f":"IFERROR(VLOOKUP($B18,'[1]Den 6'!$G$3:$O$138,7,FALSE),0)","v":0},{"$f":"IFERROR(VLOOKUP($B18,'[1]Den 6'!$G$3:$O$138,8,FALSE),0)","v":0},{"$nulls":5},1]
["04101-LA SERENA","105401-P.S.R. LAS ROJAS",null,null,{"$f":"IFERROR(VLOOKUP($B19,'[1]Num 6'!$G$3:$O$130,2,FALSE),0)","v":0},{"$f":"IFERROR(VLOOKUP($B19,'[1]Num 6'!$G$3:$O$130,3,FALSE),0)","v":0},{"$f":"IFERROR(VLOOKUP($B19,'[1]Num 6'!$G$3:$O$130,4,FALSE),0)","v":0},{"$f":"IFERROR(VLOOKUP($B19,'[1]Num 6'!$G$3:$O$130,5,FALSE),0)","v":0},{"$f":"IFERROR(VLOOKUP($B19,'[1]Num 6'!$G$3:$O$130,6,FALSE),0)","v":1},{"$f":"IFERROR(VLOOKUP($B19,'[1]Num 6'!$G$3:$O$130,7,FALSE),0)","v":0},{"$f":"IFERROR(VLOOKUP($B19,'[1]Num 6'!$G$3:$O$130,8,FALSE),0)","v":0},{"$nulls":5},1,{"$f":"IFERROR(VLOOKUP($B19,'[1]Den 6'!$G$3:$O$138,2,FALSE),0)","v":0},{"$f":"IFERROR(VLOOKUP($B19,'[1]Den 6'!$G$3:$O$138,3,FALSE),0)","v":0},{"$f":"IFERROR(VLOOKUP($B19,'[1]Den 6'!$G$3:$O$138,4,FALSE),0)","v":0},{"$f":"IFERROR(VLOOKUP($B19,'[1]Den 6'!$G$3:$O$138,5,FALSE),0)","v":0},{"$f":"IFERROR(VLOOKUP($B19,'[1]Den 6'!$G$3:$O$138,6,FALSE),0)","v":1},{"$f":"IFERROR(VLOOKUP($B19,'[1]Den 6'!$G$3:$O$138,7,FALSE),0)","v":0},{"$f":"IFERROR(VLOOKUP($B19,'[1]Den 6'!$G$3:$O$138,8,FALSE),0)","v":0},{"$nulls":5},1]
["04101-LA SERENA","105402-P.S.R. EL ROMERO",null,null,{"$f":"IFERROR(VLOOKUP($B20,'[1]Num 6'!$G$3:$O$130,2,FALSE),0)","v":0},{"$f":"IFERROR(VLOOKUP($B20,'[1]Num 6'!$G$3:$O$130,3,FALSE),0)","v":0},{"$f":"IFERROR(VLOOKUP($B20,'[1]Num 6'!$G$3:$O$130,4,FALSE),0)","v":2},{"$f":"IFERROR(VLOOKUP($B20,'[1]Num 6'!$G$3:$O$130,5,FALSE),0)","v":0},{"$f":"IFERROR(VLOOKUP($B20,'[1]Num 6'!$G$3:$O$130,6,FALSE),0)","v":0},{"$f":"IFERROR(VLOOKUP($B20,'[1]Num 6'!$G$3:$O$130,7,FALSE),0)","v":1},{"$f":"IFERROR(VLOOKUP($B20,'[1]Num 6'!$G$3:$O$130,8,FALSE),0)","v":1},{"$nulls":5},4,{"$f":"IFERROR(VLOOKUP($B20,'[1]Den 6'!$G$3:$O$138,2,FALSE),0)","v":0},{"$f":"IFERROR(VLOOKUP($B20,'[1]Den 6'!$G$3:$O$138,3,FALSE),0)","v":0},{"$f":"IFERROR(VLOOKUP($B20,'[1]Den 6'!$G$3:$O$138,4,FALSE),0)","v":2},{"$f":"IFERROR(VLOOKUP($B20,'[1]Den 6'!$G$3:$O$138,5,FALSE),0)","v":0},{"$f":"IFERROR(VLOOKUP($B20,'[1]Den 6'!$G$3:$O$138,6,FALSE),0)","v":0},{"$f":"IFERROR(VLOOKUP($B20,'[1]Den 6'!$G$3:$O$138,7,FALSE),0)","v":1},{"$f":"IFERROR(VLOOKUP($B20,'[1]Den 6'!$G$3:$O$138,8,FALSE),0)","v":2},{"$nulls":5},5]
["04101-LA SERENA","105499-P.S.R. LAMBERT",null,null,{"$f":"IFERROR(VLOOKUP($B21,'[1]Num 6'!$G$3:$O$130,2,FALSE),0)","v":1},{"$f":"IFERROR(VLOOKUP($B21,'[1]Num 6'!$G$3:$O$130,3,FALSE),0)","v":0},{"$f":"IFERROR(VLOOKUP($B21,'[1]Num 6'!$G$3:$O$130,4,FALSE),0)","v":0},{"$f":"IFERROR(VLOOKUP($B21,'[1]Num 6'!$G$3:$O$130,5,FALSE),0)","v":0},{"$f":"IFERROR(VLOOKUP($B21,'[1]Num 6'!$G$3:$O$130,6,FALSE),0)","v":0},{"$f":"IFERROR(VLOOKUP($B21,'[1]Num 6'!$G$3:$O$130,7,FALSE),0)","v":0},{"$f":"IFERROR(VLOOKUP($B21,'[1]Num 6'!$G$3:$O$130,8,FALSE),0)","v":0},{"$nulls":5},1,{"$f":"IFERROR(VLOOKUP($B21,'[1]Den 6'!$G$3:$O$138,2,FALSE),0)","v":1},{"$f":"IFERROR(VLOOKUP($B21,'[1]Den 6'!$G$3:$O$138,3,FALSE),0)","v":0},{"$f":"IFERROR(VLOOKUP($B21,'[1]Den 6'!$G$3:$O$138,4,FALSE),0)","v":0},{"$f":"IFERROR(VLOOKUP($B21,'[1]Den 6'!$G$3:$O$138,5,FALSE),0)","v":1},{"$f":"IFERROR(VLOOKUP($B21,'[1]Den 6'!$G$3:$O$138,6,FALSE),0)","v":0},{"$f":"IFERROR(VLOOKUP($B21,'[1]Den 6'!$G$3:$O$138,7,FALSE),0)","v":0},{"$f":"IFERROR(VLOOKUP($B21,'[1]Den 6'!$G$3:$O$138,8,FALSE),0)","v":0},{"$nulls":5},2]
["04101-LA SERENA","105700-CECOF VILLA EL INDIO",null,null,{"$f":"IFERROR(VLOOKUP($B22,'[1]Num 6'!$G$3:$O$130,2,FALSE),0)","v":1},{"$f":"IFERROR(VLOOKUP($B22,'[1]Num 6'!$G$3:$O$130,3,FALSE),0)","v":0},{"$f":"IFERROR(VLOOKUP($B22,'[1]Num 6'!$G$3:$O$130,4,FALSE),0)","v":0},{"$f":"IFERROR(VLOOKUP($B22,'[1]Num 6'!$G$3:$O$130,5,FALSE),0)","v":1},{"$f":"IFERROR(VLOOKUP($B22,'[1]Num 6'!$G$3:$O$130,6,FALSE),0)","v":0},{"$f":"IFERROR(VLOOKUP($B22,'[1]Num 6'!$G$3:$O$130,7,FALSE),0)","v":0},{"$f":"IFERROR(VLOOKUP($B22,'[1]Num 6'!$G$3:$O$130,8,FALSE),0)","v":0},{"$nulls":5},2,{"$f":"IFERROR(VLOOKUP($B22,'[1]Den 6'!$G$3:$O$138,2,FALSE),0)","v":1},{"$f":"IFERROR(VLOOKUP($B22,'[1]Den 6'!$G$3:$O$138,3,FALSE),0)","v":0},{"$f":"IFERROR(VLOOKUP($B22,'[1]Den 6'!$G$3:$O$138,4,FALSE),0)","v":0},{"$f":"IFERROR(VLOOKUP($B22,'[1]Den 6'!$G$3:$O$138,5,FALSE),0)","v":1},{"$f":"IFERROR(VLOOKUP($B22,'[1]Den 6'!$G$3:$O$138,6,FALSE),0)","v":0},{"$f":"IFERROR(VLOOKUP($B22,'[1]Den 6'!$G$3:$O$138,7,FALSE),0)","v":0},{"$f":"IFERROR(VLOOKUP($B22,'[1]Den 6'!$G$3:$O$138,8,FALSE),0)","v":0},{"$nulls":5},2]
["04101-LA SERENA","105701-CECOF VILLA ALEMANIA",null,null,{"$f":"IFERROR(VLOOKUP($B23,'[1]Num 6'!$G$3:$O$130,2,FALSE),0)","v":0},{"$f":"IFERROR(VLOOKUP($B23,'[1]Num 6'!$G$3:$O$130,3,FALSE),0)","v":0},{"$f":"IFERROR(VLOOKUP($B23,'[1]Num 6'!$G$3:$O$130,4,FALSE),0)","v":0},{"$f":"IFERROR(VLOOKUP($B23,'[1]Num 6'!$G$3:$O$130,5,FALSE),0)","v":0},{"$f":"IFERROR(VLOOKUP($B23,'[1]Num 6'!$G$3:$O$130,6,FALSE),0)","v":0},{"$f":"IFERROR(VLOOKUP($B23,'[1]Num 6'!$G$3:$O$130,7,FALSE),0)","v":0},{"$f":"IFERROR(VLOOKUP($B23,'[1]Num 6'!$G$3:$O$130,8,FALSE),0)","v":0},{"$nulls":5},0,{"$f":"IFERROR(VLOOKUP($B23,'[1]Den 6'!$G$3:$O$138,2,FALSE),0)","v":0},{"$f":"IFERROR(VLOOKUP($B23,'[1]Den 6'!$G$3:$O$138,3,FALSE),0)","v":0},{"$f":"IFERROR(VLOOKUP($B23,'[1]Den 6'!$G$3:$O$138,4,FALSE),0)","v":2},{"$f":"IFERROR(VLOOKUP($B23,'[1]Den 6'!$G$3:$O$138,5,FALSE),0)","v":0},{"$f":"IFERROR(VLOOKUP($B23,'[1]Den 6'!$G$3:$O$138,6,FALSE),0)","v":0},{"$f":"IFERROR(VLOOKUP($B23,'[1]Den 6'!$G$3:$O$138,7,FALSE),0)","v":0},{"$f":"IFERROR(VLOOKUP($B23,'[1]Den 6'!$G$3:$O$138,8,FALSE),0)","v":3},{"$nulls":5},5]
["04101-LA SERENA","105702-CECOF VILLA LAMBERT",null,null,{"$f":"IFERROR(VLOOKUP($B24,'[1]Num 6'!$G$3:$O$130,2,FALSE),0)","v":0},{"$f":"IFERROR(VLOOKUP($B24,'[1]Num 6'!$G$3:$O$130,3,FALSE),0)","v":0},{"$f":"IFERROR(VLOOKUP($B24,'[1]Num 6'!$G$3:$O$130,4,FALSE),0)","v":0},{"$f":"IFERROR(VLOOKUP($B24,'[1]Num 6'!$G$3:$O$130,5,FALSE),0)","v":0},{"$f":"IFERROR(VLOOKUP($B24,'[1]Num 6'!$G$3:$O$130,6,FALSE),0)","v":0},{"$f":"IFERROR(VLOOKUP($B24,'[1]Num 6'!$G$3:$O$130,7,FALSE),0)","v":0},{"$f":"IFERROR(VLOOKUP($B24,'[1]Num 6'!$G$3:$O$130,8,FALSE),0)","v":0},{"$nulls":5},0,{"$f":"IFERROR(VLOOKUP($B24,'[1]Den 6'!$G$3:$O$138,2,FALSE),0)","v":0},{"$f":"IFERROR(VLOOKUP($B24,'[1]Den 6'!$G$3:$O$138,3,FALSE),0)","v":0},{"$f":"IFERROR(VLOOKUP($B24,'[1]Den 6'!$G$3:$O$138,4,FALSE),0)","v":1},{"$f":"IFERROR(VLOOKUP($B24,'[1]Den 6'!$G$3:$O$138,5,FALSE),0)","v":0},{"$f":"IFERROR(VLOOKUP($B24,'[1]Den 6'!$G$3:$O$138,6,FALSE),0)","v":0},{"$f":"IFERROR(VLOOKUP($B24,'[1]Den 6'!$G$3:$O$138,7,FALSE),0)","v":4},{"$f":"IFERROR(VLOOKUP($B24,'[1]Den 6'!$G$3:$O$138,8,FALSE),0)","v":0},{"$nulls":5},5]
["04101-LA SERENA","200402-CECOF ARCOS DE PINAMAR",null,null,{"$f":"IFERROR(VLOOKUP($B25,'[1]Num 6'!$G$3:$O$130,2,FALSE),0)","v":5},{"$f":"IFERROR(VLOOKUP($B25,'[1]Num 6'!$G$3:$O$130,3,FALSE),0)","v":0},{"$f":"IFERROR(VLOOKUP($B25,'[1]Num 6'!$G$3:$O$130,4,FALSE),0)","v":0},{"$f":"IFERROR(VLOOKUP($B25,'[1]Num 6'!$G$3:$O$130,5,FALSE),0)","v":0},{"$f":"IFERROR(VLOOKUP($B25,'[1]Num 6'!$G$3:$O$130,6,FALSE),0)","v":0},{"$f":"IFERROR(VLOOKUP($B25,'[1]Num 6'!$G$3:$O$130,7,FALSE),0)","v":0},{"$f":"IFERROR(VLOOKUP($B25,'[1]Num 6'!$G$3:$O$130,8,FALSE),0)","v":1},{"$nulls":5},{"$f":"SUM(E25:P25)","v":6},{"$f":"IFERROR(VLOOKUP($B25,'[1]Den 6'!$G$3:$O$138,2,FALSE),0)","v":7},{"$f":"IFERROR(VLOOKUP($B25,'[1]Den 6'!$G$3:$O$138,3,FALSE),0)","v":0},{"$f":"IFERROR(VLOOKUP($B25,'[1]Den 6'!$G$3:$O$138,4,FALSE),0)","v":0},{"$f":"IFERROR(VLOOKUP($B25,'[1]Den 6'!$G$3:$O$138,5,FALSE),0)","v":0},{"$f":"IFERROR(VLOOKUP($B25,'[1]Den 6'!$G$3:$O$138,6,FALSE),0)","v":0},{"$f":"IFERROR(VLOOKUP($B25,'[1]Den 6'!$G$3:$O$138,7,FALSE),0)","v":0},{"$f":"IFERROR(VLOOKUP($B25,'[1]Den 6'!$G$3:$O$138,8,FALSE),0)","v":2},{"$nulls":5},{"$f":"SUM(R25:AC25)","v":9}]
["TOTAL LA SERENA",null,{"$f":"D26/Metas!N5","v":{"v":1.0161964472309302,"d":"101.62%"}},{"$f":"Q26/AD26","v":{"v":0.609717868338558,"d":"60.97%"}},{"$f":"SUM(E12:E25)","v":51},{"$f":"SUM(F12:F25)","v":43},58,63,68,54,52,0,0,0,0,{"$f":"SUM(P12:P25)","v":0},{"$f":"SUM(Q12:Q25)","v":389},79,65,103,104,110,92,85,0,0,0,0,0,638]
["04102-COQUIMBO","105303-CES. SAN JUAN",null,null,{"$f":"IFERROR(VLOOKUP($B27,'[1]Num 6'!$G$3:$O$130,2,FALSE),0)","v":5},{"$f":"IFERROR(VLOOKUP($B27,'[1]Num 6'!$G$3:$O$130,3,FALSE),0)","v":14},{"$f":"IFERROR(VLOOKUP($B27,'[1]Num 6'!$G$3:$O$130,4,FALSE),0)","v":9},{"$f":"IFERROR(VLOOKUP($B27,'[1]Num 6'!$G$3:$O$130,5,FALSE),0)","v":9},{"$f":"IFERROR(VLOOKUP($B27,'[1]Num 6'!$G$3:$O$130,6,FALSE),0)","v":10},{"$f":"IFERROR(VLOOKUP($B27,'[1]Num 6'!$G$3:$O$130,7,FALSE),0)","v":8},{"$f":"IFERROR(VLOOKUP($B27,'[1]Num 6'!$G$3:$O$130,8,FALSE),0)","v":13},{"$nulls":5},{"$f":"SUM(E27:P27)","v":68},{"$f":"IFERROR(VLOOKUP($B27,'[1]Den 6'!$G$3:$O$138,2,FALSE),0)","v":14},{"$f":"IFERROR(VLOOKUP($B27,'[1]Den 6'!$G$3:$O$138,3,FALSE),0)","v":20},{"$f":"IFERROR(VLOOKUP($B27,'[1]Den 6'!$G$3:$O$138,4,FALSE),0)","v":15},{"$f":"IFERROR(VLOOKUP($B27,'[1]Den 6'!$G$3:$O$138,5,FALSE),0)","v":18},{"$f":"IFERROR(VLOOKUP($B27,'[1]Den 6'!$G$3:$O$138,6,FALSE),0)","v":17},{"$f":"IFERROR(VLOOKUP($B27,'[1]Den 6'!$G$3:$O$138,7,FALSE),0)","v":18},{"$f":"IFERROR(VLOOKUP($B27,'[1]Den 6'!$G$3:$O$138,8,FALSE),0)","v":20},{"$nulls":5},122]
["04102-COQUIMBO","105304-CES. SANTA CECILIA",null,null,{"$f":"IFERROR(VLOOKUP($B28,'[1]Num 6'!$G$3:$O$130,2,FALSE),0)","v":6},{"$f":"IFERROR(VLOOKUP($B28,'[1]Num 6'!$G$3:$O$130,3,FALSE),0)","v":2},{"$f":"IFERROR(VLOOKUP($B28,'[1]Num 6'!$G$3:$O$130,4,FALSE),0)","v":11},{"$f":"IFERROR(VLOOKUP($B28,'[1]Num 6'!$G$3:$O$130,5,FALSE),0)","v":6},{"$f":"IFERROR(VLOOKUP($B28,'[1]Num 6'!$G$3:$O$130,6,FALSE),0)","v":9},{"$f":"IFERROR(VLOOKUP($B28,'[1]Num 6'!$G$3:$O$130,7,FALSE),0)","v":6},{"$f":"IFERROR(VLOOKUP($B28,'[1]Num 6'!$G$3:$O$130,8,FALSE),0)","v":7},{"$nulls":5},47,{"$f":"IFERROR(VLOOKUP($B28,'[1]Den 6'!$G$3:$O$138,2,FALSE),0)","v":17},{"$f":"IFERROR(VLOOKUP($B28,'[1]Den 6'!$G$3:$O$138,3,FALSE),0)","v":15},{"$f":"IFERROR(VLOOKUP($B28,'[1]Den 6'!$G$3:$O$138,4,FALSE),0)","v":23},{"$f":"IFERROR(VLOOKUP($B28,'[1]Den 6'!$G$3:$O$138,5,FALSE),0)","v":16},{"$f":"IFERROR(VLOOKUP($B28,'[1]Den 6'!$G$3:$O$138,6,FALSE),0)","v":16},{"$f":"IFERROR(VLOOKUP($B28,'[1]Den 6'!$G$3:$O$138,7,FALSE),0)","v":12},{"$f":"IFERROR(VLOOKUP($B28,'[1]Den 6'!$G$3:$O$138,8,FALSE),0)","v":14},{"$nulls":5},113]
["04102-COQUIMBO","105305-CES. TIERRAS BLANCAS",null,null,{"$f":"IFERROR(VLOOKUP($B29,'[1]Num 6'!$G$3:$O$130,2,FALSE),0)","v":6},{"$f":"IFERROR(VLOOKUP($B29,'[1]Num 6'!$G$3:$O$130,3,FALSE),0)","v":7},{"$f":"IFERROR(VLOOKUP($B29,'[1]Num 6'!$G$3:$O$130,4,FALSE),0)","v":16},{"$f":"IFERROR(VLOOKUP($B29,'[1]Num 6'!$G$3:$O$130,5,FALSE),0)","v":15},{"$f":"IFERROR(VLOOKUP($B29,'[1]Num 6'!$G$3:$O$130,6,FALSE),0)","v":12},{"$f":"IFERROR(VLOOKUP($B29,'[1]Num 6'!$G$3:$O$130,7,FALSE),0)","v":14},{"$f":"IFERROR(VLOOKUP($B29,'[1]Num 6'!$G$3:$O$130,8,FALSE),0)","v":5},{"$nulls":5},75,{"$f":"IFERROR(VLOOKUP($B29,'[1]Den 6'!$G$3:$O$138,2,FALSE),0)","v":15},{"$f":"IFERROR(VLOOKUP($B29,'[1]Den 6'!$G$3:$O$138,3,FALSE),0)","v":10},{"$f":"IFERROR(VLOOKUP($B29,'[1]Den 6'!$G$3:$O$138,4,FALSE),0)","v":23},{"$f":"IFERROR(VLOOKUP($B29,'[1]Den 6'!$G$3:$O$138,5,FALSE),0)","v":25},{"$f":"IFERROR(VLOOKUP($B29,'[1]Den 6'!$G$3:$O$138,6,FALSE),0)","v":21},{"$f":"IFERROR(VLOOKUP($B29,'[1]Den 6'!$G$3:$O$138,7,FALSE),0)","v":23},{"$f":"IFERROR(VLOOKUP($B29,'[1]Den 6'!$G$3:$O$138,8,FALSE),0)","v":17},{"$nulls":5},134]
["04102-COQUIMBO","105321-CES. RURAL  TONGOY",null,null,{"$f":"IFERROR(VLOOKUP($B30,'[1]Num 6'!$G$3:$O$130,2,FALSE),0)","v":0},{"$f":"IFERROR(VLOOKUP($B30,'[1]Num 6'!$G$3:$O$130,3,FALSE),0)","v":0},{"$f":"IFERROR(VLOOKUP($B30,'[1]Num 6'!$G$3:$O$130,4,FALSE),0)","v":3},{"$f":"IFERROR(VLOOKUP($B30,'[1]Num 6'!$G$3:$O$130,5,FALSE),0)","v":3},{"$f":"IFERROR(VLOOKUP($B30,'[1]Num 6'!$G$3:$O$130,6,FALSE),0)","v":2},{"$f":"IFERROR(VLOOKUP($B30,'[1]Num 6'!$G$3:$O$130,7,FALSE),0)","v":2},{"$f":"IFERROR(VLOOKUP($B30,'[1]Num 6'!$G$3:$O$130,8,FALSE),0)","v":5},{"$nulls":5},15,{"$f":"IFERROR(VLOOKUP($B30,'[1]Den 6'!$G$3:$O$138,2,FALSE),0)","v":5},{"$f":"IFERROR(VLOOKUP($B30,'[1]Den 6'!$G$3:$O$138,3,FALSE),0)","v":3},{"$f":"IFERROR(VLOOKUP($B30,'[1]Den 6'!$G$3:$O$138,4,FALSE),0)","v":8},{"$f":"IFERROR(VLOOKUP($B30,'[1]Den 6'!$G$3:$O$138,5,FALSE),0)","v":3},{"$f":"IFERROR(VLOOKUP($B30,'[1]Den 6'!$G$3:$O$138,6,FALSE),0)","v":9},{"$f":"IFERROR(VLOOKUP($B30,'[1]Den 6'!$G$3:$O$138,7,FALSE),0)","v":7},{"$f":"IFERROR(VLOOKUP($B30,'[1]Den 6'!$G$3:$O$138,8,FALSE),0)","v":7},{"$nulls":5},42]
["04102-COQUIMBO","105323-CES. DR. SERGIO AGUILAR",null,null,{"$f":"IFERROR(VLOOKUP($B31,'[1]Num 6'!$G$3:$O$130,2,FALSE),0)","v":12},{"$f":"IFERROR(VLOOKUP($B31,'[1]Num 6'!$G$3:$O$130,3,FALSE),0)","v":9},{"$f":"IFERROR(VLOOKUP($B31,'[1]Num 6'!$G$3:$O$130,4,FALSE),0)","v":8},{"$f":"IFERROR(VLOOKUP($B31,'[1]Num 6'!$G$3:$O$130,5,FALSE),0)","v":14},{"$f":"IFERROR(VLOOKUP($B31,'[1]Num 6'!$G$3:$O$130,6,FALSE),0)","v":4},{"$f":"IFERROR(VLOOKUP($B31,'[1]Num 6'!$G$3:$O$130,7,FALSE),0)","v":5},{"$f":"IFERROR(VLOOKUP($B31,'[1]Num 6'!$G$3:$O$130,8,FALSE),0)","v":8},{"$nulls":5},60,{"$f":"IFERROR(VLOOKUP($B31,'[1]Den 6'!$G$3:$O$138,2,FALSE),0)","v":24},{"$f":"IFERROR(VLOOKUP($B31,'[1]Den 6'!$G$3:$O$138,3,FALSE),0)","v":17},{"$f":"IFERROR(VLOOKUP($B31,'[1]Den 6'!$G$3:$O$138,4,FALSE),0)","v":21},{"$f":"IFERROR(VLOOKUP($B31,'[1]Den 6'!$G$3:$O$138,5,FALSE),0)","v":19},{"$f":"IFERROR(VLOOKUP($B31,'[1]Den 6'!$G$3:$O$138,6,FALSE),0)","v":4},{"$f":"IFERROR(VLOOKUP($B31,'[1]Den 6'!$G$3:$O$138,7,FALSE),0)","v":11},{"$f":"IFERROR(VLOOKUP($B31,'[1]Den 6'!$G$3:$O$138,8,FALSE),0)","v":13},{"$nulls":5},109]
["04102-COQUIMBO","105404-P.S.R. EL TANGUE                         ",null,null,{"$f":"IFERROR(VLOOKUP($B32,'[1]Num 6'!$G$3:$O$130,2,FALSE),0)","v":0},{"$f":"IFERROR(VLOOKUP($B32,'[1]Num 6'!$G$3:$O$130,3,FALSE),0)","v":0},{"$f":"IFERROR(VLOOKUP($B32,'[1]Num 6'!$G$3:$O$130,4,FALSE),0)","v":0},{"$f":"IFERROR(VLOOKUP($B32,'[1]Num 6'!$G$3:$O$130,5,FALSE),0)","v":0},{"$f":"IFERROR(VLOOKUP($B32,'[1]Num 6'!$G$3:$O$130,6,FALSE),0)","v":0},{"$f":"IFERROR(VLOOKUP($B32,'[1]Num 6'!$G$3:$O$130,7,FALSE),0)","v":0},{"$f":"IFERROR(VLOOKUP($B32,'[1]Num 6'!$G$3:$O$130,8,FALSE),0)","v":0},{"$nulls":5},0,{"$f":"IFERROR(VLOOKUP($B32,'[1]Den 6'!$G$3:$O$138,2,FALSE),0)","v":0},{"$f":"IFERROR(VLOOKUP($B32,'[1]Den 6'!$G$3:$O$138,3,FALSE),0)","v":0},{"$f":"IFERROR(VLOOKUP($B32,'[1]Den 6'!$G$3:$O$138,4,FALSE),0)","v":0},{"$f":"IFERROR(VLOOKUP($B32,'[1]Den 6'!$G$3:$O$138,5,FALSE),0)","v":0},{"$f":"IFERROR(VLOOKUP($B32,'[1]Den 6'!$G$3:$O$138,6,FALSE),0)","v":0},{"$f":"IFERROR(VLOOKUP($B32,'[1]Den 6'!$G$3:$O$138,7,FALSE),0)","v":0},{"$f":"IFERROR(VLOOKUP($B32,'[1]Den 6'!$G$3:$O$138,8,FALSE),0)","v":0},{"$nulls":5},0]
["04102-COQUIMBO","105405-P.S.R. GUANAQUEROS",null,null,{"$f":"IFERROR(VLOOKUP($B33,'[1]Num 6'!$G$3:$O$130,2,FALSE),0)","v":3},{"$f":"IFERROR(VLOOKUP($B33,'[1]Num 6'!$G$3:$O$130,3,FALSE),0)","v":0},{"$f":"IFERROR(VLOOKUP($B33,'[1]Num 6'!$G$3:$O$130,4,FALSE),0)","v":2},{"$f":"IFERROR(VLOOKUP($B33,'[1]Num 6'!$G$3:$O$130,5,FALSE),0)","v":1},{"$f":"IFERROR(VLOOKUP($B33,'[1]Num 6'!$G$3:$O$130,6,FALSE),0)","v":2},{"$f":"IFERROR(VLOOKUP($B33,'[1]Num 6'!$G$3:$O$130,7,FALSE),0)","v":0},{"$f":"IFERROR(VLOOKUP($B33,'[1]Num 6'!$G$3:$O$130,8,FALSE),0)","v":0},{"$nulls":5},8,{"$f":"IFERROR(VLOOKUP($B33,'[1]Den 6'!$G$3:$O$138,2,FALSE),0)","v":8},{"$f":"IFERROR(VLOOKUP($B33,'[1]Den 6'!$G$3:$O$138,3,FALSE),0)","v":1},{"$f":"IFERROR(VLOOKUP($B33,'[1]Den 6'!$G$3:$O$138,4,FALSE),0)","v":4},{"$f":"IFERROR(VLOOKUP($B33,'[1]Den 6'!$G$3:$O$138,5,FALSE),0)","v":2},{"$f":"IFERROR(VLOOKUP($B33,'[1]Den 6'!$G$3:$O$138,6,FALSE),0)","v":2},{"$f":"IFERROR(VLOOKUP($B33,'[1]Den 6'!$G$3:$O$138,7,FALSE),0)","v":5},{"$f":"IFERROR(VLOOKUP($B33,'[1]Den 6'!$G$3:$O$138,8,FALSE),0)","v":2},{"$nulls":5},24]
["04102-COQUIMBO","105407-P.S.R. TAMBILLOS",null,null,{"$f":"IFERROR(VLOOKUP($B34,'[1]Num 6'!$G$3:$O$130,2,FALSE),0)","v":0},{"$f":"IFERROR(VLOOKUP($B34,'[1]Num 6'!$G$3:$O$130,3,FALSE),0)","v":0},{"$f":"IFERROR(VLOOKUP($B34,'[1]Num 6'!$G$3:$O$130,4,FALSE),0)","v":0},{"$f":"IFERROR(VLOOKUP($B34,'[1]Num 6'!$G$3:$O$130,5,FALSE),0)","v":0},{"$f":"IFERROR(VLOOKUP($B34,'[1]Num 6'!$G$3:$O$130,6,FALSE),0)","v":0},{"$f":"IFERROR(VLOOKUP($B34,'[1]Num 6'!$G$3:$O$130,7,FALSE),0)","v":1},{"$f":"IFERROR(VLOOKUP($B34,'[1]Num 6'!$G$3:$O$130,8,FALSE),0)","v":1},{"$nulls":5},2,{"$f":"IFERROR(VLOOKUP($B34,'[1]Den 6'!$G$3:$O$138,2,FALSE),0)","v":0},{"$f":"IFERROR(VLOOKUP($B34,'[1]Den 6'!$G$3:$O$138,3,FALSE),0)","v":1},{"$f":"IFERROR(VLOOKUP($B34,'[1]Den 6'!$G$3:$O$138,4,FALSE),0)","v":0},{"$f":"IFERROR(VLOOKUP($B34,'[1]Den 6'!$G$3:$O$138,5,FALSE),0)","v":0},{"$f":"IFERROR(VLOOKUP($B34,'[1]Den 6'!$G$3:$O$138,6,FALSE),0)","v":0},{"$f":"IFERROR(VLOOKUP($B34,'[1]Den 6'!$G$3:$O$138,7,FALSE),0)","v":1},{"$f":"IFERROR(VLOOKUP($B34,'[1]Den 6'!$G$3:$O$138,8,FALSE),0)","v":1},{"$nulls":5},3]
["04102-COQUIMBO","200273-CECOF PUNTA MIRA",null,null,{"$f":"IFERROR(VLOOKUP($B35,'[1]Num 6'!$G$3:$O$130,2,FALSE),0)","v":1},{"$f":"IFERROR(VLOOKUP($B35,'[1]Num 6'!$G$3:$O$130,3,FALSE),0)","v":1},{"$f":"IFERROR(VLOOKUP($B35,'[1]Num 6'!$G$3:$O$130,4,FALSE),0)","v":0},{"$f":"IFERROR(VLOOKUP($B35,'[1]Num 6'!$G$3:$O$130,5,FALSE),0)","v":0},{"$f":"IFERROR(VLOOKUP($B35,'[1]Num 6'!$G$3:$O$130,6,FALSE),0)","v":0},{"$f":"IFERROR(VLOOKUP($B35,'[1]Num 6'!$G$3:$O$130,7,FALSE),0)","v":1},{"$f":"IFERROR(VLOOKUP($B35,'[1]Num 6'!$G$3:$O$130,8,FALSE),0)","v":0},{"$nulls":5},3,{"$f":"IFERROR(VLOOKUP($B35,'[1]Den 6'!$G$3:$O$138,2,FALSE),0)","v":2},{"$f":"IFERROR(VLOOKUP($B35,'[1]Den 6'!$G$3:$O$138,3,FALSE),0)","v":1},{"$f":"IFERROR(VLOOKUP($B35,'[1]Den 6'!$G$3:$O$138,4,FALSE),0)","v":0},{"$f":"IFERROR(VLOOKUP($B35,'[1]Den 6'!$G$3:$O$138,5,FALSE),0)","v":0},{"$f":"IFERROR(VLOOKUP($B35,'[1]Den 6'!$G$3:$O$138,6,FALSE),0)","v":0},{"$f":"IFERROR(VLOOKUP($B35,'[1]Den 6'!$G$3:$O$138,7,FALSE),0)","v":2},{"$f":"IFERROR(VLOOKUP($B35,'[1]Den 6'!$G$3:$O$138,8,FALSE),0)","v":0},{"$nulls":5},5]
["04102-COQUIMBO","200494-CESFAM EL SAUCE",null,null,{"$f":"IFERROR(VLOOKUP($B36,'[1]Num 6'!$G$3:$O$130,2,FALSE),0)","v":8},{"$f":"IFERROR(VLOOKUP($B36,'[1]Num 6'!$G$3:$O$130,3,FALSE),0)","v":7},{"$f":"IFERROR(VLOOKUP($B36,'[1]Num 6'!$G$3:$O$130,4,FALSE),0)","v":13},{"$f":"IFERROR(VLOOKUP($B36,'[1]Num 6'!$G$3:$O$130,5,FALSE),0)","v":15},{"$f":"IFERROR(VLOOKUP($B36,'[1]Num 6'!$G$3:$O$130,6,FALSE),0)","v":11},{"$f":"IFERROR(VLOOKUP($B36,'[1]Num 6'!$G$3:$O$130,7,FALSE),0)","v":14},{"$f":"IFERROR(VLOOKUP($B36,'[1]Num 6'!$G$3:$O$130,8,FALSE),0)","v":13},{"$nulls":5},{"$f":"SUM(E36:P36)","v":81},{"$f":"IFERROR(VLOOKUP($B36,'[1]Den 6'!$G$3:$O$138,2,FALSE),0)","v":16},{"$f":"IFERROR(VLOOKUP($B36,'[1]Den 6'!$G$3:$O$138,3,FALSE),0)","v":13},{"$f":"IFERROR(VLOOKUP($B36,'[1]Den 6'!$G$3:$O$138,4,FALSE),0)","v":29},{"$f":"IFERROR(VLOOKUP($B36,'[1]Den 6'!$G$3:$O$138,5,FALSE),0)","v":29},{"$f":"IFERROR(VLOOKUP($B36,'[1]Den 6'!$G$3:$O$138,6,FALSE),0)","v":17},{"$f":"IFERROR(VLOOKUP($B36,'[1]Den 6'!$G$3:$O$138,7,FALSE),0)","v":21},{"$f":"IFERROR(VLOOKUP($B36,'[1]Den 6'!$G$3:$O$138,8,FALSE),0)","v":20},{"$nulls":5},{"$f":"SUM(R36:AC36)","v":145}]
["04102-COQUIMBO","200499-CESFAM PAN DE AZÚCAR",null,null,{"$f":"IFERROR(VLOOKUP($B37,'[1]Num 6'!$G$3:$O$130,2,FALSE),0)","v":3},{"$f":"IFERROR(VLOOKUP($B37,'[1]Num 6'!$G$3:$O$130,3,FALSE),0)","v":3},{"$f":"IFERROR(VLOOKUP($B37,'[1]Num 6'!$G$3:$O$130,4,FALSE),0)","v":7},{"$f":"IFERROR(VLOOKUP($B37,'[1]Num 6'!$G$3:$O$130,5,FALSE),0)","v":6},{"$f":"IFERROR(VLOOKUP($B37,'[1]Num 6'!$G$3:$O$130,6,FALSE),0)","v":4},{"$f":"IFERROR(VLOOKUP($B37,'[1]Num 6'!$G$3:$O$130,7,FALSE),0)","v":6},{"$f":"IFERROR(VLOOKUP($B37,'[1]Num 6'!$G$3:$O$130,8,FALSE),0)","v":5},{"$nulls":5},{"$f":"SUM(E37:P37)","v":34},{"$f":"IFERROR(VLOOKUP($B37,'[1]Den 6'!$G$3:$O$138,2,FALSE),0)","v":4},{"$f":"IFERROR(VLOOKUP($B37,'[1]Den 6'!$G$3:$O$138,3,FALSE),0)","v":10},{"$f":"IFERROR(VLOOKUP($B37,'[1]Den 6'!$G$3:$O$138,4,FALSE),0)","v":11},{"$f":"IFERROR(VLOOKUP($B37,'[1]Den 6'!$G$3:$O$138,5,FALSE),0)","v":7},{"$f":"IFERROR(VLOOKUP($B37,'[1]Den 6'!$G$3:$O$138,6,FALSE),0)","v":7},{"$f":"IFERROR(VLOOKUP($B37,'[1]Den 6'!$G$3:$O$138,7,FALSE),0)","v":10},{"$f":"IFERROR(VLOOKUP($B37,'[1]Den 6'!$G$3:$O$138,8,FALSE),0)","v":11},{"$nulls":5},{"$f":"SUM(R37:AC37)","v":60}]
["04102-COQUIMBO","200607-CESFAM LILA CORTES",null,null,{"$f":"IFERROR(VLOOKUP($B38,'[1]Num 6'!$G$3:$O$130,2,FALSE),0)","v":13},{"$f":"IFERROR(VLOOKUP($B38,'[1]Num 6'!$G$3:$O$130,3,FALSE),0)","v":10},{"$f":"IFERROR(VLOOKUP($B38,'[1]Num 6'!$G$3:$O$130,4,FALSE),0)","v":12},{"$f":"IFERROR(VLOOKUP($B38,'[1]Num 6'!$G$3:$O$130,5,FALSE),0)","v":7},{"$f":"IFERROR(VLOOKUP($B38,'[1]Num 6'!$G$3:$O$130,6,FALSE),0)","v":10},{"$f":"IFERROR(VLOOKUP($B38,'[1]Num 6'!$G$3:$O$130,7,FALSE),0)","v":11},{"$f":"IFERROR(VLOOKUP($B38,'[1]Num 6'!$G$3:$O$130,8,FALSE),0)","v":13},{"$nulls":5},{"$f":"SUM(E38:P38)","v":76},{"$f":"IFERROR(VLOOKUP($B38,'[1]Den 6'!$G$3:$O$138,2,FALSE),0)","v":18},{"$f":"IFERROR(VLOOKUP($B38,'[1]Den 6'!$G$3:$O$138,3,FALSE),0)","v":16},{"$f":"IFERROR(VLOOKUP($B38,'[1]Den 6'!$G$3:$O$138,4,FALSE),0)","v":16},{"$f":"IFERROR(VLOOKUP($B38,'[1]Den 6'!$G$3:$O$138,5,FALSE),0)","v":12},{"$f":"IFERROR(VLOOKUP($B38,'[1]Den 6'!$G$3:$O$138,6,FALSE),0)","v":16},{"$f":"IFERROR(VLOOKUP($B38,'[1]Den 6'!$G$3:$O$138,7,FALSE),0)","v":24},{"$f":"IFERROR(VLOOKUP($B38,'[1]Den 6'!$G$3:$O$138,8,FALSE),0)","v":21},{"$nulls":5},{"$f":"SUM(R38:AC38)","v":123}]
["TOTAL COQUIMBO",null,{"$f":"D39/Metas!N6","v":{"v":0.8882575757575758,"d":"88.83%"}},{"$f":"Q39/AD39","v":{"v":0.5329545454545455,"d":"53.30%"}},{"$f":"SUM(E27:E38)","v":57},53,81,76,64,68,70,0,0,0,0,0,469,123,107,150,131,109,134,126,0,0,0,0,0,880]
["04104-LA HIGUERA","105314-CES. LA HIGUERA",null,null,{"$f":"IFERROR(VLOOKUP($B40,'[1]Num 6'!$G$3:$O$130,2,FALSE),0)","v":0},{"$f":"IFERROR(VLOOKUP($B40,'[1]Num 6'!$G$3:$O$130,3,FALSE),0)","v":0},{"$f":"IFERROR(VLOOKUP($B40,'[1]Num 6'!$G$3:$O$130,4,FALSE),0)","v":2},{"$f":"IFERROR(VLOOKUP($B40,'[1]Num 6'!$G$3:$O$130,5,FALSE),0)","v":0},{"$f":"IFERROR(VLOOKUP($B40,'[1]Num 6'!$G$3:$O$130,6,FALSE),0)","v":0},{"$f":"IFERROR(VLOOKUP($B40,'[1]Num 6'!$G$3:$O$130,7,FALSE),0)","v":0},{"$f":"IFERROR(VLOOKUP($B40,'[1]Num 6'!$G$3:$O$130,8,FALSE),0)","v":0},{"$nulls":5},{"$f":"SUM(E40:P40)","v":2},{"$f":"IFERROR(VLOOKUP($B40,'[1]Den 6'!$G$3:$O$138,2,FALSE),0)","v":0},{"$f":"IFERROR(VLOOKUP($B40,'[1]Den 6'!$G$3:$O$138,3,FALSE),0)","v":3},{"$f":"IFERROR(VLOOKUP($B40,'[1]Den 6'!$G$3:$O$138,4,FALSE),0)","v":2},{"$f":"IFERROR(VLOOKUP($B40,'[1]Den 6'!$G$3:$O$138,5,FALSE),0)","v":0},{"$f":"IFERROR(VLOOKUP($B40,'[1]Den 6'!$G$3:$O$138,6,FALSE),0)","v":0},{"$f":"IFERROR(VLOOKUP($B40,'[1]Den 6'!$G$3:$O$138,7,FALSE),0)","v":1},{"$f":"IFERROR(VLOOKUP($B40,'[1]Den 6'!$G$3:$O$138,8,FALSE),0)","v":1},{"$nulls":5},{"$f":"SUM(R40:AC40)","v":7}]
["04104-LA HIGUERA","105500-P.S.R. CALETA HORNOS        ",null,null,{"$f":"IFERROR(VLOOKUP($B41,'[1]Num 6'!$G$3:$O$130,2,FALSE),0)","v":1},{"$f":"IFERROR(VLOOKUP($B41,'[1]Num 6'!$G$3:$O$130,3,FALSE),0)","v":0},{"$f":"IFERROR(VLOOKUP($B41,'[1]Num 6'!$G$3:$O$130,4,FALSE),0)","v":0},{"$f":"IFERROR(VLOOKUP($B41,'[1]Num 6'!$G$3:$O$130,5,FALSE),0)","v":0},{"$f":"IFERROR(VLOOKUP($B41,'[1]Num 6'!$G$3:$O$130,6,FALSE),0)","v":0},{"$f":"IFERROR(VLOOKUP($B41,'[1]Num 6'!$G$3:$O$130,7,FALSE),0)","v":1},{"$f":"IFERROR(VLOOKUP($B41,'[1]Num 6'!$G$3:$O$130,8,FALSE),0)","v":0},{"$nulls":5},{"$f":"SUM(E41:P41)","v":2},{"$f":"IFERROR(VLOOKUP($B41,'[1]Den 6'!$G$3:$O$138,2,FALSE),0)","v":2},{"$f":"IFERROR(VLOOKUP($B41,'[1]Den 6'!$G$3:$O$138,3,FALSE),0)","v":0},{"$f":"IFERROR(VLOOKUP($B41,'[1]Den 6'!$G$3:$O$138,4,FALSE),0)","v":0},{"$f":"IFERROR(VLOOKUP($B41,'[1]Den 6'!$G$3:$O$138,5,FALSE),0)","v":0},{"$f":"IFERROR(VLOOKUP($B41,'[1]Den 6'!$G$3:$O$138,6,FALSE),0)","v":0},{"$f":"IFERROR(VLOOKUP($B41,'[1]Den 6'!$G$3:$O$138,7,FALSE),0)","v":1},{"$f":"IFERROR(VLOOKUP($B41,'[1]Den 6'!$G$3:$O$138,8,FALSE),0)","v":1},{"$nulls":5},{"$f":"SUM(R41:AC41)","v":4}]
["04104-LA HIGUERA","105505-P.S.R. LOS CHOROS",null,null,{"$f":"IFERROR(VLOOKUP($B42,'[1]Num 6'!$G$3:$O$130,2,FALSE),0)","v":0},{"$f":"IFERROR(VLOOKUP($B42,'[1]Num 6'!$G$3:$O$130,3,FALSE),0)","v":0},{"$f":"IFERROR(VLOOKUP($B42,'[1]Num 6'!$G$3:$O$130,4,FALSE),0)","v":0},{"$f":"IFERROR(VLOOKUP($B42,'[1]Num 6'!$G$3:$O$130,5,FALSE),0)","v":0},{"$f":"IFERROR(VLOOKUP($B42,'[1]Num 6'!$G$3:$O$130,6,FALSE),0)","v":0},{"$f":"IFERROR(VLOOKUP($B42,'[1]Num 6'!$G$3:$O$130,7,FALSE),0)","v":0},{"$f":"IFERROR(VLOOKUP($B42,'[1]Num 6'!$G$3:$O$130,8,FALSE),0)","v":0},{"$nulls":5},{"$f":"SUM(E42:P42)","v":0},{"$f":"IFERROR(VLOOKUP($B42,'[1]Den 6'!$G$3:$O$138,2,FALSE),0)","v":0},{"$f":"IFERROR(VLOOKUP($B42,'[1]Den 6'!$G$3:$O$138,3,FALSE),0)","v":0},{"$f":"IFERROR(VLOOKUP($B42,'[1]Den 6'!$G$3:$O$138,4,FALSE),0)","v":0},{"$f":"IFERROR(VLOOKUP($B42,'[1]Den 6'!$G$3:$O$138,5,FALSE),0)","v":0},{"$f":"IFERROR(VLOOKUP($B42,'[1]Den 6'!$G$3:$O$138,6,FALSE),0)","v":0},{"$f":"IFERROR(VLOOKUP($B42,'[1]Den 6'!$G$3:$O$138,7,FALSE),0)","v":0},{"$f":"IFERROR(VLOOKUP($B42,'[1]Den 6'!$G$3:$O$138,8,FALSE),0)","v":0},{"$nulls":5},{"$f":"SUM(R42:AC42)","v":0}]
["04104-LA HIGUERA","105506-P.S.R. EL TRAPICHE",null,null,{"$f":"IFERROR(VLOOKUP($B43,'[1]Num 6'!$G$3:$O$130,2,FALSE),0)","v":1},{"$f":"IFERROR(VLOOKUP($B43,'[1]Num 6'!$G$3:$O$130,3,FALSE),0)","v":0},{"$f":"IFERROR(VLOOKUP($B43,'[1]Num 6'!$G$3:$O$130,4,FALSE),0)","v":0},{"$f":"IFERROR(VLOOKUP($B43,'[1]Num 6'!$G$3:$O$130,5,FALSE),0)","v":1},{"$f":"IFERROR(VLOOKUP($B43,'[1]Num 6'!$G$3:$O$130,6,FALSE),0)","v":0},{"$f":"IFERROR(VLOOKUP($B43,'[1]Num 6'!$G$3:$O$130,7,FALSE),0)","v":0},{"$f":"IFERROR(VLOOKUP($B43,'[1]Num 6'!$G$3:$O$130,8,FALSE),0)","v":0},{"$nulls":5},{"$f":"SUM(E43:P43)","v":2},{"$f":"IFERROR(VLOOKUP($B43,'[1]Den 6'!$G$3:$O$138,2,FALSE),0)","v":1},{"$f":"IFERROR(VLOOKUP($B43,'[1]Den 6'!$G$3:$O$138,3,FALSE),0)","v":1},{"$f":"IFERROR(VLOOKUP($B43,'[1]Den 6'!$G$3:$O$138,4,FALSE),0)","v":0},{"$f":"IFERROR(VLOOKUP($B43,'[1]Den 6'!$G$3:$O$138,5,FALSE),0)","v":1},{"$f":"IFERROR(VLOOKUP($B43,'[1]Den 6'!$G$3:$O$138,6,FALSE),0)","v":0},{"$f":"IFERROR(VLOOKUP($B43,'[1]Den 6'!$G$3:$O$138,7,FALSE),0)","v":0},{"$f":"IFERROR(VLOOKUP($B43,'[1]Den 6'!$G$3:$O$138,8,FALSE),0)","v":0},{"$nulls":5},{"$f":"SUM(R43:AC43)","v":3}]
["TOTAL LA HIGUERA",null,{"$f":"D44/Metas!N7","v":{"v":0.7142857142857143,"d":"71.43%"}},{"$f":"Q44/AD44","v":{"v":0.42857142857142855,"d":"42.86%"}},{"$f":"SUM(E40:E43)","v":2},{"$f":"SUM(F40:F43)","v":0},{"$f":"SUM(G40:G43)","v":2},{"$f":"SUM(H40:H43)","v":1},{"$f":"SUM(I40:I43)","v":0},1,0,0,0,0,0,{"$f":"SUM(P40:P43)","v":0},6,3,4,2,1,0,2,2,0,0,0,{"$f":"SUM(AB40:AB43)","v":0},{"$f":"SUM(AC40:AC43)","v":0},{"$f":"SUM(AD40:AD43)","v":14}]
["04105-PAIHUANO","105306-CES. PAIHUANO",null,null,{"$f":"IFERROR(VLOOKUP($B45,'[1]Num 6'!$G$3:$O$130,2,FALSE),0)","v":4},{"$f":"IFERROR(VLOOKUP($B45,'[1]Num 6'!$G$3:$O$130,3,FALSE),0)","v":0},{"$f":"IFERROR(VLOOKUP($B45,'[1]Num 6'!$G$3:$O$130,4,FALSE),0)","v":1},{"$f":"IFERROR(VLOOKUP($B45,'[1]Num 6'!$G$3:$O$130,5,FALSE),0)","v":0},{"$f":"IFERROR(VLOOKUP($B45,'[1]Num 6'!$G$3:$O$130,6,FALSE),0)","v":0},{"$f":"IFERROR(VLOOKUP($B45,'[1]Num 6'!$G$3:$O$130,7,FALSE),0)","v":3},{"$f":"IFERROR(VLOOKUP($B45,'[1]Num 6'!$G$3:$O$130,8,FALSE),0)","v":0},{"$nulls":5},{"$f":"SUM(E45:P45)","v":8},{"$f":"IFERROR(VLOOKUP($B45,'[1]Den 6'!$G$3:$O$138,2,FALSE),0)","v":6},{"$f":"IFERROR(VLOOKUP($B45,'[1]Den 6'!$G$3:$O$138,3,FALSE),0)","v":1},{"$f":"IFERROR(VLOOKUP($B45,'[1]Den 6'!$G$3:$O$138,4,FALSE),0)","v":1},{"$f":"IFERROR(VLOOKUP($B45,'[1]Den 6'!$G$3:$O$138,5,FALSE),0)","v":1},{"$f":"IFERROR(VLOOKUP($B45,'[1]Den 6'!$G$3:$O$138,6,FALSE),0)","v":0},{"$f":"IFERROR(VLOOKUP($B45,'[1]Den 6'!$G$3:$O$138,7,FALSE),0)","v":3},{"$f":"IFERROR(VLOOKUP($B45,'[1]Den 6'!$G$3:$O$138,8,FALSE),0)","v":1},{"$nulls":5},{"$f":"SUM(R45:AC45)","v":13}]
["04105-PAIHUANO","105475-P.S.R. HORCON",null,null,{"$f":"IFERROR(VLOOKUP($B46,'[1]Num 6'!$G$3:$O$130,2,FALSE),0)","v":0},{"$f":"IFERROR(VLOOKUP($B46,'[1]Num 6'!$G$3:$O$130,3,FALSE),0)","v":1},{"$f":"IFERROR(VLOOKUP($B46,'[1]Num 6'!$G$3:$O$130,4,FALSE),0)","v":0},{"$f":"IFERROR(VLOOKUP($B46,'[1]Num 6'!$G$3:$O$130,5,FALSE),0)","v":0},{"$f":"IFERROR(VLOOKUP($B46,'[1]Num 6'!$G$3:$O$130,6,FALSE),0)","v":0},{"$f":"IFERROR(VLOOKUP($B46,'[1]Num 6'!$G$3:$O$130,7,FALSE),0)","v":0},{"$f":"IFERROR(VLOOKUP($B46,'[1]Num 6'!$G$3:$O$130,8,FALSE),0)","v":0},{"$nulls":5},{"$f":"SUM(E46:P46)","v":1},{"$f":"IFERROR(VLOOKUP($B46,'[1]Den 6'!$G$3:$O$138,2,FALSE),0)","v":1},{"$f":"IFERROR(VLOOKUP($B46,'[1]Den 6'!$G$3:$O$138,3,FALSE),0)","v":2},{"$f":"IFERROR(VLOOKUP($B46,'[1]Den 6'!$G$3:$O$138,4,FALSE),0)","v":0},{"$f":"IFERROR(VLOOKUP($B46,'[1]Den 6'!$G$3:$O$138,5,FALSE),0)","v":0},{"$f":"IFERROR(VLOOKUP($B46,'[1]Den 6'!$G$3:$O$138,6,FALSE),0)","v":0},{"$f":"IFERROR(VLOOKUP($B46,'[1]Den 6'!$G$3:$O$138,7,FALSE),0)","v":0},{"$f":"IFERROR(VLOOKUP($B46,'[1]Den 6'!$G$3:$O$138,8,FALSE),0)","v":0},{"$nulls":5},{"$f":"SUM(R46:AC46)","v":3}]
["04105-PAIHUANO","105476-P.S.R. MONTE GRANDE",null,null,{"$f":"IFERROR(VLOOKUP($B47,'[1]Num 6'!$G$3:$O$130,2,FALSE),0)","v":0},{"$f":"IFERROR(VLOOKUP($B47,'[1]Num 6'!$G$3:$O$130,3,FALSE),0)","v":0},{"$f":"IFERROR(VLOOKUP($B47,'[1]Num 6'!$G$3:$O$130,4,FALSE),0)","v":0},{"$f":"IFERROR(VLOOKUP($B47,'[1]Num 6'!$G$3:$O$130,5,FALSE),0)","v":0},{"$f":"IFERROR(VLOOKUP($B47,'[1]Num 6'!$G$3:$O$130,6,FALSE),0)","v":0},{"$f":"IFERROR(VLOOKUP($B47,'[1]Num 6'!$G$3:$O$130,7,FALSE),0)","v":1},{"$f":"IFERROR(VLOOKUP($B47,'[1]Num 6'!$G$3:$O$130,8,FALSE),0)","v":0},{"$nulls":5},{"$f":"SUM(E47:P47)","v":1},{"$f":"IFERROR(VLOOKUP($B47,'[1]Den 6'!$G$3:$O$138,2,FALSE),0)","v":0},{"$f":"IFERROR(VLOOKUP($B47,'[1]Den 6'!$G$3:$O$138,3,FALSE),0)","v":0},{"$f":"IFERROR(VLOOKUP($B47,'[1]Den 6'!$G$3:$O$138,4,FALSE),0)","v":0},{"$f":"IFERROR(VLOOKUP($B47,'[1]Den 6'!$G$3:$O$138,5,FALSE),0)","v":0},{"$f":"IFERROR(VLOOKUP($B47,'[1]Den 6'!$G$3:$O$138,6,FALSE),0)","v":0},{"$f":"IFERROR(VLOOKUP($B47,'[1]Den 6'!$G$3:$O$138,7,FALSE),0)","v":1},{"$f":"IFERROR(VLOOKUP($B47,'[1]Den 6'!$G$3:$O$138,8,FALSE),0)","v":0},{"$nulls":5},{"$f":"SUM(R47:AC47)","v":1}]
["04105-PAIHUANO","105477-P.S.R. PISCO ELQUI",null,null,{"$f":"IFERROR(VLOOKUP($B48,'[1]Num 6'!$G$3:$O$130,2,FALSE),0)","v":0},{"$f":"IFERROR(VLOOKUP($B48,'[1]Num 6'!$G$3:$O$130,3,FALSE),0)","v":0},{"$f":"IFERROR(VLOOKUP($B48,'[1]Num 6'!$G$3:$O$130,4,FALSE),0)","v":0},{"$f":"IFERROR(VLOOKUP($B48,'[1]Num 6'!$G$3:$O$130,5,FALSE),0)","v":0},{"$f":"IFERROR(VLOOKUP($B48,'[1]Num 6'!$G$3:$O$130,6,FALSE),0)","v":0},{"$f":"IFERROR(VLOOKUP($B48,'[1]Num 6'!$G$3:$O$130,7,FALSE),0)","v":1},{"$f":"IFERROR(VLOOKUP($B48,'[1]Num 6'!$G$3:$O$130,8,FALSE),0)","v":0},{"$nulls":5},{"$f":"SUM(E48:P48)","v":1},{"$f":"IFERROR(VLOOKUP($B48,'[1]Den 6'!$G$3:$O$138,2,FALSE),0)","v":0},{"$f":"IFERROR(VLOOKUP($B48,'[1]Den 6'!$G$3:$O$138,3,FALSE),0)","v":0},{"$f":"IFERROR(VLOOKUP($B48,'[1]Den 6'!$G$3:$O$138,4,FALSE),0)","v":0},{"$f":"IFERROR(VLOOKUP($B48,'[1]Den 6'!$G$3:$O$138,5,FALSE),0)","v":0},{"$f":"IFERROR(VLOOKUP($B48,'[1]Den 6'!$G$3:$O$138,6,FALSE),0)","v":0},{"$f":"IFERROR(VLOOKUP($B48,'[1]Den 6'!$G$3:$O$138,7,FALSE),0)","v":1},{"$f":"IFERROR(VLOOKUP($B48,'[1]Den 6'!$G$3:$O$138,8,FALSE),0)","v":1},{"$nulls":5},{"$f":"SUM(R48:AC48)","v":2}]
["TOTAL PAIHUANO",null,{"$f":"D49/Metas!N8","v":{"v":0.9649122807017545,"d":"96.49%"}},{"$f":"Q49/AD49","v":{"v":0.5789473684210527,"d":"57.89%"}},{"$f":"SUM(E45:E48)","v":4},{"$f":"SUM(F45:F48)","v":1},{"$f":"SUM(G45:G48)","v":1},{"$f":"SUM(H45:H48)","v":0},{"$f":"SUM(I45:I48)","v":0},5,0,0,0,0,0,{"$f":"SUM(P45:P48)","v":0},11,7,3,1,1,0,5,2,0,0,0,{"$f":"SUM(AB45:AB48)","v":0},{"$f":"SUM(AC45:AC48)","v":0},{"$f":"SUM(AD45:AD48)","v":19}]
["04106-VICUÑA","105467-P.S.R. DIAGUITAS",null,null,{"$f":"IFERROR(VLOOKUP($B50,'[1]Num 6'!$G$3:$O$130,2,FALSE),0)","v":1},{"$f":"IFERROR(VLOOKUP($B50,'[1]Num 6'!$G$3:$O$130,3,FALSE),0)","v":0},{"$f":"IFERROR(VLOOKUP($B50,'[1]Num 6'!$G$3:$O$130,4,FALSE),0)","v":2},{"$f":"IFERROR(VLOOKUP($B50,'[1]Num 6'!$G$3:$O$130,5,FALSE),0)","v":1},{"$f":"IFERROR(VLOOKUP($B50,'[1]Num 6'!$G$3:$O$130,6,FALSE),0)","v":0},{"$f":"IFERROR(VLOOKUP($B50,'[1]Num 6'!$G$3:$O$130,7,FALSE),0)","v":1},{"$f":"IFERROR(VLOOKUP($B50,'[1]Num 6'!$G$3:$O$130,8,FALSE),0)","v":0},{"$nulls":5},{"$f":"SUM(E50:P50)","v":5},{"$f":"IFERROR(VLOOKUP($B50,'[1]Den 6'!$G$3:$O$138,2,FALSE),0)","v":1},{"$f":"IFERROR(VLOOKUP($B50,'[1]Den 6'!$G$3:$O$138,3,FALSE),0)","v":0},{"$f":"IFERROR(VLOOKUP($B50,'[1]Den 6'!$G$3:$O$138,4,FALSE),0)","v":2},{"$f":"IFERROR(VLOOKUP($B50,'[1]Den 6'!$G$3:$O$138,5,FALSE),0)","v":1},{"$f":"IFERROR(VLOOKUP($B50,'[1]Den 6'!$G$3:$O$138,6,FALSE),0)","v":0},{"$f":"IFERROR(VLOOKUP($B50,'[1]Den 6'!$G$3:$O$138,7,FALSE),0)","v":1},{"$f":"IFERROR(VLOOKUP($B50,'[1]Den 6'!$G$3:$O$138,8,FALSE),0)","v":0},{"$nulls":5},5]
["04106-VICUÑA","105468-P.S.R. EL MOLLE",null,null,{"$f":"IFERROR(VLOOKUP($B51,'[1]Num 6'!$G$3:$O$130,2,FALSE),0)","v":1},{"$f":"IFERROR(VLOOKUP($B51,'[1]Num 6'!$G$3:$O$130,3,FALSE),0)","v":0},{"$f":"IFERROR(VLOOKUP($B51,'[1]Num 6'!$G$3:$O$130,4,FALSE),0)","v":0},{"$f":"IFERROR(VLOOKUP($B51,'[1]Num 6'!$G$3:$O$130,5,FALSE),0)","v":1},{"$f":"IFERROR(VLOOKUP($B51,'[1]Num 6'!$G$3:$O$130,6,FALSE),0)","v":1},{"$f":"IFERROR(VLOOKUP($B51,'[1]Num 6'!$G$3:$O$130,7,FALSE),0)","v":0},{"$f":"IFERROR(VLOOKUP($B51,'[1]Num 6'!$G$3:$O$130,8,FALSE),0)","v":1},{"$nulls":5},4,{"$f":"IFERROR(VLOOKUP($B51,'[1]Den 6'!$G$3:$O$138,2,FALSE),0)","v":1},{"$f":"IFERROR(VLOOKUP($B51,'[1]Den 6'!$G$3:$O$138,3,FALSE),0)","v":0},{"$f":"IFERROR(VLOOKUP($B51,'[1]Den 6'!$G$3:$O$138,4,FALSE),0)","v":0},{"$f":"IFERROR(VLOOKUP($B51,'[1]Den 6'!$G$3:$O$138,5,FALSE),0)","v":1},{"$f":"IFERROR(VLOOKUP($B51,'[1]Den 6'!$G$3:$O$138,6,FALSE),0)","v":1},{"$f":"IFERROR(VLOOKUP($B51,'[1]Den 6'!$G$3:$O$138,7,FALSE),0)","v":0},{"$f":"IFERROR(VLOOKUP($B51,'[1]Den 6'!$G$3:$O$138,8,FALSE),0)","v":1},{"$nulls":5},4]
["04106-VICUÑA","105469-P.S.R. EL TAMBO",null,null,{"$f":"IFERROR(VLOOKUP($B52,'[1]Num 6'!$G$3:$O$130,2,FALSE),0)","v":0},{"$f":"IFERROR(VLOOKUP($B52,'[1]Num 6'!$G$3:$O$130,3,FALSE),0)","v":0},{"$f":"IFERROR(VLOOKUP($B52,'[1]Num 6'!$G$3:$O$130,4,FALSE),0)","v":2},{"$f":"IFERROR(VLOOKUP($B52,'[1]Num 6'!$G$3:$O$130,5,FALSE),0)","v":0},{"$f":"IFERROR(VLOOKUP($B52,'[1]Num 6'!$G$3:$O$130,6,FALSE),0)","v":0},{"$f":"IFERROR(VLOOKUP($B52,'[1]Num 6'!$G$3:$O$130,7,FALSE),0)","v":0},{"$f":"IFERROR(VLOOKUP($B52,'[1]Num 6'!$G$3:$O$130,8,FALSE),0)","v":1},{"$nulls":5},3,{"$f":"IFERROR(VLOOKUP($B52,'[1]Den 6'!$G$3:$O$138,2,FALSE),0)","v":0},{"$f":"IFERROR(VLOOKUP($B52,'[1]Den 6'!$G$3:$O$138,3,FALSE),0)","v":0},{"$f":"IFERROR(VLOOKUP($B52,'[1]Den 6'!$G$3:$O$138,4,FALSE),0)","v":2},{"$f":"IFERROR(VLOOKUP($B52,'[1]Den 6'!$G$3:$O$138,5,FALSE),0)","v":0},{"$f":"IFERROR(VLOOKUP($B52,'[1]Den 6'!$G$3:$O$138,6,FALSE),0)","v":0},{"$f":"IFERROR(VLOOKUP($B52,'[1]Den 6'!$G$3:$O$138,7,FALSE),0)","v":0},{"$f":"IFERROR(VLOOKUP($B52,'[1]Den 6'!$G$3:$O$138,8,FALSE),0)","v":1},{"$nulls":5},3]
["04106-VICUÑA","105470-P.S.R. HUANTA",null,null,{"$f":"IFERROR(VLOOKUP($B53,'[1]Num 6'!$G$3:$O$130,2,FALSE),0)","v":0},{"$f":"IFERROR(VLOOKUP($B53,'[1]Num 6'!$G$3:$O$130,3,FALSE),0)","v":0},{"$f":"IFERROR(VLOOKUP($B53,'[1]Num 6'!$G$3:$O$130,4,FALSE),0)","v":0},{"$f":"IFERROR(VLOOKUP($B53,'[1]Num 6'!$G$3:$O$130,5,FALSE),0)","v":0},{"$f":"IFERROR(VLOOKUP($B53,'[1]Num 6'!$G$3:$O$130,6,FALSE),0)","v":0},{"$f":"IFERROR(VLOOKUP($B53,'[1]Num 6'!$G$3:$O$130,7,FALSE),0)","v":0},{"$f":"IFERROR(VLOOKUP($B53,'[1]Num 6'!$G$3:$O$130,8,FALSE),0)","v":0},{"$nulls":5},0,{"$f":"IFERROR(VLOOKUP($B53,'[1]Den 6'!$G$3:$O$138,2,FALSE),0)","v":0},{"$f":"IFERROR(VLOOKUP($B53,'[1]Den 6'!$G$3:$O$138,3,FALSE),0)","v":0},{"$f":"IFERROR(VLOOKUP($B53,'[1]Den 6'!$G$3:$O$138,4,FALSE),0)","v":0},{"$f":"IFERROR(VLOOKUP($B53,'[1]Den 6'!$G$3:$O$138,5,FALSE),0)","v":0},{"$f":"IFERROR(VLOOKUP($B53,'[1]Den 6'!$G$3:$O$138,6,FALSE),0)","v":0},{"$f":"IFERROR(VLOOKUP($B53,'[1]Den 6'!$G$3:$O$138,7,FALSE),0)","v":0},{"$f":"IFERROR(VLOOKUP($B53,'[1]Den 6'!$G$3:$O$138,8,FALSE),0)","v":0},{"$nulls":5},0]
["04106-VICUÑA","105471-P.S.R. PERALILLO",null,null,{"$f":"IFERROR(VLOOKUP($B54,'[1]Num 6'!$G$3:$O$130,2,FALSE),0)","v":1},{"$f":"IFERROR(VLOOKUP($B54,'[1]Num 6'!$G$3:$O$130,3,FALSE),0)","v":0},{"$f":"IFERROR(VLOOKUP($B54,'[1]Num 6'!$G$3:$O$130,4,FALSE),0)","v":3},{"$f":"IFERROR(VLOOKUP($B54,'[1]Num 6'!$G$3:$O$130,5,FALSE),0)","v":0},{"$f":"IFERROR(VLOOKUP($B54,'[1]Num 6'!$G$3:$O$130,6,FALSE),0)","v":0},{"$f":"IFERROR(VLOOKUP($B54,'[1]Num 6'!$G$3:$O$130,7,FALSE),0)","v":1},{"$f":"IFERROR(VLOOKUP($B54,'[1]Num 6'!$G$3:$O$130,8,FALSE),0)","v":2},{"$nulls":5},7,{"$f":"IFERROR(VLOOKUP($B54,'[1]Den 6'!$G$3:$O$138,2,FALSE),0)","v":1},{"$f":"IFERROR(VLOOKUP($B54,'[1]Den 6'!$G$3:$O$138,3,FALSE),0)","v":0},{"$f":"IFERROR(VLOOKUP($B54,'[1]Den 6'!$G$3:$O$138,4,FALSE),0)","v":3},{"$f":"IFERROR(VLOOKUP($B54,'[1]Den 6'!$G$3:$O$138,5,FALSE),0)","v":0},{"$f":"IFERROR(VLOOKUP($B54,'[1]Den 6'!$G$3:$O$138,6,FALSE),0)","v":0},{"$f":"IFERROR(VLOOKUP($B54,'[1]Den 6'!$G$3:$O$138,7,FALSE),0)","v":1},{"$f":"IFERROR(VLOOKUP($B54,'[1]Den 6'!$G$3:$O$138,8,FALSE),0)","v":2},{"$nulls":5},7]
["04106-VICUÑA","105472-P.S.R. RIVADAVIA",null,null,{"$f":"IFERROR(VLOOKUP($B55,'[1]Num 6'!$G$3:$O$130,2,FALSE),0)","v":0},{"$f":"IFERROR(VLOOKUP($B55,'[1]Num 6'!$G$3:$O$130,3,FALSE),0)","v":0},{"$f":"IFERROR(VLOOKUP($B55,'[1]Num 6'!$G$3:$O$130,4,FALSE),0)","v":0},{"$f":"IFERROR(VLOOKUP($B55,'[1]Num 6'!$G$3:$O$130,5,FALSE),0)","v":1},{"$f":"IFERROR(VLOOKUP($B55,'[1]Num 6'!$G$3:$O$130,6,FALSE),0)","v":3},{"$f":"IFERROR(VLOOKUP($B55,'[1]Num 6'!$G$3:$O$130,7,FALSE),0)","v":1},{"$f":"IFERROR(VLOOKUP($B55,'[1]Num 6'!$G$3:$O$130,8,FALSE),0)","v":2},{"$nulls":5},7,{"$f":"IFERROR(VLOOKUP($B55,'[1]Den 6'!$G$3:$O$138,2,FALSE),0)","v":0},{"$f":"IFERROR(VLOOKUP($B55,'[1]Den 6'!$G$3:$O$138,3,FALSE),0)","v":0},{"$f":"IFERROR(VLOOKUP($B55,'[1]Den 6'!$G$3:$O$138,4,FALSE),0)","v":0},{"$f":"IFERROR(VLOOKUP($B55,'[1]Den 6'!$G$3:$O$138,5,FALSE),0)","v":1},{"$f":"IFERROR(VLOOKUP($B55,'[1]Den 6'!$G$3:$O$138,6,FALSE),0)","v":3},{"$f":"IFERROR(VLOOKUP($B55,'[1]Den 6'!$G$3:$O$138,7,FALSE),0)","v":1},{"$f":"IFERROR(VLOOKUP($B55,'[1]Den 6'!$G$3:$O$138,8,FALSE),0)","v":3},{"$nulls":5},8]
["04106-VICUÑA","105473-P.S.R. TALCUNA",null,null,{"$f":"IFERROR(VLOOKUP($B56,'[1]Num 6'!$G$3:$O$130,2,FALSE),0)","v":0},{"$f":"IFERROR(VLOOKUP($B56,'[1]Num 6'!$G$3:$O$130,3,FALSE),0)","v":0},{"$f":"IFERROR(VLOOKUP($B56,'[1]Num 6'!$G$3:$O$130,4,FALSE),0)","v":0},{"$f":"IFERROR(VLOOKUP($B56,'[1]Num 6'!$G$3:$O$130,5,FALSE),0)","v":1},{"$f":"IFERROR(VLOOKUP($B56,'[1]Num 6'!$G$3:$O$130,6,FALSE),0)","v":1},{"$f":"IFERROR(VLOOKUP($B56,'[1]Num 6'!$G$3:$O$130,7,FALSE),0)","v":0},{"$f":"IFERROR(VLOOKUP($B56,'[1]Num 6'!$G$3:$O$130,8,FALSE),0)","v":1},{"$nulls":5},3,{"$f":"IFERROR(VLOOKUP($B56,'[1]Den 6'!$G$3:$O$138,2,FALSE),0)","v":0},{"$f":"IFERROR(VLOOKUP($B56,'[1]Den 6'!$G$3:$O$138,3,FALSE),0)","v":0},{"$f":"IFERROR(VLOOKUP($B56,'[1]Den 6'!$G$3:$O$138,4,FALSE),0)","v":0},{"$f":"IFERROR(VLOOKUP($B56,'[1]Den 6'!$G$3:$O$138,5,FALSE),0)","v":2},{"$f":"IFERROR(VLOOKUP($B56,'[1]Den 6'!$G$3:$O$138,6,FALSE),0)","v":1},{"$f":"IFERROR(VLOOKUP($B56,'[1]Den 6'!$G$3:$O$138,7,FALSE),0)","v":1},{"$f":"IFERROR(VLOOKUP($B56,'[1]Den 6'!$G$3:$O$138,8,FALSE),0)","v":1},{"$nulls":5},5]
["04106-VICUÑA","105474-P.S.R. CHAPILCA",null,null,{"$f":"IFERROR(VLOOKUP($B57,'[1]Num 6'!$G$3:$O$130,2,FALSE),0)","v":0},{"$f":"IFERROR(VLOOKUP($B57,'[1]Num 6'!$G$3:$O$130,3,FALSE),0)","v":0},{"$f":"IFERROR(VLOOKUP($B57,'[1]Num 6'!$G$3:$O$130,4,FALSE),0)","v":0},{"$f":"IFERROR(VLOOKUP($B57,'[1]Num 6'!$G$3:$O$130,5,FALSE),0)","v":0},{"$f":"IFERROR(VLOOKUP($B57,'[1]Num 6'!$G$3:$O$130,6,FALSE),0)","v":0},{"$f":"IFERROR(VLOOKUP($B57,'[1]Num 6'!$G$3:$O$130,7,FALSE),0)","v":2},{"$f":"IFERROR(VLOOKUP($B57,'[1]Num 6'!$G$3:$O$130,8,FALSE),0)","v":0},{"$nulls":5},2,{"$f":"IFERROR(VLOOKUP($B57,'[1]Den 6'!$G$3:$O$138,2,FALSE),0)","v":0},{"$f":"IFERROR(VLOOKUP($B57,'[1]Den 6'!$G$3:$O$138,3,FALSE),0)","v":0},{"$f":"IFERROR(VLOOKUP($B57,'[1]Den 6'!$G$3:$O$138,4,FALSE),0)","v":0},{"$f":"IFERROR(VLOOKUP($B57,'[1]Den 6'!$G$3:$O$138,5,FALSE),0)","v":0},{"$f":"IFERROR(VLOOKUP($B57,'[1]Den 6'!$G$3:$O$138,6,FALSE),0)","v":0},{"$f":"IFERROR(VLOOKUP($B57,'[1]Den 6'!$G$3:$O$138,7,FALSE),0)","v":2},{"$f":"IFERROR(VLOOKUP($B57,'[1]Den 6'!$G$3:$O$138,8,FALSE),0)","v":0},{"$nulls":5},2]
["04106-VICUÑA","105509-P.S.R. GUALLIGUAICA",null,null,{"$f":"IFERROR(VLOOKUP($B58,'[1]Num 6'!$G$3:$O$130,2,FALSE),0)","v":0},{"$f":"IFERROR(VLOOKUP($B58,'[1]Num 6'!$G$3:$O$130,3,FALSE),0)","v":0},{"$f":"IFERROR(VLOOKUP($B58,'[1]Num 6'!$G$3:$O$130,4,FALSE),0)","v":0},{"$f":"IFERROR(VLOOKUP($B58,'[1]Num 6'!$G$3:$O$130,5,FALSE),0)","v":0},{"$f":"IFERROR(VLOOKUP($B58,'[1]Num 6'!$G$3:$O$130,6,FALSE),0)","v":1},{"$f":"IFERROR(VLOOKUP($B58,'[1]Num 6'!$G$3:$O$130,7,FALSE),0)","v":0},{"$f":"IFERROR(VLOOKUP($B58,'[1]Num 6'!$G$3:$O$130,8,FALSE),0)","v":2},{"$nulls":5},3,{"$f":"IFERROR(VLOOKUP($B58,'[1]Den 6'!$G$3:$O$138,2,FALSE),0)","v":0},{"$f":"IFERROR(VLOOKUP($B58,'[1]Den 6'!$G$3:$O$138,3,FALSE),0)","v":0},{"$f":"IFERROR(VLOOKUP($B58,'[1]Den 6'!$G$3:$O$138,4,FALSE),0)","v":0},{"$f":"IFERROR(VLOOKUP($B58,'[1]Den 6'!$G$3:$O$138,5,FALSE),0)","v":0},{"$f":"IFERROR(VLOOKUP($B58,'[1]Den 6'!$G$3:$O$138,6,FALSE),0)","v":1},{"$f":"IFERROR(VLOOKUP($B58,'[1]Den 6'!$G$3:$O$138,7,FALSE),0)","v":0},{"$f":"IFERROR(VLOOKUP($B58,'[1]Den 6'!$G$3:$O$138,8,FALSE),0)","v":2},{"$nulls":5},3]
["04106-VICUÑA","200538-CESFAM SAN ISIDRO CALINGASTA",null,null,{"$f":"IFERROR(VLOOKUP($B59,'[1]Num 6'!$G$3:$O$130,2,FALSE),0)","v":6},{"$f":"IFERROR(VLOOKUP($B59,'[1]Num 6'!$G$3:$O$130,3,FALSE),0)","v":7},{"$f":"IFERROR(VLOOKUP($B59,'[1]Num 6'!$G$3:$O$130,4,FALSE),0)","v":4},{"$f":"IFERROR(VLOOKUP($B59,'[1]Num 6'!$G$3:$O$130,5,FALSE),0)","v":5},{"$f":"IFERROR(VLOOKUP($B59,'[1]Num 6'!$G$3:$O$130,6,FALSE),0)","v":1},{"$f":"IFERROR(VLOOKUP($B59,'[1]Num 6'!$G$3:$O$130,7,FALSE),0)","v":2},{"$f":"IFERROR(VLOOKUP($B59,'[1]Num 6'!$G$3:$O$130,8,FALSE),0)","v":4},{"$nulls":5},{"$f":"SUM(E59:P59)","v":29},{"$f":"IFERROR(VLOOKUP($B59,'[1]Den 6'!$G$3:$O$138,2,FALSE),0)","v":6},{"$f":"IFERROR(VLOOKUP($B59,'[1]Den 6'!$G$3:$O$138,3,FALSE),0)","v":9},{"$f":"IFERROR(VLOOKUP($B59,'[1]Den 6'!$G$3:$O$138,4,FALSE),0)","v":5},{"$f":"IFERROR(VLOOKUP($B59,'[1]Den 6'!$G$3:$O$138,5,FALSE),0)","v":7},{"$f":"IFERROR(VLOOKUP($B59,'[1]Den 6'!$G$3:$O$138,6,FALSE),0)","v":3},{"$f":"IFERROR(VLOOKUP($B59,'[1]Den 6'!$G$3:$O$138,7,FALSE),0)","v":3},{"$f":"IFERROR(VLOOKUP($B59,'[1]Den 6'!$G$3:$O$138,8,FALSE),0)","v":4},{"$nulls":5},{"$f":"SUM(R59:AC59)","v":37}]
["TOTAL VICUÑA",null,{"$f":"D60/Metas!N9","v":{"v":1.4189189189189189,"d":"141.89%"}},{"$f":"Q60/AD60","v":{"v":0.8513513513513513,"d":"85.14%"}},{"$f":"SUM(E50:E59)","v":9},7,11,9,7,7,13,0,0,0,0,0,63,9,9,12,12,9,9,14,0,0,0,0,0,74]
["04201-ILLAPEL","105326-CESFAM SAN RAFAEL",null,null,{"$f":"IFERROR(VLOOKUP($B61,'[1]Num 6'!$G$3:$O$130,2,FALSE),0)","v":4},{"$f":"IFERROR(VLOOKUP($B61,'[1]Num 6'!$G$3:$O$130,3,FALSE),0)","v":4},{"$f":"IFERROR(VLOOKUP($B61,'[1]Num 6'!$G$3:$O$130,4,FALSE),0)","v":10},{"$f":"IFERROR(VLOOKUP($B61,'[1]Num 6'!$G$3:$O$130,5,FALSE),0)","v":3},{"$f":"IFERROR(VLOOKUP($B61,'[1]Num 6'!$G$3:$O$130,6,FALSE),0)","v":0},{"$f":"IFERROR(VLOOKUP($B61,'[1]Num 6'!$G$3:$O$130,7,FALSE),0)","v":2},{"$f":"IFERROR(VLOOKUP($B61,'[1]Num 6'!$G$3:$O$130,8,FALSE),0)","v":6},{"$nulls":5},29,{"$f":"IFERROR(VLOOKUP($B61,'[1]Den 6'!$G$3:$O$138,2,FALSE),0)","v":5},{"$f":"IFERROR(VLOOKUP($B61,'[1]Den 6'!$G$3:$O$138,3,FALSE),0)","v":5},{"$f":"IFERROR(VLOOKUP($B61,'[1]Den 6'!$G$3:$O$138,4,FALSE),0)","v":12},{"$f":"IFERROR(VLOOKUP($B61,'[1]Den 6'!$G$3:$O$138,5,FALSE),0)","v":3},{"$f":"IFERROR(VLOOKUP($B61,'[1]Den 6'!$G$3:$O$138,6,FALSE),0)","v":1},{"$f":"IFERROR(VLOOKUP($B61,'[1]Den 6'!$G$3:$O$138,7,FALSE),0)","v":2},{"$f":"IFERROR(VLOOKUP($B61,'[1]Den 6'!$G$3:$O$138,8,FALSE),0)","v":10},{"$nulls":5},38]
["04201-ILLAPEL","105443-P.S.R. CARCAMO                   ",null,null,{"$f":"IFERROR(VLOOKUP($B62,'[1]Num 6'!$G$3:$O$130,2,FALSE),0)","v":0},{"$f":"IFERROR(VLOOKUP($B62,'[1]Num 6'!$G$3:$O$130,3,FALSE),0)","v":0},{"$f":"IFERROR(VLOOKUP($B62,'[1]Num 6'!$G$3:$O$130,4,FALSE),0)","v":0},{"$f":"IFERROR(VLOOKUP($B62,'[1]Num 6'!$G$3:$O$130,5,FALSE),0)","v":0},{"$f":"IFERROR(VLOOKUP($B62,'[1]Num 6'!$G$3:$O$130,6,FALSE),0)","v":0},{"$f":"IFERROR(VLOOKUP($B62,'[1]Num 6'!$G$3:$O$130,7,FALSE),0)","v":0},{"$f":"IFERROR(VLOOKUP($B62,'[1]Num 6'!$G$3:$O$130,8,FALSE),0)","v":0},{"$nulls":5},0,{"$f":"IFERROR(VLOOKUP($B62,'[1]Den 6'!$G$3:$O$138,2,FALSE),0)","v":0},{"$f":"IFERROR(VLOOKUP($B62,'[1]Den 6'!$G$3:$O$138,3,FALSE),0)","v":0},{"$f":"IFERROR(VLOOKUP($B62,'[1]Den 6'!$G$3:$O$138,4,FALSE),0)","v":0},{"$f":"IFERROR(VLOOKUP($B62,'[1]Den 6'!$G$3:$O$138,5,FALSE),0)","v":0},{"$f":"IFERROR(VLOOKUP($B62,'[1]Den 6'!$G$3:$O$138,6,FALSE),0)","v":0},{"$f":"IFERROR(VLOOKUP($B62,'[1]Den 6'!$G$3:$O$138,7,FALSE),0)","v":0},{"$f":"IFERROR(VLOOKUP($B62,'[1]Den 6'!$G$3:$O$138,8,FALSE),0)","v":0},{"$nulls":5},0]
["04201-ILLAPEL","105444-P.S.R. HUINTIL",null,null,{"$f":"IFERROR(VLOOKUP($B63,'[1]Num 6'!$G$3:$O$130,2,FALSE),0)","v":0},{"$f":"IFERROR(VLOOKUP($B63,'[1]Num 6'!$G$3:$O$130,3,FALSE),0)","v":0},{"$f":"IFERROR(VLOOKUP($B63,'[1]Num 6'!$G$3:$O$130,4,FALSE),0)","v":0},{"$f":"IFERROR(VLOOKUP($B63,'[1]Num 6'!$G$3:$O$130,5,FALSE),0)","v":0},{"$f":"IFERROR(VLOOKUP($B63,'[1]Num 6'!$G$3:$O$130,6,FALSE),0)","v":1},{"$f":"IFERROR(VLOOKUP($B63,'[1]Num 6'!$G$3:$O$130,7,FALSE),0)","v":0},{"$f":"IFERROR(VLOOKUP($B63,'[1]Num 6'!$G$3:$O$130,8,FALSE),0)","v":0},{"$nulls":5},1,{"$f":"IFERROR(VLOOKUP($B63,'[1]Den 6'!$G$3:$O$138,2,FALSE),0)","v":0},{"$f":"IFERROR(VLOOKUP($B63,'[1]Den 6'!$G$3:$O$138,3,FALSE),0)","v":0},{"$f":"IFERROR(VLOOKUP($B63,'[1]Den 6'!$G$3:$O$138,4,FALSE),0)","v":0},{"$f":"IFERROR(VLOOKUP($B63,'[1]Den 6'!$G$3:$O$138,5,FALSE),0)","v":0},{"$f":"IFERROR(VLOOKUP($B63,'[1]Den 6'!$G$3:$O$138,6,FALSE),0)","v":1},{"$f":"IFERROR(VLOOKUP($B63,'[1]Den 6'!$G$3:$O$138,7,FALSE),0)","v":0},{"$f":"IFERROR(VLOOKUP($B63,'[1]Den 6'!$G$3:$O$138,8,FALSE),0)","v":0},{"$nulls":5},1]
["04201-ILLAPEL","105445-P.S.R. LIMAHUIDA",null,null,{"$f":"IFERROR(VLOOKUP($B64,'[1]Num 6'!$G$3:$O$130,2,FALSE),0)","v":0},{"$f":"IFERROR(VLOOKUP($B64,'[1]Num 6'!$G$3:$O$130,3,FALSE),0)","v":0},{"$f":"IFERROR(VLOOKUP($B64,'[1]Num 6'!$G$3:$O$130,4,FALSE),0)","v":0},{"$f":"IFERROR(VLOOKUP($B64,'[1]Num 6'!$G$3:$O$130,5,FALSE),0)","v":0},{"$f":"IFERROR(VLOOKUP($B64,'[1]Num 6'!$G$3:$O$130,6,FALSE),0)","v":0},{"$f":"IFERROR(VLOOKUP($B64,'[1]Num 6'!$G$3:$O$130,7,FALSE),0)","v":0},{"$f":"IFERROR(VLOOKUP($B64,'[1]Num 6'!$G$3:$O$130,8,FALSE),0)","v":0},{"$nulls":5},0,{"$f":"IFERROR(VLOOKUP($B64,'[1]Den 6'!$G$3:$O$138,2,FALSE),0)","v":0},{"$f":"IFERROR(VLOOKUP($B64,'[1]Den 6'!$G$3:$O$138,3,FALSE),0)","v":0},{"$f":"IFERROR(VLOOKUP($B64,'[1]Den 6'!$G$3:$O$138,4,FALSE),0)","v":0},{"$f":"IFERROR(VLOOKUP($B64,'[1]Den 6'!$G$3:$O$138,5,FALSE),0)","v":0},{"$f":"IFERROR(VLOOKUP($B64,'[1]Den 6'!$G$3:$O$138,6,FALSE),0)","v":0},{"$f":"IFERROR(VLOOKUP($B64,'[1]Den 6'!$G$3:$O$138,7,FALSE),0)","v":0},{"$f":"IFERROR(VLOOKUP($B64,'[1]Den 6'!$G$3:$O$138,8,FALSE),0)","v":0},{"$nulls":5},0]
["04201-ILLAPEL","105446-P.S.R. MATANCILLA",null,null,{"$f":"IFERROR(VLOOKUP($B65,'[1]Num 6'!$G$3:$O$130,2,FALSE),0)","v":0},{"$f":"IFERROR(VLOOKUP($B65,'[1]Num 6'!$G$3:$O$130,3,FALSE),0)","v":0},{"$f":"IFERROR(VLOOKUP($B65,'[1]Num 6'!$G$3:$O$130,4,FALSE),0)","v":0},{"$f":"IFERROR(VLOOKUP($B65,'[1]Num 6'!$G$3:$O$130,5,FALSE),0)","v":0},{"$f":"IFERROR(VLOOKUP($B65,'[1]Num 6'!$G$3:$O$130,6,FALSE),0)","v":0},{"$f":"IFERROR(VLOOKUP($B65,'[1]Num 6'!$G$3:$O$130,7,FALSE),0)","v":0},{"$f":"IFERROR(VLOOKUP($B65,'[1]Num 6'!$G$3:$O$130,8,FALSE),0)","v":0},{"$nulls":5},0,{"$f":"IFERROR(VLOOKUP($B65,'[1]Den 6'!$G$3:$O$138,2,FALSE),0)","v":0},{"$f":"IFERROR(VLOOKUP($B65,'[1]Den 6'!$G$3:$O$138,3,FALSE),0)","v":0},{"$f":"IFERROR(VLOOKUP($B65,'[1]Den 6'!$G$3:$O$138,4,FALSE),0)","v":0},{"$f":"IFERROR(VLOOKUP($B65,'[1]Den 6'!$G$3:$O$138,5,FALSE),0)","v":0},{"$f":"IFERROR(VLOOKUP($B65,'[1]Den 6'!$G$3:$O$138,6,FALSE),0)","v":0},{"$f":"IFERROR(VLOOKUP($B65,'[1]Den 6'!$G$3:$O$138,7,FALSE),0)","v":0},{"$f":"IFERROR(VLOOKUP($B65,'[1]Den 6'!$G$3:$O$138,8,FALSE),0)","v":0},{"$nulls":5},0]
["04201-ILLAPEL","105447-P.S.R. PERALILLO",null,null,{"$f":"IFERROR(VLOOKUP($B66,'[1]Num 6'!$G$3:$O$130,2,FALSE),0)","v":0},{"$f":"IFERROR(VLOOKUP($B66,'[1]Num 6'!$G$3:$O$130,3,FALSE),0)","v":1},{"$f":"IFERROR(VLOOKUP($B66,'[1]Num 6'!$G$3:$O$130,4,FALSE),0)","v":0},{"$f":"IFERROR(VLOOKUP($B66,'[1]Num 6'!$G$3:$O$130,5,FALSE),0)","v":0},{"$f":"IFERROR(VLOOKUP($B66,'[1]Num 6'!$G$3:$O$130,6,FALSE),0)","v":0},{"$f":"IFERROR(VLOOKUP($B66,'[1]Num 6'!$G$3:$O$130,7,FALSE),0)","v":0},{"$f":"IFERROR(VLOOKUP($B66,'[1]Num 6'!$G$3:$O$130,8,FALSE),0)","v":0},{"$nulls":5},1,{"$f":"IFERROR(VLOOKUP($B66,'[1]Den 6'!$G$3:$O$138,2,FALSE),0)","v":0},{"$f":"IFERROR(VLOOKUP($B66,'[1]Den 6'!$G$3:$O$138,3,FALSE),0)","v":1},{"$f":"IFERROR(VLOOKUP($B66,'[1]Den 6'!$G$3:$O$138,4,FALSE),0)","v":0},{"$f":"IFERROR(VLOOKUP($B66,'[1]Den 6'!$G$3:$O$138,5,FALSE),0)","v":0},{"$f":"IFERROR(VLOOKUP($B66,'[1]Den 6'!$G$3:$O$138,6,FALSE),0)","v":0},{"$f":"IFERROR(VLOOKUP($B66,'[1]Den 6'!$G$3:$O$138,7,FALSE),0)","v":0},{"$f":"IFERROR(VLOOKUP($B66,'[1]Den 6'!$G$3:$O$138,8,FALSE),0)","v":0},{"$nulls":5},1]
["04201-ILLAPEL","105448-P.S.R. SANTA VIRGINIA",null,null,{"$f":"IFERROR(VLOOKUP($B67,'[1]Num 6'!$G$3:$O$130,2,FALSE),0)","v":1},{"$f":"IFERROR(VLOOKUP($B67,'[1]Num 6'!$G$3:$O$130,3,FALSE),0)","v":0},{"$f":"IFERROR(VLOOKUP($B67,'[1]Num 6'!$G$3:$O$130,4,FALSE),0)","v":0},{"$f":"IFERROR(VLOOKUP($B67,'[1]Num 6'!$G$3:$O$130,5,FALSE),0)","v":1},{"$f":"IFERROR(VLOOKUP($B67,'[1]Num 6'!$G$3:$O$130,6,FALSE),0)","v":1},{"$f":"IFERROR(VLOOKUP($B67,'[1]Num 6'!$G$3:$O$130,7,FALSE),0)","v":0},{"$f":"IFERROR(VLOOKUP($B67,'[1]Num 6'!$G$3:$O$130,8,FALSE),0)","v":0},{"$nulls":5},3,{"$f":"IFERROR(VLOOKUP($B67,'[1]Den 6'!$G$3:$O$138,2,FALSE),0)","v":1},{"$f":"IFERROR(VLOOKUP($B67,'[1]Den 6'!$G$3:$O$138,3,FALSE),0)","v":0},{"$f":"IFERROR(VLOOKUP($B67,'[1]Den 6'!$G$3:$O$138,4,FALSE),0)","v":0},{"$f":"IFERROR(VLOOKUP($B67,'[1]Den 6'!$G$3:$O$138,5,FALSE),0)","v":1},{"$f":"IFERROR(VLOOKUP($B67,'[1]Den 6'!$G$3:$O$138,6,FALSE),0)","v":1},{"$f":"IFERROR(VLOOKUP($B67,'[1]Den 6'!$G$3:$O$138,7,FALSE),0)","v":0},{"$f":"IFERROR(VLOOKUP($B67,'[1]Den 6'!$G$3:$O$138,8,FALSE),0)","v":1},{"$nulls":5},4]
["04201-ILLAPEL","105449-P.S.R. TUNGA NORTE",null,null,{"$f":"IFERROR(VLOOKUP($B68,'[1]Num 6'!$G$3:$O$130,2,FALSE),0)","v":0},{"$f":"IFERROR(VLOOKUP($B68,'[1]Num 6'!$G$3:$O$130,3,FALSE),0)","v":0},{"$f":"IFERROR(VLOOKUP($B68,'[1]Num 6'!$G$3:$O$130,4,FALSE),0)","v":0},{"$f":"IFERROR(VLOOKUP($B68,'[1]Num 6'!$G$3:$O$130,5,FALSE),0)","v":0},{"$f":"IFERROR(VLOOKUP($B68,'[1]Num 6'!$G$3:$O$130,6,FALSE),0)","v":0},{"$f":"IFERROR(VLOOKUP($B68,'[1]Num 6'!$G$3:$O$130,7,FALSE),0)","v":0},{"$f":"IFERROR(VLOOKUP($B68,'[1]Num 6'!$G$3:$O$130,8,FALSE),0)","v":0},{"$nulls":5},0,{"$f":"IFERROR(VLOOKUP($B68,'[1]Den 6'!$G$3:$O$138,2,FALSE),0)","v":0},{"$f":"IFERROR(VLOOKUP($B68,'[1]Den 6'!$G$3:$O$138,3,FALSE),0)","v":0},{"$f":"IFERROR(VLOOKUP($B68,'[1]Den 6'!$G$3:$O$138,4,FALSE),0)","v":0},{"$f":"IFERROR(VLOOKUP($B68,'[1]Den 6'!$G$3:$O$138,5,FALSE),0)","v":0},{"$f":"IFERROR(VLOOKUP($B68,'[1]Den 6'!$G$3:$O$138,6,FALSE),0)","v":0},{"$f":"IFERROR(VLOOKUP($B68,'[1]Den 6'!$G$3:$O$138,7,FALSE),0)","v":0},{"$f":"IFERROR(VLOOKUP($B68,'[1]Den 6'!$G$3:$O$138,8,FALSE),0)","v":0},{"$nulls":5},0]
["04201-ILLAPEL","105485-P.S.R. PLAN DE HORNOS",null,null,{"$f":"IFERROR(VLOOKUP($B69,'[1]Num 6'!$G$3:$O$130,2,FALSE),0)","v":0},{"$f":"IFERROR(VLOOKUP($B69,'[1]Num 6'!$G$3:$O$130,3,FALSE),0)","v":0},{"$f":"IFERROR(VLOOKUP($B69,'[1]Num 6'!$G$3:$O$130,4,FALSE),0)","v":1},{"$f":"IFERROR(VLOOKUP($B69,'[1]Num 6'!$G$3:$O$130,5,FALSE),0)","v":0},{"$f":"IFERROR(VLOOKUP($B69,'[1]Num 6'!$G$3:$O$130,6,FALSE),0)","v":1},{"$f":"IFERROR(VLOOKUP($B69,'[1]Num 6'!$G$3:$O$130,7,FALSE),0)","v":0},{"$f":"IFERROR(VLOOKUP($B69,'[1]Num 6'!$G$3:$O$130,8,FALSE),0)","v":0},{"$nulls":5},2,{"$f":"IFERROR(VLOOKUP($B69,'[1]Den 6'!$G$3:$O$138,2,FALSE),0)","v":1},{"$f":"IFERROR(VLOOKUP($B69,'[1]Den 6'!$G$3:$O$138,3,FALSE),0)","v":1},{"$f":"IFERROR(VLOOKUP($B69,'[1]Den 6'!$G$3:$O$138,4,FALSE),0)","v":1},{"$f":"IFERROR(VLOOKUP($B69,'[1]Den 6'!$G$3:$O$138,5,FALSE),0)","v":2},{"$f":"IFERROR(VLOOKUP($B69,'[1]Den 6'!$G$3:$O$138,6,FALSE),0)","v":1},{"$f":"IFERROR(VLOOKUP($B69,'[1]Den 6'!$G$3:$O$138,7,FALSE),0)","v":0},{"$f":"IFERROR(VLOOKUP($B69,'[1]Den 6'!$G$3:$O$138,8,FALSE),0)","v":0},{"$nulls":5},6]
["04201-ILLAPEL","105486-P.S.R. TUNGA SUR",null,null,{"$f":"IFERROR(VLOOKUP($B70,'[1]Num 6'!$G$3:$O$130,2,FALSE),0)","v":0},{"$f":"IFERROR(VLOOKUP($B70,'[1]Num 6'!$G$3:$O$130,3,FALSE),0)","v":0},{"$f":"IFERROR(VLOOKUP($B70,'[1]Num 6'!$G$3:$O$130,4,FALSE),0)","v":0},{"$f":"IFERROR(VLOOKUP($B70,'[1]Num 6'!$G$3:$O$130,5,FALSE),0)","v":0},{"$f":"IFERROR(VLOOKUP($B70,'[1]Num 6'!$G$3:$O$130,6,FALSE),0)","v":0},{"$f":"IFERROR(VLOOKUP($B70,'[1]Num 6'!$G$3:$O$130,7,FALSE),0)","v":0},{"$f":"IFERROR(VLOOKUP($B70,'[1]Num 6'!$G$3:$O$130,8,FALSE),0)","v":0},{"$nulls":5},0,{"$f":"IFERROR(VLOOKUP($B70,'[1]Den 6'!$G$3:$O$138,2,FALSE),0)","v":0},{"$f":"IFERROR(VLOOKUP($B70,'[1]Den 6'!$G$3:$O$138,3,FALSE),0)","v":0},{"$f":"IFERROR(VLOOKUP($B70,'[1]Den 6'!$G$3:$O$138,4,FALSE),0)","v":0},{"$f":"IFERROR(VLOOKUP($B70,'[1]Den 6'!$G$3:$O$138,5,FALSE),0)","v":0},{"$f":"IFERROR(VLOOKUP($B70,'[1]Den 6'!$G$3:$O$138,6,FALSE),0)","v":0},{"$f":"IFERROR(VLOOKUP($B70,'[1]Den 6'!$G$3:$O$138,7,FALSE),0)","v":0},{"$f":"IFERROR(VLOOKUP($B70,'[1]Den 6'!$G$3:$O$138,8,FALSE),0)","v":1},{"$nulls":5},1]
["04201-ILLAPEL","105487-P.S.R. CAÑAS UNO",null,null,{"$f":"IFERROR(VLOOKUP($B71,'[1]Num 6'!$G$3:$O$130,2,FALSE),0)","v":0},{"$f":"IFERROR(VLOOKUP($B71,'[1]Num 6'!$G$3:$O$130,3,FALSE),0)","v":0},{"$f":"IFERROR(VLOOKUP($B71,'[1]Num 6'!$G$3:$O$130,4,FALSE),0)","v":3},{"$f":"IFERROR(VLOOKUP($B71,'[1]Num 6'!$G$3:$O$130,5,FALSE),0)","v":1},{"$f":"IFERROR(VLOOKUP($B71,'[1]Num 6'!$G$3:$O$130,6,FALSE),0)","v":0},{"$f":"IFERROR(VLOOKUP($B71,'[1]Num 6'!$G$3:$O$130,7,FALSE),0)","v":0},{"$f":"IFERROR(VLOOKUP($B71,'[1]Num 6'!$G$3:$O$130,8,FALSE),0)","v":0},{"$nulls":5},4,{"$f":"IFERROR(VLOOKUP($B71,'[1]Den 6'!$G$3:$O$138,2,FALSE),0)","v":0},{"$f":"IFERROR(VLOOKUP($B71,'[1]Den 6'!$G$3:$O$138,3,FALSE),0)","v":0},{"$f":"IFERROR(VLOOKUP($B71,'[1]Den 6'!$G$3:$O$138,4,FALSE),0)","v":3},{"$f":"IFERROR(VLOOKUP($B71,'[1]Den 6'!$G$3:$O$138,5,FALSE),0)","v":2},{"$f":"IFERROR(VLOOKUP($B71,'[1]Den 6'!$G$3:$O$138,6,FALSE),0)","v":0},{"$f":"IFERROR(VLOOKUP($B71,'[1]Den 6'!$G$3:$O$138,7,FALSE),0)","v":0},{"$f":"IFERROR(VLOOKUP($B71,'[1]Den 6'!$G$3:$O$138,8,FALSE),0)","v":0},{"$nulls":5},5]
["04201-ILLAPEL","105496-P.S.R. PINTACURA SUR",null,null,{"$f":"IFERROR(VLOOKUP($B72,'[1]Num 6'!$G$3:$O$130,2,FALSE),0)","v":0},{"$f":"IFERROR(VLOOKUP($B72,'[1]Num 6'!$G$3:$O$130,3,FALSE),0)","v":0},{"$f":"IFERROR(VLOOKUP($B72,'[1]Num 6'!$G$3:$O$130,4,FALSE),0)","v":0},{"$f":"IFERROR(VLOOKUP($B72,'[1]Num 6'!$G$3:$O$130,5,FALSE),0)","v":0},{"$f":"IFERROR(VLOOKUP($B72,'[1]Num 6'!$G$3:$O$130,6,FALSE),0)","v":0},{"$f":"IFERROR(VLOOKUP($B72,'[1]Num 6'!$G$3:$O$130,7,FALSE),0)","v":0},{"$f":"IFERROR(VLOOKUP($B72,'[1]Num 6'!$G$3:$O$130,8,FALSE),0)","v":0},{"$nulls":5},0,{"$f":"IFERROR(VLOOKUP($B72,'[1]Den 6'!$G$3:$O$138,2,FALSE),0)","v":0},{"$f":"IFERROR(VLOOKUP($B72,'[1]Den 6'!$G$3:$O$138,3,FALSE),0)","v":0},{"$f":"IFERROR(VLOOKUP($B72,'[1]Den 6'!$G$3:$O$138,4,FALSE),0)","v":0},{"$f":"IFERROR(VLOOKUP($B72,'[1]Den 6'!$G$3:$O$138,5,FALSE),0)","v":0},{"$f":"IFERROR(VLOOKUP($B72,'[1]Den 6'!$G$3:$O$138,6,FALSE),0)","v":0},{"$f":"IFERROR(VLOOKUP($B72,'[1]Den 6'!$G$3:$O$138,7,FALSE),0)","v":0},{"$f":"IFERROR(VLOOKUP($B72,'[1]Den 6'!$G$3:$O$138,8,FALSE),0)","v":0},{"$nulls":5},0]
["04201-ILLAPEL","105504-P.S.R. SOCAVON",null,null,{"$f":"IFERROR(VLOOKUP($B73,'[1]Num 6'!$G$3:$O$130,2,FALSE),0)","v":0},{"$f":"IFERROR(VLOOKUP($B73,'[1]Num 6'!$G$3:$O$130,3,FALSE),0)","v":0},{"$f":"IFERROR(VLOOKUP($B73,'[1]Num 6'!$G$3:$O$130,4,FALSE),0)","v":0},{"$f":"IFERROR(VLOOKUP($B73,'[1]Num 6'!$G$3:$O$130,5,FALSE),0)","v":1},{"$f":"IFERROR(VLOOKUP($B73,'[1]Num 6'!$G$3:$O$130,6,FALSE),0)","v":0},{"$f":"IFERROR(VLOOKUP($B73,'[1]Num 6'!$G$3:$O$130,7,FALSE),0)","v":0},{"$f":"IFERROR(VLOOKUP($B73,'[1]Num 6'!$G$3:$O$130,8,FALSE),0)","v":0},{"$nulls":5},1,{"$f":"IFERROR(VLOOKUP($B73,'[1]Den 6'!$G$3:$O$138,2,FALSE),0)","v":0},{"$f":"IFERROR(VLOOKUP($B73,'[1]Den 6'!$G$3:$O$138,3,FALSE),0)","v":0},{"$f":"IFERROR(VLOOKUP($B73,'[1]Den 6'!$G$3:$O$138,4,FALSE),0)","v":0},{"$f":"IFERROR(VLOOKUP($B73,'[1]Den 6'!$G$3:$O$138,5,FALSE),0)","v":1},{"$f":"IFERROR(VLOOKUP($B73,'[1]Den 6'!$G$3:$O$138,6,FALSE),0)","v":0},{"$f":"IFERROR(VLOOKUP($B73,'[1]Den 6'!$G$3:$O$138,7,FALSE),0)","v":0},{"$f":"IFERROR(VLOOKUP($B73,'[1]Den 6'!$G$3:$O$138,8,FALSE),0)","v":0},{"$nulls":5},1]
["04201-ILLAPEL","200366-CESFAM URBANO II",null,null,{"$f":"IFERROR(VLOOKUP($B74,'[1]Num 6'!$G$3:$O$130,2,FALSE),0)","v":5},{"$f":"IFERROR(VLOOKUP($B74,'[1]Num 6'!$G$3:$O$130,3,FALSE),0)","v":3},{"$f":"IFERROR(VLOOKUP($B74,'[1]Num 6'!$G$3:$O$130,4,FALSE),0)","v":15},{"$f":"IFERROR(VLOOKUP($B74,'[1]Num 6'!$G$3:$O$130,5,FALSE),0)","v":5},{"$f":"IFERROR(VLOOKUP($B74,'[1]Num 6'!$G$3:$O$130,6,FALSE),0)","v":9},{"$f":"IFERROR(VLOOKUP($B74,'[1]Num 6'!$G$3:$O$130,7,FALSE),0)","v":5},{"$f":"IFERROR(VLOOKUP($B74,'[1]Num 6'!$G$3:$O$130,8,FALSE),0)","v":9},{"$nulls":5},51,{"$f":"IFERROR(VLOOKUP($B74,'[1]Den 6'!$G$3:$O$138,2,FALSE),0)","v":14},{"$f":"IFERROR(VLOOKUP($B74,'[1]Den 6'!$G$3:$O$138,3,FALSE),0)","v":13},{"$f":"IFERROR(VLOOKUP($B74,'[1]Den 6'!$G$3:$O$138,4,FALSE),0)","v":19},{"$f":"IFERROR(VLOOKUP($B74,'[1]Den 6'!$G$3:$O$138,5,FALSE),0)","v":7},{"$f":"IFERROR(VLOOKUP($B74,'[1]Den 6'!$G$3:$O$138,6,FALSE),0)","v":13},{"$f":"IFERROR(VLOOKUP($B74,'[1]Den 6'!$G$3:$O$138,7,FALSE),0)","v":8},{"$f":"IFERROR(VLOOKUP($B74,'[1]Den 6'!$G$3:$O$138,8,FALSE),0)","v":13},{"$nulls":5},87]
["TOTAL ILLAPEL",null,{"$f":"D75/Metas!N10","v":{"v":1.0648148148148149,"d":"106.48%"}},{"$f":"Q75/AD75","v":{"v":0.6388888888888888,"d":"63.89%"}},{"$f":"SUM(E61:E74)","v":10},{"$f":"SUM(F61:F74)","v":8},29,11,12,7,15,0,0,0,0,0,{"$f":"SUM(Q61:Q74)","v":92},{"$f":"SUM(R61:R74)","v":21},{"$f":"SUM(S61:S74)","v":20},35,16,17,10,25,0,0,0,0,0,{"$f":"SUM(AD61:AD74)","v":144}]
["04202-CANELA","105309-CES. RURAL CANELA",null,null,{"$f":"IFERROR(VLOOKUP($B76,'[1]Num 6'!$G$3:$O$130,2,FALSE),0)","v":2},{"$f":"IFERROR(VLOOKUP($B76,'[1]Num 6'!$G$3:$O$130,3,FALSE),0)","v":2},{"$f":"IFERROR(VLOOKUP($B76,'[1]Num 6'!$G$3:$O$130,4,FALSE),0)","v":0},{"$f":"IFERROR(VLOOKUP($B76,'[1]Num 6'!$G$3:$O$130,5,FALSE),0)","v":2},{"$f":"IFERROR(VLOOKUP($B76,'[1]Num 6'!$G$3:$O$130,6,FALSE),0)","v":2},{"$f":"IFERROR(VLOOKUP($B76,'[1]Num 6'!$G$3:$O$130,7,FALSE),0)","v":2},{"$f":"IFERROR(VLOOKUP($B76,'[1]Num 6'!$G$3:$O$130,8,FALSE),0)","v":1},{"$nulls":5},11,{"$f":"IFERROR(VLOOKUP($B76,'[1]Den 6'!$G$3:$O$138,2,FALSE),0)","v":3},{"$f":"IFERROR(VLOOKUP($B76,'[1]Den 6'!$G$3:$O$138,3,FALSE),0)","v":4},{"$f":"IFERROR(VLOOKUP($B76,'[1]Den 6'!$G$3:$O$138,4,FALSE),0)","v":5},{"$f":"IFERROR(VLOOKUP($B76,'[1]Den 6'!$G$3:$O$138,5,FALSE),0)","v":8},{"$f":"IFERROR(VLOOKUP($B76,'[1]Den 6'!$G$3:$O$138,6,FALSE),0)","v":6},{"$f":"IFERROR(VLOOKUP($B76,'[1]Den 6'!$G$3:$O$138,7,FALSE),0)","v":5},{"$f":"IFERROR(VLOOKUP($B76,'[1]Den 6'!$G$3:$O$138,8,FALSE),0)","v":3},{"$nulls":5},{"$f":"SUM(R76:AC76)","v":34}]
["04202-CANELA","105450-P.S.R. MINCHA NORTE            ",null,null,{"$f":"IFERROR(VLOOKUP($B77,'[1]Num 6'!$G$3:$O$130,2,FALSE),0)","v":0},{"$f":"IFERROR(VLOOKUP($B77,'[1]Num 6'!$G$3:$O$130,3,FALSE),0)","v":0},{"$f":"IFERROR(VLOOKUP($B77,'[1]Num 6'!$G$3:$O$130,4,FALSE),0)","v":0},{"$f":"IFERROR(VLOOKUP($B77,'[1]Num 6'!$G$3:$O$130,5,FALSE),0)","v":0},{"$f":"IFERROR(VLOOKUP($B77,'[1]Num 6'!$G$3:$O$130,6,FALSE),0)","v":0},{"$f":"IFERROR(VLOOKUP($B77,'[1]Num 6'!$G$3:$O$130,7,FALSE),0)","v":0},{"$f":"IFERROR(VLOOKUP($B77,'[1]Num 6'!$G$3:$O$130,8,FALSE),0)","v":0},{"$nulls":5},0,{"$f":"IFERROR(VLOOKUP($B77,'[1]Den 6'!$G$3:$O$138,2,FALSE),0)","v":0},{"$f":"IFERROR(VLOOKUP($B77,'[1]Den 6'!$G$3:$O$138,3,FALSE),0)","v":0},{"$f":"IFERROR(VLOOKUP($B77,'[1]Den 6'!$G$3:$O$138,4,FALSE),0)","v":0},{"$f":"IFERROR(VLOOKUP($B77,'[1]Den 6'!$G$3:$O$138,5,FALSE),0)","v":0},{"$f":"IFERROR(VLOOKUP($B77,'[1]Den 6'!$G$3:$O$138,6,FALSE),0)","v":0},{"$f":"IFERROR(VLOOKUP($B77,'[1]Den 6'!$G$3:$O$138,7,FALSE),0)","v":0},{"$f":"IFERROR(VLOOKUP($B77,'[1]Den 6'!$G$3:$O$138,8,FALSE),0)","v":0},{"$nulls":5},0]
["04202-CANELA","105451-P.S.R. AGUA FRIA",null,null,{"$f":"IFERROR(VLOOKUP($B78,'[1]Num 6'!$G$3:$O$130,2,FALSE),0)","v":0},{"$f":"IFERROR(VLOOKUP($B78,'[1]Num 6'!$G$3:$O$130,3,FALSE),0)","v":0},{"$f":"IFERROR(VLOOKUP($B78,'[1]Num 6'!$G$3:$O$130,4,FALSE),0)","v":0},{"$f":"IFERROR(VLOOKUP($B78,'[1]Num 6'!$G$3:$O$130,5,FALSE),0)","v":0},{"$f":"IFERROR(VLOOKUP($B78,'[1]Num 6'!$G$3:$O$130,6,FALSE),0)","v":0},{"$f":"IFERROR(VLOOKUP($B78,'[1]Num 6'!$G$3:$O$130,7,FALSE),0)","v":0},{"$f":"IFERROR(VLOOKUP($B78,'[1]Num 6'!$G$3:$O$130,8,FALSE),0)","v":0},{"$nulls":5},0,{"$f":"IFERROR(VLOOKUP($B78,'[1]Den 6'!$G$3:$O$138,2,FALSE),0)","v":0},{"$f":"IFERROR(VLOOKUP($B78,'[1]Den 6'!$G$3:$O$138,3,FALSE),0)","v":0},{"$f":"IFERROR(VLOOKUP($B78,'[1]Den 6'!$G$3:$O$138,4,FALSE),0)","v":0},{"$f":"IFERROR(VLOOKUP($B78,'[1]Den 6'!$G$3:$O$138,5,FALSE),0)","v":0},{"$f":"IFERROR(VLOOKUP($B78,'[1]Den 6'!$G$3:$O$138,6,FALSE),0)","v":0},{"$f":"IFERROR(VLOOKUP($B78,'[1]Den 6'!$G$3:$O$138,7,FALSE),0)","v":0},{"$f":"IFERROR(VLOOKUP($B78,'[1]Den 6'!$G$3:$O$138,8,FALSE),0)","v":0},{"$nulls":5},0]
["04202-CANELA","105482-P.S.R. CANELA ALTA",null,null,{"$f":"IFERROR(VLOOKUP($B79,'[1]Num 6'!$G$3:$O$130,2,FALSE),0)","v":0},{"$f":"IFERROR(VLOOKUP($B79,'[1]Num 6'!$G$3:$O$130,3,FALSE),0)","v":0},{"$f":"IFERROR(VLOOKUP($B79,'[1]Num 6'!$G$3:$O$130,4,FALSE),0)","v":0},{"$f":"IFERROR(VLOOKUP($B79,'[1]Num 6'!$G$3:$O$130,5,FALSE),0)","v":0},{"$f":"IFERROR(VLOOKUP($B79,'[1]Num 6'!$G$3:$O$130,6,FALSE),0)","v":0},{"$f":"IFERROR(VLOOKUP($B79,'[1]Num 6'!$G$3:$O$130,7,FALSE),0)","v":0},{"$f":"IFERROR(VLOOKUP($B79,'[1]Num 6'!$G$3:$O$130,8,FALSE),0)","v":0},{"$nulls":5},0,{"$f":"IFERROR(VLOOKUP($B79,'[1]Den 6'!$G$3:$O$138,2,FALSE),0)","v":0},{"$f":"IFERROR(VLOOKUP($B79,'[1]Den 6'!$G$3:$O$138,3,FALSE),0)","v":0},{"$f":"IFERROR(VLOOKUP($B79,'[1]Den 6'!$G$3:$O$138,4,FALSE),0)","v":0},{"$f":"IFERROR(VLOOKUP($B79,'[1]Den 6'!$G$3:$O$138,5,FALSE),0)","v":0},{"$f":"IFERROR(VLOOKUP($B79,'[1]Den 6'!$G$3:$O$138,6,FALSE),0)","v":0},{"$f":"IFERROR(VLOOKUP($B79,'[1]Den 6'!$G$3:$O$138,7,FALSE),0)","v":0},{"$f":"IFERROR(VLOOKUP($B79,'[1]Den 6'!$G$3:$O$138,8,FALSE),0)","v":0},{"$nulls":5},0]
["04202-CANELA","105483-P.S.R. LOS RULOS",null,null,{"$f":"IFERROR(VLOOKUP($B80,'[1]Num 6'!$G$3:$O$130,2,FALSE),0)","v":0},{"$f":"IFERROR(VLOOKUP($B80,'[1]Num 6'!$G$3:$O$130,3,FALSE),0)","v":0},{"$f":"IFERROR(VLOOKUP($B80,'[1]Num 6'!$G$3:$O$130,4,FALSE),0)","v":0},{"$f":"IFERROR(VLOOKUP($B80,'[1]Num 6'!$G$3:$O$130,5,FALSE),0)","v":0},{"$f":"IFERROR(VLOOKUP($B80,'[1]Num 6'!$G$3:$O$130,6,FALSE),0)","v":0},{"$f":"IFERROR(VLOOKUP($B80,'[1]Num 6'!$G$3:$O$130,7,FALSE),0)","v":0},{"$f":"IFERROR(VLOOKUP($B80,'[1]Num 6'!$G$3:$O$130,8,FALSE),0)","v":0},{"$nulls":5},0,{"$f":"IFERROR(VLOOKUP($B80,'[1]Den 6'!$G$3:$O$138,2,FALSE),0)","v":0},{"$f":"IFERROR(VLOOKUP($B80,'[1]Den 6'!$G$3:$O$138,3,FALSE),0)","v":0},{"$f":"IFERROR(VLOOKUP($B80,'[1]Den 6'!$G$3:$O$138,4,FALSE),0)","v":0},{"$f":"IFERROR(VLOOKUP($B80,'[1]Den 6'!$G$3:$O$138,5,FALSE),0)","v":0},{"$f":"IFERROR(VLOOKUP($B80,'[1]Den 6'!$G$3:$O$138,6,FALSE),0)","v":0},{"$f":"IFERROR(VLOOKUP($B80,'[1]Den 6'!$G$3:$O$138,7,FALSE),0)","v":0},{"$f":"IFERROR(VLOOKUP($B80,'[1]Den 6'!$G$3:$O$138,8,FALSE),0)","v":0},{"$nulls":5},0]
["04202-CANELA","105484-P.S.R. HUENTELAUQUEN",null,null,{"$f":"IFERROR(VLOOKUP($B81,'[1]Num 6'!$G$3:$O$130,2,FALSE),0)","v":0},{"$f":"IFERROR(VLOOKUP($B81,'[1]Num 6'!$G$3:$O$130,3,FALSE),0)","v":0},{"$f":"IFERROR(VLOOKUP($B81,'[1]Num 6'!$G$3:$O$130,4,FALSE),0)","v":0},{"$f":"IFERROR(VLOOKUP($B81,'[1]Num 6'!$G$3:$O$130,5,FALSE),0)","v":0},{"$f":"IFERROR(VLOOKUP($B81,'[1]Num 6'!$G$3:$O$130,6,FALSE),0)","v":0},{"$f":"IFERROR(VLOOKUP($B81,'[1]Num 6'!$G$3:$O$130,7,FALSE),0)","v":0},{"$f":"IFERROR(VLOOKUP($B81,'[1]Num 6'!$G$3:$O$130,8,FALSE),0)","v":0},{"$nulls":5},0,{"$f":"IFERROR(VLOOKUP($B81,'[1]Den 6'!$G$3:$O$138,2,FALSE),0)","v":0},{"$f":"IFERROR(VLOOKUP($B81,'[1]Den 6'!$G$3:$O$138,3,FALSE),0)","v":0},{"$f":"IFERROR(VLOOKUP($B81,'[1]Den 6'!$G$3:$O$138,4,FALSE),0)","v":0},{"$f":"IFERROR(VLOOKUP($B81,'[1]Den 6'!$G$3:$O$138,5,FALSE),0)","v":0},{"$f":"IFERROR(VLOOKUP($B81,'[1]Den 6'!$G$3:$O$138,6,FALSE),0)","v":0},{"$f":"IFERROR(VLOOKUP($B81,'[1]Den 6'!$G$3:$O$138,7,FALSE),0)","v":0},{"$f":"IFERROR(VLOOKUP($B81,'[1]Den 6'!$G$3:$O$138,8,FALSE),0)","v":0},{"$nulls":5},0]
["04202-CANELA","105488-P.S.R. ESPIRITU SANTO",null,null,{"$f":"IFERROR(VLOOKUP($B82,'[1]Num 6'!$G$3:$O$130,2,FALSE),0)","v":0},{"$f":"IFERROR(VLOOKUP($B82,'[1]Num 6'!$G$3:$O$130,3,FALSE),0)","v":0},{"$f":"IFERROR(VLOOKUP($B82,'[1]Num 6'!$G$3:$O$130,4,FALSE),0)","v":0},{"$f":"IFERROR(VLOOKUP($B82,'[1]Num 6'!$G$3:$O$130,5,FALSE),0)","v":0},{"$f":"IFERROR(VLOOKUP($B82,'[1]Num 6'!$G$3:$O$130,6,FALSE),0)","v":0},{"$f":"IFERROR(VLOOKUP($B82,'[1]Num 6'!$G$3:$O$130,7,FALSE),0)","v":0},{"$f":"IFERROR(VLOOKUP($B82,'[1]Num 6'!$G$3:$O$130,8,FALSE),0)","v":0},{"$nulls":5},0,{"$f":"IFERROR(VLOOKUP($B82,'[1]Den 6'!$G$3:$O$138,2,FALSE),0)","v":0},{"$f":"IFERROR(VLOOKUP($B82,'[1]Den 6'!$G$3:$O$138,3,FALSE),0)","v":0},{"$f":"IFERROR(VLOOKUP($B82,'[1]Den 6'!$G$3:$O$138,4,FALSE),0)","v":0},{"$f":"IFERROR(VLOOKUP($B82,'[1]Den 6'!$G$3:$O$138,5,FALSE),0)","v":0},{"$f":"IFERROR(VLOOKUP($B82,'[1]Den 6'!$G$3:$O$138,6,FALSE),0)","v":0},{"$f":"IFERROR(VLOOKUP($B82,'[1]Den 6'!$G$3:$O$138,7,FALSE),0)","v":0},{"$f":"IFERROR(VLOOKUP($B82,'[1]Den 6'!$G$3:$O$138,8,FALSE),0)","v":0},{"$nulls":5},0]
["04202-CANELA","105493-P.S.R. MINCHA SUR",null,null,{"$f":"IFERROR(VLOOKUP($B83,'[1]Num 6'!$G$3:$O$130,2,FALSE),0)","v":0},{"$f":"IFERROR(VLOOKUP($B83,'[1]Num 6'!$G$3:$O$130,3,FALSE),0)","v":0},{"$f":"IFERROR(VLOOKUP($B83,'[1]Num 6'!$G$3:$O$130,4,FALSE),0)","v":0},{"$f":"IFERROR(VLOOKUP($B83,'[1]Num 6'!$G$3:$O$130,5,FALSE),0)","v":0},{"$f":"IFERROR(VLOOKUP($B83,'[1]Num 6'!$G$3:$O$130,6,FALSE),0)","v":0},{"$f":"IFERROR(VLOOKUP($B83,'[1]Num 6'!$G$3:$O$130,7,FALSE),0)","v":0},{"$f":"IFERROR(VLOOKUP($B83,'[1]Num 6'!$G$3:$O$130,8,FALSE),0)","v":0},{"$nulls":5},0,{"$f":"IFERROR(VLOOKUP($B83,'[1]Den 6'!$G$3:$O$138,2,FALSE),0)","v":0},{"$f":"IFERROR(VLOOKUP($B83,'[1]Den 6'!$G$3:$O$138,3,FALSE),0)","v":0},{"$f":"IFERROR(VLOOKUP($B83,'[1]Den 6'!$G$3:$O$138,4,FALSE),0)","v":0},{"$f":"IFERROR(VLOOKUP($B83,'[1]Den 6'!$G$3:$O$138,5,FALSE),0)","v":0},{"$f":"IFERROR(VLOOKUP($B83,'[1]Den 6'!$G$3:$O$138,6,FALSE),0)","v":0},{"$f":"IFERROR(VLOOKUP($B83,'[1]Den 6'!$G$3:$O$138,7,FALSE),0)","v":0},{"$f":"IFERROR(VLOOKUP($B83,'[1]Den 6'!$G$3:$O$138,8,FALSE),0)","v":0},{"$nulls":5},0]
["04202-CANELA","105497-P.S.R. JABONERIA",null,null,{"$f":"IFERROR(VLOOKUP($B84,'[1]Num 6'!$G$3:$O$130,2,FALSE),0)","v":0},{"$f":"IFERROR(VLOOKUP($B84,'[1]Num 6'!$G$3:$O$130,3,FALSE),0)","v":0},{"$f":"IFERROR(VLOOKUP($B84,'[1]Num 6'!$G$3:$O$130,4,FALSE),0)","v":0},{"$f":"IFERROR(VLOOKUP($B84,'[1]Num 6'!$G$3:$O$130,5,FALSE),0)","v":0},{"$f":"IFERROR(VLOOKUP($B84,'[1]Num 6'!$G$3:$O$130,6,FALSE),0)","v":0},{"$f":"IFERROR(VLOOKUP($B84,'[1]Num 6'!$G$3:$O$130,7,FALSE),0)","v":0},{"$f":"IFERROR(VLOOKUP($B84,'[1]Num 6'!$G$3:$O$130,8,FALSE),0)","v":0},{"$nulls":5},0,{"$f":"IFERROR(VLOOKUP($B84,'[1]Den 6'!$G$3:$O$138,2,FALSE),0)","v":0},{"$f":"IFERROR(VLOOKUP($B84,'[1]Den 6'!$G$3:$O$138,3,FALSE),0)","v":0},{"$f":"IFERROR(VLOOKUP($B84,'[1]Den 6'!$G$3:$O$138,4,FALSE),0)","v":0},{"$f":"IFERROR(VLOOKUP($B84,'[1]Den 6'!$G$3:$O$138,5,FALSE),0)","v":0},{"$f":"IFERROR(VLOOKUP($B84,'[1]Den 6'!$G$3:$O$138,6,FALSE),0)","v":0},{"$f":"IFERROR(VLOOKUP($B84,'[1]Den 6'!$G$3:$O$138,7,FALSE),0)","v":0},{"$f":"IFERROR(VLOOKUP($B84,'[1]Den 6'!$G$3:$O$138,8,FALSE),0)","v":0},{"$nulls":5},0]
["04202-CANELA","105498-P.S.R. QUEBRADA DE LINARES",null,null,{"$f":"IFERROR(VLOOKUP($B85,'[1]Num 6'!$G$3:$O$130,2,FALSE),0)","v":0},{"$f":"IFERROR(VLOOKUP($B85,'[1]Num 6'!$G$3:$O$130,3,FALSE),0)","v":0},{"$f":"IFERROR(VLOOKUP($B85,'[1]Num 6'!$G$3:$O$130,4,FALSE),0)","v":0},{"$f":"IFERROR(VLOOKUP($B85,'[1]Num 6'!$G$3:$O$130,5,FALSE),0)","v":0},{"$f":"IFERROR(VLOOKUP($B85,'[1]Num 6'!$G$3:$O$130,6,FALSE),0)","v":0},{"$f":"IFERROR(VLOOKUP($B85,'[1]Num 6'!$G$3:$O$130,7,FALSE),0)","v":0},{"$f":"IFERROR(VLOOKUP($B85,'[1]Num 6'!$G$3:$O$130,8,FALSE),0)","v":0},{"$nulls":5},0,{"$f":"IFERROR(VLOOKUP($B85,'[1]Den 6'!$G$3:$O$138,2,FALSE),0)","v":0},{"$f":"IFERROR(VLOOKUP($B85,'[1]Den 6'!$G$3:$O$138,3,FALSE),0)","v":0},{"$f":"IFERROR(VLOOKUP($B85,'[1]Den 6'!$G$3:$O$138,4,FALSE),0)","v":0},{"$f":"IFERROR(VLOOKUP($B85,'[1]Den 6'!$G$3:$O$138,5,FALSE),0)","v":0},{"$f":"IFERROR(VLOOKUP($B85,'[1]Den 6'!$G$3:$O$138,6,FALSE),0)","v":0},{"$f":"IFERROR(VLOOKUP($B85,'[1]Den 6'!$G$3:$O$138,7,FALSE),0)","v":0},{"$f":"IFERROR(VLOOKUP($B85,'[1]Den 6'!$G$3:$O$138,8,FALSE),0)","v":0},{"$nulls":5},0]
["TOTAL CANELA",null,{"$f":"D86/Metas!N11","v":{"v":0.5392156862745099,"d":"53.92%"}},{"$f":"Q86/AD86","v":{"v":0.3235294117647059,"d":"32.35%"}},{"$f":"SUM(E76:E85)","v":2},{"$f":"SUM(F76:F85)","v":2},{"$f":"SUM(G76:G85)","v":0},{"$f":"SUM(H76:H85)","v":2},{"$f":"SUM(I76:I85)","v":2},2,1,0,0,0,0,{"$f":"SUM(P76:P85)","v":0},11,3,4,5,8,6,5,3,0,0,0,{"$f":"SUM(AB76:AB85)","v":0},{"$f":"SUM(AC76:AC85)","v":0},{"$f":"SUM(AD76:AD85)","v":34}]
["04203-LOS VILOS","105478-P.S.R. CAIMANES                   ",null,null,{"$f":"IFERROR(VLOOKUP($B87,'[1]Num 6'!$G$3:$O$130,2,FALSE),0)","v":0},{"$f":"IFERROR(VLOOKUP($B87,'[1]Num 6'!$G$3:$O$130,3,FALSE),0)","v":0},{"$f":"IFERROR(VLOOKUP($B87,'[1]Num 6'!$G$3:$O$130,4,FALSE),0)","v":0},{"$f":"IFERROR(VLOOKUP($B87,'[1]Num 6'!$G$3:$O$130,5,FALSE),0)","v":0},{"$f":"IFERROR(VLOOKUP($B87,'[1]Num 6'!$G$3:$O$130,6,FALSE),0)","v":0},{"$f":"IFERROR(VLOOKUP($B87,'[1]Num 6'!$G$3:$O$130,7,FALSE),0)","v":0},{"$f":"IFERROR(VLOOKUP($B87,'[1]Num 6'!$G$3:$O$130,8,FALSE),0)","v":0},{"$nulls":5},0,{"$f":"IFERROR(VLOOKUP($B87,'[1]Den 6'!$G$3:$O$138,2,FALSE),0)","v":0},{"$f":"IFERROR(VLOOKUP($B87,'[1]Den 6'!$G$3:$O$138,3,FALSE),0)","v":1},{"$f":"IFERROR(VLOOKUP($B87,'[1]Den 6'!$G$3:$O$138,4,FALSE),0)","v":0},{"$f":"IFERROR(VLOOKUP($B87,'[1]Den 6'!$G$3:$O$138,5,FALSE),0)","v":0},{"$f":"IFERROR(VLOOKUP($B87,'[1]Den 6'!$G$3:$O$138,6,FALSE),0)","v":0},{"$f":"IFERROR(VLOOKUP($B87,'[1]Den 6'!$G$3:$O$138,7,FALSE),0)","v":2},{"$f":"IFERROR(VLOOKUP($B87,'[1]Den 6'!$G$3:$O$138,8,FALSE),0)","v":0},{"$nulls":5},3]
["04203-LOS VILOS","105479-P.S.R. GUANGUALI",null,null,{"$f":"IFERROR(VLOOKUP($B88,'[1]Num 6'!$G$3:$O$130,2,FALSE),0)","v":0},{"$f":"IFERROR(VLOOKUP($B88,'[1]Num 6'!$G$3:$O$130,3,FALSE),0)","v":0},{"$f":"IFERROR(VLOOKUP($B88,'[1]Num 6'!$G$3:$O$130,4,FALSE),0)","v":0},{"$f":"IFERROR(VLOOKUP($B88,'[1]Num 6'!$G$3:$O$130,5,FALSE),0)","v":1},{"$f":"IFERROR(VLOOKUP($B88,'[1]Num 6'!$G$3:$O$130,6,FALSE),0)","v":0},{"$f":"IFERROR(VLOOKUP($B88,'[1]Num 6'!$G$3:$O$130,7,FALSE),0)","v":1},{"$f":"IFERROR(VLOOKUP($B88,'[1]Num 6'!$G$3:$O$130,8,FALSE),0)","v":1},{"$nulls":5},3,{"$f":"IFERROR(VLOOKUP($B88,'[1]Den 6'!$G$3:$O$138,2,FALSE),0)","v":0},{"$f":"IFERROR(VLOOKUP($B88,'[1]Den 6'!$G$3:$O$138,3,FALSE),0)","v":0},{"$f":"IFERROR(VLOOKUP($B88,'[1]Den 6'!$G$3:$O$138,4,FALSE),0)","v":1},{"$f":"IFERROR(VLOOKUP($B88,'[1]Den 6'!$G$3:$O$138,5,FALSE),0)","v":1},{"$f":"IFERROR(VLOOKUP($B88,'[1]Den 6'!$G$3:$O$138,6,FALSE),0)","v":0},{"$f":"IFERROR(VLOOKUP($B88,'[1]Den 6'!$G$3:$O$138,7,FALSE),0)","v":1},{"$f":"IFERROR(VLOOKUP($B88,'[1]Den 6'!$G$3:$O$138,8,FALSE),0)","v":1},{"$nulls":5},4]
["04203-LOS VILOS","105480-P.S.R. QUILIMARI",null,null,{"$f":"IFERROR(VLOOKUP($B89,'[1]Num 6'!$G$3:$O$130,2,FALSE),0)","v":0},{"$f":"IFERROR(VLOOKUP($B89,'[1]Num 6'!$G$3:$O$130,3,FALSE),0)","v":0},{"$f":"IFERROR(VLOOKUP($B89,'[1]Num 6'!$G$3:$O$130,4,FALSE),0)","v":0},{"$f":"IFERROR(VLOOKUP($B89,'[1]Num 6'!$G$3:$O$130,5,FALSE),0)","v":0},{"$f":"IFERROR(VLOOKUP($B89,'[1]Num 6'!$G$3:$O$130,6,FALSE),0)","v":2},{"$f":"IFERROR(VLOOKUP($B89,'[1]Num 6'!$G$3:$O$130,7,FALSE),0)","v":1},{"$f":"IFERROR(VLOOKUP($B89,'[1]Num 6'!$G$3:$O$130,8,FALSE),0)","v":0},{"$nulls":5},3,{"$f":"IFERROR(VLOOKUP($B89,'[1]Den 6'!$G$3:$O$138,2,FALSE),0)","v":0},{"$f":"IFERROR(VLOOKUP($B89,'[1]Den 6'!$G$3:$O$138,3,FALSE),0)","v":0},{"$f":"IFERROR(VLOOKUP($B89,'[1]Den 6'!$G$3:$O$138,4,FALSE),0)","v":4},{"$f":"IFERROR(VLOOKUP($B89,'[1]Den 6'!$G$3:$O$138,5,FALSE),0)","v":0},{"$f":"IFERROR(VLOOKUP($B89,'[1]Den 6'!$G$3:$O$138,6,FALSE),0)","v":3},{"$f":"IFERROR(VLOOKUP($B89,'[1]Den 6'!$G$3:$O$138,7,FALSE),0)","v":4},{"$f":"IFERROR(VLOOKUP($B89,'[1]Den 6'!$G$3:$O$138,8,FALSE),0)","v":1},{"$nulls":5},12]
["04203-LOS VILOS","105481-P.S.R. TILAMA",null,null,{"$f":"IFERROR(VLOOKUP($B90,'[1]Num 6'!$G$3:$O$130,2,FALSE),0)","v":0},{"$f":"IFERROR(VLOOKUP($B90,'[1]Num 6'!$G$3:$O$130,3,FALSE),0)","v":0},{"$f":"IFERROR(VLOOKUP($B90,'[1]Num 6'!$G$3:$O$130,4,FALSE),0)","v":2},{"$f":"IFERROR(VLOOKUP($B90,'[1]Num 6'!$G$3:$O$130,5,FALSE),0)","v":0},{"$f":"IFERROR(VLOOKUP($B90,'[1]Num 6'!$G$3:$O$130,6,FALSE),0)","v":2},{"$f":"IFERROR(VLOOKUP($B90,'[1]Num 6'!$G$3:$O$130,7,FALSE),0)","v":1},{"$f":"IFERROR(VLOOKUP($B90,'[1]Num 6'!$G$3:$O$130,8,FALSE),0)","v":0},{"$nulls":5},5,{"$f":"IFERROR(VLOOKUP($B90,'[1]Den 6'!$G$3:$O$138,2,FALSE),0)","v":0},{"$f":"IFERROR(VLOOKUP($B90,'[1]Den 6'!$G$3:$O$138,3,FALSE),0)","v":0},{"$f":"IFERROR(VLOOKUP($B90,'[1]Den 6'!$G$3:$O$138,4,FALSE),0)","v":2},{"$f":"IFERROR(VLOOKUP($B90,'[1]Den 6'!$G$3:$O$138,5,FALSE),0)","v":0},{"$f":"IFERROR(VLOOKUP($B90,'[1]Den 6'!$G$3:$O$138,6,FALSE),0)","v":2},{"$f":"IFERROR(VLOOKUP($B90,'[1]Den 6'!$G$3:$O$138,7,FALSE),0)","v":1},{"$f":"IFERROR(VLOOKUP($B90,'[1]Den 6'!$G$3:$O$138,8,FALSE),0)","v":0},{"$nulls":5},5]
["04203-LOS VILOS","105511-P.S.R. LOS CONDORES",null,null,{"$f":"IFERROR(VLOOKUP($B91,'[1]Num 6'!$G$3:$O$130,2,FALSE),0)","v":1},{"$f":"IFERROR(VLOOKUP($B91,'[1]Num 6'!$G$3:$O$130,3,FALSE),0)","v":0},{"$f":"IFERROR(VLOOKUP($B91,'[1]Num 6'!$G$3:$O$130,4,FALSE),0)","v":1},{"$f":"IFERROR(VLOOKUP($B91,'[1]Num 6'!$G$3:$O$130,5,FALSE),0)","v":0},{"$f":"IFERROR(VLOOKUP($B91,'[1]Num 6'!$G$3:$O$130,6,FALSE),0)","v":0},{"$f":"IFERROR(VLOOKUP($B91,'[1]Num 6'!$G$3:$O$130,7,FALSE),0)","v":1},{"$f":"IFERROR(VLOOKUP($B91,'[1]Num 6'!$G$3:$O$130,8,FALSE),0)","v":0},{"$nulls":5},3,{"$f":"IFERROR(VLOOKUP($B91,'[1]Den 6'!$G$3:$O$138,2,FALSE),0)","v":1},{"$f":"IFERROR(VLOOKUP($B91,'[1]Den 6'!$G$3:$O$138,3,FALSE),0)","v":0},{"$f":"IFERROR(VLOOKUP($B91,'[1]Den 6'!$G$3:$O$138,4,FALSE),0)","v":3},{"$f":"IFERROR(VLOOKUP($B91,'[1]Den 6'!$G$3:$O$138,5,FALSE),0)","v":3},{"$f":"IFERROR(VLOOKUP($B91,'[1]Den 6'!$G$3:$O$138,6,FALSE),0)","v":0},{"$f":"IFERROR(VLOOKUP($B91,'[1]Den 6'!$G$3:$O$138,7,FALSE),0)","v":2},{"$f":"IFERROR(VLOOKUP($B91,'[1]Den 6'!$G$3:$O$138,8,FALSE),0)","v":1},{"$nulls":5},10]
["TOTAL LOS VILOS",null,{"$f":"D92/Metas!N12","v":{"v":0.6862745098039216,"d":"68.63%"}},{"$f":"Q92/AD92","v":{"v":0.4117647058823529,"d":"41.18%"}},{"$f":"SUM(E87:E91)","v":1},{"$f":"SUM(F87:F91)","v":0},{"$f":"SUM(G87:G91)","v":3},{"$f":"SUM(H87:H91)","v":1},{"$f":"SUM(I87:I91)","v":4},4,1,0,0,0,0,{"$f":"SUM(P87:P91)","v":0},14,1,1,10,4,5,10,3,0,0,0,{"$f":"SUM(AB87:AB91)","v":0},{"$f":"SUM(AC87:AC91)","v":0},{"$f":"SUM(AD87:AD91)","v":34}]
["04204-SALAMANCA","105452-P.S.R. CUNCUMEN                 ",null,null,{"$f":"IFERROR(VLOOKUP($B93,'[1]Num 6'!$G$3:$O$130,2,FALSE),0)","v":0},{"$f":"IFERROR(VLOOKUP($B93,'[1]Num 6'!$G$3:$O$130,3,FALSE),0)","v":0},{"$f":"IFERROR(VLOOKUP($B93,'[1]Num 6'!$G$3:$O$130,4,FALSE),0)","v":1},{"$f":"IFERROR(VLOOKUP($B93,'[1]Num 6'!$G$3:$O$130,5,FALSE),0)","v":0},{"$f":"IFERROR(VLOOKUP($B93,'[1]Num 6'!$G$3:$O$130,6,FALSE),0)","v":0},{"$f":"IFERROR(VLOOKUP($B93,'[1]Num 6'!$G$3:$O$130,7,FALSE),0)","v":0},{"$f":"IFERROR(VLOOKUP($B93,'[1]Num 6'!$G$3:$O$130,8,FALSE),0)","v":0},{"$nulls":5},1,{"$f":"IFERROR(VLOOKUP($B93,'[1]Den 6'!$G$3:$O$138,2,FALSE),0)","v":1},{"$f":"IFERROR(VLOOKUP($B93,'[1]Den 6'!$G$3:$O$138,3,FALSE),0)","v":0},{"$f":"IFERROR(VLOOKUP($B93,'[1]Den 6'!$G$3:$O$138,4,FALSE),0)","v":1},{"$f":"IFERROR(VLOOKUP($B93,'[1]Den 6'!$G$3:$O$138,5,FALSE),0)","v":0},{"$f":"IFERROR(VLOOKUP($B93,'[1]Den 6'!$G$3:$O$138,6,FALSE),0)","v":0},{"$f":"IFERROR(VLOOKUP($B93,'[1]Den 6'!$G$3:$O$138,7,FALSE),0)","v":1},{"$f":"IFERROR(VLOOKUP($B93,'[1]Den 6'!$G$3:$O$138,8,FALSE),0)","v":0},{"$nulls":5},3]
["04204-SALAMANCA","105453-P.S.R. TRANQUILLA",null,null,{"$f":"IFERROR(VLOOKUP($B94,'[1]Num 6'!$G$3:$O$130,2,FALSE),0)","v":0},{"$f":"IFERROR(VLOOKUP($B94,'[1]Num 6'!$G$3:$O$130,3,FALSE),0)","v":0},{"$f":"IFERROR(VLOOKUP($B94,'[1]Num 6'!$G$3:$O$130,4,FALSE),0)","v":0},{"$f":"IFERROR(VLOOKUP($B94,'[1]Num 6'!$G$3:$O$130,5,FALSE),0)","v":0},{"$f":"IFERROR(VLOOKUP($B94,'[1]Num 6'!$G$3:$O$130,6,FALSE),0)","v":0},{"$f":"IFERROR(VLOOKUP($B94,'[1]Num 6'!$G$3:$O$130,7,FALSE),0)","v":1},{"$f":"IFERROR(VLOOKUP($B94,'[1]Num 6'!$G$3:$O$130,8,FALSE),0)","v":0},{"$nulls":5},1,{"$f":"IFERROR(VLOOKUP($B94,'[1]Den 6'!$G$3:$O$138,2,FALSE),0)","v":0},{"$f":"IFERROR(VLOOKUP($B94,'[1]Den 6'!$G$3:$O$138,3,FALSE),0)","v":1},{"$f":"IFERROR(VLOOKUP($B94,'[1]Den 6'!$G$3:$O$138,4,FALSE),0)","v":0},{"$f":"IFERROR(VLOOKUP($B94,'[1]Den 6'!$G$3:$O$138,5,FALSE),0)","v":0},{"$f":"IFERROR(VLOOKUP($B94,'[1]Den 6'!$G$3:$O$138,6,FALSE),0)","v":0},{"$f":"IFERROR(VLOOKUP($B94,'[1]Den 6'!$G$3:$O$138,7,FALSE),0)","v":1},{"$f":"IFERROR(VLOOKUP($B94,'[1]Den 6'!$G$3:$O$138,8,FALSE),0)","v":0},{"$nulls":5},2]
["04204-SALAMANCA","105454-P.S.R. CUNLAGUA",null,null,{"$f":"IFERROR(VLOOKUP($B95,'[1]Num 6'!$G$3:$O$130,2,FALSE),0)","v":0},{"$f":"IFERROR(VLOOKUP($B95,'[1]Num 6'!$G$3:$O$130,3,FALSE),0)","v":0},{"$f":"IFERROR(VLOOKUP($B95,'[1]Num 6'!$G$3:$O$130,4,FALSE),0)","v":0},{"$f":"IFERROR(VLOOKUP($B95,'[1]Num 6'!$G$3:$O$130,5,FALSE),0)","v":0},{"$f":"IFERROR(VLOOKUP($B95,'[1]Num 6'!$G$3:$O$130,6,FALSE),0)","v":0},{"$f":"IFERROR(VLOOKUP($B95,'[1]Num 6'!$G$3:$O$130,7,FALSE),0)","v":0},{"$f":"IFERROR(VLOOKUP($B95,'[1]Num 6'!$G$3:$O$130,8,FALSE),0)","v":0},{"$nulls":5},0,{"$f":"IFERROR(VLOOKUP($B95,'[1]Den 6'!$G$3:$O$138,2,FALSE),0)","v":0},{"$f":"IFERROR(VLOOKUP($B95,'[1]Den 6'!$G$3:$O$138,3,FALSE),0)","v":0},{"$f":"IFERROR(VLOOKUP($B95,'[1]Den 6'!$G$3:$O$138,4,FALSE),0)","v":1},{"$f":"IFERROR(VLOOKUP($B95,'[1]Den 6'!$G$3:$O$138,5,FALSE),0)","v":0},{"$f":"IFERROR(VLOOKUP($B95,'[1]Den 6'!$G$3:$O$138,6,FALSE),0)","v":0},{"$f":"IFERROR(VLOOKUP($B95,'[1]Den 6'!$G$3:$O$138,7,FALSE),0)","v":0},{"$f":"IFERROR(VLOOKUP($B95,'[1]Den 6'!$G$3:$O$138,8,FALSE),0)","v":0},{"$nulls":5},1]
["04204-SALAMANCA","105455-P.S.R. CHILLEPIN",null,null,{"$f":"IFERROR(VLOOKUP($B96,'[1]Num 6'!$G$3:$O$130,2,FALSE),0)","v":1},{"$f":"IFERROR(VLOOKUP($B96,'[1]Num 6'!$G$3:$O$130,3,FALSE),0)","v":0},{"$f":"IFERROR(VLOOKUP($B96,'[1]Num 6'!$G$3:$O$130,4,FALSE),0)","v":0},{"$f":"IFERROR(VLOOKUP($B96,'[1]Num 6'!$G$3:$O$130,5,FALSE),0)","v":0},{"$f":"IFERROR(VLOOKUP($B96,'[1]Num 6'!$G$3:$O$130,6,FALSE),0)","v":0},{"$f":"IFERROR(VLOOKUP($B96,'[1]Num 6'!$G$3:$O$130,7,FALSE),0)","v":0},{"$f":"IFERROR(VLOOKUP($B96,'[1]Num 6'!$G$3:$O$130,8,FALSE),0)","v":0},{"$nulls":5},1,{"$f":"IFERROR(VLOOKUP($B96,'[1]Den 6'!$G$3:$O$138,2,FALSE),0)","v":1},{"$f":"IFERROR(VLOOKUP($B96,'[1]Den 6'!$G$3:$O$138,3,FALSE),0)","v":0},{"$f":"IFERROR(VLOOKUP($B96,'[1]Den 6'!$G$3:$O$138,4,FALSE),0)","v":0},{"$f":"IFERROR(VLOOKUP($B96,'[1]Den 6'!$G$3:$O$138,5,FALSE),0)","v":0},{"$f":"IFERROR(VLOOKUP($B96,'[1]Den 6'!$G$3:$O$138,6,FALSE),0)","v":0},{"$f":"IFERROR(VLOOKUP($B96,'[1]Den 6'!$G$3:$O$138,7,FALSE),0)","v":3},{"$f":"IFERROR(VLOOKUP($B96,'[1]Den 6'!$G$3:$O$138,8,FALSE),0)","v":0},{"$nulls":5},4]
["04204-SALAMANCA","105456-P.S.R. LLIMPO",null,null,{"$f":"IFERROR(VLOOKUP($B97,'[1]Num 6'!$G$3:$O$130,2,FALSE),0)","v":0},{"$f":"IFERROR(VLOOKUP($B97,'[1]Num 6'!$G$3:$O$130,3,FALSE),0)","v":2},{"$f":"IFERROR(VLOOKUP($B97,'[1]Num 6'!$G$3:$O$130,4,FALSE),0)","v":0},{"$f":"IFERROR(VLOOKUP($B97,'[1]Num 6'!$G$3:$O$130,5,FALSE),0)","v":0},{"$f":"IFERROR(VLOOKUP($B97,'[1]Num 6'!$G$3:$O$130,6,FALSE),0)","v":0},{"$f":"IFERROR(VLOOKUP($B97,'[1]Num 6'!$G$3:$O$130,7,FALSE),0)","v":1},{"$f":"IFERROR(VLOOKUP($B97,'[1]Num 6'!$G$3:$O$130,8,FALSE),0)","v":0},{"$nulls":5},3,{"$f":"IFERROR(VLOOKUP($B97,'[1]Den 6'!$G$3:$O$138,2,FALSE),0)","v":0},{"$f":"IFERROR(VLOOKUP($B97,'[1]Den 6'!$G$3:$O$138,3,FALSE),0)","v":2},{"$f":"IFERROR(VLOOKUP($B97,'[1]Den 6'!$G$3:$O$138,4,FALSE),0)","v":0},{"$f":"IFERROR(VLOOKUP($B97,'[1]Den 6'!$G$3:$O$138,5,FALSE),0)","v":0},{"$f":"IFERROR(VLOOKUP($B97,'[1]Den 6'!$G$3:$O$138,6,FALSE),0)","v":0},{"$f":"IFERROR(VLOOKUP($B97,'[1]Den 6'!$G$3:$O$138,7,FALSE),0)","v":1},{"$f":"IFERROR(VLOOKUP($B97,'[1]Den 6'!$G$3:$O$138,8,FALSE),0)","v":0},{"$nulls":5},3]
["04204-SALAMANCA","105457-P.S.R. SAN AGUSTIN",null,null,{"$f":"IFERROR(VLOOKUP($B98,'[1]Num 6'!$G$3:$O$130,2,FALSE),0)","v":1},{"$f":"IFERROR(VLOOKUP($B98,'[1]Num 6'!$G$3:$O$130,3,FALSE),0)","v":0},{"$f":"IFERROR(VLOOKUP($B98,'[1]Num 6'!$G$3:$O$130,4,FALSE),0)","v":1},{"$f":"IFERROR(VLOOKUP($B98,'[1]Num 6'!$G$3:$O$130,5,FALSE),0)","v":0},{"$f":"IFERROR(VLOOKUP($B98,'[1]Num 6'!$G$3:$O$130,6,FALSE),0)","v":0},{"$f":"IFERROR(VLOOKUP($B98,'[1]Num 6'!$G$3:$O$130,7,FALSE),0)","v":0},{"$f":"IFERROR(VLOOKUP($B98,'[1]Num 6'!$G$3:$O$130,8,FALSE),0)","v":0},{"$nulls":5},2,{"$f":"IFERROR(VLOOKUP($B98,'[1]Den 6'!$G$3:$O$138,2,FALSE),0)","v":1},{"$f":"IFERROR(VLOOKUP($B98,'[1]Den 6'!$G$3:$O$138,3,FALSE),0)","v":0},{"$f":"IFERROR(VLOOKUP($B98,'[1]Den 6'!$G$3:$O$138,4,FALSE),0)","v":1},{"$f":"IFERROR(VLOOKUP($B98,'[1]Den 6'!$G$3:$O$138,5,FALSE),0)","v":0},{"$f":"IFERROR(VLOOKUP($B98,'[1]Den 6'!$G$3:$O$138,6,FALSE),0)","v":0},{"$f":"IFERROR(VLOOKUP($B98,'[1]Den 6'!$G$3:$O$138,7,FALSE),0)","v":0},{"$f":"IFERROR(VLOOKUP($B98,'[1]Den 6'!$G$3:$O$138,8,FALSE),0)","v":0},{"$nulls":5},2]
["04204-SALAMANCA","105458-P.S.R. TAHUINCO",null,null,{"$f":"IFERROR(VLOOKUP($B99,'[1]Num 6'!$G$3:$O$130,2,FALSE),0)","v":1},{"$f":"IFERROR(VLOOKUP($B99,'[1]Num 6'!$G$3:$O$130,3,FALSE),0)","v":0},{"$f":"IFERROR(VLOOKUP($B99,'[1]Num 6'!$G$3:$O$130,4,FALSE),0)","v":3},{"$f":"IFERROR(VLOOKUP($B99,'[1]Num 6'!$G$3:$O$130,5,FALSE),0)","v":1},{"$f":"IFERROR(VLOOKUP($B99,'[1]Num 6'!$G$3:$O$130,6,FALSE),0)","v":0},{"$f":"IFERROR(VLOOKUP($B99,'[1]Num 6'!$G$3:$O$130,7,FALSE),0)","v":0},{"$f":"IFERROR(VLOOKUP($B99,'[1]Num 6'!$G$3:$O$130,8,FALSE),0)","v":2},{"$nulls":5},7,{"$f":"IFERROR(VLOOKUP($B99,'[1]Den 6'!$G$3:$O$138,2,FALSE),0)","v":1},{"$f":"IFERROR(VLOOKUP($B99,'[1]Den 6'!$G$3:$O$138,3,FALSE),0)","v":0},{"$f":"IFERROR(VLOOKUP($B99,'[1]Den 6'!$G$3:$O$138,4,FALSE),0)","v":4},{"$f":"IFERROR(VLOOKUP($B99,'[1]Den 6'!$G$3:$O$138,5,FALSE),0)","v":1},{"$f":"IFERROR(VLOOKUP($B99,'[1]Den 6'!$G$3:$O$138,6,FALSE),0)","v":0},{"$f":"IFERROR(VLOOKUP($B99,'[1]Den 6'!$G$3:$O$138,7,FALSE),0)","v":1},{"$f":"IFERROR(VLOOKUP($B99,'[1]Den 6'!$G$3:$O$138,8,FALSE),0)","v":3},{"$nulls":5},10]
["04204-SALAMANCA","105491-P.S.R. QUELEN BAJO",null,null,{"$f":"IFERROR(VLOOKUP($B100,'[1]Num 6'!$G$3:$O$130,2,FALSE),0)","v":0},{"$f":"IFERROR(VLOOKUP($B100,'[1]Num 6'!$G$3:$O$130,3,FALSE),0)","v":0},{"$f":"IFERROR(VLOOKUP($B100,'[1]Num 6'!$G$3:$O$130,4,FALSE),0)","v":1},{"$f":"IFERROR(VLOOKUP($B100,'[1]Num 6'!$G$3:$O$130,5,FALSE),0)","v":0},{"$f":"IFERROR(VLOOKUP($B100,'[1]Num 6'!$G$3:$O$130,6,FALSE),0)","v":0},{"$f":"IFERROR(VLOOKUP($B100,'[1]Num 6'!$G$3:$O$130,7,FALSE),0)","v":0},{"$f":"IFERROR(VLOOKUP($B100,'[1]Num 6'!$G$3:$O$130,8,FALSE),0)","v":2},{"$nulls":5},3,{"$f":"IFERROR(VLOOKUP($B100,'[1]Den 6'!$G$3:$O$138,2,FALSE),0)","v":0},{"$f":"IFERROR(VLOOKUP($B100,'[1]Den 6'!$G$3:$O$138,3,FALSE),0)","v":0},{"$f":"IFERROR(VLOOKUP($B100,'[1]Den 6'!$G$3:$O$138,4,FALSE),0)","v":1},{"$f":"IFERROR(VLOOKUP($B100,'[1]Den 6'!$G$3:$O$138,5,FALSE),0)","v":0},{"$f":"IFERROR(VLOOKUP($B100,'[1]Den 6'!$G$3:$O$138,6,FALSE),0)","v":0},{"$f":"IFERROR(VLOOKUP($B100,'[1]Den 6'!$G$3:$O$138,7,FALSE),0)","v":0},{"$f":"IFERROR(VLOOKUP($B100,'[1]Den 6'!$G$3:$O$138,8,FALSE),0)","v":3},{"$nulls":5},4]
["04204-SALAMANCA","105492-P.S.R. CAMISA",null,null,{"$f":"IFERROR(VLOOKUP($B101,'[1]Num 6'!$G$3:$O$130,2,FALSE),0)","v":0},{"$f":"IFERROR(VLOOKUP($B101,'[1]Num 6'!$G$3:$O$130,3,FALSE),0)","v":0},{"$f":"IFERROR(VLOOKUP($B101,'[1]Num 6'!$G$3:$O$130,4,FALSE),0)","v":0},{"$f":"IFERROR(VLOOKUP($B101,'[1]Num 6'!$G$3:$O$130,5,FALSE),0)","v":0},{"$f":"IFERROR(VLOOKUP($B101,'[1]Num 6'!$G$3:$O$130,6,FALSE),0)","v":0},{"$f":"IFERROR(VLOOKUP($B101,'[1]Num 6'!$G$3:$O$130,7,FALSE),0)","v":0},{"$f":"IFERROR(VLOOKUP($B101,'[1]Num 6'!$G$3:$O$130,8,FALSE),0)","v":1},{"$nulls":5},1,{"$f":"IFERROR(VLOOKUP($B101,'[1]Den 6'!$G$3:$O$138,2,FALSE),0)","v":0},{"$f":"IFERROR(VLOOKUP($B101,'[1]Den 6'!$G$3:$O$138,3,FALSE),0)","v":0},{"$f":"IFERROR(VLOOKUP($B101,'[1]Den 6'!$G$3:$O$138,4,FALSE),0)","v":0},{"$f":"IFERROR(VLOOKUP($B101,'[1]Den 6'!$G$3:$O$138,5,FALSE),0)","v":0},{"$f":"IFERROR(VLOOKUP($B101,'[1]Den 6'!$G$3:$O$138,6,FALSE),0)","v":0},{"$f":"IFERROR(VLOOKUP($B101,'[1]Den 6'!$G$3:$O$138,7,FALSE),0)","v":0},{"$f":"IFERROR(VLOOKUP($B101,'[1]Den 6'!$G$3:$O$138,8,FALSE),0)","v":1},{"$nulls":5},1]
["04204-SALAMANCA","105501-P.S.R. ARBOLEDA GRANDE",null,null,{"$f":"IFERROR(VLOOKUP($B102,'[1]Num 6'!$G$3:$O$130,2,FALSE),0)","v":0},{"$f":"IFERROR(VLOOKUP($B102,'[1]Num 6'!$G$3:$O$130,3,FALSE),0)","v":0},{"$f":"IFERROR(VLOOKUP($B102,'[1]Num 6'!$G$3:$O$130,4,FALSE),0)","v":1},{"$f":"IFERROR(VLOOKUP($B102,'[1]Num 6'!$G$3:$O$130,5,FALSE),0)","v":0},{"$f":"IFERROR(VLOOKUP($B102,'[1]Num 6'!$G$3:$O$130,6,FALSE),0)","v":1},{"$f":"IFERROR(VLOOKUP($B102,'[1]Num 6'!$G$3:$O$130,7,FALSE),0)","v":0},{"$f":"IFERROR(VLOOKUP($B102,'[1]Num 6'!$G$3:$O$130,8,FALSE),0)","v":0},{"$nulls":5},2,{"$f":"IFERROR(VLOOKUP($B102,'[1]Den 6'!$G$3:$O$138,2,FALSE),0)","v":0},{"$f":"IFERROR(VLOOKUP($B102,'[1]Den 6'!$G$3:$O$138,3,FALSE),0)","v":0},{"$f":"IFERROR(VLOOKUP($B102,'[1]Den 6'!$G$3:$O$138,4,FALSE),0)","v":2},{"$f":"IFERROR(VLOOKUP($B102,'[1]Den 6'!$G$3:$O$138,5,FALSE),0)","v":1},{"$f":"IFERROR(VLOOKUP($B102,'[1]Den 6'!$G$3:$O$138,6,FALSE),0)","v":1},{"$f":"IFERROR(VLOOKUP($B102,'[1]Den 6'!$G$3:$O$138,7,FALSE),0)","v":1},{"$f":"IFERROR(VLOOKUP($B102,'[1]Den 6'!$G$3:$O$138,8,FALSE),0)","v":0},{"$nulls":5},5]
["TOTAL SALAMANCA",null,{"$f":"D103/Metas!N13","v":{"v":1,"d":"100.00%"}},{"$f":"Q103/AD103","v":{"v":0.6,"d":"60.00%"}},{"$f":"SUM(E93:E102)","v":3},{"$f":"SUM(F93:F102)","v":2},{"$f":"SUM(G93:G102)","v":7},{"$f":"SUM(H93:H102)","v":1},{"$f":"SUM(I93:I102)","v":1},2,5,0,0,0,0,{"$f":"SUM(P93:P102)","v":0},21,4,3,10,2,1,8,7,0,0,0,{"$f":"SUM(AB93:AB102)","v":0},{"$f":"SUM(AC93:AC102)","v":0},{"$f":"SUM(AD93:AD102)","v":35}]
["04301-OVALLE","105315-CES. RURAL C. DE TAMAYA",null,null,{"$f":"IFERROR(VLOOKUP($B104,'[1]Num 6'!$G$3:$O$130,2,FALSE),0)","v":2},{"$f":"IFERROR(VLOOKUP($B104,'[1]Num 6'!$G$3:$O$130,3,FALSE),0)","v":3},{"$f":"IFERROR(VLOOKUP($B104,'[1]Num 6'!$G$3:$O$130,4,FALSE),0)","v":6},{"$f":"IFERROR(VLOOKUP($B104,'[1]Num 6'!$G$3:$O$130,5,FALSE),0)","v":4},{"$f":"IFERROR(VLOOKUP($B104,'[1]Num 6'!$G$3:$O$130,6,FALSE),0)","v":3},{"$f":"IFERROR(VLOOKUP($B104,'[1]Num 6'!$G$3:$O$130,7,FALSE),0)","v":4},{"$f":"IFERROR(VLOOKUP($B104,'[1]Num 6'!$G$3:$O$130,8,FALSE),0)","v":8},{"$nulls":5},{"$f":"SUM(E104:P104)","v":30},{"$f":"IFERROR(VLOOKUP($B104,'[1]Den 6'!$G$3:$O$138,2,FALSE),0)","v":2},{"$f":"IFERROR(VLOOKUP($B104,'[1]Den 6'!$G$3:$O$138,3,FALSE),0)","v":3},{"$f":"IFERROR(VLOOKUP($B104,'[1]Den 6'!$G$3:$O$138,4,FALSE),0)","v":13},{"$f":"IFERROR(VLOOKUP($B104,'[1]Den 6'!$G$3:$O$138,5,FALSE),0)","v":7},{"$f":"IFERROR(VLOOKUP($B104,'[1]Den 6'!$G$3:$O$138,6,FALSE),0)","v":5},{"$f":"IFERROR(VLOOKUP($B104,'[1]Den 6'!$G$3:$O$138,7,FALSE),0)","v":9},{"$f":"IFERROR(VLOOKUP($B104,'[1]Den 6'!$G$3:$O$138,8,FALSE),0)","v":13},{"$nulls":5},52]
["04301-OVALLE","105317-CES. JORGE JORDAN D.",null,null,{"$f":"IFERROR(VLOOKUP($B105,'[1]Num 6'!$G$3:$O$130,2,FALSE),0)","v":2},{"$f":"IFERROR(VLOOKUP($B105,'[1]Num 6'!$G$3:$O$130,3,FALSE),0)","v":10},{"$f":"IFERROR(VLOOKUP($B105,'[1]Num 6'!$G$3:$O$130,4,FALSE),0)","v":9},{"$f":"IFERROR(VLOOKUP($B105,'[1]Num 6'!$G$3:$O$130,5,FALSE),0)","v":6},{"$f":"IFERROR(VLOOKUP($B105,'[1]Num 6'!$G$3:$O$130,6,FALSE),0)","v":3},{"$f":"IFERROR(VLOOKUP($B105,'[1]Num 6'!$G$3:$O$130,7,FALSE),0)","v":8},{"$f":"IFERROR(VLOOKUP($B105,'[1]Num 6'!$G$3:$O$130,8,FALSE),0)","v":10},{"$nulls":5},48,{"$f":"IFERROR(VLOOKUP($B105,'[1]Den 6'!$G$3:$O$138,2,FALSE),0)","v":7},{"$f":"IFERROR(VLOOKUP($B105,'[1]Den 6'!$G$3:$O$138,3,FALSE),0)","v":10},{"$f":"IFERROR(VLOOKUP($B105,'[1]Den 6'!$G$3:$O$138,4,FALSE),0)","v":15},{"$f":"IFERROR(VLOOKUP($B105,'[1]Den 6'!$G$3:$O$138,5,FALSE),0)","v":9},{"$f":"IFERROR(VLOOKUP($B105,'[1]Den 6'!$G$3:$O$138,6,FALSE),0)","v":4},{"$f":"IFERROR(VLOOKUP($B105,'[1]Den 6'!$G$3:$O$138,7,FALSE),0)","v":14},{"$f":"IFERROR(VLOOKUP($B105,'[1]Den 6'!$G$3:$O$138,8,FALSE),0)","v":15},{"$nulls":5},74]
["04301-OVALLE","105322-CES. MARCOS MACUADA",null,null,{"$f":"IFERROR(VLOOKUP($B106,'[1]Num 6'!$G$3:$O$130,2,FALSE),0)","v":0},{"$f":"IFERROR(VLOOKUP($B106,'[1]Num 6'!$G$3:$O$130,3,FALSE),0)","v":4},{"$f":"IFERROR(VLOOKUP($B106,'[1]Num 6'!$G$3:$O$130,4,FALSE),0)","v":3},{"$f":"IFERROR(VLOOKUP($B106,'[1]Num 6'!$G$3:$O$130,5,FALSE),0)","v":5},{"$f":"IFERROR(VLOOKUP($B106,'[1]Num 6'!$G$3:$O$130,6,FALSE),0)","v":11},{"$f":"IFERROR(VLOOKUP($B106,'[1]Num 6'!$G$3:$O$130,7,FALSE),0)","v":5},{"$f":"IFERROR(VLOOKUP($B106,'[1]Num 6'!$G$3:$O$130,8,FALSE),0)","v":7},{"$nulls":5},35,{"$f":"IFERROR(VLOOKUP($B106,'[1]Den 6'!$G$3:$O$138,2,FALSE),0)","v":2},{"$f":"IFERROR(VLOOKUP($B106,'[1]Den 6'!$G$3:$O$138,3,FALSE),0)","v":7},{"$f":"IFERROR(VLOOKUP($B106,'[1]Den 6'!$G$3:$O$138,4,FALSE),0)","v":5},{"$f":"IFERROR(VLOOKUP($B106,'[1]Den 6'!$G$3:$O$138,5,FALSE),0)","v":10},{"$f":"IFERROR(VLOOKUP($B106,'[1]Den 6'!$G$3:$O$138,6,FALSE),0)","v":15},{"$f":"IFERROR(VLOOKUP($B106,'[1]Den 6'!$G$3:$O$138,7,FALSE),0)","v":8},{"$f":"IFERROR(VLOOKUP($B106,'[1]Den 6'!$G$3:$O$138,8,FALSE),0)","v":10},{"$nulls":5},57]
["04301-OVALLE","105324-CES. SOTAQUI",null,null,{"$f":"IFERROR(VLOOKUP($B107,'[1]Num 6'!$G$3:$O$130,2,FALSE),0)","v":3},{"$f":"IFERROR(VLOOKUP($B107,'[1]Num 6'!$G$3:$O$130,3,FALSE),0)","v":1},{"$f":"IFERROR(VLOOKUP($B107,'[1]Num 6'!$G$3:$O$130,4,FALSE),0)","v":4},{"$f":"IFERROR(VLOOKUP($B107,'[1]Num 6'!$G$3:$O$130,5,FALSE),0)","v":2},{"$f":"IFERROR(VLOOKUP($B107,'[1]Num 6'!$G$3:$O$130,6,FALSE),0)","v":2},{"$f":"IFERROR(VLOOKUP($B107,'[1]Num 6'!$G$3:$O$130,7,FALSE),0)","v":2},{"$f":"IFERROR(VLOOKUP($B107,'[1]Num 6'!$G$3:$O$130,8,FALSE),0)","v":3},{"$nulls":5},17,{"$f":"IFERROR(VLOOKUP($B107,'[1]Den 6'!$G$3:$O$138,2,FALSE),0)","v":4},{"$f":"IFERROR(VLOOKUP($B107,'[1]Den 6'!$G$3:$O$138,3,FALSE),0)","v":3},{"$f":"IFERROR(VLOOKUP($B107,'[1]Den 6'!$G$3:$O$138,4,FALSE),0)","v":6},{"$f":"IFERROR(VLOOKUP($B107,'[1]Den 6'!$G$3:$O$138,5,FALSE),0)","v":2},{"$f":"IFERROR(VLOOKUP($B107,'[1]Den 6'!$G$3:$O$138,6,FALSE),0)","v":2},{"$f":"IFERROR(VLOOKUP($B107,'[1]Den 6'!$G$3:$O$138,7,FALSE),0)","v":3},{"$f":"IFERROR(VLOOKUP($B107,'[1]Den 6'!$G$3:$O$138,8,FALSE),0)","v":4},{"$nulls":5},24]
["04301-OVALLE","105415-P.S.R. BARRAZA",null,null,{"$f":"IFERROR(VLOOKUP($B108,'[1]Num 6'!$G$3:$O$130,2,FALSE),0)","v":0},{"$f":"IFERROR(VLOOKUP($B108,'[1]Num 6'!$G$3:$O$130,3,FALSE),0)","v":0},{"$f":"IFERROR(VLOOKUP($B108,'[1]Num 6'!$G$3:$O$130,4,FALSE),0)","v":0},{"$f":"IFERROR(VLOOKUP($B108,'[1]Num 6'!$G$3:$O$130,5,FALSE),0)","v":0},{"$f":"IFERROR(VLOOKUP($B108,'[1]Num 6'!$G$3:$O$130,6,FALSE),0)","v":0},{"$f":"IFERROR(VLOOKUP($B108,'[1]Num 6'!$G$3:$O$130,7,FALSE),0)","v":0},{"$f":"IFERROR(VLOOKUP($B108,'[1]Num 6'!$G$3:$O$130,8,FALSE),0)","v":0},{"$nulls":5},0,{"$f":"IFERROR(VLOOKUP($B108,'[1]Den 6'!$G$3:$O$138,2,FALSE),0)","v":0},{"$f":"IFERROR(VLOOKUP($B108,'[1]Den 6'!$G$3:$O$138,3,FALSE),0)","v":0},{"$f":"IFERROR(VLOOKUP($B108,'[1]Den 6'!$G$3:$O$138,4,FALSE),0)","v":0},{"$f":"IFERROR(VLOOKUP($B108,'[1]Den 6'!$G$3:$O$138,5,FALSE),0)","v":0},{"$f":"IFERROR(VLOOKUP($B108,'[1]Den 6'!$G$3:$O$138,6,FALSE),0)","v":0},{"$f":"IFERROR(VLOOKUP($B108,'[1]Den 6'!$G$3:$O$138,7,FALSE),0)","v":0},{"$f":"IFERROR(VLOOKUP($B108,'[1]Den 6'!$G$3:$O$138,8,FALSE),0)","v":0},{"$nulls":5},0]
["04301-OVALLE","105416-P.S.R. CAMARICO                  ",null,null,{"$f":"IFERROR(VLOOKUP($B109,'[1]Num 6'!$G$3:$O$130,2,FALSE),0)","v":0},{"$f":"IFERROR(VLOOKUP($B109,'[1]Num 6'!$G$3:$O$130,3,FALSE),0)","v":0},{"$f":"IFERROR(VLOOKUP($B109,'[1]Num 6'!$G$3:$O$130,4,FALSE),0)","v":0},{"$f":"IFERROR(VLOOKUP($B109,'[1]Num 6'!$G$3:$O$130,5,FALSE),0)","v":0},{"$f":"IFERROR(VLOOKUP($B109,'[1]Num 6'!$G$3:$O$130,6,FALSE),0)","v":0},{"$f":"IFERROR(VLOOKUP($B109,'[1]Num 6'!$G$3:$O$130,7,FALSE),0)","v":1},{"$f":"IFERROR(VLOOKUP($B109,'[1]Num 6'!$G$3:$O$130,8,FALSE),0)","v":0},{"$nulls":5},1,{"$f":"IFERROR(VLOOKUP($B109,'[1]Den 6'!$G$3:$O$138,2,FALSE),0)","v":0},{"$f":"IFERROR(VLOOKUP($B109,'[1]Den 6'!$G$3:$O$138,3,FALSE),0)","v":0},{"$f":"IFERROR(VLOOKUP($B109,'[1]Den 6'!$G$3:$O$138,4,FALSE),0)","v":0},{"$f":"IFERROR(VLOOKUP($B109,'[1]Den 6'!$G$3:$O$138,5,FALSE),0)","v":0},{"$f":"IFERROR(VLOOKUP($B109,'[1]Den 6'!$G$3:$O$138,6,FALSE),0)","v":0},{"$f":"IFERROR(VLOOKUP($B109,'[1]Den 6'!$G$3:$O$138,7,FALSE),0)","v":1},{"$f":"IFERROR(VLOOKUP($B109,'[1]Den 6'!$G$3:$O$138,8,FALSE),0)","v":0},{"$nulls":5},1]
["04301-OVALLE","105417-P.S.R. ALCONES BAJOS",null,null,{"$f":"IFERROR(VLOOKUP($B110,'[1]Num 6'!$G$3:$O$130,2,FALSE),0)","v":0},{"$f":"IFERROR(VLOOKUP($B110,'[1]Num 6'!$G$3:$O$130,3,FALSE),0)","v":0},{"$f":"IFERROR(VLOOKUP($B110,'[1]Num 6'!$G$3:$O$130,4,FALSE),0)","v":0},{"$f":"IFERROR(VLOOKUP($B110,'[1]Num 6'!$G$3:$O$130,5,FALSE),0)","v":0},{"$f":"IFERROR(VLOOKUP($B110,'[1]Num 6'!$G$3:$O$130,6,FALSE),0)","v":0},{"$f":"IFERROR(VLOOKUP($B110,'[1]Num 6'!$G$3:$O$130,7,FALSE),0)","v":1},{"$f":"IFERROR(VLOOKUP($B110,'[1]Num 6'!$G$3:$O$130,8,FALSE),0)","v":0},{"$nulls":5},1,{"$f":"IFERROR(VLOOKUP($B110,'[1]Den 6'!$G$3:$O$138,2,FALSE),0)","v":0},{"$f":"IFERROR(VLOOKUP($B110,'[1]Den 6'!$G$3:$O$138,3,FALSE),0)","v":0},{"$f":"IFERROR(VLOOKUP($B110,'[1]Den 6'!$G$3:$O$138,4,FALSE),0)","v":0},{"$f":"IFERROR(VLOOKUP($B110,'[1]Den 6'!$G$3:$O$138,5,FALSE),0)","v":0},{"$f":"IFERROR(VLOOKUP($B110,'[1]Den 6'!$G$3:$O$138,6,FALSE),0)","v":1},{"$f":"IFERROR(VLOOKUP($B110,'[1]Den 6'!$G$3:$O$138,7,FALSE),0)","v":1},{"$f":"IFERROR(VLOOKUP($B110,'[1]Den 6'!$G$3:$O$138,8,FALSE),0)","v":0},{"$nulls":5},2]
["04301-OVALLE","105419-P.S.R. LAS SOSSAS",null,null,{"$f":"IFERROR(VLOOKUP($B111,'[1]Num 6'!$G$3:$O$130,2,FALSE),0)","v":0},{"$f":"IFERROR(VLOOKUP($B111,'[1]Num 6'!$G$3:$O$130,3,FALSE),0)","v":0},{"$f":"IFERROR(VLOOKUP($B111,'[1]Num 6'!$G$3:$O$130,4,FALSE),0)","v":0},{"$f":"IFERROR(VLOOKUP($B111,'[1]Num 6'!$G$3:$O$130,5,FALSE),0)","v":0},{"$f":"IFERROR(VLOOKUP($B111,'[1]Num 6'!$G$3:$O$130,6,FALSE),0)","v":0},{"$f":"IFERROR(VLOOKUP($B111,'[1]Num 6'!$G$3:$O$130,7,FALSE),0)","v":0},{"$f":"IFERROR(VLOOKUP($B111,'[1]Num 6'!$G$3:$O$130,8,FALSE),0)","v":0},{"$nulls":5},0,{"$f":"IFERROR(VLOOKUP($B111,'[1]Den 6'!$G$3:$O$138,2,FALSE),0)","v":0},{"$f":"IFERROR(VLOOKUP($B111,'[1]Den 6'!$G$3:$O$138,3,FALSE),0)","v":0},{"$f":"IFERROR(VLOOKUP($B111,'[1]Den 6'!$G$3:$O$138,4,FALSE),0)","v":0},{"$f":"IFERROR(VLOOKUP($B111,'[1]Den 6'!$G$3:$O$138,5,FALSE),0)","v":0},{"$f":"IFERROR(VLOOKUP($B111,'[1]Den 6'!$G$3:$O$138,6,FALSE),0)","v":0},{"$f":"IFERROR(VLOOKUP($B111,'[1]Den 6'!$G$3:$O$138,7,FALSE),0)","v":0},{"$f":"IFERROR(VLOOKUP($B111,'[1]Den 6'!$G$3:$O$138,8,FALSE),0)","v":0},{"$nulls":5},0]
["04301-OVALLE","105422-P.S.R. HORNILLOS",null,null,{"$f":"IFERROR(VLOOKUP($B112,'[1]Num 6'!$G$3:$O$130,2,FALSE),0)","v":0},{"$f":"IFERROR(VLOOKUP($B112,'[1]Num 6'!$G$3:$O$130,3,FALSE),0)","v":0},{"$f":"IFERROR(VLOOKUP($B112,'[1]Num 6'!$G$3:$O$130,4,FALSE),0)","v":2},{"$f":"IFERROR(VLOOKUP($B112,'[1]Num 6'!$G$3:$O$130,5,FALSE),0)","v":0},{"$f":"IFERROR(VLOOKUP($B112,'[1]Num 6'!$G$3:$O$130,6,FALSE),0)","v":1},{"$f":"IFERROR(VLOOKUP($B112,'[1]Num 6'!$G$3:$O$130,7,FALSE),0)","v":0},{"$f":"IFERROR(VLOOKUP($B112,'[1]Num 6'!$G$3:$O$130,8,FALSE),0)","v":0},{"$nulls":5},3,{"$f":"IFERROR(VLOOKUP($B112,'[1]Den 6'!$G$3:$O$138,2,FALSE),0)","v":0},{"$f":"IFERROR(VLOOKUP($B112,'[1]Den 6'!$G$3:$O$138,3,FALSE),0)","v":1},{"$f":"IFERROR(VLOOKUP($B112,'[1]Den 6'!$G$3:$O$138,4,FALSE),0)","v":3},{"$f":"IFERROR(VLOOKUP($B112,'[1]Den 6'!$G$3:$O$138,5,FALSE),0)","v":0},{"$f":"IFERROR(VLOOKUP($B112,'[1]Den 6'!$G$3:$O$138,6,FALSE),0)","v":2},{"$f":"IFERROR(VLOOKUP($B112,'[1]Den 6'!$G$3:$O$138,7,FALSE),0)","v":0},{"$f":"IFERROR(VLOOKUP($B112,'[1]Den 6'!$G$3:$O$138,8,FALSE),0)","v":1},{"$nulls":5},7]
["04301-OVALLE","105437-P.S.R. CHALINGA",null,null,{"$f":"IFERROR(VLOOKUP($B113,'[1]Num 6'!$G$3:$O$130,2,FALSE),0)","v":0},{"$f":"IFERROR(VLOOKUP($B113,'[1]Num 6'!$G$3:$O$130,3,FALSE),0)","v":0},{"$f":"IFERROR(VLOOKUP($B113,'[1]Num 6'!$G$3:$O$130,4,FALSE),0)","v":1},{"$f":"IFERROR(VLOOKUP($B113,'[1]Num 6'!$G$3:$O$130,5,FALSE),0)","v":0},{"$f":"IFERROR(VLOOKUP($B113,'[1]Num 6'!$G$3:$O$130,6,FALSE),0)","v":0},{"$f":"IFERROR(VLOOKUP($B113,'[1]Num 6'!$G$3:$O$130,7,FALSE),0)","v":0},{"$f":"IFERROR(VLOOKUP($B113,'[1]Num 6'!$G$3:$O$130,8,FALSE),0)","v":0},{"$nulls":5},1,{"$f":"IFERROR(VLOOKUP($B113,'[1]Den 6'!$G$3:$O$138,2,FALSE),0)","v":0},{"$f":"IFERROR(VLOOKUP($B113,'[1]Den 6'!$G$3:$O$138,3,FALSE),0)","v":0},{"$f":"IFERROR(VLOOKUP($B113,'[1]Den 6'!$G$3:$O$138,4,FALSE),0)","v":2},{"$f":"IFERROR(VLOOKUP($B113,'[1]Den 6'!$G$3:$O$138,5,FALSE),0)","v":0},{"$f":"IFERROR(VLOOKUP($B113,'[1]Den 6'!$G$3:$O$138,6,FALSE),0)","v":1},{"$f":"IFERROR(VLOOKUP($B113,'[1]Den 6'!$G$3:$O$138,7,FALSE),0)","v":0},{"$f":"IFERROR(VLOOKUP($B113,'[1]Den 6'!$G$3:$O$138,8,FALSE),0)","v":0},{"$nulls":5},3]
["04301-OVALLE","105439-P.S.R. CERRO BLANCO",null,null,{"$f":"IFERROR(VLOOKUP($B114,'[1]Num 6'!$G$3:$O$130,2,FALSE),0)","v":0},{"$f":"IFERROR(VLOOKUP($B114,'[1]Num 6'!$G$3:$O$130,3,FALSE),0)","v":0},{"$f":"IFERROR(VLOOKUP($B114,'[1]Num 6'!$G$3:$O$130,4,FALSE),0)","v":0},{"$f":"IFERROR(VLOOKUP($B114,'[1]Num 6'!$G$3:$O$130,5,FALSE),0)","v":0},{"$f":"IFERROR(VLOOKUP($B114,'[1]Num 6'!$G$3:$O$130,6,FALSE),0)","v":0},{"$f":"IFERROR(VLOOKUP($B114,'[1]Num 6'!$G$3:$O$130,7,FALSE),0)","v":0},{"$f":"IFERROR(VLOOKUP($B114,'[1]Num 6'!$G$3:$O$130,8,FALSE),0)","v":0},{"$nulls":5},0,{"$f":"IFERROR(VLOOKUP($B114,'[1]Den 6'!$G$3:$O$138,2,FALSE),0)","v":0},{"$f":"IFERROR(VLOOKUP($B114,'[1]Den 6'!$G$3:$O$138,3,FALSE),0)","v":0},{"$f":"IFERROR(VLOOKUP($B114,'[1]Den 6'!$G$3:$O$138,4,FALSE),0)","v":0},{"$f":"IFERROR(VLOOKUP($B114,'[1]Den 6'!$G$3:$O$138,5,FALSE),0)","v":0},{"$f":"IFERROR(VLOOKUP($B114,'[1]Den 6'!$G$3:$O$138,6,FALSE),0)","v":1},{"$f":"IFERROR(VLOOKUP($B114,'[1]Den 6'!$G$3:$O$138,7,FALSE),0)","v":0},{"$f":"IFERROR(VLOOKUP($B114,'[1]Den 6'!$G$3:$O$138,8,FALSE),0)","v":0},{"$nulls":5},1]
["04301-OVALLE","105507-P.S.R. HUAMALATA",null,null,{"$f":"IFERROR(VLOOKUP($B115,'[1]Num 6'!$G$3:$O$130,2,FALSE),0)","v":0},{"$f":"IFERROR(VLOOKUP($B115,'[1]Num 6'!$G$3:$O$130,3,FALSE),0)","v":0},{"$f":"IFERROR(VLOOKUP($B115,'[1]Num 6'!$G$3:$O$130,4,FALSE),0)","v":2},{"$f":"IFERROR(VLOOKUP($B115,'[1]Num 6'!$G$3:$O$130,5,FALSE),0)","v":3},{"$f":"IFERROR(VLOOKUP($B115,'[1]Num 6'!$G$3:$O$130,6,FALSE),0)","v":4},{"$f":"IFERROR(VLOOKUP($B115,'[1]Num 6'!$G$3:$O$130,7,FALSE),0)","v":0},{"$f":"IFERROR(VLOOKUP($B115,'[1]Num 6'!$G$3:$O$130,8,FALSE),0)","v":1},{"$nulls":5},10,{"$f":"IFERROR(VLOOKUP($B115,'[1]Den 6'!$G$3:$O$138,2,FALSE),0)","v":0},{"$f":"IFERROR(VLOOKUP($B115,'[1]Den 6'!$G$3:$O$138,3,FALSE),0)","v":0},{"$f":"IFERROR(VLOOKUP($B115,'[1]Den 6'!$G$3:$O$138,4,FALSE),0)","v":3},{"$f":"IFERROR(VLOOKUP($B115,'[1]Den 6'!$G$3:$O$138,5,FALSE),0)","v":3},{"$f":"IFERROR(VLOOKUP($B115,'[1]Den 6'!$G$3:$O$138,6,FALSE),0)","v":5},{"$f":"IFERROR(VLOOKUP($B115,'[1]Den 6'!$G$3:$O$138,7,FALSE),0)","v":0},{"$f":"IFERROR(VLOOKUP($B115,'[1]Den 6'!$G$3:$O$138,8,FALSE),0)","v":1},{"$nulls":5},12]
["04301-OVALLE","105510-P.S.R. RECOLETA",null,null,{"$f":"IFERROR(VLOOKUP($B116,'[1]Num 6'!$G$3:$O$130,2,FALSE),0)","v":0},{"$f":"IFERROR(VLOOKUP($B116,'[1]Num 6'!$G$3:$O$130,3,FALSE),0)","v":2},{"$f":"IFERROR(VLOOKUP($B116,'[1]Num 6'!$G$3:$O$130,4,FALSE),0)","v":0},{"$f":"IFERROR(VLOOKUP($B116,'[1]Num 6'!$G$3:$O$130,5,FALSE),0)","v":0},{"$f":"IFERROR(VLOOKUP($B116,'[1]Num 6'!$G$3:$O$130,6,FALSE),0)","v":0},{"$f":"IFERROR(VLOOKUP($B116,'[1]Num 6'!$G$3:$O$130,7,FALSE),0)","v":0},{"$f":"IFERROR(VLOOKUP($B116,'[1]Num 6'!$G$3:$O$130,8,FALSE),0)","v":0},{"$nulls":5},2,{"$f":"IFERROR(VLOOKUP($B116,'[1]Den 6'!$G$3:$O$138,2,FALSE),0)","v":0},{"$f":"IFERROR(VLOOKUP($B116,'[1]Den 6'!$G$3:$O$138,3,FALSE),0)","v":2},{"$f":"IFERROR(VLOOKUP($B116,'[1]Den 6'!$G$3:$O$138,4,FALSE),0)","v":1},{"$f":"IFERROR(VLOOKUP($B116,'[1]Den 6'!$G$3:$O$138,5,FALSE),0)","v":1},{"$f":"IFERROR(VLOOKUP($B116,'[1]Den 6'!$G$3:$O$138,6,FALSE),0)","v":1},{"$f":"IFERROR(VLOOKUP($B116,'[1]Den 6'!$G$3:$O$138,7,FALSE),0)","v":0},{"$f":"IFERROR(VLOOKUP($B116,'[1]Den 6'!$G$3:$O$138,8,FALSE),0)","v":0},{"$nulls":5},5]
["04301-OVALLE","105722-CECOF SAN JOSE DE LA DEHESA",null,null,{"$f":"IFERROR(VLOOKUP($B117,'[1]Num 6'!$G$3:$O$130,2,FALSE),0)","v":2},{"$f":"IFERROR(VLOOKUP($B117,'[1]Num 6'!$G$3:$O$130,3,FALSE),0)","v":0},{"$f":"IFERROR(VLOOKUP($B117,'[1]Num 6'!$G$3:$O$130,4,FALSE),0)","v":1},{"$f":"IFERROR(VLOOKUP($B117,'[1]Num 6'!$G$3:$O$130,5,FALSE),0)","v":0},{"$f":"IFERROR(VLOOKUP($B117,'[1]Num 6'!$G$3:$O$130,6,FALSE),0)","v":0},{"$f":"IFERROR(VLOOKUP($B117,'[1]Num 6'!$G$3:$O$130,7,FALSE),0)","v":2},{"$f":"IFERROR(VLOOKUP($B117,'[1]Num 6'!$G$3:$O$130,8,FALSE),0)","v":4},{"$nulls":5},9,{"$f":"IFERROR(VLOOKUP($B117,'[1]Den 6'!$G$3:$O$138,2,FALSE),0)","v":2},{"$f":"IFERROR(VLOOKUP($B117,'[1]Den 6'!$G$3:$O$138,3,FALSE),0)","v":0},{"$f":"IFERROR(VLOOKUP($B117,'[1]Den 6'!$G$3:$O$138,4,FALSE),0)","v":3},{"$f":"IFERROR(VLOOKUP($B117,'[1]Den 6'!$G$3:$O$138,5,FALSE),0)","v":0},{"$f":"IFERROR(VLOOKUP($B117,'[1]Den 6'!$G$3:$O$138,6,FALSE),0)","v":1},{"$f":"IFERROR(VLOOKUP($B117,'[1]Den 6'!$G$3:$O$138,7,FALSE),0)","v":2},{"$f":"IFERROR(VLOOKUP($B117,'[1]Den 6'!$G$3:$O$138,8,FALSE),0)","v":5},{"$nulls":5},{"$f":"SUM(R117:AC117)","v":13}]
["04301-OVALLE","105723-CECOF LIMARI",null,null,{"$f":"IFERROR(VLOOKUP($B118,'[1]Num 6'!$G$3:$O$130,2,FALSE),0)","v":1},{"$f":"IFERROR(VLOOKUP($B118,'[1]Num 6'!$G$3:$O$130,3,FALSE),0)","v":2},{"$f":"IFERROR(VLOOKUP($B118,'[1]Num 6'!$G$3:$O$130,4,FALSE),0)","v":0},{"$f":"IFERROR(VLOOKUP($B118,'[1]Num 6'!$G$3:$O$130,5,FALSE),0)","v":0},{"$f":"IFERROR(VLOOKUP($B118,'[1]Num 6'!$G$3:$O$130,6,FALSE),0)","v":1},{"$f":"IFERROR(VLOOKUP($B118,'[1]Num 6'!$G$3:$O$130,7,FALSE),0)","v":0},{"$f":"IFERROR(VLOOKUP($B118,'[1]Num 6'!$G$3:$O$130,8,FALSE),0)","v":1},{"$nulls":5},5,{"$f":"IFERROR(VLOOKUP($B118,'[1]Den 6'!$G$3:$O$138,2,FALSE),0)","v":1},{"$f":"IFERROR(VLOOKUP($B118,'[1]Den 6'!$G$3:$O$138,3,FALSE),0)","v":2},{"$f":"IFERROR(VLOOKUP($B118,'[1]Den 6'!$G$3:$O$138,4,FALSE),0)","v":0},{"$f":"IFERROR(VLOOKUP($B118,'[1]Den 6'!$G$3:$O$138,5,FALSE),0)","v":0},{"$f":"IFERROR(VLOOKUP($B118,'[1]Den 6'!$G$3:$O$138,6,FALSE),0)","v":1},{"$f":"IFERROR(VLOOKUP($B118,'[1]Den 6'!$G$3:$O$138,7,FALSE),0)","v":1},{"$f":"IFERROR(VLOOKUP($B118,'[1]Den 6'!$G$3:$O$138,8,FALSE),0)","v":2},{"$nulls":5},{"$f":"SUM(R118:AC118)","v":7}]
["04301-OVALLE","200258-CECOF LOS COPIHUES",null,null,{"$f":"IFERROR(VLOOKUP($B119,'[1]Num 6'!$G$3:$O$130,2,FALSE),0)","v":1},{"$f":"IFERROR(VLOOKUP($B119,'[1]Num 6'!$G$3:$O$130,3,FALSE),0)","v":0},{"$f":"IFERROR(VLOOKUP($B119,'[1]Num 6'!$G$3:$O$130,4,FALSE),0)","v":0},{"$f":"IFERROR(VLOOKUP($B119,'[1]Num 6'!$G$3:$O$130,5,FALSE),0)","v":1},{"$f":"IFERROR(VLOOKUP($B119,'[1]Num 6'!$G$3:$O$130,6,FALSE),0)","v":0},{"$f":"IFERROR(VLOOKUP($B119,'[1]Num 6'!$G$3:$O$130,7,FALSE),0)","v":0},{"$f":"IFERROR(VLOOKUP($B119,'[1]Num 6'!$G$3:$O$130,8,FALSE),0)","v":0},{"$nulls":5},2,{"$f":"IFERROR(VLOOKUP($B119,'[1]Den 6'!$G$3:$O$138,2,FALSE),0)","v":1},{"$f":"IFERROR(VLOOKUP($B119,'[1]Den 6'!$G$3:$O$138,3,FALSE),0)","v":0},{"$f":"IFERROR(VLOOKUP($B119,'[1]Den 6'!$G$3:$O$138,4,FALSE),0)","v":0},{"$f":"IFERROR(VLOOKUP($B119,'[1]Den 6'!$G$3:$O$138,5,FALSE),0)","v":1},{"$f":"IFERROR(VLOOKUP($B119,'[1]Den 6'!$G$3:$O$138,6,FALSE),0)","v":0},{"$f":"IFERROR(VLOOKUP($B119,'[1]Den 6'!$G$3:$O$138,7,FALSE),0)","v":1},{"$f":"IFERROR(VLOOKUP($B119,'[1]Den 6'!$G$3:$O$138,8,FALSE),0)","v":0},{"$nulls":5},{"$f":"SUM(R119:AC119)","v":3}]
["04301-OVALLE","200367-CECOF COLONIA LIMARÍ",null,null,{"$f":"IFERROR(VLOOKUP($B120,'[1]Num 6'!$G$3:$O$130,2,FALSE),0)","v":0},{"$f":"IFERROR(VLOOKUP($B120,'[1]Num 6'!$G$3:$O$130,3,FALSE),0)","v":1},{"$f":"IFERROR(VLOOKUP($B120,'[1]Num 6'!$G$3:$O$130,4,FALSE),0)","v":2},{"$f":"IFERROR(VLOOKUP($B120,'[1]Num 6'!$G$3:$O$130,5,FALSE),0)","v":0},{"$f":"IFERROR(VLOOKUP($B120,'[1]Num 6'!$G$3:$O$130,6,FALSE),0)","v":1},{"$f":"IFERROR(VLOOKUP($B120,'[1]Num 6'!$G$3:$O$130,7,FALSE),0)","v":2},{"$f":"IFERROR(VLOOKUP($B120,'[1]Num 6'!$G$3:$O$130,8,FALSE),0)","v":1},{"$nulls":5},7,{"$f":"IFERROR(VLOOKUP($B120,'[1]Den 6'!$G$3:$O$138,2,FALSE),0)","v":0},{"$f":"IFERROR(VLOOKUP($B120,'[1]Den 6'!$G$3:$O$138,3,FALSE),0)","v":2},{"$f":"IFERROR(VLOOKUP($B120,'[1]Den 6'!$G$3:$O$138,4,FALSE),0)","v":3},{"$f":"IFERROR(VLOOKUP($B120,'[1]Den 6'!$G$3:$O$138,5,FALSE),0)","v":0},{"$f":"IFERROR(VLOOKUP($B120,'[1]Den 6'!$G$3:$O$138,6,FALSE),0)","v":1},{"$f":"IFERROR(VLOOKUP($B120,'[1]Den 6'!$G$3:$O$138,7,FALSE),0)","v":2},{"$f":"IFERROR(VLOOKUP($B120,'[1]Den 6'!$G$3:$O$138,8,FALSE),0)","v":3},{"$nulls":5},{"$f":"SUM(R120:AC120)","v":11}]
["04301-OVALLE","200569-CESFAM FRAY JORGE",null,null,{"$f":"IFERROR(VLOOKUP($B121,'[1]Num 6'!$G$3:$O$130,2,FALSE),0)","v":3},{"$f":"IFERROR(VLOOKUP($B121,'[1]Num 6'!$G$3:$O$130,3,FALSE),0)","v":2},{"$f":"IFERROR(VLOOKUP($B121,'[1]Num 6'!$G$3:$O$130,4,FALSE),0)","v":12},{"$f":"IFERROR(VLOOKUP($B121,'[1]Num 6'!$G$3:$O$130,5,FALSE),0)","v":11},{"$f":"IFERROR(VLOOKUP($B121,'[1]Num 6'!$G$3:$O$130,6,FALSE),0)","v":9},{"$f":"IFERROR(VLOOKUP($B121,'[1]Num 6'!$G$3:$O$130,7,FALSE),0)","v":7},{"$f":"IFERROR(VLOOKUP($B121,'[1]Num 6'!$G$3:$O$130,8,FALSE),0)","v":12},{"$nulls":5},56,{"$f":"IFERROR(VLOOKUP($B121,'[1]Den 6'!$G$3:$O$138,2,FALSE),0)","v":5},{"$f":"IFERROR(VLOOKUP($B121,'[1]Den 6'!$G$3:$O$138,3,FALSE),0)","v":10},{"$f":"IFERROR(VLOOKUP($B121,'[1]Den 6'!$G$3:$O$138,4,FALSE),0)","v":18},{"$f":"IFERROR(VLOOKUP($B121,'[1]Den 6'!$G$3:$O$138,5,FALSE),0)","v":16},{"$f":"IFERROR(VLOOKUP($B121,'[1]Den 6'!$G$3:$O$138,6,FALSE),0)","v":17},{"$f":"IFERROR(VLOOKUP($B121,'[1]Den 6'!$G$3:$O$138,7,FALSE),0)","v":9},{"$f":"IFERROR(VLOOKUP($B121,'[1]Den 6'!$G$3:$O$138,8,FALSE),0)","v":15},{"$nulls":5},{"$f":"SUM(R121:AC121)","v":90}]
["TOTAL OVALLE",null,{"$f":"D122/Metas!N14","v":{"v":1.0451197053407,"d":"104.51%"}},{"$f":"Q122/AD122","v":{"v":0.6270718232044199,"d":"62.71%"}},{"$f":"SUM(E104:E121)","v":14},{"$f":"SUM(F104:F121)","v":25},42,32,35,32,47,0,0,0,0,0,227,24,40,72,49,57,51,69,0,0,0,0,0,362]
["04302-COMBARBALÁ","105433-P.S.R. SAN LORENZO",null,null,{"$f":"IFERROR(VLOOKUP($B123,'[1]Num 6'!$G$3:$O$130,2,FALSE),0)","v":0},{"$f":"IFERROR(VLOOKUP($B123,'[1]Num 6'!$G$3:$O$130,3,FALSE),0)","v":0},{"$f":"IFERROR(VLOOKUP($B123,'[1]Num 6'!$G$3:$O$130,4,FALSE),0)","v":0},{"$f":"IFERROR(VLOOKUP($B123,'[1]Num 6'!$G$3:$O$130,5,FALSE),0)","v":0},{"$f":"IFERROR(VLOOKUP($B123,'[1]Num 6'!$G$3:$O$130,6,FALSE),0)","v":0},{"$f":"IFERROR(VLOOKUP($B123,'[1]Num 6'!$G$3:$O$130,7,FALSE),0)","v":0},{"$f":"IFERROR(VLOOKUP($B123,'[1]Num 6'!$G$3:$O$130,8,FALSE),0)","v":0},{"$nulls":5},{"$f":"SUM(E123:P123)","v":0},{"$f":"IFERROR(VLOOKUP($B123,'[1]Den 6'!$G$3:$O$138,2,FALSE),0)","v":0},{"$f":"IFERROR(VLOOKUP($B123,'[1]Den 6'!$G$3:$O$138,3,FALSE),0)","v":0},{"$f":"IFERROR(VLOOKUP($B123,'[1]Den 6'!$G$3:$O$138,4,FALSE),0)","v":0},{"$f":"IFERROR(VLOOKUP($B123,'[1]Den 6'!$G$3:$O$138,5,FALSE),0)","v":0},{"$f":"IFERROR(VLOOKUP($B123,'[1]Den 6'!$G$3:$O$138,6,FALSE),0)","v":0},{"$f":"IFERROR(VLOOKUP($B123,'[1]Den 6'!$G$3:$O$138,7,FALSE),0)","v":0},{"$f":"IFERROR(VLOOKUP($B123,'[1]Den 6'!$G$3:$O$138,8,FALSE),0)","v":0},{"$nulls":5},0]
["04302-COMBARBALÁ","105434-P.S.R. SAN MARCOS",null,null,{"$f":"IFERROR(VLOOKUP($B124,'[1]Num 6'!$G$3:$O$130,2,FALSE),0)","v":0},{"$f":"IFERROR(VLOOKUP($B124,'[1]Num 6'!$G$3:$O$130,3,FALSE),0)","v":0},{"$f":"IFERROR(VLOOKUP($B124,'[1]Num 6'!$G$3:$O$130,4,FALSE),0)","v":0},{"$f":"IFERROR(VLOOKUP($B124,'[1]Num 6'!$G$3:$O$130,5,FALSE),0)","v":0},{"$f":"IFERROR(VLOOKUP($B124,'[1]Num 6'!$G$3:$O$130,6,FALSE),0)","v":0},{"$f":"IFERROR(VLOOKUP($B124,'[1]Num 6'!$G$3:$O$130,7,FALSE),0)","v":0},{"$f":"IFERROR(VLOOKUP($B124,'[1]Num 6'!$G$3:$O$130,8,FALSE),0)","v":0},{"$nulls":5},0,{"$f":"IFERROR(VLOOKUP($B124,'[1]Den 6'!$G$3:$O$138,2,FALSE),0)","v":0},{"$f":"IFERROR(VLOOKUP($B124,'[1]Den 6'!$G$3:$O$138,3,FALSE),0)","v":0},{"$f":"IFERROR(VLOOKUP($B124,'[1]Den 6'!$G$3:$O$138,4,FALSE),0)","v":0},{"$f":"IFERROR(VLOOKUP($B124,'[1]Den 6'!$G$3:$O$138,5,FALSE),0)","v":0},{"$f":"IFERROR(VLOOKUP($B124,'[1]Den 6'!$G$3:$O$138,6,FALSE),0)","v":0},{"$f":"IFERROR(VLOOKUP($B124,'[1]Den 6'!$G$3:$O$138,7,FALSE),0)","v":0},{"$f":"IFERROR(VLOOKUP($B124,'[1]Den 6'!$G$3:$O$138,8,FALSE),0)","v":0},{"$nulls":5},0]
["04302-COMBARBALÁ","105441-P.S.R. MANQUEHUA",null,null,{"$f":"IFERROR(VLOOKUP($B125,'[1]Num 6'!$G$3:$O$130,2,FALSE),0)","v":0},{"$f":"IFERROR(VLOOKUP($B125,'[1]Num 6'!$G$3:$O$130,3,FALSE),0)","v":0},{"$f":"IFERROR(VLOOKUP($B125,'[1]Num 6'!$G$3:$O$130,4,FALSE),0)","v":0},{"$f":"IFERROR(VLOOKUP($B125,'[1]Num 6'!$G$3:$O$130,5,FALSE),0)","v":0},{"$f":"IFERROR(VLOOKUP($B125,'[1]Num 6'!$G$3:$O$130,6,FALSE),0)","v":0},{"$f":"IFERROR(VLOOKUP($B125,'[1]Num 6'!$G$3:$O$130,7,FALSE),0)","v":0},{"$f":"IFERROR(VLOOKUP($B125,'[1]Num 6'!$G$3:$O$130,8,FALSE),0)","v":0},{"$nulls":5},0,{"$f":"IFERROR(VLOOKUP($B125,'[1]Den 6'!$G$3:$O$138,2,FALSE),0)","v":0},{"$f":"IFERROR(VLOOKUP($B125,'[1]Den 6'!$G$3:$O$138,3,FALSE),0)","v":0},{"$f":"IFERROR(VLOOKUP($B125,'[1]Den 6'!$G$3:$O$138,4,FALSE),0)","v":0},{"$f":"IFERROR(VLOOKUP($B125,'[1]Den 6'!$G$3:$O$138,5,FALSE),0)","v":0},{"$f":"IFERROR(VLOOKUP($B125,'[1]Den 6'!$G$3:$O$138,6,FALSE),0)","v":0},{"$f":"IFERROR(VLOOKUP($B125,'[1]Den 6'!$G$3:$O$138,7,FALSE),0)","v":0},{"$f":"IFERROR(VLOOKUP($B125,'[1]Den 6'!$G$3:$O$138,8,FALSE),0)","v":0},{"$nulls":5},0]
["04302-COMBARBALÁ","105459-P.S.R. BARRANCAS                ",null,null,{"$f":"IFERROR(VLOOKUP($B126,'[1]Num 6'!$G$3:$O$130,2,FALSE),0)","v":0},{"$f":"IFERROR(VLOOKUP($B126,'[1]Num 6'!$G$3:$O$130,3,FALSE),0)","v":0},{"$f":"IFERROR(VLOOKUP($B126,'[1]Num 6'!$G$3:$O$130,4,FALSE),0)","v":1},{"$f":"IFERROR(VLOOKUP($B126,'[1]Num 6'!$G$3:$O$130,5,FALSE),0)","v":1},{"$f":"IFERROR(VLOOKUP($B126,'[1]Num 6'!$G$3:$O$130,6,FALSE),0)","v":0},{"$f":"IFERROR(VLOOKUP($B126,'[1]Num 6'!$G$3:$O$130,7,FALSE),0)","v":0},{"$f":"IFERROR(VLOOKUP($B126,'[1]Num 6'!$G$3:$O$130,8,FALSE),0)","v":1},{"$nulls":5},3,{"$f":"IFERROR(VLOOKUP($B126,'[1]Den 6'!$G$3:$O$138,2,FALSE),0)","v":0},{"$f":"IFERROR(VLOOKUP($B126,'[1]Den 6'!$G$3:$O$138,3,FALSE),0)","v":0},{"$f":"IFERROR(VLOOKUP($B126,'[1]Den 6'!$G$3:$O$138,4,FALSE),0)","v":1},{"$f":"IFERROR(VLOOKUP($B126,'[1]Den 6'!$G$3:$O$138,5,FALSE),0)","v":1},{"$f":"IFERROR(VLOOKUP($B126,'[1]Den 6'!$G$3:$O$138,6,FALSE),0)","v":0},{"$f":"IFERROR(VLOOKUP($B126,'[1]Den 6'!$G$3:$O$138,7,FALSE),0)","v":0},{"$f":"IFERROR(VLOOKUP($B126,'[1]Den 6'!$G$3:$O$138,8,FALSE),0)","v":1},{"$nulls":5},3]
["04302-COMBARBALÁ","105460-P.S.R. COGOTI 18",null,null,{"$f":"IFERROR(VLOOKUP($B127,'[1]Num 6'!$G$3:$O$130,2,FALSE),0)","v":0},{"$f":"IFERROR(VLOOKUP($B127,'[1]Num 6'!$G$3:$O$130,3,FALSE),0)","v":0},{"$f":"IFERROR(VLOOKUP($B127,'[1]Num 6'!$G$3:$O$130,4,FALSE),0)","v":0},{"$f":"IFERROR(VLOOKUP($B127,'[1]Num 6'!$G$3:$O$130,5,FALSE),0)","v":0},{"$f":"IFERROR(VLOOKUP($B127,'[1]Num 6'!$G$3:$O$130,6,FALSE),0)","v":0},{"$f":"IFERROR(VLOOKUP($B127,'[1]Num 6'!$G$3:$O$130,7,FALSE),0)","v":0},{"$f":"IFERROR(VLOOKUP($B127,'[1]Num 6'!$G$3:$O$130,8,FALSE),0)","v":1},{"$nulls":5},1,{"$f":"IFERROR(VLOOKUP($B127,'[1]Den 6'!$G$3:$O$138,2,FALSE),0)","v":0},{"$f":"IFERROR(VLOOKUP($B127,'[1]Den 6'!$G$3:$O$138,3,FALSE),0)","v":0},{"$f":"IFERROR(VLOOKUP($B127,'[1]Den 6'!$G$3:$O$138,4,FALSE),0)","v":1},{"$f":"IFERROR(VLOOKUP($B127,'[1]Den 6'!$G$3:$O$138,5,FALSE),0)","v":0},{"$f":"IFERROR(VLOOKUP($B127,'[1]Den 6'!$G$3:$O$138,6,FALSE),0)","v":0},{"$f":"IFERROR(VLOOKUP($B127,'[1]Den 6'!$G$3:$O$138,7,FALSE),0)","v":0},{"$f":"IFERROR(VLOOKUP($B127,'[1]Den 6'!$G$3:$O$138,8,FALSE),0)","v":1},{"$nulls":5},2]
["04302-COMBARBALÁ","105461-P.S.R. EL HUACHO",null,null,{"$f":"IFERROR(VLOOKUP($B128,'[1]Num 6'!$G$3:$O$130,2,FALSE),0)","v":0},{"$f":"IFERROR(VLOOKUP($B128,'[1]Num 6'!$G$3:$O$130,3,FALSE),0)","v":0},{"$f":"IFERROR(VLOOKUP($B128,'[1]Num 6'!$G$3:$O$130,4,FALSE),0)","v":0},{"$f":"IFERROR(VLOOKUP($B128,'[1]Num 6'!$G$3:$O$130,5,FALSE),0)","v":0},{"$f":"IFERROR(VLOOKUP($B128,'[1]Num 6'!$G$3:$O$130,6,FALSE),0)","v":0},{"$f":"IFERROR(VLOOKUP($B128,'[1]Num 6'!$G$3:$O$130,7,FALSE),0)","v":0},{"$f":"IFERROR(VLOOKUP($B128,'[1]Num 6'!$G$3:$O$130,8,FALSE),0)","v":0},{"$nulls":5},0,{"$f":"IFERROR(VLOOKUP($B128,'[1]Den 6'!$G$3:$O$138,2,FALSE),0)","v":0},{"$f":"IFERROR(VLOOKUP($B128,'[1]Den 6'!$G$3:$O$138,3,FALSE),0)","v":1},{"$f":"IFERROR(VLOOKUP($B128,'[1]Den 6'!$G$3:$O$138,4,FALSE),0)","v":0},{"$f":"IFERROR(VLOOKUP($B128,'[1]Den 6'!$G$3:$O$138,5,FALSE),0)","v":0},{"$f":"IFERROR(VLOOKUP($B128,'[1]Den 6'!$G$3:$O$138,6,FALSE),0)","v":0},{"$f":"IFERROR(VLOOKUP($B128,'[1]Den 6'!$G$3:$O$138,7,FALSE),0)","v":0},{"$f":"IFERROR(VLOOKUP($B128,'[1]Den 6'!$G$3:$O$138,8,FALSE),0)","v":0},{"$nulls":5},1]
["04302-COMBARBALÁ","105462-P.S.R. EL SAUCE",null,null,{"$f":"IFERROR(VLOOKUP($B129,'[1]Num 6'!$G$3:$O$130,2,FALSE),0)","v":0},{"$f":"IFERROR(VLOOKUP($B129,'[1]Num 6'!$G$3:$O$130,3,FALSE),0)","v":0},{"$f":"IFERROR(VLOOKUP($B129,'[1]Num 6'!$G$3:$O$130,4,FALSE),0)","v":0},{"$f":"IFERROR(VLOOKUP($B129,'[1]Num 6'!$G$3:$O$130,5,FALSE),0)","v":0},{"$f":"IFERROR(VLOOKUP($B129,'[1]Num 6'!$G$3:$O$130,6,FALSE),0)","v":1},{"$f":"IFERROR(VLOOKUP($B129,'[1]Num 6'!$G$3:$O$130,7,FALSE),0)","v":0},{"$f":"IFERROR(VLOOKUP($B129,'[1]Num 6'!$G$3:$O$130,8,FALSE),0)","v":0},{"$nulls":5},1,{"$f":"IFERROR(VLOOKUP($B129,'[1]Den 6'!$G$3:$O$138,2,FALSE),0)","v":0},{"$f":"IFERROR(VLOOKUP($B129,'[1]Den 6'!$G$3:$O$138,3,FALSE),0)","v":0},{"$f":"IFERROR(VLOOKUP($B129,'[1]Den 6'!$G$3:$O$138,4,FALSE),0)","v":0},{"$f":"IFERROR(VLOOKUP($B129,'[1]Den 6'!$G$3:$O$138,5,FALSE),0)","v":0},{"$f":"IFERROR(VLOOKUP($B129,'[1]Den 6'!$G$3:$O$138,6,FALSE),0)","v":1},{"$f":"IFERROR(VLOOKUP($B129,'[1]Den 6'!$G$3:$O$138,7,FALSE),0)","v":0},{"$f":"IFERROR(VLOOKUP($B129,'[1]Den 6'!$G$3:$O$138,8,FALSE),0)","v":0},{"$nulls":5},1]
["04302-COMBARBALÁ","105463-P.S.R. QUILITAPIA",null,null,{"$f":"IFERROR(VLOOKUP($B130,'[1]Num 6'!$G$3:$O$130,2,FALSE),0)","v":0},{"$f":"IFERROR(VLOOKUP($B130,'[1]Num 6'!$G$3:$O$130,3,FALSE),0)","v":0},{"$f":"IFERROR(VLOOKUP($B130,'[1]Num 6'!$G$3:$O$130,4,FALSE),0)","v":0},{"$f":"IFERROR(VLOOKUP($B130,'[1]Num 6'!$G$3:$O$130,5,FALSE),0)","v":0},{"$f":"IFERROR(VLOOKUP($B130,'[1]Num 6'!$G$3:$O$130,6,FALSE),0)","v":0},{"$f":"IFERROR(VLOOKUP($B130,'[1]Num 6'!$G$3:$O$130,7,FALSE),0)","v":0},{"$f":"IFERROR(VLOOKUP($B130,'[1]Num 6'!$G$3:$O$130,8,FALSE),0)","v":0},{"$nulls":5},0,{"$f":"IFERROR(VLOOKUP($B130,'[1]Den 6'!$G$3:$O$138,2,FALSE),0)","v":0},{"$f":"IFERROR(VLOOKUP($B130,'[1]Den 6'!$G$3:$O$138,3,FALSE),0)","v":0},{"$f":"IFERROR(VLOOKUP($B130,'[1]Den 6'!$G$3:$O$138,4,FALSE),0)","v":1},{"$f":"IFERROR(VLOOKUP($B130,'[1]Den 6'!$G$3:$O$138,5,FALSE),0)","v":0},{"$f":"IFERROR(VLOOKUP($B130,'[1]Den 6'!$G$3:$O$138,6,FALSE),0)","v":0},{"$f":"IFERROR(VLOOKUP($B130,'[1]Den 6'!$G$3:$O$138,7,FALSE),0)","v":0},{"$f":"IFERROR(VLOOKUP($B130,'[1]Den 6'!$G$3:$O$138,8,FALSE),0)","v":0},{"$nulls":5},1]
["04302-COMBARBALÁ","105464-P.S.R. LA LIGUA",null,null,{"$f":"IFERROR(VLOOKUP($B131,'[1]Num 6'!$G$3:$O$130,2,FALSE),0)","v":0},{"$f":"IFERROR(VLOOKUP($B131,'[1]Num 6'!$G$3:$O$130,3,FALSE),0)","v":1},{"$f":"IFERROR(VLOOKUP($B131,'[1]Num 6'!$G$3:$O$130,4,FALSE),0)","v":0},{"$f":"IFERROR(VLOOKUP($B131,'[1]Num 6'!$G$3:$O$130,5,FALSE),0)","v":0},{"$f":"IFERROR(VLOOKUP($B131,'[1]Num 6'!$G$3:$O$130,6,FALSE),0)","v":0},{"$f":"IFERROR(VLOOKUP($B131,'[1]Num 6'!$G$3:$O$130,7,FALSE),0)","v":0},{"$f":"IFERROR(VLOOKUP($B131,'[1]Num 6'!$G$3:$O$130,8,FALSE),0)","v":0},{"$nulls":5},1,{"$f":"IFERROR(VLOOKUP($B131,'[1]Den 6'!$G$3:$O$138,2,FALSE),0)","v":0},{"$f":"IFERROR(VLOOKUP($B131,'[1]Den 6'!$G$3:$O$138,3,FALSE),0)","v":1},{"$f":"IFERROR(VLOOKUP($B131,'[1]Den 6'!$G$3:$O$138,4,FALSE),0)","v":0},{"$f":"IFERROR(VLOOKUP($B131,'[1]Den 6'!$G$3:$O$138,5,FALSE),0)","v":0},{"$f":"IFERROR(VLOOKUP($B131,'[1]Den 6'!$G$3:$O$138,6,FALSE),0)","v":0},{"$f":"IFERROR(VLOOKUP($B131,'[1]Den 6'!$G$3:$O$138,7,FALSE),0)","v":1},{"$f":"IFERROR(VLOOKUP($B131,'[1]Den 6'!$G$3:$O$138,8,FALSE),0)","v":0},{"$nulls":5},2]
["04302-COMBARBALÁ","105465-P.S.R. RAMADILLA",null,null,{"$f":"IFERROR(VLOOKUP($B132,'[1]Num 6'!$G$3:$O$130,2,FALSE),0)","v":0},{"$f":"IFERROR(VLOOKUP($B132,'[1]Num 6'!$G$3:$O$130,3,FALSE),0)","v":0},{"$f":"IFERROR(VLOOKUP($B132,'[1]Num 6'!$G$3:$O$130,4,FALSE),0)","v":0},{"$f":"IFERROR(VLOOKUP($B132,'[1]Num 6'!$G$3:$O$130,5,FALSE),0)","v":0},{"$f":"IFERROR(VLOOKUP($B132,'[1]Num 6'!$G$3:$O$130,6,FALSE),0)","v":0},{"$f":"IFERROR(VLOOKUP($B132,'[1]Num 6'!$G$3:$O$130,7,FALSE),0)","v":1},{"$f":"IFERROR(VLOOKUP($B132,'[1]Num 6'!$G$3:$O$130,8,FALSE),0)","v":0},{"$nulls":5},1,{"$f":"IFERROR(VLOOKUP($B132,'[1]Den 6'!$G$3:$O$138,2,FALSE),0)","v":0},{"$f":"IFERROR(VLOOKUP($B132,'[1]Den 6'!$G$3:$O$138,3,FALSE),0)","v":0},{"$f":"IFERROR(VLOOKUP($B132,'[1]Den 6'!$G$3:$O$138,4,FALSE),0)","v":0},{"$f":"IFERROR(VLOOKUP($B132,'[1]Den 6'!$G$3:$O$138,5,FALSE),0)","v":0},{"$f":"IFERROR(VLOOKUP($B132,'[1]Den 6'!$G$3:$O$138,6,FALSE),0)","v":0},{"$f":"IFERROR(VLOOKUP($B132,'[1]Den 6'!$G$3:$O$138,7,FALSE),0)","v":1},{"$f":"IFERROR(VLOOKUP($B132,'[1]Den 6'!$G$3:$O$138,8,FALSE),0)","v":0},{"$nulls":5},1]
["04302-COMBARBALÁ","105466-P.S.R. VALLE HERMOSO",null,null,{"$f":"IFERROR(VLOOKUP($B133,'[1]Num 6'!$G$3:$O$130,2,FALSE),0)","v":1},{"$f":"IFERROR(VLOOKUP($B133,'[1]Num 6'!$G$3:$O$130,3,FALSE),0)","v":0},{"$f":"IFERROR(VLOOKUP($B133,'[1]Num 6'!$G$3:$O$130,4,FALSE),0)","v":0},{"$f":"IFERROR(VLOOKUP($B133,'[1]Num 6'!$G$3:$O$130,5,FALSE),0)","v":0},{"$f":"IFERROR(VLOOKUP($B133,'[1]Num 6'!$G$3:$O$130,6,FALSE),0)","v":0},{"$f":"IFERROR(VLOOKUP($B133,'[1]Num 6'!$G$3:$O$130,7,FALSE),0)","v":0},{"$f":"IFERROR(VLOOKUP($B133,'[1]Num 6'!$G$3:$O$130,8,FALSE),0)","v":0},{"$nulls":5},1,{"$f":"IFERROR(VLOOKUP($B133,'[1]Den 6'!$G$3:$O$138,2,FALSE),0)","v":1},{"$f":"IFERROR(VLOOKUP($B133,'[1]Den 6'!$G$3:$O$138,3,FALSE),0)","v":0},{"$f":"IFERROR(VLOOKUP($B133,'[1]Den 6'!$G$3:$O$138,4,FALSE),0)","v":0},{"$f":"IFERROR(VLOOKUP($B133,'[1]Den 6'!$G$3:$O$138,5,FALSE),0)","v":0},{"$f":"IFERROR(VLOOKUP($B133,'[1]Den 6'!$G$3:$O$138,6,FALSE),0)","v":0},{"$f":"IFERROR(VLOOKUP($B133,'[1]Den 6'!$G$3:$O$138,7,FALSE),0)","v":1},{"$f":"IFERROR(VLOOKUP($B133,'[1]Den 6'!$G$3:$O$138,8,FALSE),0)","v":0},{"$nulls":5},2]
["04302-COMBARBALÁ","105490-P.S.R. EL DURAZNO",null,null,{"$f":"IFERROR(VLOOKUP($B134,'[1]Num 6'!$G$3:$O$130,2,FALSE),0)","v":0},{"$f":"IFERROR(VLOOKUP($B134,'[1]Num 6'!$G$3:$O$130,3,FALSE),0)","v":0},{"$f":"IFERROR(VLOOKUP($B134,'[1]Num 6'!$G$3:$O$130,4,FALSE),0)","v":0},{"$f":"IFERROR(VLOOKUP($B134,'[1]Num 6'!$G$3:$O$130,5,FALSE),0)","v":0},{"$f":"IFERROR(VLOOKUP($B134,'[1]Num 6'!$G$3:$O$130,6,FALSE),0)","v":0},{"$f":"IFERROR(VLOOKUP($B134,'[1]Num 6'!$G$3:$O$130,7,FALSE),0)","v":0},{"$f":"IFERROR(VLOOKUP($B134,'[1]Num 6'!$G$3:$O$130,8,FALSE),0)","v":0},{"$nulls":5},0,{"$f":"IFERROR(VLOOKUP($B134,'[1]Den 6'!$G$3:$O$138,2,FALSE),0)","v":0},{"$f":"IFERROR(VLOOKUP($B134,'[1]Den 6'!$G$3:$O$138,3,FALSE),0)","v":0},{"$f":"IFERROR(VLOOKUP($B134,'[1]Den 6'!$G$3:$O$138,4,FALSE),0)","v":0},{"$f":"IFERROR(VLOOKUP($B134,'[1]Den 6'!$G$3:$O$138,5,FALSE),0)","v":0},{"$f":"IFERROR(VLOOKUP($B134,'[1]Den 6'!$G$3:$O$138,6,FALSE),0)","v":0},{"$f":"IFERROR(VLOOKUP($B134,'[1]Den 6'!$G$3:$O$138,7,FALSE),0)","v":0},{"$f":"IFERROR(VLOOKUP($B134,'[1]Den 6'!$G$3:$O$138,8,FALSE),0)","v":0},{"$nulls":5},0]
["TOTAL COMBARBALÁ",null,{"$f":"D135/Metas!N15","v":{"v":1.0256410256410258,"d":"102.56%"}},{"$f":"Q135/AD135","v":{"v":0.6153846153846154,"d":"61.54%"}},{"$f":"SUM(E123:E134)","v":1},{"$f":"SUM(F123:F134)","v":1},{"$f":"SUM(G123:G134)","v":1},{"$f":"SUM(H123:H134)","v":1},{"$f":"SUM(I123:I134)","v":1},1,2,0,0,0,0,{"$f":"SUM(P123:P134)","v":0},8,1,2,3,1,1,3,2,0,0,0,{"$f":"SUM(AB123:AB134)","v":0},{"$f":"SUM(AC123:AC134)","v":0},{"$f":"SUM(AD123:AD134)","v":13}]
["04304-MONTE PATRIA","105307-CES. RURAL MONTE PATRIA",null,null,{"$f":"IFERROR(VLOOKUP($B136,'[1]Num 6'!$G$3:$O$130,2,FALSE),0)","v":4},{"$f":"IFERROR(VLOOKUP($B136,'[1]Num 6'!$G$3:$O$130,3,FALSE),0)","v":4},{"$f":"IFERROR(VLOOKUP($B136,'[1]Num 6'!$G$3:$O$130,4,FALSE),0)","v":7},{"$f":"IFERROR(VLOOKUP($B136,'[1]Num 6'!$G$3:$O$130,5,FALSE),0)","v":6},{"$f":"IFERROR(VLOOKUP($B136,'[1]Num 6'!$G$3:$O$130,6,FALSE),0)","v":8},{"$f":"IFERROR(VLOOKUP($B136,'[1]Num 6'!$G$3:$O$130,7,FALSE),0)","v":5},{"$f":"IFERROR(VLOOKUP($B136,'[1]Num 6'!$G$3:$O$130,8,FALSE),0)","v":4},{"$nulls":5},38,{"$f":"IFERROR(VLOOKUP($B136,'[1]Den 6'!$G$3:$O$138,2,FALSE),0)","v":7},{"$f":"IFERROR(VLOOKUP($B136,'[1]Den 6'!$G$3:$O$138,3,FALSE),0)","v":8},{"$f":"IFERROR(VLOOKUP($B136,'[1]Den 6'!$G$3:$O$138,4,FALSE),0)","v":10},{"$f":"IFERROR(VLOOKUP($B136,'[1]Den 6'!$G$3:$O$138,5,FALSE),0)","v":8},{"$f":"IFERROR(VLOOKUP($B136,'[1]Den 6'!$G$3:$O$138,6,FALSE),0)","v":10},{"$f":"IFERROR(VLOOKUP($B136,'[1]Den 6'!$G$3:$O$138,7,FALSE),0)","v":7},{"$f":"IFERROR(VLOOKUP($B136,'[1]Den 6'!$G$3:$O$138,8,FALSE),0)","v":7},{"$nulls":5},57]
["04304-MONTE PATRIA","105311-CES. RURAL CHAÑARAL ALTO",null,null,{"$f":"IFERROR(VLOOKUP($B137,'[1]Num 6'!$G$3:$O$130,2,FALSE),0)","v":1},{"$f":"IFERROR(VLOOKUP($B137,'[1]Num 6'!$G$3:$O$130,3,FALSE),0)","v":2},{"$f":"IFERROR(VLOOKUP($B137,'[1]Num 6'!$G$3:$O$130,4,FALSE),0)","v":4},{"$f":"IFERROR(VLOOKUP($B137,'[1]Num 6'!$G$3:$O$130,5,FALSE),0)","v":0},{"$f":"IFERROR(VLOOKUP($B137,'[1]Num 6'!$G$3:$O$130,6,FALSE),0)","v":1},{"$f":"IFERROR(VLOOKUP($B137,'[1]Num 6'!$G$3:$O$130,7,FALSE),0)","v":1},{"$f":"IFERROR(VLOOKUP($B137,'[1]Num 6'!$G$3:$O$130,8,FALSE),0)","v":1},{"$nulls":5},10,{"$f":"IFERROR(VLOOKUP($B137,'[1]Den 6'!$G$3:$O$138,2,FALSE),0)","v":4},{"$f":"IFERROR(VLOOKUP($B137,'[1]Den 6'!$G$3:$O$138,3,FALSE),0)","v":2},{"$f":"IFERROR(VLOOKUP($B137,'[1]Den 6'!$G$3:$O$138,4,FALSE),0)","v":4},{"$f":"IFERROR(VLOOKUP($B137,'[1]Den 6'!$G$3:$O$138,5,FALSE),0)","v":0},{"$f":"IFERROR(VLOOKUP($B137,'[1]Den 6'!$G$3:$O$138,6,FALSE),0)","v":2},{"$f":"IFERROR(VLOOKUP($B137,'[1]Den 6'!$G$3:$O$138,7,FALSE),0)","v":4},{"$f":"IFERROR(VLOOKUP($B137,'[1]Den 6'!$G$3:$O$138,8,FALSE),0)","v":4},{"$nulls":5},20]
["04304-MONTE PATRIA","105312-CES. RURAL CAREN",null,null,{"$f":"IFERROR(VLOOKUP($B138,'[1]Num 6'!$G$3:$O$130,2,FALSE),0)","v":2},{"$f":"IFERROR(VLOOKUP($B138,'[1]Num 6'!$G$3:$O$130,3,FALSE),0)","v":0},{"$f":"IFERROR(VLOOKUP($B138,'[1]Num 6'!$G$3:$O$130,4,FALSE),0)","v":1},{"$f":"IFERROR(VLOOKUP($B138,'[1]Num 6'!$G$3:$O$130,5,FALSE),0)","v":1},{"$f":"IFERROR(VLOOKUP($B138,'[1]Num 6'!$G$3:$O$130,6,FALSE),0)","v":4},{"$f":"IFERROR(VLOOKUP($B138,'[1]Num 6'!$G$3:$O$130,7,FALSE),0)","v":0},{"$f":"IFERROR(VLOOKUP($B138,'[1]Num 6'!$G$3:$O$130,8,FALSE),0)","v":0},{"$nulls":5},8,{"$f":"IFERROR(VLOOKUP($B138,'[1]Den 6'!$G$3:$O$138,2,FALSE),0)","v":3},{"$f":"IFERROR(VLOOKUP($B138,'[1]Den 6'!$G$3:$O$138,3,FALSE),0)","v":0},{"$f":"IFERROR(VLOOKUP($B138,'[1]Den 6'!$G$3:$O$138,4,FALSE),0)","v":1},{"$f":"IFERROR(VLOOKUP($B138,'[1]Den 6'!$G$3:$O$138,5,FALSE),0)","v":2},{"$f":"IFERROR(VLOOKUP($B138,'[1]Den 6'!$G$3:$O$138,6,FALSE),0)","v":4},{"$f":"IFERROR(VLOOKUP($B138,'[1]Den 6'!$G$3:$O$138,7,FALSE),0)","v":0},{"$f":"IFERROR(VLOOKUP($B138,'[1]Den 6'!$G$3:$O$138,8,FALSE),0)","v":0},{"$nulls":5},10]
["04304-MONTE PATRIA","105318-CES. RURAL EL PALQUI",null,null,{"$f":"IFERROR(VLOOKUP($B139,'[1]Num 6'!$G$3:$O$130,2,FALSE),0)","v":4},{"$f":"IFERROR(VLOOKUP($B139,'[1]Num 6'!$G$3:$O$130,3,FALSE),0)","v":4},{"$f":"IFERROR(VLOOKUP($B139,'[1]Num 6'!$G$3:$O$130,4,FALSE),0)","v":6},{"$f":"IFERROR(VLOOKUP($B139,'[1]Num 6'!$G$3:$O$130,5,FALSE),0)","v":3},{"$f":"IFERROR(VLOOKUP($B139,'[1]Num 6'!$G$3:$O$130,6,FALSE),0)","v":3},{"$f":"IFERROR(VLOOKUP($B139,'[1]Num 6'!$G$3:$O$130,7,FALSE),0)","v":8},{"$f":"IFERROR(VLOOKUP($B139,'[1]Num 6'!$G$3:$O$130,8,FALSE),0)","v":7},{"$nulls":5},35,{"$f":"IFERROR(VLOOKUP($B139,'[1]Den 6'!$G$3:$O$138,2,FALSE),0)","v":9},{"$f":"IFERROR(VLOOKUP($B139,'[1]Den 6'!$G$3:$O$138,3,FALSE),0)","v":11},{"$f":"IFERROR(VLOOKUP($B139,'[1]Den 6'!$G$3:$O$138,4,FALSE),0)","v":9},{"$f":"IFERROR(VLOOKUP($B139,'[1]Den 6'!$G$3:$O$138,5,FALSE),0)","v":8},{"$f":"IFERROR(VLOOKUP($B139,'[1]Den 6'!$G$3:$O$138,6,FALSE),0)","v":4},{"$f":"IFERROR(VLOOKUP($B139,'[1]Den 6'!$G$3:$O$138,7,FALSE),0)","v":9},{"$f":"IFERROR(VLOOKUP($B139,'[1]Den 6'!$G$3:$O$138,8,FALSE),0)","v":10},{"$nulls":5},60]
["04304-MONTE PATRIA","105425-P.S.R. CHILECITO",null,null,{"$f":"IFERROR(VLOOKUP($B140,'[1]Num 6'!$G$3:$O$130,2,FALSE),0)","v":0},{"$f":"IFERROR(VLOOKUP($B140,'[1]Num 6'!$G$3:$O$130,3,FALSE),0)","v":0},{"$f":"IFERROR(VLOOKUP($B140,'[1]Num 6'!$G$3:$O$130,4,FALSE),0)","v":0},{"$f":"IFERROR(VLOOKUP($B140,'[1]Num 6'!$G$3:$O$130,5,FALSE),0)","v":0},{"$f":"IFERROR(VLOOKUP($B140,'[1]Num 6'!$G$3:$O$130,6,FALSE),0)","v":0},{"$f":"IFERROR(VLOOKUP($B140,'[1]Num 6'!$G$3:$O$130,7,FALSE),0)","v":0},{"$f":"IFERROR(VLOOKUP($B140,'[1]Num 6'!$G$3:$O$130,8,FALSE),0)","v":0},{"$nulls":5},0,{"$f":"IFERROR(VLOOKUP($B140,'[1]Den 6'!$G$3:$O$138,2,FALSE),0)","v":0},{"$f":"IFERROR(VLOOKUP($B140,'[1]Den 6'!$G$3:$O$138,3,FALSE),0)","v":0},{"$f":"IFERROR(VLOOKUP($B140,'[1]Den 6'!$G$3:$O$138,4,FALSE),0)","v":0},{"$f":"IFERROR(VLOOKUP($B140,'[1]Den 6'!$G$3:$O$138,5,FALSE),0)","v":0},{"$f":"IFERROR(VLOOKUP($B140,'[1]Den 6'!$G$3:$O$138,6,FALSE),0)","v":0},{"$f":"IFERROR(VLOOKUP($B140,'[1]Den 6'!$G$3:$O$138,7,FALSE),0)","v":0},{"$f":"IFERROR(VLOOKUP($B140,'[1]Den 6'!$G$3:$O$138,8,FALSE),0)","v":0},{"$nulls":5},0]
["04304-MONTE PATRIA","105427-P.S.R. HACIENDA VALDIVIA",null,null,{"$f":"IFERROR(VLOOKUP($B141,'[1]Num 6'!$G$3:$O$130,2,FALSE),0)","v":0},{"$f":"IFERROR(VLOOKUP($B141,'[1]Num 6'!$G$3:$O$130,3,FALSE),0)","v":1},{"$f":"IFERROR(VLOOKUP($B141,'[1]Num 6'!$G$3:$O$130,4,FALSE),0)","v":0},{"$f":"IFERROR(VLOOKUP($B141,'[1]Num 6'!$G$3:$O$130,5,FALSE),0)","v":0},{"$f":"IFERROR(VLOOKUP($B141,'[1]Num 6'!$G$3:$O$130,6,FALSE),0)","v":0},{"$f":"IFERROR(VLOOKUP($B141,'[1]Num 6'!$G$3:$O$130,7,FALSE),0)","v":0},{"$f":"IFERROR(VLOOKUP($B141,'[1]Num 6'!$G$3:$O$130,8,FALSE),0)","v":0},{"$nulls":5},1,{"$f":"IFERROR(VLOOKUP($B141,'[1]Den 6'!$G$3:$O$138,2,FALSE),0)","v":0},{"$f":"IFERROR(VLOOKUP($B141,'[1]Den 6'!$G$3:$O$138,3,FALSE),0)","v":1},{"$f":"IFERROR(VLOOKUP($B141,'[1]Den 6'!$G$3:$O$138,4,FALSE),0)","v":0},{"$f":"IFERROR(VLOOKUP($B141,'[1]Den 6'!$G$3:$O$138,5,FALSE),0)","v":1},{"$f":"IFERROR(VLOOKUP($B141,'[1]Den 6'!$G$3:$O$138,6,FALSE),0)","v":0},{"$f":"IFERROR(VLOOKUP($B141,'[1]Den 6'!$G$3:$O$138,7,FALSE),0)","v":0},{"$f":"IFERROR(VLOOKUP($B141,'[1]Den 6'!$G$3:$O$138,8,FALSE),0)","v":0},{"$nulls":5},2]
["04304-MONTE PATRIA","105428-P.S.R. HUATULAME",null,null,{"$f":"IFERROR(VLOOKUP($B142,'[1]Num 6'!$G$3:$O$130,2,FALSE),0)","v":0},{"$f":"IFERROR(VLOOKUP($B142,'[1]Num 6'!$G$3:$O$130,3,FALSE),0)","v":0},{"$f":"IFERROR(VLOOKUP($B142,'[1]Num 6'!$G$3:$O$130,4,FALSE),0)","v":0},{"$f":"IFERROR(VLOOKUP($B142,'[1]Num 6'!$G$3:$O$130,5,FALSE),0)","v":0},{"$f":"IFERROR(VLOOKUP($B142,'[1]Num 6'!$G$3:$O$130,6,FALSE),0)","v":0},{"$f":"IFERROR(VLOOKUP($B142,'[1]Num 6'!$G$3:$O$130,7,FALSE),0)","v":0},{"$f":"IFERROR(VLOOKUP($B142,'[1]Num 6'!$G$3:$O$130,8,FALSE),0)","v":0},{"$nulls":5},0,{"$f":"IFERROR(VLOOKUP($B142,'[1]Den 6'!$G$3:$O$138,2,FALSE),0)","v":1},{"$f":"IFERROR(VLOOKUP($B142,'[1]Den 6'!$G$3:$O$138,3,FALSE),0)","v":0},{"$f":"IFERROR(VLOOKUP($B142,'[1]Den 6'!$G$3:$O$138,4,FALSE),0)","v":0},{"$f":"IFERROR(VLOOKUP($B142,'[1]Den 6'!$G$3:$O$138,5,FALSE),0)","v":1},{"$f":"IFERROR(VLOOKUP($B142,'[1]Den 6'!$G$3:$O$138,6,FALSE),0)","v":0},{"$f":"IFERROR(VLOOKUP($B142,'[1]Den 6'!$G$3:$O$138,7,FALSE),0)","v":0},{"$f":"IFERROR(VLOOKUP($B142,'[1]Den 6'!$G$3:$O$138,8,FALSE),0)","v":0},{"$nulls":5},{"$f":"SUM(R142:AC142)","v":2}]
["04304-MONTE PATRIA","105430-P.S.R. MIALQUI",null,null,{"$f":"IFERROR(VLOOKUP($B143,'[1]Num 6'!$G$3:$O$130,2,FALSE),0)","v":0},{"$f":"IFERROR(VLOOKUP($B143,'[1]Num 6'!$G$3:$O$130,3,FALSE),0)","v":1},{"$f":"IFERROR(VLOOKUP($B143,'[1]Num 6'!$G$3:$O$130,4,FALSE),0)","v":0},{"$f":"IFERROR(VLOOKUP($B143,'[1]Num 6'!$G$3:$O$130,5,FALSE),0)","v":0},{"$f":"IFERROR(VLOOKUP($B143,'[1]Num 6'!$G$3:$O$130,6,FALSE),0)","v":0},{"$f":"IFERROR(VLOOKUP($B143,'[1]Num 6'!$G$3:$O$130,7,FALSE),0)","v":0},{"$f":"IFERROR(VLOOKUP($B143,'[1]Num 6'!$G$3:$O$130,8,FALSE),0)","v":0},{"$nulls":5},1,{"$f":"IFERROR(VLOOKUP($B143,'[1]Den 6'!$G$3:$O$138,2,FALSE),0)","v":0},{"$f":"IFERROR(VLOOKUP($B143,'[1]Den 6'!$G$3:$O$138,3,FALSE),0)","v":1},{"$f":"IFERROR(VLOOKUP($B143,'[1]Den 6'!$G$3:$O$138,4,FALSE),0)","v":0},{"$f":"IFERROR(VLOOKUP($B143,'[1]Den 6'!$G$3:$O$138,5,FALSE),0)","v":0},{"$f":"IFERROR(VLOOKUP($B143,'[1]Den 6'!$G$3:$O$138,6,FALSE),0)","v":0},{"$f":"IFERROR(VLOOKUP($B143,'[1]Den 6'!$G$3:$O$138,7,FALSE),0)","v":0},{"$f":"IFERROR(VLOOKUP($B143,'[1]Den 6'!$G$3:$O$138,8,FALSE),0)","v":0},{"$nulls":5},1]
["04304-MONTE PATRIA","105431-P.S.R. PEDREGAL",null,null,{"$f":"IFERROR(VLOOKUP($B144,'[1]Num 6'!$G$3:$O$130,2,FALSE),0)","v":1},{"$f":"IFERROR(VLOOKUP($B144,'[1]Num 6'!$G$3:$O$130,3,FALSE),0)","v":0},{"$f":"IFERROR(VLOOKUP($B144,'[1]Num 6'!$G$3:$O$130,4,FALSE),0)","v":0},{"$f":"IFERROR(VLOOKUP($B144,'[1]Num 6'!$G$3:$O$130,5,FALSE),0)","v":0},{"$f":"IFERROR(VLOOKUP($B144,'[1]Num 6'!$G$3:$O$130,6,FALSE),0)","v":0},{"$f":"IFERROR(VLOOKUP($B144,'[1]Num 6'!$G$3:$O$130,7,FALSE),0)","v":0},{"$f":"IFERROR(VLOOKUP($B144,'[1]Num 6'!$G$3:$O$130,8,FALSE),0)","v":0},{"$nulls":5},1,{"$f":"IFERROR(VLOOKUP($B144,'[1]Den 6'!$G$3:$O$138,2,FALSE),0)","v":1},{"$f":"IFERROR(VLOOKUP($B144,'[1]Den 6'!$G$3:$O$138,3,FALSE),0)","v":0},{"$f":"IFERROR(VLOOKUP($B144,'[1]Den 6'!$G$3:$O$138,4,FALSE),0)","v":0},{"$f":"IFERROR(VLOOKUP($B144,'[1]Den 6'!$G$3:$O$138,5,FALSE),0)","v":0},{"$f":"IFERROR(VLOOKUP($B144,'[1]Den 6'!$G$3:$O$138,6,FALSE),0)","v":0},{"$f":"IFERROR(VLOOKUP($B144,'[1]Den 6'!$G$3:$O$138,7,FALSE),0)","v":0},{"$f":"IFERROR(VLOOKUP($B144,'[1]Den 6'!$G$3:$O$138,8,FALSE),0)","v":0},{"$nulls":5},1]
["04304-MONTE PATRIA","105432-P.S.R. RAPEL",null,null,{"$f":"IFERROR(VLOOKUP($B145,'[1]Num 6'!$G$3:$O$130,2,FALSE),0)","v":1},{"$f":"IFERROR(VLOOKUP($B145,'[1]Num 6'!$G$3:$O$130,3,FALSE),0)","v":0},{"$f":"IFERROR(VLOOKUP($B145,'[1]Num 6'!$G$3:$O$130,4,FALSE),0)","v":2},{"$f":"IFERROR(VLOOKUP($B145,'[1]Num 6'!$G$3:$O$130,5,FALSE),0)","v":0},{"$f":"IFERROR(VLOOKUP($B145,'[1]Num 6'!$G$3:$O$130,6,FALSE),0)","v":0},{"$f":"IFERROR(VLOOKUP($B145,'[1]Num 6'!$G$3:$O$130,7,FALSE),0)","v":0},{"$f":"IFERROR(VLOOKUP($B145,'[1]Num 6'!$G$3:$O$130,8,FALSE),0)","v":0},{"$nulls":5},3,{"$f":"IFERROR(VLOOKUP($B145,'[1]Den 6'!$G$3:$O$138,2,FALSE),0)","v":1},{"$f":"IFERROR(VLOOKUP($B145,'[1]Den 6'!$G$3:$O$138,3,FALSE),0)","v":1},{"$f":"IFERROR(VLOOKUP($B145,'[1]Den 6'!$G$3:$O$138,4,FALSE),0)","v":2},{"$f":"IFERROR(VLOOKUP($B145,'[1]Den 6'!$G$3:$O$138,5,FALSE),0)","v":0},{"$f":"IFERROR(VLOOKUP($B145,'[1]Den 6'!$G$3:$O$138,6,FALSE),0)","v":0},{"$f":"IFERROR(VLOOKUP($B145,'[1]Den 6'!$G$3:$O$138,7,FALSE),0)","v":0},{"$f":"IFERROR(VLOOKUP($B145,'[1]Den 6'!$G$3:$O$138,8,FALSE),0)","v":0},{"$nulls":5},4]
["04304-MONTE PATRIA","105435-P.S.R. TULAHUEN",null,null,{"$f":"IFERROR(VLOOKUP($B146,'[1]Num 6'!$G$3:$O$130,2,FALSE),0)","v":0},{"$f":"IFERROR(VLOOKUP($B146,'[1]Num 6'!$G$3:$O$130,3,FALSE),0)","v":1},{"$f":"IFERROR(VLOOKUP($B146,'[1]Num 6'!$G$3:$O$130,4,FALSE),0)","v":0},{"$f":"IFERROR(VLOOKUP($B146,'[1]Num 6'!$G$3:$O$130,5,FALSE),0)","v":0},{"$f":"IFERROR(VLOOKUP($B146,'[1]Num 6'!$G$3:$O$130,6,FALSE),0)","v":1},{"$f":"IFERROR(VLOOKUP($B146,'[1]Num 6'!$G$3:$O$130,7,FALSE),0)","v":0},{"$f":"IFERROR(VLOOKUP($B146,'[1]Num 6'!$G$3:$O$130,8,FALSE),0)","v":0},{"$nulls":5},2,{"$f":"IFERROR(VLOOKUP($B146,'[1]Den 6'!$G$3:$O$138,2,FALSE),0)","v":0},{"$f":"IFERROR(VLOOKUP($B146,'[1]Den 6'!$G$3:$O$138,3,FALSE),0)","v":1},{"$f":"IFERROR(VLOOKUP($B146,'[1]Den 6'!$G$3:$O$138,4,FALSE),0)","v":0},{"$f":"IFERROR(VLOOKUP($B146,'[1]Den 6'!$G$3:$O$138,5,FALSE),0)","v":0},{"$f":"IFERROR(VLOOKUP($B146,'[1]Den 6'!$G$3:$O$138,6,FALSE),0)","v":1},{"$f":"IFERROR(VLOOKUP($B146,'[1]Den 6'!$G$3:$O$138,7,FALSE),0)","v":0},{"$f":"IFERROR(VLOOKUP($B146,'[1]Den 6'!$G$3:$O$138,8,FALSE),0)","v":0},{"$nulls":5},2]
["04304-MONTE PATRIA","105436-P.S.R. EL MAITEN",null,null,{"$f":"IFERROR(VLOOKUP($B147,'[1]Num 6'!$G$3:$O$130,2,FALSE),0)","v":0},{"$f":"IFERROR(VLOOKUP($B147,'[1]Num 6'!$G$3:$O$130,3,FALSE),0)","v":0},{"$f":"IFERROR(VLOOKUP($B147,'[1]Num 6'!$G$3:$O$130,4,FALSE),0)","v":1},{"$f":"IFERROR(VLOOKUP($B147,'[1]Num 6'!$G$3:$O$130,5,FALSE),0)","v":0},{"$f":"IFERROR(VLOOKUP($B147,'[1]Num 6'!$G$3:$O$130,6,FALSE),0)","v":0},{"$f":"IFERROR(VLOOKUP($B147,'[1]Num 6'!$G$3:$O$130,7,FALSE),0)","v":0},{"$f":"IFERROR(VLOOKUP($B147,'[1]Num 6'!$G$3:$O$130,8,FALSE),0)","v":0},{"$nulls":5},1,{"$f":"IFERROR(VLOOKUP($B147,'[1]Den 6'!$G$3:$O$138,2,FALSE),0)","v":0},{"$f":"IFERROR(VLOOKUP($B147,'[1]Den 6'!$G$3:$O$138,3,FALSE),0)","v":0},{"$f":"IFERROR(VLOOKUP($B147,'[1]Den 6'!$G$3:$O$138,4,FALSE),0)","v":1},{"$f":"IFERROR(VLOOKUP($B147,'[1]Den 6'!$G$3:$O$138,5,FALSE),0)","v":1},{"$f":"IFERROR(VLOOKUP($B147,'[1]Den 6'!$G$3:$O$138,6,FALSE),0)","v":0},{"$f":"IFERROR(VLOOKUP($B147,'[1]Den 6'!$G$3:$O$138,7,FALSE),0)","v":0},{"$f":"IFERROR(VLOOKUP($B147,'[1]Den 6'!$G$3:$O$138,8,FALSE),0)","v":0},{"$nulls":5},2]
["04304-MONTE PATRIA","105489-P.S.R. RAMADAS DE TULAHUEN",null,null,{"$f":"IFERROR(VLOOKUP($B148,'[1]Num 6'!$G$3:$O$130,2,FALSE),0)","v":0},{"$f":"IFERROR(VLOOKUP($B148,'[1]Num 6'!$G$3:$O$130,3,FALSE),0)","v":0},{"$f":"IFERROR(VLOOKUP($B148,'[1]Num 6'!$G$3:$O$130,4,FALSE),0)","v":0},{"$f":"IFERROR(VLOOKUP($B148,'[1]Num 6'!$G$3:$O$130,5,FALSE),0)","v":0},{"$f":"IFERROR(VLOOKUP($B148,'[1]Num 6'!$G$3:$O$130,6,FALSE),0)","v":1},{"$f":"IFERROR(VLOOKUP($B148,'[1]Num 6'!$G$3:$O$130,7,FALSE),0)","v":0},{"$f":"IFERROR(VLOOKUP($B148,'[1]Num 6'!$G$3:$O$130,8,FALSE),0)","v":0},{"$nulls":5},1,{"$f":"IFERROR(VLOOKUP($B148,'[1]Den 6'!$G$3:$O$138,2,FALSE),0)","v":0},{"$f":"IFERROR(VLOOKUP($B148,'[1]Den 6'!$G$3:$O$138,3,FALSE),0)","v":0},{"$f":"IFERROR(VLOOKUP($B148,'[1]Den 6'!$G$3:$O$138,4,FALSE),0)","v":0},{"$f":"IFERROR(VLOOKUP($B148,'[1]Den 6'!$G$3:$O$138,5,FALSE),0)","v":0},{"$f":"IFERROR(VLOOKUP($B148,'[1]Den 6'!$G$3:$O$138,6,FALSE),0)","v":2},{"$f":"IFERROR(VLOOKUP($B148,'[1]Den 6'!$G$3:$O$138,7,FALSE),0)","v":0},{"$f":"IFERROR(VLOOKUP($B148,'[1]Den 6'!$G$3:$O$138,8,FALSE),0)","v":0},{"$nulls":5},2]
["TOTAL MONTE PATRIA",null,{"$f":"D149/Metas!N16","v":{"v":1.032719836400818,"d":"103.27%"}},{"$f":"Q149/AD149","v":{"v":0.6196319018404908,"d":"61.96%"}},{"$f":"SUM(E136:E148)","v":13},{"$f":"SUM(F136:F148)","v":13},{"$f":"SUM(G136:G148)","v":21},{"$f":"SUM(H136:H148)","v":10},{"$f":"SUM(I136:I148)","v":18},14,12,0,0,0,0,{"$f":"SUM(P136:P148)","v":0},101,26,25,27,21,23,20,21,0,0,0,{"$f":"SUM(AB136:AB148)","v":0},{"$f":"SUM(AC136:AC148)","v":0},{"$f":"SUM(AD136:AD148)","v":163}]
["04304-PUNITAQUI","105308-CES. RURAL PUNITAQUI",null,null,{"$f":"IFERROR(VLOOKUP($B150,'[1]Num 6'!$G$3:$O$130,2,FALSE),0)","v":4},{"$f":"IFERROR(VLOOKUP($B150,'[1]Num 6'!$G$3:$O$130,3,FALSE),0)","v":5},{"$f":"IFERROR(VLOOKUP($B150,'[1]Num 6'!$G$3:$O$130,4,FALSE),0)","v":4},{"$f":"IFERROR(VLOOKUP($B150,'[1]Num 6'!$G$3:$O$130,5,FALSE),0)","v":2},{"$f":"IFERROR(VLOOKUP($B150,'[1]Num 6'!$G$3:$O$130,6,FALSE),0)","v":0},{"$f":"IFERROR(VLOOKUP($B150,'[1]Num 6'!$G$3:$O$130,7,FALSE),0)","v":0},{"$f":"IFERROR(VLOOKUP($B150,'[1]Num 6'!$G$3:$O$130,8,FALSE),0)","v":13},{"$nulls":5},28,{"$f":"IFERROR(VLOOKUP($B150,'[1]Den 6'!$G$3:$O$138,2,FALSE),0)","v":6},{"$f":"IFERROR(VLOOKUP($B150,'[1]Den 6'!$G$3:$O$138,3,FALSE),0)","v":7},{"$f":"IFERROR(VLOOKUP($B150,'[1]Den 6'!$G$3:$O$138,4,FALSE),0)","v":7},{"$f":"IFERROR(VLOOKUP($B150,'[1]Den 6'!$G$3:$O$138,5,FALSE),0)","v":6},{"$f":"IFERROR(VLOOKUP($B150,'[1]Den 6'!$G$3:$O$138,6,FALSE),0)","v":0},{"$f":"IFERROR(VLOOKUP($B150,'[1]Den 6'!$G$3:$O$138,7,FALSE),0)","v":0},{"$f":"IFERROR(VLOOKUP($B150,'[1]Den 6'!$G$3:$O$138,8,FALSE),0)","v":16},{"$nulls":5},{"$f":"SUM(R150:AC150)","v":42}]
["04304-PUNITAQUI","105440-P.S.R. DIVISADERO",null,null,{"$f":"IFERROR(VLOOKUP($B151,'[1]Num 6'!$G$3:$O$130,2,FALSE),0)","v":0},{"$f":"IFERROR(VLOOKUP($B151,'[1]Num 6'!$G$3:$O$130,3,FALSE),0)","v":0},{"$f":"IFERROR(VLOOKUP($B151,'[1]Num 6'!$G$3:$O$130,4,FALSE),0)","v":0},{"$f":"IFERROR(VLOOKUP($B151,'[1]Num 6'!$G$3:$O$130,5,FALSE),0)","v":0},{"$f":"IFERROR(VLOOKUP($B151,'[1]Num 6'!$G$3:$O$130,6,FALSE),0)","v":0},{"$f":"IFERROR(VLOOKUP($B151,'[1]Num 6'!$G$3:$O$130,7,FALSE),0)","v":0},{"$f":"IFERROR(VLOOKUP($B151,'[1]Num 6'!$G$3:$O$130,8,FALSE),0)","v":0},{"$nulls":5},0,{"$f":"IFERROR(VLOOKUP($B151,'[1]Den 6'!$G$3:$O$138,2,FALSE),0)","v":0},{"$f":"IFERROR(VLOOKUP($B151,'[1]Den 6'!$G$3:$O$138,3,FALSE),0)","v":0},{"$f":"IFERROR(VLOOKUP($B151,'[1]Den 6'!$G$3:$O$138,4,FALSE),0)","v":0},{"$f":"IFERROR(VLOOKUP($B151,'[1]Den 6'!$G$3:$O$138,5,FALSE),0)","v":0},{"$f":"IFERROR(VLOOKUP($B151,'[1]Den 6'!$G$3:$O$138,6,FALSE),0)","v":0},{"$f":"IFERROR(VLOOKUP($B151,'[1]Den 6'!$G$3:$O$138,7,FALSE),0)","v":0},{"$f":"IFERROR(VLOOKUP($B151,'[1]Den 6'!$G$3:$O$138,8,FALSE),0)","v":0},{"$nulls":5},{"$f":"SUM(R151:AC151)","v":0}]
["04304-PUNITAQUI","105442-P.S.R. SAN PEDRO DE QUILES",null,null,{"$f":"IFERROR(VLOOKUP($B152,'[1]Num 6'!$G$3:$O$130,2,FALSE),0)","v":0},{"$f":"IFERROR(VLOOKUP($B152,'[1]Num 6'!$G$3:$O$130,3,FALSE),0)","v":0},{"$f":"IFERROR(VLOOKUP($B152,'[1]Num 6'!$G$3:$O$130,4,FALSE),0)","v":0},{"$f":"IFERROR(VLOOKUP($B152,'[1]Num 6'!$G$3:$O$130,5,FALSE),0)","v":0},{"$f":"IFERROR(VLOOKUP($B152,'[1]Num 6'!$G$3:$O$130,6,FALSE),0)","v":0},{"$f":"IFERROR(VLOOKUP($B152,'[1]Num 6'!$G$3:$O$130,7,FALSE),0)","v":0},{"$f":"IFERROR(VLOOKUP($B152,'[1]Num 6'!$G$3:$O$130,8,FALSE),0)","v":0},{"$nulls":5},0,{"$f":"IFERROR(VLOOKUP($B152,'[1]Den 6'!$G$3:$O$138,2,FALSE),0)","v":0},{"$f":"IFERROR(VLOOKUP($B152,'[1]Den 6'!$G$3:$O$138,3,FALSE),0)","v":0},{"$f":"IFERROR(VLOOKUP($B152,'[1]Den 6'!$G$3:$O$138,4,FALSE),0)","v":0},{"$f":"IFERROR(VLOOKUP($B152,'[1]Den 6'!$G$3:$O$138,5,FALSE),0)","v":0},{"$f":"IFERROR(VLOOKUP($B152,'[1]Den 6'!$G$3:$O$138,6,FALSE),0)","v":0},{"$f":"IFERROR(VLOOKUP($B152,'[1]Den 6'!$G$3:$O$138,7,FALSE),0)","v":0},{"$f":"IFERROR(VLOOKUP($B152,'[1]Den 6'!$G$3:$O$138,8,FALSE),0)","v":0},{"$nulls":5},{"$f":"SUM(R152:AC152)","v":0}]
["04304-PUNITAQUI","105508-P.S.R. EL PARRAL DE QUILES  ",null,null,{"$f":"IFERROR(VLOOKUP($B153,'[1]Num 6'!$G$3:$O$130,2,FALSE),0)","v":0},{"$f":"IFERROR(VLOOKUP($B153,'[1]Num 6'!$G$3:$O$130,3,FALSE),0)","v":0},{"$f":"IFERROR(VLOOKUP($B153,'[1]Num 6'!$G$3:$O$130,4,FALSE),0)","v":0},{"$f":"IFERROR(VLOOKUP($B153,'[1]Num 6'!$G$3:$O$130,5,FALSE),0)","v":0},{"$f":"IFERROR(VLOOKUP($B153,'[1]Num 6'!$G$3:$O$130,6,FALSE),0)","v":0},{"$f":"IFERROR(VLOOKUP($B153,'[1]Num 6'!$G$3:$O$130,7,FALSE),0)","v":0},{"$f":"IFERROR(VLOOKUP($B153,'[1]Num 6'!$G$3:$O$130,8,FALSE),0)","v":0},{"$nulls":5},0,{"$f":"IFERROR(VLOOKUP($B153,'[1]Den 6'!$G$3:$O$138,2,FALSE),0)","v":0},{"$f":"IFERROR(VLOOKUP($B153,'[1]Den 6'!$G$3:$O$138,3,FALSE),0)","v":0},{"$f":"IFERROR(VLOOKUP($B153,'[1]Den 6'!$G$3:$O$138,4,FALSE),0)","v":0},{"$f":"IFERROR(VLOOKUP($B153,'[1]Den 6'!$G$3:$O$138,5,FALSE),0)","v":0},{"$f":"IFERROR(VLOOKUP($B153,'[1]Den 6'!$G$3:$O$138,6,FALSE),0)","v":0},{"$f":"IFERROR(VLOOKUP($B153,'[1]Den 6'!$G$3:$O$138,7,FALSE),0)","v":0},{"$f":"IFERROR(VLOOKUP($B153,'[1]Den 6'!$G$3:$O$138,8,FALSE),0)","v":0},{"$nulls":5},{"$f":"SUM(R153:AC153)","v":0}]
["TOTAL PUNITAQUI",null,{"$f":"D154/Metas!N17","v":{"v":1.1111111111111112,"d":"111.11%"}},{"$f":"Q154/AD154","v":{"v":0.6666666666666666,"d":"66.67%"}},{"$f":"SUM(E150:E153)","v":4},{"$f":"SUM(F150:F153)","v":5},{"$f":"SUM(G150:G153)","v":4},{"$f":"SUM(H150:H153)","v":2},{"$f":"SUM(I150:I153)","v":0},0,13,0,0,0,0,0,28,6,7,7,6,0,0,16,0,0,0,{"$f":"SUM(AB150:AB153)","v":0},{"$f":"SUM(AC150:AC153)","v":0},{"$f":"SUM(AD150:AD153)","v":42}]
["04305-RIO HURTADO","105310-CES. RURAL PICHASCA",null,null,{"$f":"IFERROR(VLOOKUP($B155,'[1]Num 6'!$G$3:$O$130,2,FALSE),0)","v":0},{"$f":"IFERROR(VLOOKUP($B155,'[1]Num 6'!$G$3:$O$130,3,FALSE),0)","v":0},{"$f":"IFERROR(VLOOKUP($B155,'[1]Num 6'!$G$3:$O$130,4,FALSE),0)","v":0},{"$f":"IFERROR(VLOOKUP($B155,'[1]Num 6'!$G$3:$O$130,5,FALSE),0)","v":0},{"$f":"IFERROR(VLOOKUP($B155,'[1]Num 6'!$G$3:$O$130,6,FALSE),0)","v":0},{"$f":"IFERROR(VLOOKUP($B155,'[1]Num 6'!$G$3:$O$130,7,FALSE),0)","v":0},{"$f":"IFERROR(VLOOKUP($B155,'[1]Num 6'!$G$3:$O$130,8,FALSE),0)","v":2},{"$nulls":5},2,{"$f":"IFERROR(VLOOKUP($B155,'[1]Den 6'!$G$3:$O$138,2,FALSE),0)","v":0},{"$f":"IFERROR(VLOOKUP($B155,'[1]Den 6'!$G$3:$O$138,3,FALSE),0)","v":0},{"$f":"IFERROR(VLOOKUP($B155,'[1]Den 6'!$G$3:$O$138,4,FALSE),0)","v":0},{"$f":"IFERROR(VLOOKUP($B155,'[1]Den 6'!$G$3:$O$138,5,FALSE),0)","v":0},{"$f":"IFERROR(VLOOKUP($B155,'[1]Den 6'!$G$3:$O$138,6,FALSE),0)","v":0},{"$f":"IFERROR(VLOOKUP($B155,'[1]Den 6'!$G$3:$O$138,7,FALSE),0)","v":0},{"$f":"IFERROR(VLOOKUP($B155,'[1]Den 6'!$G$3:$O$138,8,FALSE),0)","v":3},{"$nulls":5},{"$f":"SUM(R155:AC155)","v":3}]
["04305-RIO HURTADO","105409-P.S.R. EL CHAÑAR",null,null,{"$f":"IFERROR(VLOOKUP($B156,'[1]Num 6'!$G$3:$O$130,2,FALSE),0)","v":0},{"$f":"IFERROR(VLOOKUP($B156,'[1]Num 6'!$G$3:$O$130,3,FALSE),0)","v":0},{"$f":"IFERROR(VLOOKUP($B156,'[1]Num 6'!$G$3:$O$130,4,FALSE),0)","v":0},{"$f":"IFERROR(VLOOKUP($B156,'[1]Num 6'!$G$3:$O$130,5,FALSE),0)","v":0},{"$f":"IFERROR(VLOOKUP($B156,'[1]Num 6'!$G$3:$O$130,6,FALSE),0)","v":0},{"$f":"IFERROR(VLOOKUP($B156,'[1]Num 6'!$G$3:$O$130,7,FALSE),0)","v":0},{"$f":"IFERROR(VLOOKUP($B156,'[1]Num 6'!$G$3:$O$130,8,FALSE),0)","v":0},{"$nulls":5},0,{"$f":"IFERROR(VLOOKUP($B156,'[1]Den 6'!$G$3:$O$138,2,FALSE),0)","v":0},{"$f":"IFERROR(VLOOKUP($B156,'[1]Den 6'!$G$3:$O$138,3,FALSE),0)","v":0},{"$f":"IFERROR(VLOOKUP($B156,'[1]Den 6'!$G$3:$O$138,4,FALSE),0)","v":0},{"$f":"IFERROR(VLOOKUP($B156,'[1]Den 6'!$G$3:$O$138,5,FALSE),0)","v":0},{"$f":"IFERROR(VLOOKUP($B156,'[1]Den 6'!$G$3:$O$138,6,FALSE),0)","v":0},{"$f":"IFERROR(VLOOKUP($B156,'[1]Den 6'!$G$3:$O$138,7,FALSE),0)","v":0},{"$f":"IFERROR(VLOOKUP($B156,'[1]Den 6'!$G$3:$O$138,8,FALSE),0)","v":0},{"$nulls":5},0]
["04305-RIO HURTADO","105410-P.S.R. HURTADO",null,null,{"$f":"IFERROR(VLOOKUP($B157,'[1]Num 6'!$G$3:$O$130,2,FALSE),0)","v":1},{"$f":"IFERROR(VLOOKUP($B157,'[1]Num 6'!$G$3:$O$130,3,FALSE),0)","v":0},{"$f":"IFERROR(VLOOKUP($B157,'[1]Num 6'!$G$3:$O$130,4,FALSE),0)","v":0},{"$f":"IFERROR(VLOOKUP($B157,'[1]Num 6'!$G$3:$O$130,5,FALSE),0)","v":0},{"$f":"IFERROR(VLOOKUP($B157,'[1]Num 6'!$G$3:$O$130,6,FALSE),0)","v":0},{"$f":"IFERROR(VLOOKUP($B157,'[1]Num 6'!$G$3:$O$130,7,FALSE),0)","v":0},{"$f":"IFERROR(VLOOKUP($B157,'[1]Num 6'!$G$3:$O$130,8,FALSE),0)","v":0},{"$nulls":5},1,{"$f":"IFERROR(VLOOKUP($B157,'[1]Den 6'!$G$3:$O$138,2,FALSE),0)","v":1},{"$f":"IFERROR(VLOOKUP($B157,'[1]Den 6'!$G$3:$O$138,3,FALSE),0)","v":0},{"$f":"IFERROR(VLOOKUP($B157,'[1]Den 6'!$G$3:$O$138,4,FALSE),0)","v":0},{"$f":"IFERROR(VLOOKUP($B157,'[1]Den 6'!$G$3:$O$138,5,FALSE),0)","v":0},{"$f":"IFERROR(VLOOKUP($B157,'[1]Den 6'!$G$3:$O$138,6,FALSE),0)","v":0},{"$f":"IFERROR(VLOOKUP($B157,'[1]Den 6'!$G$3:$O$138,7,FALSE),0)","v":0},{"$f":"IFERROR(VLOOKUP($B157,'[1]Den 6'!$G$3:$O$138,8,FALSE),0)","v":0},{"$nulls":5},1]
["04305-RIO HURTADO","105411-P.S.R. LAS BREAS",null,null,{"$f":"IFERROR(VLOOKUP($B158,'[1]Num 6'!$G$3:$O$130,2,FALSE),0)","v":0},{"$f":"IFERROR(VLOOKUP($B158,'[1]Num 6'!$G$3:$O$130,3,FALSE),0)","v":0},{"$f":"IFERROR(VLOOKUP($B158,'[1]Num 6'!$G$3:$O$130,4,FALSE),0)","v":0},{"$f":"IFERROR(VLOOKUP($B158,'[1]Num 6'!$G$3:$O$130,5,FALSE),0)","v":0},{"$f":"IFERROR(VLOOKUP($B158,'[1]Num 6'!$G$3:$O$130,6,FALSE),0)","v":0},{"$f":"IFERROR(VLOOKUP($B158,'[1]Num 6'!$G$3:$O$130,7,FALSE),0)","v":0},{"$f":"IFERROR(VLOOKUP($B158,'[1]Num 6'!$G$3:$O$130,8,FALSE),0)","v":0},{"$nulls":5},0,{"$f":"IFERROR(VLOOKUP($B158,'[1]Den 6'!$G$3:$O$138,2,FALSE),0)","v":0},{"$f":"IFERROR(VLOOKUP($B158,'[1]Den 6'!$G$3:$O$138,3,FALSE),0)","v":0},{"$f":"IFERROR(VLOOKUP($B158,'[1]Den 6'!$G$3:$O$138,4,FALSE),0)","v":0},{"$f":"IFERROR(VLOOKUP($B158,'[1]Den 6'!$G$3:$O$138,5,FALSE),0)","v":0},{"$f":"IFERROR(VLOOKUP($B158,'[1]Den 6'!$G$3:$O$138,6,FALSE),0)","v":0},{"$f":"IFERROR(VLOOKUP($B158,'[1]Den 6'!$G$3:$O$138,7,FALSE),0)","v":0},{"$f":"IFERROR(VLOOKUP($B158,'[1]Den 6'!$G$3:$O$138,8,FALSE),0)","v":0},{"$nulls":5},0]
["04305-RIO HURTADO","105413-P.S.R. SAMO ALTO",null,null,{"$f":"IFERROR(VLOOKUP($B159,'[1]Num 6'!$G$3:$O$130,2,FALSE),0)","v":0},{"$f":"IFERROR(VLOOKUP($B159,'[1]Num 6'!$G$3:$O$130,3,FALSE),0)","v":0},{"$f":"IFERROR(VLOOKUP($B159,'[1]Num 6'!$G$3:$O$130,4,FALSE),0)","v":0},{"$f":"IFERROR(VLOOKUP($B159,'[1]Num 6'!$G$3:$O$130,5,FALSE),0)","v":0},{"$f":"IFERROR(VLOOKUP($B159,'[1]Num 6'!$G$3:$O$130,6,FALSE),0)","v":0},{"$f":"IFERROR(VLOOKUP($B159,'[1]Num 6'!$G$3:$O$130,7,FALSE),0)","v":0},{"$f":"IFERROR(VLOOKUP($B159,'[1]Num 6'!$G$3:$O$130,8,FALSE),0)","v":0},{"$nulls":5},0,{"$f":"IFERROR(VLOOKUP($B159,'[1]Den 6'!$G$3:$O$138,2,FALSE),0)","v":1},{"$f":"IFERROR(VLOOKUP($B159,'[1]Den 6'!$G$3:$O$138,3,FALSE),0)","v":0},{"$f":"IFERROR(VLOOKUP($B159,'[1]Den 6'!$G$3:$O$138,4,FALSE),0)","v":0},{"$f":"IFERROR(VLOOKUP($B159,'[1]Den 6'!$G$3:$O$138,5,FALSE),0)","v":0},{"$f":"IFERROR(VLOOKUP($B159,'[1]Den 6'!$G$3:$O$138,6,FALSE),0)","v":0},{"$f":"IFERROR(VLOOKUP($B159,'[1]Den 6'!$G$3:$O$138,7,FALSE),0)","v":0},{"$f":"IFERROR(VLOOKUP($B159,'[1]Den 6'!$G$3:$O$138,8,FALSE),0)","v":0},{"$nulls":5},1]
["04305-RIO HURTADO","105414-P.S.R. SERON",null,null,{"$f":"IFERROR(VLOOKUP($B160,'[1]Num 6'!$G$3:$O$130,2,FALSE),0)","v":0},{"$f":"IFERROR(VLOOKUP($B160,'[1]Num 6'!$G$3:$O$130,3,FALSE),0)","v":0},{"$f":"IFERROR(VLOOKUP($B160,'[1]Num 6'!$G$3:$O$130,4,FALSE),0)","v":0},{"$f":"IFERROR(VLOOKUP($B160,'[1]Num 6'!$G$3:$O$130,5,FALSE),0)","v":0},{"$f":"IFERROR(VLOOKUP($B160,'[1]Num 6'!$G$3:$O$130,6,FALSE),0)","v":0},{"$f":"IFERROR(VLOOKUP($B160,'[1]Num 6'!$G$3:$O$130,7,FALSE),0)","v":0},{"$f":"IFERROR(VLOOKUP($B160,'[1]Num 6'!$G$3:$O$130,8,FALSE),0)","v":0},{"$nulls":5},0,{"$f":"IFERROR(VLOOKUP($B160,'[1]Den 6'!$G$3:$O$138,2,FALSE),0)","v":0},{"$f":"IFERROR(VLOOKUP($B160,'[1]Den 6'!$G$3:$O$138,3,FALSE),0)","v":0},{"$f":"IFERROR(VLOOKUP($B160,'[1]Den 6'!$G$3:$O$138,4,FALSE),0)","v":0},{"$f":"IFERROR(VLOOKUP($B160,'[1]Den 6'!$G$3:$O$138,5,FALSE),0)","v":0},{"$f":"IFERROR(VLOOKUP($B160,'[1]Den 6'!$G$3:$O$138,6,FALSE),0)","v":0},{"$f":"IFERROR(VLOOKUP($B160,'[1]Den 6'!$G$3:$O$138,7,FALSE),0)","v":0},{"$f":"IFERROR(VLOOKUP($B160,'[1]Den 6'!$G$3:$O$138,8,FALSE),0)","v":0},{"$nulls":5},0]
["04305-RIO HURTADO","105503-P.S.R. TABAQUEROS",null,null,{"$f":"IFERROR(VLOOKUP($B161,'[1]Num 6'!$G$3:$O$130,2,FALSE),0)","v":0},{"$f":"IFERROR(VLOOKUP($B161,'[1]Num 6'!$G$3:$O$130,3,FALSE),0)","v":0},{"$f":"IFERROR(VLOOKUP($B161,'[1]Num 6'!$G$3:$O$130,4,FALSE),0)","v":0},{"$f":"IFERROR(VLOOKUP($B161,'[1]Num 6'!$G$3:$O$130,5,FALSE),0)","v":0},{"$f":"IFERROR(VLOOKUP($B161,'[1]Num 6'!$G$3:$O$130,6,FALSE),0)","v":0},{"$f":"IFERROR(VLOOKUP($B161,'[1]Num 6'!$G$3:$O$130,7,FALSE),0)","v":0},{"$f":"IFERROR(VLOOKUP($B161,'[1]Num 6'!$G$3:$O$130,8,FALSE),0)","v":0},{"$nulls":5},{"$f":"SUM(E161:P161)","v":0},{"$f":"IFERROR(VLOOKUP($B161,'[1]Den 6'!$G$3:$O$138,2,FALSE),0)","v":0},{"$f":"IFERROR(VLOOKUP($B161,'[1]Den 6'!$G$3:$O$138,3,FALSE),0)","v":0},{"$f":"IFERROR(VLOOKUP($B161,'[1]Den 6'!$G$3:$O$138,4,FALSE),0)","v":0},{"$f":"IFERROR(VLOOKUP($B161,'[1]Den 6'!$G$3:$O$138,5,FALSE),0)","v":0},{"$f":"IFERROR(VLOOKUP($B161,'[1]Den 6'!$G$3:$O$138,6,FALSE),0)","v":0},{"$f":"IFERROR(VLOOKUP($B161,'[1]Den 6'!$G$3:$O$138,7,FALSE),0)","v":0},{"$f":"IFERROR(VLOOKUP($B161,'[1]Den 6'!$G$3:$O$138,8,FALSE),0)","v":0},{"$nulls":5},0]
["TOTAL RIO HURTADO",null,{"$f":"D162/Metas!N18","v":{"v":1,"d":"100.00%"}},{"$f":"Q162/AD162","v":{"v":0.6,"d":"60.00%"}},{"$f":"SUM(E155:E161)","v":1},{"$f":"SUM(F155:F161)","v":0},{"$f":"SUM(G155:G161)","v":0},{"$f":"SUM(H155:H161)","v":0},{"$f":"SUM(I155:I161)","v":0},0,2,0,0,0,0,{"$f":"SUM(P155:P161)","v":0},3,2,0,0,0,0,0,3,0,0,0,{"$f":"SUM(AB155:AB161)","v":0},{"$f":"SUM(AC155:AC161)","v":0},{"$f":"SUM(AD155:AD161)","v":5}]

{"sheet":"Metas","index":9,"n_rows":18,"n_cols":14,"rows_kept":18,"hidden":true,"merged":[[0,0,0,13],[1,4,3,4],[1,5,3,5],[1,6,1,13]]}
["METAS ANUALES"]
[{"$nulls":4},"CODIGO COMUNA","TIPO","METAS COMPONENTE ACTIVIDAD GENERAL"]
[{"$nulls":6},{"$f":"+'[2]Metas Anuales'!I4","v":"META Nº1"},{"$f":"+'[2]Metas Anuales'!J4","v":"META Nº2"},"META Nº3a","META Nº3b","META Nº4a","META Nº4b","META Nº5","META Nº6"]
["Nº","SERVICIOS DE SALUD","Nº","COMUNA",null,null,"RECUPERACIÓN DEL DSM","COBERTURA DEL PAP","Control odontológico en población infantil","Niños y niñas de 6 años libres de caries","COBERTURA EFECTIVA DE DM2 EN PERSONAS DE 15 Y MÁS AÑOS","EVALUACIÓN ANUAL DE LOS PIES EN PERSONAS CON DM BAJO CONTROL DE 15 AÑOS Y MÁS","COBERTURA EFECTIVA DE HTA EN PERSONAS DE 15 Y MÁS AÑOS","COBERTURA DE LACTANCIA MATERNA EXCLUSIVA (LME) EN MENORES DE 6 MESES DE VIDA"]
[17,"COQUIMBO",5,"LA SERENA",null,null,{"v":0.6,"d":"60.00%"},{"v":0.386,"d":"38.60%"},{"v":0.3,"d":"30.00%"},{"v":0.11,"d":"11.00%"},{"v":0.14,"d":"14.00%"},{"v":0.6,"d":"60.00%"},{"v":0.23,"d":"23.00%"},{"v":0.6,"d":"60.00%"}]
[18,"COQUIMBO",5,"COQUIMBO",null,null,{"v":0.82,"d":"82.00%"},{"v":0.451,"d":"45.10%"},{"v":0.28,"d":"28.00%"},{"v":0.11,"d":"11.00%"},{"v":0.14,"d":"14.00%"},{"v":0.6,"d":"60.00%"},{"v":0.2,"d":"20.00%"},{"v":0.6,"d":"60.00%"}]
[17,"COQUIMBO",5,"LA HIGUERA",null,null,{"v":0.9,"d":"90.00%"},{"v":0.5,"d":"50.00%"},{"v":0.5741,"d":"57.41%"},{"v":0.23,"d":"23.00%"},{"v":0.17,"d":"17.00%"},{"v":0.6,"d":"60.00%"},{"v":0.22,"d":"22.00%"},{"v":0.6,"d":"60.00%"}]
[18,"COQUIMBO",5,"PAIHUANO",null,null,{"v":0.9,"d":"90.00%"},{"v":0.658,"d":"65.80%"},{"v":0.8785,"d":"87.85%"},{"v":0.18,"d":"18.00%"},{"v":0.21,"d":"21.00%"},{"v":0.6,"d":"60.00%"},{"v":0.25,"d":"25.00%"},{"v":0.6,"d":"60.00%"}]
[19,"COQUIMBO",5,"VICUÑA",null,null,{"v":0.9,"d":"90.00%"},{"v":0.554,"d":"55.40%"},{"v":0.6431,"d":"64.31%"},{"v":0.25,"d":"25.00%"},{"v":0.2,"d":"20.00%"},{"v":0.6,"d":"60.00%"},{"v":0.3,"d":"30.00%"},{"v":0.6,"d":"60.00%"}]
[20,"COQUIMBO",5,"ILLAPEL",null,null,{"v":0.9,"d":"90.00%"},{"v":0.5,"d":"50.00%"},{"v":0.5356,"d":"53.56%"},{"v":0.14,"d":"14.00%"},{"v":0.25,"d":"25.00%"},{"v":0.6,"d":"60.00%"},{"v":0.36,"d":"36.00%"},{"v":0.6,"d":"60.00%"}]
[21,"COQUIMBO",5,"CANELA",null,null,{"v":0.8,"d":"80.00%"},{"v":0.485,"d":"48.50%"},{"v":0.3815,"d":"38.15%"},{"v":0.76,"d":"76.00%"},{"v":0.22,"d":"22.00%"},{"v":0.6,"d":"60.00%"},{"v":0.38,"d":"38.00%"},{"v":0.6,"d":"60.00%"}]
[22,"COQUIMBO",5,"LOS VILOS",null,null,{"v":0.6,"d":"60.00%"},{"v":0.476,"d":"47.60%"},{"v":0.25,"d":"25.00%"},{"v":0.18,"d":"18.00%"},{"v":0.19,"d":"19.00%"},{"v":0.6,"d":"60.00%"},{"v":0.32,"d":"32.00%"},{"v":0.6,"d":"60.00%"}]
[23,"COQUIMBO",5,"SALAMANCA",null,null,{"v":0.88,"d":"88.00%"},{"v":0.684,"d":"68.40%"},{"v":0.427,"d":"42.70%"},{"v":0.22,"d":"22.00%"},{"v":0.24,"d":"24.00%"},{"v":0.6,"d":"60.00%"},{"v":0.49,"d":"49.00%"},{"v":0.6,"d":"60.00%"}]
[24,"COQUIMBO",5,"OVALLE",null,null,{"v":0.87,"d":"87.00%"},{"v":0.441,"d":"44.10%"},{"v":0.28,"d":"28.00%"},{"v":0.11,"d":"11.00%"},{"v":0.16,"d":"16.00%"},{"v":0.6,"d":"60.00%"},{"v":0.22,"d":"22.00%"},{"v":0.6,"d":"60.00%"}]
[25,"COQUIMBO",5,"COMBARBALÁ",null,null,{"v":0.83,"d":"83.00%"},{"v":0.584,"d":"58.40%"},{"v":0.9,"d":"90.00%"},{"v":0.62,"d":"62.00%"},{"v":0.21,"d":"21.00%"},{"v":0.6,"d":"60.00%"},{"v":0.36,"d":"36.00%"},{"v":0.6,"d":"60.00%"}]
[26,"COQUIMBO",5,"MONTE PATRIA",null,null,{"v":0.74,"d":"74.00%"},{"v":0.514,"d":"51.40%"},{"v":0.482,"d":"48.20%"},{"v":0.4,"d":"40.00%"},{"v":0.19,"d":"19.00%"},{"v":0.6,"d":"60.00%"},{"v":0.26,"d":"26.00%"},{"v":0.6,"d":"60.00%"}]
[27,"COQUIMBO",5,"PUNITAQUI",null,null,{"v":0.9,"d":"90.00%"},{"v":0.62,"d":"62.00%"},{"v":0.63,"d":"63.00%"},{"v":0.45,"d":"45.00%"},{"v":0.24,"d":"24.00%"},{"v":0.6,"d":"60.00%"},{"v":0.3,"d":"30.00%"},{"v":0.6,"d":"60.00%"}]
[28,"COQUIMBO",5,"RIO HURTADO",null,null,{"v":0.9,"d":"90.00%"},{"v":0.595,"d":"59.50%"},{"v":0.9351,"d":"93.51%"},{"v":0.25,"d":"25.00%"},{"v":0.19,"d":"19.00%"},{"v":0.6,"d":"60.00%"},{"v":0.31,"d":"31.00%"},{"v":0.6,"d":"60.00%"}]